{"text_format":"1","workbook":"xlsx","n_sheets":7,"sheets":["Interfaz","Poblacion","etapas y mredes","Etapas de Vida","Piramide Poblacional","Demografia","Pobla_EESS"],"not_rendered":{"charts":7,"images":21,"macros":1,"external_links":1,"defined_names":42,"comments":0,"pivot_tables":0},"unopened":[],"bounds":{"document_bytes":16777216,"sheet_cells":100000,"rows_first":2000,"rows_last":500,"rows_between":2000,"halvings":0,"cell_chars":16384,"cell_head_chars":4096},"cells_cut":0,"cells_raw":0,"read":"whole","date_system":"1900"}

{"sheet":"Interfaz","index":0,"n_rows":27,"n_cols":18,"rows_kept":27,"cut":false,"hidden":false,"merged":[[4,2,7,11],[9,2,11,11]]}
[]
[]
[]
[]
[null,null,"POBLACIÓN ASIGNADA 2024 SEGÚN CENSOS INEI - RENIEC - PN - CNV"]
[]
[]
[]
[]
[null,null,"RED INTEGRADA DE SALUD HUAURA OYÓN"]
[]
[]
[]
[]
[]
[]
[]
[]
[]
[]
[]
[null,null,"Elaboración: Área de Estadística - RIS Huaura Oyón."]
[null,null,"NOTA: LA POBLACION ESTIMADA DE EDADES  SIMPLES Y GRUPOS DE EDAD DE DISTRITOS, CORRESPONDEN A CIFRAS REFERENCIALES HASTA OBTENER LAS CIFRAS DE LAS PROYECCIONES DEL INEI"]
[null,null,"FUENTE: CENSO NACIONAL XI DE POBLACION Y VI DE VIVIENDA 2017/- BOLETIN DEMOGRAFICO Nº 26,37, 39 / RENIEC / Padrón Nominal / CNV"]
[null,null,"La población de 0-5 años corresponden a una proyección de la poblacion del Padrón Nominal (cifras preliminares) /corte al mes de Diciembre 2021."]
[null,null,"OFICINA DE GESTION DE LA INFORMACIÓN - MINISTERIO DE SALUD"]
[null,null,null,null,null,null,null,null,null,null,null,null,null,null,null,null,null,"Versión1.021"]

{"sheet":"Poblacion","index":1,"n_rows":93,"n_cols":124,"rows_kept":93,"cut":false,"hidden":false,"merged":[[4,116,5,117],[4,118,5,119],[4,120,5,121],[4,122,5,123],[3,114,3,123],[4,115,6,115],[4,114,6,114],[5,101,6,101],[4,101,4,106],[4,108,4,112],[5,108,5,109],[5,110,6,110],[5,111,6,111],[5,112,6,112],[5,106,6,106],[5,105,6,105],[5,104,6,104],[5,103,6,103],[5,102,6,102],[2,88,2,95],[4,95,6,95],[4,94,6,94],[4,93,6,93],[4,88,6,88],[4,89,6,89],[4,90,6,90],[4,92,6,92],[4,91,6,91],[4,58,4,59],[5,66,5,67],[5,58,5,59],[4,56,4,57],[5,56,5,57],[5,74,5,75],[4,97,6,97],[4,98,6,98],[4,99,6,99],[4,81,6,81],[4,82,6,82],[4,83,5,85],[4,86,6,86],[4,76,4,80],[5,77,5,78],[5,79,5,80],[4,72,4,73],[4,74,4,75],[4,60,4,61],[4,62,4,63],[4,68,4,69],[5,68,5,69],[4,70,4,71],[5,70,5,71],[5,72,5,73],[5,62,5,63],[4,64,4,65],[5,64,5,65],[4,66,4,67],[5,60,5,61],[5,44,5,45],[5,46,5,47],[5,48,5,49],[5,50,5,51],[4,50,4,51],[4,48,4,49],[5,36,5,37],[4,52,4,53],[4,54,4,55],[5,52,5,53],[5,54,5,55],[1,18,1,43],[2,18,2,43],[4,36,4,37],[4,26,4,27],[3,18,3,43],[4,24,4,25],[5,24,5,25],[4,34,4,35],[4,16,4,17],[4,18,4,19],[5,16,5,17],[5,18,5,19],[4,20,4,21],[5,20,5,21],[4,22,4,23],[5,22,5,23],[4,28,4,29],[4,5,6,5],[4,44,4,45],[4,46,4,47],[4,7,6,7],[4,8,6,8],[5,28,5,29],[4,30,4,31],[5,30,5,31],[4,32,4,33],[5,32,5,33],[4,38,4,39],[5,38,5,39],[4,40,4,41],[5,40,5,41],[4,42,4,43],[5,42,5,43],[5,26,5,27],[5,34,5,35],[4,10,4,11],[5,10,5,11],[4,12,4,13],[5,12,5,13],[4,14,4,15],[5,14,5,15]]}
[null,null,1,2,3,4,5,6,7,8,9,10,11,12,13,14,15,16,17,18,19,20,21,22,23,24,25,26,27,28,29,30,31,32,33,34,35,36,37,38,39,40,41,42,43,44,45,46,47,48,49,50,51,52,53,54,55,56,57,58,59,60,61,62,63,64,65,66,67,68,69,70,71,72,73,74,75,76,77,78,79,80,81,82,83,84,85,86,87,88,89,90,91,92,93,94,95,96,97,98,99,100,101,102,103,104,105,106,107,108,109,110,111,112,113,114,115,116,117,118,119,120,121,122]
[null,null,null,null,null,null,null,null,null,null,null,null,null,null,null,null,null,null,"POBLACIÓN ESTIMADA POR GRUPOS DE EDAD, SEGÚN PROVINCIAS DISTRITOS Y ESTABLECIMIENTOS DE SALUD"]
[null,null,null,null,null,null,null,null,null,null,null,null,null,null,null,null,null,null,"RED INTEGRADA DE SALUD HUAURA OYON   -   AÑO  2024",null,null,null,null,null,null,null,null,null,null,null,null,null,null,null,null,null,null,null,null,null,null,null,null,null,null,null,null,null,null,null,null,null,null,null,null,null,null,null,null,null,null,null,null,null,null,null,null,null,null,null,null,null,null,null,null,null,null,null,null,null,null,null,null,null,null,null,null,null,"MAS GRUPOS DE EDAD"]
[null,null,null,null,null,null,null,null,null,null,null,null,null,null,null,null,null,null,"EDADES PUNTUALES Y GRUPOS DE EDAD",null,null,null,null,null,null,null,null,null,null,null,null,null,null,null,null,null,null,null,null,null,null,null,null,null,null,null,null,null,null,null,null,null,null,null,null,null,null,null,null,null,null,null,null,null,null,null,null,null,null,null,null,null,null,null,null,null,null,null,null,null,null,null,null,null,null,null,null,null,null,null,null,null,null,null,null,null,null,null,null,null,null,null,null,null,null,null,null,null,null,null,null,null,null,null,"Varones"]
[null,null,"N°",null,"DIRECCION DE SALUD","TOTAL GENERAL",null,"TOTAL MASCULINO","TOTAL FEMENINO",null,"EDAD",null,"EDAD",null,"EDAD",null,"EDAD",null,"EDAD",null,"EDAD",null,"EDAD",null,"EDAD",null,"EDAD",null,"EDAD",null,"EDAD",null,"EDAD",null,"EDAD",null,"EDAD",null,"EDAD",null,"EDAD",null,"EDAD",null,"EDAD",null,"EDAD",null,"EDAD",null,"EDAD",null,"EDAD",null,"EDAD",null,"EDAD",null,"EDAD",null,"EDAD",null,"EDAD",null,"EDAD",null,"EDAD",null,"EDAD",null,"EDAD",null,"EDAD",null,"EDAD",null,"EDADES ESPECIALES",null,null,null,null,"NACIMIENTOS","POBLACION FEMENINA TOTAL","POBLACION FEMENINA",null,null,"GESTANTES  ESPERADAS",null,"menor de 1 Año","Pre escolar         (1-4)","Niño             (0 - 11)","Escolar               (05 - 17)","Adolescente (12 - 17)","Adulto Joven (18 - 29)","Adulto            (30-59)","Adu.Mayor (60 a MAS)",null,"Escolar               (05 - 09)","Adolescente (10 - 19)","Adulto            (20-59)",null,"Poblacion: PADRON NOMINAL al 31_12_2023",null,null,null,null,null,null,"OTROS GRUPOS ESPECIALES (CONVENIO)",null,null,null,null,null,"Población Hombres Adolescentes               (14 -17 años)","Población Hombres (18 - 59 años)","(0 -13 años)",null,"(14 -17 años)",null,"(18 -59 años)",null,"(60 años a màs)"]
["UBIGEO",null,null,null,"PROVINCIA",null,null,null,null,null,0,null,1,null,2,null,3,null,4,null,5,null,6,null,7,null,8,null,9,null,10,null,11,null,12,null,13,null,14,null,15,null,16,null,17,null,18,null,19,null,"20 - 24 ",null,"25 - 29 ",null,"30 - 34 ",null,"35 - 39 ",null,"40 - 44 ",null,"45 - 49 ",null,"50 - 54 ",null,"55 - 59",null,"60 - 64 ",null,"65 - 69",null,"70 - 74",null,"75 - 79 ",null,"80 y ++",null,null,"0-5 MESES",null,"6-11 MESES",null,null,null,null,null,null,null,null,null,null,null,null,null,null,null,null,null,null,null,null,null,"0A","1A","2A","3A","4A","5A",null,"25 - 64 (Cancer)",null,"50 - 64 (PAP)","30 - 49 (IVVA)","15 - 49 (MEF)"]
[null,"Microredes",null,"RENAES","DISTRITO",null,null,null,null,null,"M","F","M","F","M","F","M","F","M","F","M","F","M","F","M","F","M","F","M","F","M","F","M","F","M","F","M","F","M","F","M","F","M","F","M","F","M","F","M","F","M","F","M","F","M","F","M","F","M","F","M","F","M","F","M","F","M","F","M","F","M","F","M","F","M","F","28 DIAS","M","F","M","F",null,null," 10 - 14","15 - 19","20 - 49",null,null,null,null,null,null,null,null,null,null,null,null,null,null,null,null,null,null,null,null,null,null,"M","F",null,null,null,null,null,null,"M","F","M","F","M","F","M","F"]
[150000,null,1,null,"HUAURA - OYON",282245,null,136079,146166,null,1791,1800,1773,1770,1814,1806,1951,1882,2088,1956,2111,2012,2395,2513,2473,2490,2410,2565,2351,2478,2344,2300,2343,2404,2495,2485,2365,2479,2234,2284,2226,2403,2183,2286,2098,2220,2126,2155,1998,2151,10163,10755,11460,12646,10442,11647,10023,10979,9181,9858,8430,9184,7433,8087,6413,7097,5390,5833,4382,4867,3450,3769,2489,2872,3254,4133,205,850,821,941,979,4778,0,11952,11215,65069,7591,null,{"$f":"K8+L8","v":3591},{"$f":"SUM(M8:T8)","v":15040},{"$f":"SUM(K8:AH8)","v":51820},{"$f":"SUM(U8:AT8)","v":60947},{"$f":"SUM(AI8:AT8)","v":27758},{"$f":"SUM(AU8:BB8)","v":53454},{"$f":"SUM(BC8:BN8)","v":108774},{"$f":"SUM(BO8:BX8)","v":40439},null,{"$f":"SUM(U8:AD8)","v":23798},{"$f":"SUM(AE8:AX8)","v":45579},{"$f":"SUM(AY8:BX8)","v":194237},null,3591,3543,3620,3833,4044,4123,null,{"$f":"BA8+BC8+BE8+BG8+BI8+BK8+BM8+BO8","v":68772},{"$f":"BB8+BD8+BF8+BH8+BJ8+BL8+BN8+BP8","v":75331},{"$f":"BL8+BN8+BP8","v":21017},{"$f":"BD8+BF8+BH8+BJ8","v":41668},{"$f":"AP8+AR8+AT8+AV8+AX8+AZ8+BB8+BD8+BF8+BH8+BJ8","v":76284},null,{"$f":"AM8+AO8+AQ8+AS8","v":8741},{"$f":"AU8+AW8+AY8+BA8+BC8+BE8+BG8+BI8+BK8+BM8","v":77669},{"$f":"K8+M8+O8+Q8+S8+U8+W8+Y8+AA8+AC8+AE8+AG8+AI8+AK8","v":30704},{"$f":"L8+N8+P8+R8+T8+V8+X8+Z8+AB8+AD8+AF8+AH8+AJ8+AL8","v":30940},{"$f":"AM8+AO8+AQ8+AS8","v":8741},{"$f":"AN8+AP8+AR8+AT8","v":9193},{"$f":"AU8+AW8+AY8+BA8+BC8+BE8+BG8+BK8+BM8+BI8","v":77669},{"$f":"AV8+AX8+AZ8+BB8+BD8+BF8+BH8+BL8+BN8+BJ8","v":84559},{"$f":"BO8+BQ8+BS8+BU8+BW8","v":18965},{"$f":"BP8+BR8+BT8+BV8+BX8","v":21474}]
[150800,null,2,150800,"PROVINCIA HUAURA",264367,null,127484,136883,null,1674,1682,1667,1653,1712,1696,1836,1768,1958,1838,1978,1873,2249,2365,2325,2334,2273,2392,2187,2306,2169,2120,2166,2221,2313,2273,2166,2277,2073,2105,2039,2197,2010,2076,1929,2052,1965,2001,1862,2008,9506,10064,10788,11919,9851,10958,9432,10325,8677,9361,7922,8685,6975,7600,6030,6675,5039,5475,4108,4576,3229,3540,2336,2672,3040,3796,181,796,766,878,916,4456,0,10996,10334,61312,7142,null,{"$f":"K9+L9","v":3356},{"$f":"SUM(M9:T9)","v":14128},{"$f":"SUM(K9:AH9)","v":48442},{"$f":"SUM(U9:AT9)","v":56468},{"$f":"SUM(AI9:AT9)","v":25510},{"$f":"SUM(AU9:BB9)","v":50113},{"$f":"SUM(BC9:BN9)","v":102491},{"$f":"SUM(BO9:BX9)","v":37811},null,{"$f":"SUM(U9:AD9)","v":22282},{"$f":"SUM(AE9:AX9)","v":42022},{"$f":"SUM(AY9:BX9)","v":182579},null,3356,3320,3408,3604,3796,3851,null,{"$f":"BA9+BC9+BE9+BG9+BI9+BK9+BM9+BO9","v":64714},{"$f":"BB9+BD9+BF9+BH9+BJ9+BL9+BN9+BP9","v":70998},{"$f":"BL9+BN9+BP9","v":19750},{"$f":"BD9+BF9+BH9+BJ9","v":39329},{"$f":"AP9+AR9+AT9+AV9+AX9+AZ9+BB9+BD9+BF9+BH9+BJ9","v":71646},null,{"$f":"AM9+AO9+AQ9+AS9","v":8051},{"$f":"AU9+AW9+AY9+BA9+BC9+BE9+BG9+BI9+BK9+BM9","v":73008},{"$f":"K9+M9+O9+Q9+S9+U9+W9+Y9+AA9+AC9+AE9+AG9+AI9+AK9","v":28673},{"$f":"L9+N9+P9+R9+T9+V9+X9+Z9+AB9+AD9+AF9+AH9+AJ9+AL9","v":28798},{"$f":"AM9+AO9+AQ9+AS9","v":8051},{"$f":"AN9+AP9+AR9+AT9","v":8430},{"$f":"AU9+AW9+AY9+BA9+BC9+BE9+BG9+BK9+BM9+BI9","v":73008},{"$f":"AV9+AX9+AZ9+BB9+BD9+BF9+BH9+BL9+BN9+BJ9","v":79596},{"$f":"BO9+BQ9+BS9+BU9+BW9","v":17752},{"$f":"BP9+BR9+BT9+BV9+BX9","v":20059}]
[150801,null,3,150802,"DISTRITO HUACHO",75089,null,36163,38926,null,325,338,373,347,334,336,386,384,494,443,459,427,599,626,629,584,625,669,605,642,593,569,594,560,578,589,574,597,534,546,542,578,543,548,527,539,571,518,509,515,2578,2601,2822,3181,2646,2968,2669,2826,2548,2739,2389,2614,2213,2407,1945,2181,1667,1881,1412,1594,1074,1288,752,912,1054,1379,39,147,140,178,198,902,0,2861,2698,16929,1483,null,663,3097,11941,14876,6695,13295,30145,13013,null,5865,11124,54340,null,663,720,670,770,937,886,null,18899,20797,6469,11147,19627,null,2146,20890,7168,7111,2146,2211,20890,22550,5959,7054]
[null,"00",4,7639,"HOSPITAL HUACHO",54061,null,26035,28026,null,234,243,269,250,240,242,278,276,356,319,330,307,431,451,453,420,450,482,436,462,427,410,428,403,416,424,413,430,384,393,390,416,391,395,379,388,411,373,366,371,1856,1873,2032,2290,1905,2137,1922,2035,1835,1972,1720,1882,1593,1733,1400,1570,1200,1354,1017,1148,773,927,541,657,759,993,28,106,101,128,143,649,null,2060,1943,12189,1068,null,477,2230,8597,10709,4819,9572,21704,9369,null,4222,8008,39124,null,477,519,482,554,675,637,null,13607,14973,4657,8026,14132,null,1544,15040,5161,5119,1544,1592,15040,16236,4290,5079]
[null,"02",5,5679,"C.S. MANZANARES",21028,null,10128,10900,null,91,95,104,97,94,94,108,108,138,124,129,120,168,175,176,164,175,187,169,180,166,159,166,157,162,165,161,167,150,153,152,162,152,153,148,151,160,145,143,144,722,728,790,891,741,831,747,791,713,767,669,732,620,674,545,611,467,527,395,446,301,361,211,255,295,386,11,41,39,50,55,253,null,801,755,4740,415,null,186,867,3344,4167,1876,3723,8441,3644,null,1643,3116,15216,null,186,201,188,216,262,249,null,5292,5824,1812,3121,5495,null,602,5850,2007,1992,602,619,5850,6314,1669,1975]
[150802,null,6,150802,"DISTRITO AMBAR",2428,null,1182,1246,null,16,22,15,22,26,27,18,13,24,20,19,19,15,13,19,12,22,18,20,16,14,15,18,20,25,18,16,19,16,22,13,22,16,11,15,20,20,15,19,23,96,97,88,108,66,90,81,109,70,66,74,74,59,69,64,51,47,54,54,54,41,31,42,18,34,58,5,8,9,8,13,65,0,94,91,544,138,null,38,165,443,453,213,466,873,433,null,173,357,1695,null,38,37,53,31,44,38,null,549,621,174,339,635,null,60,637,267,254,60,75,637,702,218,215]
[null,"01",7,5680,"C.S. AMBAR",1528,null,742,786,null,10,14,9,14,16,17,11,8,15,13,12,12,9,8,12,8,14,11,13,10,9,9,11,13,16,11,10,12,10,14,8,14,10,7,9,13,13,9,12,14,60,61,55,68,42,57,51,69,44,42,47,47,37,43,40,32,30,34,34,34,26,20,26,11,21,37,3,5,6,5,8,41,null,59,57,344,87,null,24,103,278,285,134,292,551,273,null,109,224,1068,null,24,23,33,19,28,24,null,346,392,109,215,401,null,37,401,167,160,37,48,401,442,137,136]
[null,"01",8,5681,"P.S. AYNACA",900,null,440,460,null,6,8,6,8,10,10,7,5,9,7,7,7,6,5,7,4,8,7,7,6,5,6,7,7,9,7,6,7,6,8,5,8,6,4,6,7,7,6,7,9,36,36,33,40,24,33,30,40,26,24,27,27,22,26,24,19,17,20,20,20,15,11,16,7,13,21,2,3,3,3,5,24,null,35,34,200,51,null,14,62,165,168,79,174,322,160,null,64,133,627,null,14,14,20,12,16,14,null,203,229,65,124,234,null,23,236,100,94,23,27,236,260,81,79]
[150803,null,9,150803,"DISTRITO CARQUIN",9351,null,4508,4843,null,43,49,45,57,47,36,52,39,47,56,41,51,73,81,91,78,84,81,76,88,75,78,95,88,85,81,97,95,73,89,85,82,91,95,67,78,54,65,57,71,348,369,368,385,351,416,364,371,325,383,296,311,237,258,225,248,186,175,128,162,125,126,76,90,101,111,5,22,23,21,26,123,0,431,391,2235,172,null,92,379,1551,2098,1018,1717,3785,1280,null,744,1601,6535,null,92,102,83,91,103,92,null,2352,2547,681,1481,2626,null,316,2625,951,958,316,344,2625,2877,616,664]
[null,"02",10,5664,"P.S. CARQUIN",9351,null,4508,4843,null,43,49,45,57,47,36,52,39,47,56,41,51,73,81,91,78,84,81,76,88,75,78,95,88,85,81,97,95,73,89,85,82,91,95,67,78,54,65,57,71,348,369,368,385,351,416,364,371,325,383,296,311,237,258,225,248,186,175,128,162,125,126,76,90,101,111,5,22,23,21,26,123,null,431,391,2235,172,null,92,379,1551,2098,1018,1717,3785,1280,null,744,1601,6535,null,92,102,83,91,103,92,null,2352,2547,681,1481,2626,null,316,2625,951,958,316,344,2625,2877,616,664]
[150804,null,11,150804,"DISTRITO CHECRAS",896,null,429,467,null,3,5,2,3,4,6,3,2,4,3,2,7,3,4,8,3,3,4,7,2,3,4,6,7,5,11,11,3,5,7,7,8,18,11,10,8,4,9,7,1,19,31,31,27,17,22,19,24,24,15,23,15,25,32,32,29,24,24,27,30,24,29,12,22,37,59,3,3,3,0,2,13,0,32,37,134,24,null,8,27,98,167,104,129,277,288,null,43,145,673,null,8,5,10,5,7,9,null,195,188,85,76,171,null,40,201,64,64,40,34,201,205,124,164]
[null,"05",12,5663,"P.S. PUÑUN",896,null,429,467,null,3,5,2,3,4,6,3,2,4,3,2,7,3,4,8,3,3,4,7,2,3,4,6,7,5,11,11,3,5,7,7,8,18,11,10,8,4,9,7,1,19,31,31,27,17,22,19,24,24,15,23,15,25,32,32,29,24,24,27,30,24,29,12,22,37,59,3,3,3,0,2,13,null,32,37,134,24,null,8,27,98,167,104,129,277,288,null,43,145,673,null,8,5,10,5,7,9,null,195,188,85,76,171,null,40,201,64,64,40,34,201,205,124,164]
[150805,null,13,150805,"DISTRITO HUALMAY",30830,null,14850,15980,null,200,190,191,187,175,170,194,186,208,205,223,236,245,259,279,298,285,270,262,287,256,242,235,243,271,261,258,272,233,263,228,253,213,235,234,232,248,230,184,231,1146,1200,1275,1414,1187,1232,1116,1276,1021,1117,1003,1064,875,850,706,768,554,596,448,542,343,390,260,340,294,441,16,89,85,111,105,510,0,1281,1181,7303,667,null,390,1516,5526,6573,2953,5928,12215,4208,null,2644,4822,21458,null,390,378,345,380,413,459,null,7737,8317,2214,4689,8484,null,908,8761,3282,3306,908,983,8761,9382,1899,2309]
[null,"02",14,5665,"C.S. HUALMAY",14801,null,7129,7672,null,96,92,91,90,84,82,93,89,100,98,107,113,118,125,134,143,136,130,126,138,123,116,112,117,130,125,124,130,112,126,110,122,102,112,113,111,119,110,89,111,550,576,612,679,570,591,535,613,490,536,482,511,420,408,339,369,266,286,215,260,165,188,124,164,142,211,8,43,40,53,50,245,null,614,566,3506,320,null,188,727,2653,3155,1417,2846,5864,2021,null,1270,2314,10302,null,188,181,166,182,198,220,null,3714,3993,1063,2251,4072,null,437,4206,1574,1588,437,471,4206,4504,912,1109]
[null,"02",15,5666,"P.S. DGO. MANDAMIENTO",11096,null,5345,5751,null,72,68,69,67,63,61,70,67,75,74,80,85,88,93,100,107,103,97,94,103,92,87,85,87,98,94,93,98,84,95,82,91,77,85,84,84,89,83,66,83,413,432,459,509,427,444,402,459,368,402,361,383,315,306,254,276,199,215,161,195,123,140,94,122,105,159,6,32,31,40,38,183,null,461,426,2629,240,null,140,546,1987,2366,1065,2134,4397,1513,null,950,1737,7723,null,140,136,124,137,149,165,null,2785,2994,797,1688,3055,null,327,3154,1182,1188,327,355,3154,3377,682,831]
[null,"02",16,5667,"P.S. CAMPO ALEGRE",4933,null,2376,2557,null,32,30,31,30,28,27,31,30,33,33,36,38,39,41,45,48,46,43,42,46,41,39,38,39,43,42,41,44,37,42,36,40,34,38,37,37,40,37,29,37,183,192,204,226,190,197,179,204,163,179,160,170,140,136,113,123,89,95,72,87,55,62,42,54,47,71,2,14,14,18,17,82,null,206,189,1168,107,null,62,243,886,1052,471,948,1954,674,null,424,771,3433,null,62,61,55,61,66,74,null,1238,1330,354,750,1357,null,144,1401,526,530,144,157,1401,1501,305,369]
[150806,null,17,150806,"DISTRITO HUAURA                   ",40247,null,19414,20833,null,272,276,259,241,239,241,304,271,318,308,317,279,361,406,379,339,360,351,340,347,352,361,351,378,356,378,326,354,319,340,306,335,299,367,278,322,294,324,295,318,1447,1566,1791,1902,1676,1717,1427,1586,1378,1429,1150,1340,998,1204,874,1000,740,772,537,590,408,442,290,304,373,445,35,128,120,144,156,637,0,1811,1666,9540,1020,null,548,2181,7650,8901,3980,7937,15779,4901,null,3479,6653,27386,null,548,500,480,575,626,596,null,10034,10950,2976,6072,11206,null,1202,11330,4534,4530,1202,1364,11330,12386,2348,2553]
[null,"01",18,5682,"C.S. HUAURA",18113,null,8734,9379,null,122,124,116,109,108,109,138,122,143,138,143,126,162,183,171,153,162,157,153,157,158,162,157,170,160,170,147,159,143,153,138,151,134,165,125,145,132,146,132,143,652,705,806,856,754,773,643,713,620,643,516,603,449,543,393,450,333,347,242,266,183,199,131,138,168,201,16,58,54,65,70,287,null,814,750,4293,459,null,246,983,3443,4004,1790,3572,7100,2208,null,1567,2990,12327,null,246,225,217,260,281,269,null,4514,4928,1340,2732,5043,null,540,5097,2040,2039,540,614,5097,5575,1057,1151]
[null,"01",19,5686,"P.S. HUMAYA",3625,null,1748,1877,null,24,25,23,22,22,22,27,24,29,28,29,25,32,37,34,31,32,32,31,31,32,32,32,34,32,34,29,32,29,31,28,30,27,33,25,29,26,29,27,29,130,141,161,171,151,155,128,143,124,129,104,121,90,108,79,90,67,69,48,53,37,40,26,27,33,40,3,12,11,13,14,57,null,163,150,860,92,null,49,197,690,803,359,714,1422,440,null,314,600,2465,null,49,45,44,51,57,54,null,904,986,267,548,1010,null,109,1020,408,409,109,123,1020,1116,211,229]
[null,"01",20,5683,"P.S. VILCAHUAURA",3214,null,1552,1662,null,22,22,21,19,19,19,24,22,25,25,25,22,29,32,30,27,29,28,27,28,28,29,28,30,28,30,26,28,26,27,24,27,24,29,22,26,24,26,24,25,116,125,143,152,134,137,114,127,110,114,92,107,80,96,70,80,59,62,43,47,33,35,23,24,30,35,3,10,10,12,12,51,null,144,133,762,82,null,44,174,610,709,317,635,1261,391,null,277,531,2188,null,44,40,38,46,50,47,null,802,875,238,485,895,null,96,907,361,361,96,109,907,989,188,203]
[null,"01",21,5684,"P.S. PEÑICO",403,null,196,207,null,3,3,3,2,2,2,3,3,3,3,3,3,4,4,4,3,4,4,3,3,4,4,4,4,4,4,3,4,3,3,3,3,3,4,3,3,3,3,3,3,14,16,18,19,17,17,14,16,14,14,12,13,10,12,9,10,7,8,5,6,4,4,3,3,4,4,0,1,1,1,2,6,null,19,16,95,10,null,6,21,78,91,40,79,158,48,null,35,68,273,null,6,5,4,6,6,6,null,101,109,30,60,111,null,12,114,47,46,12,13,114,123,23,25]
[null,"01",22,5685,"P.S. EL SOCORRO",14892,null,7184,7708,null,101,102,96,89,88,89,112,100,118,114,117,103,134,150,140,125,133,130,126,128,130,134,130,140,132,140,121,131,118,126,113,124,111,136,103,119,109,120,109,118,535,579,663,704,620,635,528,587,510,529,426,496,369,445,323,370,274,286,199,218,151,164,107,112,138,165,13,47,44,53,58,236,null,671,617,3530,377,null,203,806,2829,3294,1474,2937,5838,1814,null,1286,2464,10133,null,203,185,177,212,232,220,null,3713,4052,1101,2247,4147,null,445,4192,1678,1675,445,505,4192,4583,869,945]
[150807,null,23,150807,"DISTRITO LEONCIO PRADO",2234,null,1086,1148,null,19,17,19,20,20,13,28,15,13,13,15,9,10,19,13,12,13,17,13,20,13,13,16,19,14,19,17,23,13,20,22,17,16,23,16,16,20,20,20,17,99,108,65,87,91,81,77,81,71,66,71,70,54,61,50,43,46,51,51,55,27,26,20,28,34,49,2,8,6,11,11,59,0,94,93,493,117,null,36,141,379,418,216,436,816,387,null,141,354,1562,null,36,39,33,43,26,24,null,525,540,155,298,586,null,67,618,223,229,67,76,618,634,178,209]
[null,"03",24,5778,"P.S. AUQUIMARCA",118,null,60,58,null,1,1,1,1,1,1,1,1,1,1,1,0,1,1,1,1,1,1,1,1,1,1,1,1,1,1,1,1,1,1,1,1,1,1,1,1,1,1,1,1,5,5,3,4,5,4,4,4,4,3,4,4,3,3,3,2,2,3,3,3,1,1,1,1,2,2,0,0,0,1,1,3,null,5,5,24,6,null,2,8,23,25,12,21,43,19,null,9,20,79,null,2,2,2,2,2,1,null,28,27,8,15,29,null,4,33,14,13,4,4,33,31,9,10]
[null,"03",25,5779,"P.S. PARAN",778,null,378,400,null,7,6,7,7,7,4,10,5,4,4,5,3,3,7,4,4,4,6,4,7,4,4,6,7,4,7,6,8,4,7,8,6,6,8,6,6,7,7,7,6,35,38,23,30,32,28,27,28,25,23,25,25,19,21,18,15,16,18,18,19,9,9,7,10,11,17,0,3,2,4,4,21,null,33,33,172,41,null,13,48,129,144,76,153,286,134,null,47,124,546,null,13,14,11,15,8,8,null,185,188,54,104,205,null,24,218,75,79,24,27,218,221,61,73]
[null,"03",26,6725,"P.S. SANTA CRUZ",447,null,218,229,null,4,3,4,4,4,3,6,3,3,3,3,2,2,4,3,2,3,3,3,4,3,3,3,4,3,4,3,5,3,4,4,3,3,5,3,3,4,4,4,3,20,22,13,17,18,16,15,16,14,13,14,14,11,12,10,9,9,10,10,11,5,5,4,6,7,9,0,2,1,2,2,12,null,20,18,98,23,null,7,30,79,85,43,87,162,76,null,29,71,310,null,7,8,7,9,6,5,null,104,107,31,59,116,null,13,123,47,47,13,15,123,126,35,41]
[null,"03",27,7757,"P.S. HUANANGUI",891,null,430,461,null,7,7,7,8,8,5,11,6,5,5,6,4,4,7,5,5,5,7,5,8,5,5,6,7,6,7,7,9,5,8,9,7,6,9,6,6,8,8,8,7,39,43,26,36,36,33,31,33,28,27,28,27,21,25,19,17,19,20,20,22,12,11,8,11,14,21,2,3,3,4,4,23,null,36,37,199,47,null,14,55,148,164,85,175,325,158,null,56,139,627,null,14,15,13,17,10,10,null,208,218,62,120,236,null,26,244,87,90,26,30,244,256,73,85]
[150808,null,28,150808,"DISTRITO PACCHO",1516,null,735,781,null,5,5,3,2,6,7,6,10,10,4,9,16,8,6,13,4,8,8,5,12,11,10,9,7,11,8,6,11,12,12,15,11,7,6,11,9,12,12,7,9,39,52,40,45,38,40,46,34,37,40,49,49,49,64,49,47,41,41,40,40,30,39,40,45,63,76,1,5,3,0,2,11,0,48,47,260,23,null,10,48,184,245,119,216,542,455,null,89,196,1173,null,10,5,13,16,14,25,null,349,360,152,163,307,null,45,366,110,110,45,38,366,392,214,241]
[null,"05",29,5650,"P.S. PACCHO",597,null,290,307,null,2,2,2,1,2,3,2,3,3,1,4,7,4,2,5,1,4,4,2,4,4,3,4,3,4,4,2,4,4,4,6,4,3,2,4,4,4,4,3,4,15,20,16,17,15,16,18,14,14,16,20,20,20,25,20,19,17,17,16,16,11,15,16,17,24,31,1,2,2,0,1,4,null,18,18,103,10,null,4,17,72,96,45,83,217,180,null,37,74,465,null,4,3,5,5,4,11,null,140,144,61,66,121,null,17,145,44,42,17,14,145,155,84,96]
[null,"05",30,5651,"P.S. LACSANGA",457,null,221,236,null,1,1,1,1,2,2,2,3,3,1,3,5,2,2,4,1,2,2,1,4,3,3,3,2,3,2,2,3,4,4,5,3,2,2,3,3,4,4,2,3,12,16,12,14,11,12,14,10,11,12,15,15,15,19,15,14,12,12,12,12,9,12,12,14,19,23,0,1,1,0,1,3,null,14,15,79,7,null,2,15,54,73,36,67,163,137,null,26,60,354,null,2,2,4,5,4,8,null,105,108,45,49,94,null,14,111,32,32,14,12,111,119,64,73]
[null,"05",31,5653,"P.S. MUZGA",231,null,112,119,null,1,1,0,0,1,1,1,2,2,1,1,2,1,1,2,1,1,1,1,2,2,2,1,1,2,1,1,2,2,2,2,2,1,1,2,1,2,2,1,1,6,8,6,7,6,6,7,5,6,6,7,7,7,10,7,7,6,6,6,6,5,6,6,7,10,11,0,1,0,0,0,2,null,8,7,39,3,null,2,8,29,38,19,33,81,69,null,13,31,177,null,2,0,2,3,3,3,null,52,54,23,24,46,null,7,55,17,18,7,6,55,59,33,36]
[null,"05",32,5652,"P.S. AYARANGA",231,null,112,119,null,1,1,0,0,1,1,1,2,2,1,1,2,1,1,2,1,1,1,1,2,2,2,1,1,2,1,1,2,2,2,2,2,1,1,2,1,2,2,1,1,6,8,6,7,6,6,7,5,6,6,7,7,7,10,7,7,6,6,6,6,5,6,6,7,10,11,0,1,0,0,0,2,null,8,7,39,3,null,2,8,29,38,19,33,81,69,null,13,31,177,null,2,0,2,3,3,3,null,52,54,23,24,46,null,7,55,17,18,7,6,55,59,33,36]
[150809,null,33,150809,"DISTRITO SANTA LEONOR",996,null,490,506,null,7,5,4,5,9,2,9,8,7,8,7,5,3,10,7,4,8,4,3,4,8,7,6,7,6,12,6,7,6,7,10,6,6,10,8,3,8,8,6,6,29,26,32,36,29,40,33,25,26,32,24,29,29,28,29,26,31,32,28,25,22,15,18,28,26,36,1,4,4,3,1,15,0,40,33,188,21,null,12,52,147,170,87,151,350,261,null,55,143,734,null,12,9,11,17,15,12,null,233,248,86,126,221,null,30,245,90,88,30,26,245,256,125,136]
[null,"05",34,5645,"P.S. CHIUCHIN",651,null,320,331,null,5,3,3,3,6,2,6,5,5,5,5,3,2,6,5,3,5,3,2,3,5,5,4,5,4,8,4,5,4,5,6,4,4,6,5,2,5,5,4,4,19,17,21,24,19,26,21,16,17,21,15,19,19,18,19,17,20,21,18,16,15,10,11,18,17,23,1,3,3,2,1,10,null,28,21,123,14,null,8,35,99,113,57,99,227,169,null,37,94,477,null,8,6,8,11,10,8,null,151,162,56,82,144,null,19,159,61,59,19,17,159,167,81,88]
[null,"05",35,5646,"P.S. PARQUIN",199,null,99,100,null,1,1,1,1,2,0,2,2,1,2,1,1,1,2,1,1,2,1,1,1,2,1,1,1,1,2,1,1,1,1,2,1,1,2,2,1,2,2,1,1,6,5,6,7,6,8,7,5,5,6,5,6,6,6,6,5,6,6,6,5,4,3,4,6,5,7,0,1,1,1,0,3,null,6,7,37,4,null,2,11,30,33,16,30,71,52,null,12,27,147,null,2,2,2,4,3,2,null,47,49,17,25,44,null,6,50,18,17,6,5,50,51,25,27]
[null,"05",36,5647,"P.S. JUCUL",146,null,71,75,null,1,1,0,1,1,0,1,1,1,1,1,1,0,2,1,0,1,0,0,0,1,1,1,1,1,2,1,1,1,1,2,1,1,2,1,0,1,1,1,1,4,4,5,5,4,6,5,4,4,5,4,4,4,4,4,4,5,5,4,4,3,2,3,4,4,6,0,0,0,0,0,2,null,6,5,28,3,null,2,6,18,24,14,22,52,40,null,6,22,110,null,2,1,1,2,2,2,null,35,37,13,19,33,null,5,36,11,12,5,4,36,38,19,21]
[150810,null,37,150810,"DISTRITO SANTA MARIA",43646,null,21057,22589,null,335,301,324,312,348,360,341,368,340,337,359,356,401,402,361,413,370,431,359,379,335,350,374,371,403,380,350,370,360,336,324,360,336,301,331,356,288,327,333,352,1725,1709,1847,2033,1594,1828,1518,1708,1378,1481,1235,1391,1103,1177,904,986,747,862,622,690,525,599,385,438,502,525,30,160,157,175,144,850,0,1807,1696,10150,1488,null,636,2730,8627,9468,4207,8614,16303,5895,null,3831,6937,29512,null,636,636,708,709,677,715,null,10326,11466,3025,6408,11846,null,1351,11925,5000,5130,1351,1353,11925,12992,2781,3114]
[null,"02",38,5668,"C.S. SANTA MARIA",11783,null,5685,6098,null,90,81,87,84,94,97,92,99,92,91,97,96,108,109,97,112,100,116,97,102,90,95,101,100,109,103,95,100,97,91,87,97,91,81,89,96,78,88,90,95,466,461,499,549,430,494,410,461,372,400,333,376,298,318,244,266,202,233,168,186,142,162,104,118,136,141,8,43,42,47,39,230,null,489,457,2741,402,null,171,736,2327,2556,1136,2326,4402,1592,null,1034,1873,7969,null,171,171,191,191,183,193,null,2788,3097,817,1731,3198,null,364,3220,1349,1385,364,365,3220,3508,752,840]
[null,"02",39,5669,"P.S. CHONTA",6550,null,3160,3390,null,50,45,49,47,52,54,51,55,51,51,54,53,60,60,54,62,56,65,54,57,50,53,56,56,60,57,53,56,54,50,49,54,50,45,50,53,43,49,50,53,259,256,277,305,239,274,228,256,207,222,185,209,165,177,136,148,112,129,93,104,79,90,58,66,76,79,4,24,24,26,22,128,null,272,254,1522,223,null,95,410,1295,1421,631,1292,2446,886,null,575,1041,4429,null,95,96,106,106,102,107,null,1549,1720,454,961,1776,null,203,1789,750,771,203,202,1789,1949,418,468]
[null,"02",40,5671,"P.S. 1RO DE MAYO",13535,null,6530,7005,null,105,94,101,97,108,112,106,115,105,104,111,111,125,125,113,128,114,133,111,118,105,107,116,115,125,118,107,114,112,105,101,112,105,94,102,111,89,102,103,109,534,530,573,630,495,566,470,530,427,459,384,431,342,364,280,306,232,267,193,214,162,185,119,136,155,163,10,50,49,54,44,262,null,559,528,3146,461,null,199,848,2679,2938,1306,2670,5054,1826,null,1189,2152,9147,null,199,198,220,221,209,222,null,3203,3553,937,1986,3674,null,420,3697,1552,1591,420,422,3697,4027,861,965]
[null,"02",41,5670,"P.S. ZAPATA",3923,null,1892,2031,null,30,27,29,28,31,32,31,33,31,30,32,32,36,36,32,37,33,39,32,34,30,32,34,33,36,34,32,33,32,30,29,32,30,27,30,32,26,29,30,32,155,154,166,183,143,165,137,154,124,133,111,125,99,106,81,89,67,78,56,62,47,54,35,39,45,47,2,14,14,16,13,77,null,162,152,914,134,null,57,245,774,849,377,775,1467,530,null,343,623,2655,null,57,57,63,64,61,64,null,928,1033,273,577,1066,null,121,1072,449,460,121,121,1072,1170,250,280]
[null,"02",42,5672,"P.S. SAN BARTOLOME",7855,null,3790,4065,null,60,54,58,56,63,65,61,66,61,61,65,64,72,72,65,74,67,78,65,68,60,63,67,67,73,68,63,67,65,60,58,65,60,54,60,64,52,59,60,63,311,308,332,366,287,329,273,307,248,267,222,250,199,212,163,177,134,155,112,124,95,108,69,79,90,95,6,29,28,32,26,153,null,325,305,1827,268,null,114,491,1552,1704,757,1551,2934,1061,null,690,1248,5312,null,114,114,128,127,122,129,null,1858,2063,544,1153,2132,null,243,2147,900,923,243,243,2147,2338,500,561]
[150811,null,43,150811,"DISTRITO SAYAN",26719,null,12902,13817,null,187,191,176,193,214,198,183,189,221,189,227,203,230,258,224,291,232,243,238,247,249,196,219,237,239,243,218,253,234,226,213,279,216,242,204,215,215,238,206,217,961,1134,1123,1238,969,1141,975,1041,863,960,808,828,646,697,563,623,490,454,372,395,309,263,215,220,263,275,20,100,97,87,94,513,0,1155,1191,6342,730,null,378,1563,5235,6076,2782,5332,10114,3256,null,2393,4559,17826,null,378,369,412,372,410,430,null,6437,6982,1774,3970,7533,null,867,7329,3057,3131,867,962,7329,8117,1649,1607]
[null,"03",44,5780,"P.S. 9 DE OCTUBRE",7213,null,3481,3732,null,50,52,48,52,58,53,49,51,60,51,61,55,62,70,60,79,63,66,64,67,67,53,59,64,65,66,59,68,63,61,58,75,58,65,55,58,58,64,56,59,259,306,303,334,262,308,263,281,233,259,218,224,174,188,152,168,132,123,100,107,83,71,58,59,71,75,6,27,26,23,25,138,null,312,321,1712,197,null,102,422,1414,1641,751,1439,2730,879,null,647,1231,4811,null,102,100,111,100,111,116,null,1737,1885,479,1072,2033,null,234,1978,825,847,234,259,1978,2191,444,435]
[null,"03",45,5774,"P.S. LA MERCED",1076,null,519,557,null,7,8,7,8,9,8,7,8,9,8,9,8,9,10,9,12,9,10,10,10,10,8,9,9,10,10,9,10,9,9,9,11,9,10,8,9,9,10,8,9,38,45,45,50,39,46,39,42,35,38,32,33,26,28,23,25,20,18,15,16,12,11,9,9,11,11,1,4,4,3,4,21,null,46,49,254,29,null,15,64,211,245,113,214,406,132,null,96,185,716,null,15,15,17,15,17,17,null,259,280,71,159,303,null,35,294,123,127,35,39,294,326,67,65]
[null,"03",46,5781,"P.S. LA VILLA",7747,null,3741,4006,null,54,55,51,56,62,57,53,55,64,55,66,59,67,75,65,84,67,70,69,72,72,57,64,69,69,70,63,73,68,66,62,81,63,70,59,62,62,69,60,63,279,329,326,359,281,331,283,302,250,278,234,240,187,202,163,181,142,132,108,115,90,76,62,64,76,79,6,29,28,25,27,148,null,335,345,1839,212,null,109,453,1518,1762,806,1547,2932,944,null,694,1322,5169,null,109,107,119,108,119,125,null,1866,2025,515,1151,2184,null,252,2125,886,907,252,279,2125,2354,478,466]
[null,"03",47,5775,"P.S. EL AHORCADO",801,null,385,416,null,6,6,5,6,6,6,5,6,7,6,7,6,7,8,7,9,7,7,7,7,7,6,7,7,7,7,7,8,7,7,6,8,6,7,6,6,6,7,6,7,29,34,34,37,29,34,29,31,26,29,24,25,19,21,17,19,15,14,11,12,9,8,6,7,8,8,0,3,3,3,3,15,null,35,35,190,22,null,12,47,158,181,82,160,303,98,null,72,135,535,null,12,11,12,11,13,13,null,193,210,54,119,225,null,25,219,92,95,25,28,219,244,49,49]
[null,"03",48,5776,"C.S. SAYAN",8280,null,4006,4274,null,58,58,55,59,67,62,59,57,67,57,70,63,71,79,69,89,72,76,74,77,79,60,66,74,74,76,66,78,73,69,66,88,68,76,64,68,68,74,64,65,298,352,347,384,300,354,303,323,267,298,252,256,202,216,174,192,151,139,116,121,97,81,68,67,81,86,7,31,30,27,29,161,null,357,371,1967,226,null,116,483,1618,1885,866,1652,3137,1007,null,740,1416,5525,null,116,114,129,116,124,133,null,1996,2162,547,1231,2338,null,271,2275,947,965,271,301,2275,2514,513,494]
[null,"03",49,5777,"P.S. CHAMBARA",801,null,385,416,null,6,6,5,6,6,6,5,6,7,6,7,6,7,8,7,9,7,7,7,7,7,6,7,7,7,7,7,8,7,7,6,8,6,7,6,6,6,7,6,7,29,34,34,37,29,34,29,31,26,29,24,25,19,21,17,19,15,14,11,12,9,8,6,7,8,8,0,3,3,3,3,15,null,35,35,190,22,null,12,47,158,181,82,160,303,98,null,72,135,535,null,12,11,12,11,13,13,null,193,210,54,119,225,null,25,219,92,95,25,28,219,244,49,49]
[null,"03",50,6726,"P.S. LA UNION",801,null,385,416,null,6,6,5,6,6,6,5,6,7,6,7,6,7,8,7,9,7,7,7,7,7,6,7,7,7,7,7,8,7,7,6,8,6,7,6,6,6,7,6,7,29,34,34,37,29,34,29,31,26,29,24,25,19,21,17,19,15,14,11,12,9,8,6,7,8,8,0,3,3,3,3,15,null,35,35,190,22,null,12,47,158,181,82,160,303,98,null,72,135,535,null,12,11,12,11,13,13,null,193,210,54,119,225,null,25,219,92,95,25,28,219,244,49,49]
[150812,null,51,150812,"DISTRITO VEGUETA",30415,null,14668,15747,null,262,283,256,264,290,300,312,283,272,252,300,265,301,281,302,296,263,296,259,262,260,275,243,284,320,273,287,273,268,237,274,246,249,227,228,254,231,235,219,248,1019,1171,1306,1463,1187,1383,1107,1244,936,1033,800,900,687,753,589,673,466,533,389,399,301,292,226,227,259,342,24,122,119,140,164,758,0,1342,1210,7194,1259,null,545,2229,6661,7023,3136,5892,11292,3434,null,2825,5131,19685,null,545,520,590,595,524,565,null,7078,7982,1959,4560,8404,null,1019,8081,3927,3887,1019,964,8081,9103,1641,1793]
[null,"04",52,5673,"C.S. VEGUETA",8515,null,4106,4409,null,73,79,72,74,81,84,87,79,76,71,84,74,84,79,85,83,74,83,73,73,73,77,68,80,90,76,80,76,75,66,77,69,70,64,64,71,65,66,61,69,285,328,366,410,332,387,310,348,262,289,224,252,192,211,165,188,130,149,109,112,84,82,63,64,72,96,7,34,33,39,46,212,null,375,339,2014,353,null,152,624,1866,1968,878,1650,3160,961,null,792,1437,5510,null,152,146,165,166,147,158,null,1981,2234,548,1276,2353,null,286,2262,1100,1088,286,270,2262,2548,458,503]
[null,"04",53,5674,"P.S. MAZO",2282,null,1101,1181,null,20,21,19,20,22,23,23,21,20,19,23,20,23,21,23,22,20,22,19,20,20,21,18,21,24,20,22,20,20,18,21,18,19,17,17,19,17,18,16,19,76,88,98,110,89,104,83,93,70,77,60,68,52,56,44,50,35,40,29,30,23,22,17,17,19,26,2,9,9,11,12,57,null,100,91,540,94,null,41,167,501,528,235,442,846,258,null,213,385,1476,null,41,39,45,44,39,43,null,531,598,146,342,631,null,77,605,296,291,77,72,605,683,123,135]
[null,"04",54,5675,"P.S. PRIMAVERA",7299,null,3519,3780,null,63,68,61,63,70,72,75,68,65,60,72,64,72,67,72,71,63,71,62,63,62,66,58,68,77,66,69,66,64,57,66,59,60,54,55,61,55,56,53,60,245,281,313,351,285,332,266,299,225,248,192,216,165,181,141,162,112,128,93,96,72,70,54,54,62,82,6,29,29,34,39,182,null,323,290,1727,302,null,131,534,1596,1685,754,1414,2712,823,null,677,1232,4725,null,131,124,142,143,125,136,null,1699,1917,471,1095,2017,null,245,1940,941,933,245,231,1940,2186,393,430]
[null,"04",55,5676,"P.S. MARIATEGUI",8826,null,4255,4571,null,76,83,75,77,84,86,91,83,80,73,86,77,87,82,87,86,76,86,76,76,75,80,71,83,92,80,83,80,79,69,79,72,72,66,66,74,68,68,64,72,296,339,378,424,344,401,320,361,271,300,232,260,199,218,171,196,136,154,113,115,87,85,66,66,75,99,7,36,34,40,48,220,null,392,352,2085,366,null,159,649,1936,2040,912,1709,3273,996,null,819,1493,5706,null,159,152,170,174,153,163,null,2051,2314,568,1322,2437,null,296,2343,1139,1132,296,281,2343,2639,477,519]
[null,"04",56,5677,"P.S. MEDIO MUNDO",3347,null,1614,1733,null,29,31,28,29,32,33,34,31,30,28,33,29,33,31,33,33,29,33,28,29,29,30,27,31,35,30,32,30,29,26,30,27,27,25,25,28,25,26,24,27,112,129,144,161,131,152,122,137,103,114,88,99,76,83,65,74,51,59,43,44,33,32,25,25,29,37,2,13,13,15,18,83,null,147,133,792,138,null,60,245,733,772,344,648,1244,378,null,311,563,2168,null,60,57,65,65,58,62,null,780,879,216,502,925,null,111,890,432,428,111,106,890,1002,181,197]
[null,"04",57,5678,"P.S. TIROLER",146,null,73,73,null,1,1,1,1,1,2,2,1,1,1,2,1,2,1,2,1,1,1,1,1,1,1,1,1,2,1,1,1,1,1,1,1,1,1,1,1,1,1,1,1,5,6,7,7,6,7,6,6,5,5,4,5,3,4,3,3,2,3,2,2,2,1,1,1,2,2,0,1,1,1,1,4,null,5,5,36,6,null,2,10,29,30,13,29,57,18,null,13,21,100,null,2,2,3,3,2,3,null,36,40,10,23,41,null,4,41,19,15,4,4,41,45,9,9]
[150900,null,58,150900,"PROVINCIA OYON",16953,null,8147,8806,null,112,114,103,110,98,106,110,111,126,115,128,132,142,141,143,152,131,167,157,167,169,176,171,175,177,204,192,195,155,170,183,198,165,203,164,161,154,146,131,137,626,657,639,696,548,655,555,623,482,464,478,470,434,461,357,390,327,330,255,273,204,214,140,188,191,305,23,51,52,61,62,298,0,920,845,3565,418,null,226,879,3256,4318,2167,3186,5917,2427,null,1460,3426,10962,null,226,213,204,221,241,260,null,3820,4089,1181,2212,4410,null,667,4404,1959,2065,667,732,4404,4699,1117,1310]
[150901,null,59,150901,"DISTRITO OYON",11749,null,5636,6113,null,59,67,55,56,58,45,51,63,81,62,87,80,109,114,118,123,97,140,127,137,129,136,145,132,132,151,148,142,124,132,141,150,126,146,120,114,101,103,97,101,449,486,479,500,401,503,405,454,336,327,320,326,300,324,224,241,192,200,156,165,117,122,71,102,81,169,19,32,34,27,33,167,0,693,614,2596,230,null,126,471,2271,3300,1626,2316,4161,1375,null,1132,2570,7450,null,126,111,103,114,143,167,null,2657,2875,765,1610,3210,null,511,3112,1396,1448,511,542,3112,3365,617,758]
[null,"05",60,5659,"P.S. RAPAZ",826,null,395,431,null,4,5,4,4,4,3,4,4,6,4,6,6,8,8,8,9,7,10,9,10,9,10,10,9,9,11,10,10,9,9,10,11,9,10,8,8,7,7,7,7,31,34,34,35,28,35,28,32,24,23,22,23,21,23,16,17,13,14,11,12,8,9,5,7,6,12,2,2,2,2,2,12,null,49,43,182,16,null,9,33,161,233,114,162,292,97,null,81,180,523,null,9,8,7,8,10,12,null,186,202,54,113,225,null,36,218,98,103,36,38,218,236,43,54]
[null,"05",61,5660,"C.S. OYON",9868,null,4735,5133,null,49,56,45,46,48,39,41,53,68,52,73,67,92,96,99,103,81,118,107,115,109,114,123,111,111,125,126,120,104,111,119,124,106,124,101,96,85,87,81,85,379,408,402,420,337,423,341,380,282,275,269,274,252,272,188,203,161,168,130,138,98,102,59,86,69,142,16,27,29,23,28,140,null,581,516,2180,193,null,105,392,1905,2775,1367,1947,3496,1153,null,951,2162,6258,null,105,91,87,94,120,140,null,2232,2415,643,1352,2696,null,430,2616,1172,1215,430,455,2616,2827,517,636]
[null,"05",62,5661,"P.S. MALLAY",586,null,281,305,null,3,3,3,3,3,2,3,3,4,3,4,4,5,6,6,6,5,7,6,7,6,7,7,7,7,8,7,7,6,7,7,8,6,7,6,6,5,5,5,5,22,24,24,25,20,25,20,23,17,16,16,16,15,16,11,12,10,10,8,8,6,6,4,5,4,8,1,2,2,1,2,8,null,36,31,129,12,null,6,24,113,165,82,115,207,69,null,56,129,371,null,6,6,5,6,7,8,null,133,143,38,80,160,null,25,155,69,73,25,28,155,167,32,37]
[null,"05",63,5662,"P.S. NAVA",114,null,54,60,null,1,1,1,1,1,0,1,1,1,1,1,1,1,1,1,1,1,1,1,1,1,1,1,1,1,2,1,1,1,1,1,2,1,1,1,1,1,1,1,1,4,5,5,5,4,5,4,5,3,3,3,3,3,3,2,2,2,2,2,2,1,1,1,1,0,2,0,0,0,0,0,2,null,6,6,26,2,null,2,7,23,28,14,23,40,14,null,10,22,73,null,2,2,1,2,2,2,null,26,28,7,16,32,null,4,30,14,14,4,5,30,33,6,8]
[null,"05",64,5648,"P.S. TINTA",355,null,171,184,null,2,2,2,2,2,1,2,2,2,2,3,2,3,3,4,4,3,4,4,4,4,4,4,4,4,5,4,4,4,4,4,5,4,4,4,3,3,3,3,3,13,15,14,15,12,15,12,14,10,10,10,10,9,10,7,7,6,6,5,5,4,4,2,3,2,5,0,1,1,1,1,5,null,21,18,79,7,null,4,15,69,99,49,69,126,42,null,34,77,225,null,4,4,3,4,4,5,null,80,87,23,49,97,null,16,93,43,43,16,16,93,102,19,23]
[150902,null,65,150902,"DISTRITO ANDAJES",429,null,207,222,null,4,3,3,5,3,6,1,7,4,2,2,0,2,1,2,2,2,1,1,1,4,3,3,6,4,3,1,4,1,1,3,3,1,4,4,3,2,2,0,1,9,6,7,6,6,4,9,10,11,6,6,8,17,7,12,16,26,18,9,16,11,15,10,18,27,34,0,0,3,4,0,10,0,17,13,40,8,null,7,31,68,62,32,33,112,184,null,14,53,324,null,7,8,9,8,6,2,null,94,75,41,28,53,null,9,79,36,44,9,11,79,66,83,101]
[null,"05",66,5654,"P.S. ANDAJES",429,null,207,222,null,4,3,3,5,3,6,1,7,4,2,2,0,2,1,2,2,2,1,1,1,4,3,3,6,4,3,1,4,1,1,3,3,1,4,4,3,2,2,0,1,9,6,7,6,6,4,9,10,11,6,6,8,17,7,12,16,26,18,9,16,11,15,10,18,27,34,0,0,3,4,0,10,null,17,13,40,8,null,{"$f":"K73+L73","v":7},{"$f":"SUM(M73:T73)","v":31},{"$f":"SUM(K73:AH73)","v":68},{"$f":"SUM(U73:AT73)","v":62},{"$f":"SUM(AI73:AT73)","v":32},{"$f":"SUM(AU73:BB73)","v":33},{"$f":"SUM(BC73:BN73)","v":112},{"$f":"SUM(BO73:BX73)","v":184},null,{"$f":"SUM(U73:AD73)","v":14},{"$f":"SUM(AE73:AX73)","v":53},{"$f":"SUM(AY73:BX73)","v":324},null,7,8,9,8,6,2,null,{"$f":"BA73+BC73+BE73+BG73+BI73+BK73+BM73+BO73","v":94},{"$f":"BB73+BD73+BF73+BH73+BJ73+BL73+BN73+BP73","v":75},{"$f":"BL73+BN73+BP73","v":41},{"$f":"BD73+BF73+BH73+BJ73","v":28},{"$f":"AP73+AR73+AT73+AV73+AX73+AZ73+BB73+BD73+BF73+BH73+BJ73","v":53},null,{"$f":"AM73+AO73+AQ73+AS73","v":9},{"$f":"AU73+AW73+AY73+BA73+BC73+BE73+BG73+BI73+BK73+BM73","v":79},{"$f":"K73+M73+O73+Q73+S73+U73+W73+Y73+AA73+AC73+AE73+AG73+AI73+AK73","v":36},{"$f":"L73+N73+P73+R73+T73+V73+X73+Z73+AB73+AD73+AF73+AH73+AJ73+AL73","v":44},{"$f":"AM73+AO73+AQ73+AS73","v":9},{"$f":"AN73+AP73+AR73+AT73","v":11},{"$f":"AU73+AW73+AY73+BA73+BC73+BE73+BG73+BK73+BM73+BI73","v":79},{"$f":"AV73+AX73+AZ73+BB73+BD73+BF73+BH73+BL73+BN73+BJ73","v":66},{"$f":"BO73+BQ73+BS73+BU73+BW73","v":83},{"$f":"BP73+BR73+BT73+BV73+BX73","v":101}]
[150903,null,67,150903,"DISTRITO CAUJUL",451,null,216,235,null,5,4,6,4,3,3,3,4,3,4,3,3,3,3,3,4,1,1,3,4,2,2,3,3,3,2,2,6,2,3,4,4,3,4,3,3,3,4,2,4,14,17,13,18,13,13,12,18,10,11,19,10,9,12,12,15,13,12,15,8,8,6,6,8,12,18,0,0,4,5,0,13,0,16,19,87,15,null,9,30,77,77,39,75,154,106,null,28,62,322,null,9,10,6,7,7,6,null,101,109,39,52,106,null,12,107,43,47,12,14,107,122,54,52]
[null,"05",68,5655,"P.S. CAUJUL",451,null,216,235,null,5,4,6,4,3,3,3,4,3,4,3,3,3,3,3,4,1,1,3,4,2,2,3,3,3,2,2,6,2,3,4,4,3,4,3,3,3,4,2,4,14,17,13,18,13,13,12,18,10,11,19,10,9,12,12,15,13,12,15,8,8,6,6,8,12,18,0,0,4,5,0,13,null,16,19,87,15,null,9,30,77,77,39,75,154,106,null,28,62,322,null,9,10,6,7,7,6,null,101,109,39,52,106,null,12,107,43,47,12,14,107,122,54,52]
[150904,null,69,150904,"DISTRITO COCHAMARCA",1093,null,528,565,null,8,13,8,14,6,9,14,6,7,14,3,6,11,9,5,5,5,6,5,10,8,12,10,9,8,14,11,14,6,14,15,11,14,19,12,9,18,11,13,16,55,54,44,45,38,32,28,31,23,22,34,36,26,27,30,20,17,19,11,12,13,17,6,10,16,19,1,4,2,4,11,24,0,63,66,220,31,null,21,78,203,251,147,256,347,140,null,65,244,685,null,21,22,15,20,21,9,null,240,232,66,121,286,null,47,309,109,141,47,53,309,294,63,77]
[null,"03",70,5783,"P.S. COCHAMARCA",463,null,224,239,null,3,6,3,6,2,4,6,2,3,6,1,2,5,4,2,2,2,2,2,4,3,5,4,4,3,6,5,6,2,6,6,5,6,8,5,4,8,5,6,7,24,23,19,19,16,14,12,13,10,9,15,15,11,12,13,8,7,8,5,5,6,7,2,4,7,8,0,2,1,2,5,10,null,27,29,93,13,null,9,32,83,104,62,111,148,59,null,26,104,292,null,9,9,6,8,9,3,null,103,98,28,51,122,null,19,134,44,59,19,23,134,125,27,32]
[null,"03",71,5784,"P.S. COLCAPAMPA",529,null,255,274,null,4,6,4,7,3,4,7,3,3,7,2,3,5,4,3,3,3,3,3,5,4,6,5,4,4,7,5,7,3,7,8,5,7,9,6,4,8,5,6,8,26,26,21,22,19,15,13,15,11,11,16,18,13,13,14,10,8,9,5,6,6,8,3,5,7,9,1,2,1,2,5,12,null,31,31,107,15,null,10,38,101,125,72,122,168,66,null,34,118,329,null,10,11,7,10,10,5,null,115,113,32,59,138,null,24,147,55,69,24,25,147,143,29,37]
[null,"03",72,5785,"P.S. YARUCAYA",101,null,49,52,null,1,1,1,1,1,1,1,1,1,1,0,1,1,1,0,0,0,1,0,1,1,1,1,1,1,1,1,1,1,1,1,1,1,2,1,1,2,1,1,1,5,5,4,4,3,3,3,3,2,2,3,3,2,2,3,2,2,2,1,1,1,2,1,1,2,2,0,0,0,0,1,2,null,5,6,20,3,null,2,8,19,22,13,23,31,15,null,5,22,64,null,2,2,2,2,2,1,null,22,21,6,11,26,null,4,28,10,13,4,5,28,26,7,8]
[150905,null,73,150905,"DISTRITO NAVAN",776,null,373,403,null,6,4,4,4,7,6,3,5,3,4,1,6,7,2,4,2,6,3,3,2,6,7,2,4,7,11,7,9,6,4,3,6,3,12,7,11,7,10,6,3,23,23,16,20,14,28,32,27,20,23,27,28,35,23,23,26,25,21,19,18,14,16,10,13,17,22,1,2,0,4,4,18,0,35,42,149,15,null,10,36,101,141,86,108,306,175,null,36,131,563,null,10,8,13,8,7,7,null,192,196,70,106,191,null,19,203,66,69,19,33,203,211,85,90]
[null,"05",74,5656,"P.S. NAVAN",776,null,373,403,null,6,4,4,4,7,6,3,5,3,4,1,6,7,2,4,2,6,3,3,2,6,7,2,4,7,11,7,9,6,4,3,6,3,12,7,11,7,10,6,3,23,23,16,20,14,28,32,27,20,23,27,28,35,23,23,26,25,21,19,18,14,16,10,13,17,22,1,2,0,4,4,18,null,35,42,149,15,null,10,36,101,141,86,108,306,175,null,36,131,563,null,10,8,13,8,7,7,null,192,196,70,106,191,null,19,203,66,69,19,33,203,211,85,90]
[150906,null,75,150906,"DISTRITO PACHANGARA",2455,null,1187,1268,null,30,23,27,27,21,37,38,26,28,29,32,37,10,12,11,16,20,16,18,13,20,16,8,21,23,23,23,20,16,16,17,24,18,18,18,21,23,16,13,12,76,71,80,107,76,75,69,83,82,75,72,62,47,68,56,72,54,60,45,54,41,38,37,37,38,43,2,13,9,17,14,66,0,96,91,473,119,null,53,233,536,487,237,398,837,447,null,185,366,1618,null,53,54,58,64,57,69,null,536,602,200,295,564,null,69,594,309,316,69,79,594,641,215,232]
[null,"05",76,5657,"P.S. HUANCAHUASI",444,null,213,231,null,5,4,5,5,4,7,7,5,5,5,6,7,2,2,2,3,4,3,3,2,4,3,1,4,4,4,4,4,3,3,3,4,3,3,3,4,4,3,2,2,14,13,14,19,14,14,12,15,15,14,13,11,8,12,10,13,10,11,8,10,7,7,7,7,7,8,0,2,2,3,3,11,null,18,16,86,21,null,9,43,98,88,42,71,151,82,null,34,65,293,null,9,10,11,12,10,13,null,96,109,36,54,102,null,12,106,56,58,12,14,106,116,39,43]
[null,"05",77,5658,"C.S. CHURIN",1645,null,796,849,null,20,16,18,18,14,24,25,17,19,20,21,24,6,8,7,11,13,11,12,9,13,11,6,14,16,16,16,13,11,11,11,16,12,12,12,14,16,11,9,8,51,47,54,72,51,50,47,56,55,50,48,42,32,46,38,48,36,40,30,36,28,25,24,24,25,29,2,9,6,11,9,45,null,65,61,317,80,null,36,155,357,326,160,268,563,297,null,122,248,1084,null,36,36,38,42,39,45,null,361,404,134,198,378,null,46,401,206,212,46,53,401,430,143,154]
[null,"05",78,5649,"P.S. PACHANGARA",366,null,178,188,null,5,3,4,4,3,6,6,4,4,4,5,6,2,2,2,2,3,2,3,2,3,2,1,3,3,3,3,3,2,2,3,4,3,3,3,3,3,2,2,2,11,11,12,16,11,11,10,12,12,11,11,9,7,10,8,11,8,9,7,8,6,6,6,6,6,6,0,2,1,3,2,10,null,13,14,70,18,null,8,35,81,73,35,59,123,68,null,29,53,241,null,8,8,9,10,8,11,null,79,89,30,43,84,null,11,87,47,46,11,12,87,95,33,35]
[null,null,79,150600,"PROVINCIA HUARAL",925,null,448,477,null,5,4,3,7,4,4,5,3,4,3,5,7,4,7,5,4,6,6,7,5,6,4,6,8,5,8,7,7,6,9,4,8,8,7,5,7,7,8,5,6,31,34,33,31,43,34,36,31,22,33,30,29,24,26,26,32,24,28,19,18,17,15,13,12,23,32,1,3,3,2,1,24,0,36,36,192,31,null,9,33,122,161,81,155,366,201,null,56,131,696,null,9,10,8,8,7,12,null,238,244,86,127,228,null,23,257,72,77,23,31,257,264,96,105]
[150606,"03",80,5782,"IHUARI - P.S. ACOTAMA (46.8%)",925,null,448,477,null,5,4,3,7,4,4,5,3,4,3,5,7,4,7,5,4,6,6,7,5,6,4,6,8,5,8,7,7,6,9,4,8,8,7,5,7,7,8,5,6,31,34,33,31,43,34,36,31,22,33,30,29,24,26,26,32,24,28,19,18,17,15,13,12,23,32,1,3,3,2,1,24,null,36,36,192,31,null,9,33,122,161,81,155,366,201,null,56,131,696,null,9,10,8,8,7,12,null,238,244,86,127,228,null,23,257,72,77,23,31,257,264,96,105]
[null,null,81]
[null,1,82,null,"MICRORED HUAURA",{"$f":"SUM(H89:I89)","v":42675},null,{"$f":"K89+M89+O89+Q89+S89+U89+W89+Y89+AA89+AC89+AE89+AG89+AI89+AK89+AM89+AO89+AQ89+AS89+AU89+AW89+AY89+BA89+BC89+BE89+BG89+BI89+BK89+BM89+BO89+BQ89+BS89+BU89+BW89","v":20596},{"$f":"L89+N89+P89+R89+T89+V89+X89+Z89+AB89+AD89+AF89+AH89+AJ89+AL89+AN89+AP89+AR89+AT89+AV89+AX89+AZ89+BB89+BD89+BF89+BH89+BJ89+BL89+BN89+BP89+BR89+BT89+BV89+BX89","v":22079},null,{"$f":"K13+K24","v":288},{"$f":"L13+L24","v":298},274,263,265,268,322,284,342,328,336,298,376,419,398,351,382,369,360,363,366,376,369,398,381,396,342,373,335,362,319,357,315,378,293,342,314,339,314,341,1543,1663,1879,2010,1742,1807,1508,1695,1448,1495,1224,1414,1057,1273,938,1051,787,826,591,644,449,473,332,322,407,{"$f":"BX13+BX24","v":503},40,136,129,152,169,702,0,1905,1757,10084,1158,null,{"$f":"CK13+CK24","v":586},2346,8093,9354,4193,8403,16652,5334,null,{"$f":"CT13+CT24","v":3652},7010,29081,null,{"$f":"CX13+CX24","v":586},537,533,606,670,634,null,{"$f":"DE13+DE24","v":10583},11571,3150,6411,11841,null,{"$f":"DK13+DK24","v":1262},11967,{"$f":"DM13+DM24","v":4801},4784,{"$f":"DO13+DO24","v":1262},1439,11967,13088,2566,2768]
[null,2,83,null,"MICRORED HUALMAY",{"$f":"SUM(H90:I90)","v":108258},null,53946,{"$f":"L90+N90+P90+R90+T90+V90+X90+Z90+AB90+AD90+AF90+AH90+AJ90+AL90+AN90+AP90+AR90+AT90+AV90+AX90+AZ90+BB90+BD90+BF90+BH90+BJ90+BL90+BN90+BP90+BR90+BT90+BV90+BX90","v":54312},null,{"$f":"K12+K16+K20+K44","v":669},{"$f":"L12+L16+L20+L44","v":635},664,653,664,660,695,701,733,722,752,763,887,917,907,953,914,969,866,934,832,829,870,859,921,887,866,904,816,841,789,857,792,784,780,817,750,767,717,798,3941,4006,4280,4723,3873,4307,3745,4146,3437,3748,3203,3498,2835,2959,2380,2613,1954,2160,1593,1840,1294,1476,932,1123,1192,{"$f":"BX12+BX16+BX20+BX44","v":1463},62,312,304,357,330,1736,0,4320,4023,24428,2742,null,{"$f":"CK12+CK16+CK20+CK44","v":1304},5492,19048,22306,10054,19982,40744,15027,null,{"$f":"CT12+CT16+CT20+CT44","v":8862},16476,72721,null,{"$f":"CX12+CX16+CX20+CX44","v":1304},1317,1324,1396,1455,1515,null,{"$f":"DE12+DE16+DE20+DE44","v":25707},28154,7732,15699,28451,null,{"$f":"DK12+DK16+DK20+DK44","v":3177},29161,{"$f":"DM12+DM16+DM20+DM44","v":11240},11386,{"$f":"DO12+DO16+DO20+DO44","v":3177},3299,29161,31565,6965,8062]
[null,3,84,null,"MICRORED SAYAN",31750,null,15743,16007,null,{"$f":"K50+K30+K76+K87","v":219},{"$f":"L50+L30+L76+L87","v":225},206,234,244,224,230,213,245,219,250,225,255,293,247,312,256,272,263,282,276,225,251,273,266,284,253,297,259,269,254,315,254,291,237,247,260,277,244,256,1146,1330,1265,1401,1141,1288,1116,1184,979,1081,943,963,750,811,669,718,577,552,453,480,366,321,254,270,336,{"$f":"BX50+BX30+BX76+BX87","v":375},24,115,108,104,117,620,0,1348,1386,7247,909,null,{"$f":"CK50+CK30+CK76+CK87","v":444},1815,5939,6906,3226,6179,11643,3984,null,{"$f":"CT50+CT30+CT76+CT87","v":2655},5288,20769,null,{"$f":"CX50+CX30+CX76+CX87","v":444},440,468,443,464,475,null,{"$f":"DE50+DE30+DE76+DE87","v":7440},7998,2081,4516,8633,null,{"$f":"DK50+DK30+DK76+DK87","v":1004},8513,{"$f":"DM50+DM30+DM76+DM87","v":3461},3578,{"$f":"DO50+DO30+DO76+DO87","v":1004},1122,8513,9309,1986,1998]
[null,4,85,null,"MICRORED VEGUETA",31556,null,15809,15747,null,{"$f":"K58","v":262},{"$f":"L58","v":283},256,264,290,300,312,283,272,252,300,265,301,281,302,296,263,296,259,262,260,275,243,284,320,273,287,273,268,237,274,246,249,227,228,254,231,235,219,248,1019,1171,1306,1463,1187,1383,1107,1244,936,1033,800,900,687,753,589,673,466,533,389,399,301,292,226,227,259,{"$f":"BX58","v":342},24,122,119,140,164,758,0,1342,1210,7194,1259,null,{"$f":"CK58","v":545},2229,6661,7023,3136,5892,11292,3434,null,{"$f":"CT58","v":2825},5131,19685,null,{"$f":"CX58","v":545},520,590,595,524,565,null,{"$f":"DE58","v":7078},7982,1959,4560,8404,null,{"$f":"DK58","v":1019},8081,{"$f":"DM58","v":3927},3887,{"$f":"DO58","v":1019},964,8081,9103,1641,1793]
[null,5,86,null,"MICRORED CHURIN - OYON",19873,null,9878,9995,null,{"$f":"K82+K66+K72+K74+K80+K18+K35+K40","v":119},{"$f":"L82+L66+L72+L74+L80+L18+L35+L40","v":116},104,106,111,112,114,125,140,116,143,154,145,152,166,158,145,177,167,175,183,185,182,187,191,221,204,202,172,182,200,212,182,211,181,172,160,164,138,137,658,712,698,759,594,725,625,675,546,529,540,527,511,558,437,472,406,408,339,356,267,280,204,273,301,{"$f":"BX82+BX66+BX72+BX74+BX80+BX18+BX35+BX40","v":457},27,59,60,60,56,313,0,977,896,3927,455,null,{"$f":"CK82+CK66+CK72+CK74+CK80+CK18+CK35+CK40","v":235},928,3482,4649,2330,3426,6739,3291,null,{"$f":"CT82+CT66+CT72+CT74+CT80+CT18+CT35+CT40","v":1582},3666,12857,null,{"$f":"CX82+CX66+CX72+CX74+CX80+CX18+CX35+CX40","v":235},210,223,239,256,297,null,{"$f":"DE82+DE66+DE72+DE74+DE80+DE18+DE35+DE40","v":4357},4653,1438,2456,4823,null,{"$f":"DK82+DK66+DK72+DK74+DK80+DK18+DK35+DK40","v":735},4907,{"$f":"DM82+DM66+DM72+DM74+DM80+DM18+DM35+DM40","v":2114},2186,{"$f":"DO82+DO66+DO72+DO74+DO80+DO18+DO35+DO40","v":735},777,4907,5258,1517,1774]

{"sheet":"etapas y mredes","index":2,"n_rows":24,"n_cols":21,"rows_kept":24,"cut":false,"hidden":false,"merged":[[6,15,6,20],[6,2,6,11],[1,2,5,12]]}
[]
[null,null,"POBLACION ASIGNADA POR DISTRITO SIERRA, HOSPITAL, MICROREDES Y POR ETAPAS DE VIDA 2024"]
[]
[]
[]
[]
[null,null,"DISTRITO",null,null,null,null,null,null,null,null,null,null,null,null,"MICROREDES"]
[null,null,65,67,11,73,59,28,75,33,null,null,null,4,null,82,83,84,85,86]
[null,"POBLACION POR\nETAPAS DE VIDA","Andajes","Caujul","Checras","Naván","Oyón","Paccho","Pachangara","Santa Leonor","Total","PORC. (%)",null,"HOSPITAL HUACHO",null,"HUAURA","HUALMAY","SAYAN","VEGUETA","CHURIN OYON","Total Microredes"]
[75,"Neonatal (0-28dias)",{"$f":"VLOOKUP(C$8,Poblacion!$C$8:$DI$93,$A10,FALSE)","v":0},{"$f":"VLOOKUP(D$8,Poblacion!$C$8:$DI$93,$A10,FALSE)","v":0},{"$f":"VLOOKUP(E$8,Poblacion!$C$8:$DI$93,$A10,FALSE)","v":3},{"$f":"VLOOKUP(F$8,Poblacion!$C$8:$DI$93,$A10,FALSE)","v":1},{"$f":"VLOOKUP(G$8,Poblacion!$C$8:$DI$93,$A10,FALSE)","v":19},{"$f":"VLOOKUP(H$8,Poblacion!$C$8:$DI$93,$A10,FALSE)","v":1},{"$f":"VLOOKUP(I$8,Poblacion!$C$8:$DI$93,$A10,FALSE)","v":2},{"$f":"VLOOKUP(J$8,Poblacion!$C$8:$DI$93,$A10,FALSE)","v":1},{"$f":"+SUM(C10:J10)","v":27},{"$f":"IFERROR((K10/$K$23)*100,0)","v":0.14012871081586048},null,{"$f":"VLOOKUP(N$8,Poblacion!$C$8:$DI$93,$A10,FALSE)","v":28},null,{"$f":"VLOOKUP(P$8,Poblacion!$C$8:$DI$93,$A10,FALSE)","v":40},{"$f":"VLOOKUP(Q$8,Poblacion!$C$8:$DI$93,$A10,FALSE)","v":62},{"$f":"VLOOKUP(R$8,Poblacion!$C$8:$DI$93,$A10,FALSE)","v":24},{"$f":"VLOOKUP(S$8,Poblacion!$C$8:$DI$93,$A10,FALSE)","v":24},{"$f":"VLOOKUP(T$8,Poblacion!$C$8:$DI$93,$A10,FALSE)","v":27},{"$f":"+SUM(P10:T10)","v":177}]
[87,"Infantil (Men.1año)",{"$f":"VLOOKUP(C$8,Poblacion!$C$8:$DI$93,$A11,FALSE)","v":7},{"$f":"VLOOKUP(D$8,Poblacion!$C$8:$DI$93,$A11,FALSE)","v":9},{"$f":"VLOOKUP(E$8,Poblacion!$C$8:$DI$93,$A11,FALSE)","v":8},{"$f":"VLOOKUP(F$8,Poblacion!$C$8:$DI$93,$A11,FALSE)","v":10},{"$f":"VLOOKUP(G$8,Poblacion!$C$8:$DI$93,$A11,FALSE)","v":126},{"$f":"VLOOKUP(H$8,Poblacion!$C$8:$DI$93,$A11,FALSE)","v":10},{"$f":"VLOOKUP(I$8,Poblacion!$C$8:$DI$93,$A11,FALSE)","v":53},{"$f":"VLOOKUP(J$8,Poblacion!$C$8:$DI$93,$A11,FALSE)","v":12},235,1.2196387793232302,null,{"$f":"VLOOKUP(N$8,Poblacion!$C$8:$DI$93,$A11,FALSE)","v":477},null,{"$f":"VLOOKUP(P$8,Poblacion!$C$8:$DI$93,$A11,FALSE)","v":586},{"$f":"VLOOKUP(Q$8,Poblacion!$C$8:$DI$93,$A11,FALSE)","v":1304},{"$f":"VLOOKUP(R$8,Poblacion!$C$8:$DI$93,$A11,FALSE)","v":444},{"$f":"VLOOKUP(S$8,Poblacion!$C$8:$DI$93,$A11,FALSE)","v":545},{"$f":"VLOOKUP(T$8,Poblacion!$C$8:$DI$93,$A11,FALSE)","v":235},3114]
[88,"Pre-escolar (01-04años)",{"$f":"VLOOKUP(C$8,Poblacion!$C$8:$DI$93,$A12,FALSE)","v":31},{"$f":"VLOOKUP(D$8,Poblacion!$C$8:$DI$93,$A12,FALSE)","v":30},{"$f":"VLOOKUP(E$8,Poblacion!$C$8:$DI$93,$A12,FALSE)","v":27},{"$f":"VLOOKUP(F$8,Poblacion!$C$8:$DI$93,$A12,FALSE)","v":36},{"$f":"VLOOKUP(G$8,Poblacion!$C$8:$DI$93,$A12,FALSE)","v":471},{"$f":"VLOOKUP(H$8,Poblacion!$C$8:$DI$93,$A12,FALSE)","v":48},{"$f":"VLOOKUP(I$8,Poblacion!$C$8:$DI$93,$A12,FALSE)","v":233},{"$f":"VLOOKUP(J$8,Poblacion!$C$8:$DI$93,$A12,FALSE)","v":52},928,4.8162756902636499,null,{"$f":"VLOOKUP(N$8,Poblacion!$C$8:$DI$93,$A12,FALSE)","v":2230},null,{"$f":"VLOOKUP(P$8,Poblacion!$C$8:$DI$93,$A12,FALSE)","v":2346},{"$f":"VLOOKUP(Q$8,Poblacion!$C$8:$DI$93,$A12,FALSE)","v":5492},{"$f":"VLOOKUP(R$8,Poblacion!$C$8:$DI$93,$A12,FALSE)","v":1815},{"$f":"VLOOKUP(S$8,Poblacion!$C$8:$DI$93,$A12,FALSE)","v":2229},{"$f":"VLOOKUP(T$8,Poblacion!$C$8:$DI$93,$A12,FALSE)","v":928},12810]
[89,"Niño (0-11años)",{"$f":"VLOOKUP(C$8,Poblacion!$C$8:$DI$93,$A13,FALSE)","v":68},{"$f":"VLOOKUP(D$8,Poblacion!$C$8:$DI$93,$A13,FALSE)","v":77},{"$f":"VLOOKUP(E$8,Poblacion!$C$8:$DI$93,$A13,FALSE)","v":98},{"$f":"VLOOKUP(F$8,Poblacion!$C$8:$DI$93,$A13,FALSE)","v":101},{"$f":"VLOOKUP(G$8,Poblacion!$C$8:$DI$93,$A13,FALSE)","v":2271},{"$f":"VLOOKUP(H$8,Poblacion!$C$8:$DI$93,$A13,FALSE)","v":184},{"$f":"VLOOKUP(I$8,Poblacion!$C$8:$DI$93,$A13,FALSE)","v":536},{"$f":"VLOOKUP(J$8,Poblacion!$C$8:$DI$93,$A13,FALSE)","v":147},3482,18.071413742993563,null,{"$f":"VLOOKUP(N$8,Poblacion!$C$8:$DI$93,$A13,FALSE)","v":8597},null,{"$f":"VLOOKUP(P$8,Poblacion!$C$8:$DI$93,$A13,FALSE)","v":8093},{"$f":"VLOOKUP(Q$8,Poblacion!$C$8:$DI$93,$A13,FALSE)","v":19048},{"$f":"VLOOKUP(R$8,Poblacion!$C$8:$DI$93,$A13,FALSE)","v":5939},{"$f":"VLOOKUP(S$8,Poblacion!$C$8:$DI$93,$A13,FALSE)","v":6661},{"$f":"VLOOKUP(T$8,Poblacion!$C$8:$DI$93,$A13,FALSE)","v":3482},43223]
[90,"Escolar  (05-17años)",{"$f":"VLOOKUP(C$8,Poblacion!$C$8:$DI$93,$A14,FALSE)","v":62},{"$f":"VLOOKUP(D$8,Poblacion!$C$8:$DI$93,$A14,FALSE)","v":77},{"$f":"VLOOKUP(E$8,Poblacion!$C$8:$DI$93,$A14,FALSE)","v":167},{"$f":"VLOOKUP(F$8,Poblacion!$C$8:$DI$93,$A14,FALSE)","v":141},{"$f":"VLOOKUP(G$8,Poblacion!$C$8:$DI$93,$A14,FALSE)","v":3300},{"$f":"VLOOKUP(H$8,Poblacion!$C$8:$DI$93,$A14,FALSE)","v":245},{"$f":"VLOOKUP(I$8,Poblacion!$C$8:$DI$93,$A14,FALSE)","v":487},{"$f":"VLOOKUP(J$8,Poblacion!$C$8:$DI$93,$A14,FALSE)","v":170},4649,24.128088021590202,null,{"$f":"VLOOKUP(N$8,Poblacion!$C$8:$DI$93,$A14,FALSE)","v":10709},null,{"$f":"VLOOKUP(P$8,Poblacion!$C$8:$DI$93,$A14,FALSE)","v":9354},{"$f":"VLOOKUP(Q$8,Poblacion!$C$8:$DI$93,$A14,FALSE)","v":22306},{"$f":"VLOOKUP(R$8,Poblacion!$C$8:$DI$93,$A14,FALSE)","v":6906},{"$f":"VLOOKUP(S$8,Poblacion!$C$8:$DI$93,$A14,FALSE)","v":7023},{"$f":"VLOOKUP(T$8,Poblacion!$C$8:$DI$93,$A14,FALSE)","v":4649},50238]
[91,"Adolescente (12-17años)",{"$f":"VLOOKUP(C$8,Poblacion!$C$8:$DI$93,$A15,FALSE)","v":32},{"$f":"VLOOKUP(D$8,Poblacion!$C$8:$DI$93,$A15,FALSE)","v":39},{"$f":"VLOOKUP(E$8,Poblacion!$C$8:$DI$93,$A15,FALSE)","v":104},{"$f":"VLOOKUP(F$8,Poblacion!$C$8:$DI$93,$A15,FALSE)","v":86},{"$f":"VLOOKUP(G$8,Poblacion!$C$8:$DI$93,$A15,FALSE)","v":1626},{"$f":"VLOOKUP(H$8,Poblacion!$C$8:$DI$93,$A15,FALSE)","v":119},{"$f":"VLOOKUP(I$8,Poblacion!$C$8:$DI$93,$A15,FALSE)","v":237},{"$f":"VLOOKUP(J$8,Poblacion!$C$8:$DI$93,$A15,FALSE)","v":87},2330,12.092588748183516,null,{"$f":"VLOOKUP(N$8,Poblacion!$C$8:$DI$93,$A15,FALSE)","v":4819},null,{"$f":"VLOOKUP(P$8,Poblacion!$C$8:$DI$93,$A15,FALSE)","v":4193},{"$f":"VLOOKUP(Q$8,Poblacion!$C$8:$DI$93,$A15,FALSE)","v":10054},{"$f":"VLOOKUP(R$8,Poblacion!$C$8:$DI$93,$A15,FALSE)","v":3226},{"$f":"VLOOKUP(S$8,Poblacion!$C$8:$DI$93,$A15,FALSE)","v":3136},{"$f":"VLOOKUP(T$8,Poblacion!$C$8:$DI$93,$A15,FALSE)","v":2330},22939]
[92,"Adulto Joven (18-29años)",{"$f":"VLOOKUP(C$8,Poblacion!$C$8:$DI$93,$A16,FALSE)","v":33},{"$f":"VLOOKUP(D$8,Poblacion!$C$8:$DI$93,$A16,FALSE)","v":75},{"$f":"VLOOKUP(E$8,Poblacion!$C$8:$DI$93,$A16,FALSE)","v":129},{"$f":"VLOOKUP(F$8,Poblacion!$C$8:$DI$93,$A16,FALSE)","v":108},{"$f":"VLOOKUP(G$8,Poblacion!$C$8:$DI$93,$A16,FALSE)","v":2316},{"$f":"VLOOKUP(H$8,Poblacion!$C$8:$DI$93,$A16,FALSE)","v":216},{"$f":"VLOOKUP(I$8,Poblacion!$C$8:$DI$93,$A16,FALSE)","v":398},{"$f":"VLOOKUP(J$8,Poblacion!$C$8:$DI$93,$A16,FALSE)","v":151},3426,17.780776416856963,null,{"$f":"VLOOKUP(N$8,Poblacion!$C$8:$DI$93,$A16,FALSE)","v":9572},null,{"$f":"VLOOKUP(P$8,Poblacion!$C$8:$DI$93,$A16,FALSE)","v":8403},{"$f":"VLOOKUP(Q$8,Poblacion!$C$8:$DI$93,$A16,FALSE)","v":19982},{"$f":"VLOOKUP(R$8,Poblacion!$C$8:$DI$93,$A16,FALSE)","v":6179},{"$f":"VLOOKUP(S$8,Poblacion!$C$8:$DI$93,$A16,FALSE)","v":5892},{"$f":"VLOOKUP(T$8,Poblacion!$C$8:$DI$93,$A16,FALSE)","v":3426},43882]
[93,"Adulto    (30-59años)",{"$f":"VLOOKUP(C$8,Poblacion!$C$8:$DI$93,$A17,FALSE)","v":112},{"$f":"VLOOKUP(D$8,Poblacion!$C$8:$DI$93,$A17,FALSE)","v":154},{"$f":"VLOOKUP(E$8,Poblacion!$C$8:$DI$93,$A17,FALSE)","v":277},{"$f":"VLOOKUP(F$8,Poblacion!$C$8:$DI$93,$A17,FALSE)","v":306},{"$f":"VLOOKUP(G$8,Poblacion!$C$8:$DI$93,$A17,FALSE)","v":4161},{"$f":"VLOOKUP(H$8,Poblacion!$C$8:$DI$93,$A17,FALSE)","v":542},{"$f":"VLOOKUP(I$8,Poblacion!$C$8:$DI$93,$A17,FALSE)","v":837},{"$f":"VLOOKUP(J$8,Poblacion!$C$8:$DI$93,$A17,FALSE)","v":350},6739,34.975088229188287,null,{"$f":"VLOOKUP(N$8,Poblacion!$C$8:$DI$93,$A17,FALSE)","v":21704},null,{"$f":"VLOOKUP(P$8,Poblacion!$C$8:$DI$93,$A17,FALSE)","v":16652},{"$f":"VLOOKUP(Q$8,Poblacion!$C$8:$DI$93,$A17,FALSE)","v":40744},{"$f":"VLOOKUP(R$8,Poblacion!$C$8:$DI$93,$A17,FALSE)","v":11643},{"$f":"VLOOKUP(S$8,Poblacion!$C$8:$DI$93,$A17,FALSE)","v":11292},{"$f":"VLOOKUP(T$8,Poblacion!$C$8:$DI$93,$A17,FALSE)","v":6739},87070]
[94,"Adu.Mayor (60 a MAS)",{"$f":"VLOOKUP(C$8,Poblacion!$C$8:$DI$93,$A18,FALSE)","v":184},{"$f":"VLOOKUP(D$8,Poblacion!$C$8:$DI$93,$A18,FALSE)","v":106},{"$f":"VLOOKUP(E$8,Poblacion!$C$8:$DI$93,$A18,FALSE)","v":288},{"$f":"VLOOKUP(F$8,Poblacion!$C$8:$DI$93,$A18,FALSE)","v":175},{"$f":"VLOOKUP(G$8,Poblacion!$C$8:$DI$93,$A18,FALSE)","v":1375},{"$f":"VLOOKUP(H$8,Poblacion!$C$8:$DI$93,$A18,FALSE)","v":455},{"$f":"VLOOKUP(I$8,Poblacion!$C$8:$DI$93,$A18,FALSE)","v":447},{"$f":"VLOOKUP(J$8,Poblacion!$C$8:$DI$93,$A18,FALSE)","v":261},3291,17.08013286277766,null,{"$f":"VLOOKUP(N$8,Poblacion!$C$8:$DI$93,$A18,FALSE)","v":9369},null,{"$f":"VLOOKUP(P$8,Poblacion!$C$8:$DI$93,$A18,FALSE)","v":5334},{"$f":"VLOOKUP(Q$8,Poblacion!$C$8:$DI$93,$A18,FALSE)","v":15027},{"$f":"VLOOKUP(R$8,Poblacion!$C$8:$DI$93,$A18,FALSE)","v":3984},{"$f":"VLOOKUP(S$8,Poblacion!$C$8:$DI$93,$A18,FALSE)","v":3434},{"$f":"VLOOKUP(T$8,Poblacion!$C$8:$DI$93,$A18,FALSE)","v":3291},31070]
[113,"Población Hombres Adolescentes  (14 -17 años)",{"$f":"VLOOKUP(C$8,Poblacion!$C$8:$DL$93,$A19,FALSE)","v":9},{"$f":"VLOOKUP(D$8,Poblacion!$C$8:$DL$93,$A19,FALSE)","v":12},{"$f":"VLOOKUP(E$8,Poblacion!$C$8:$DL$93,$A19,FALSE)","v":40},{"$f":"VLOOKUP(F$8,Poblacion!$C$8:$DL$93,$A19,FALSE)","v":19},{"$f":"VLOOKUP(G$8,Poblacion!$C$8:$DL$93,$A19,FALSE)","v":511},{"$f":"VLOOKUP(H$8,Poblacion!$C$8:$DL$93,$A19,FALSE)","v":45},{"$f":"VLOOKUP(I$8,Poblacion!$C$8:$DL$93,$A19,FALSE)","v":69},{"$f":"VLOOKUP(J$8,Poblacion!$C$8:$DL$93,$A19,FALSE)","v":30},735,{"$f":"IFERROR((K19/$K$23)*100,0)","v":3.8146149055428689},null,{"$f":"VLOOKUP(N$8,Poblacion!$C$8:$DL$93,$A19,FALSE)","v":1544},null,{"$f":"VLOOKUP(P$8,Poblacion!$C$8:$DL$93,$A19,FALSE)","v":1262},{"$f":"VLOOKUP(Q$8,Poblacion!$C$8:$DL$93,$A19,FALSE)","v":3177},{"$f":"VLOOKUP(R$8,Poblacion!$C$8:$DL$93,$A19,FALSE)","v":1004},{"$f":"VLOOKUP(S$8,Poblacion!$C$8:$DL$93,$A19,FALSE)","v":1019},{"$f":"VLOOKUP(T$8,Poblacion!$C$8:$DL$93,$A19,FALSE)","v":735},7197]
[114,"Población Hombres (18 - 59 años)",{"$f":"VLOOKUP(C$8,Poblacion!$C$8:$DL$93,$A20,FALSE)","v":79},{"$f":"VLOOKUP(D$8,Poblacion!$C$8:$DL$93,$A20,FALSE)","v":107},{"$f":"VLOOKUP(E$8,Poblacion!$C$8:$DL$93,$A20,FALSE)","v":201},{"$f":"VLOOKUP(F$8,Poblacion!$C$8:$DL$93,$A20,FALSE)","v":203},{"$f":"VLOOKUP(G$8,Poblacion!$C$8:$DL$93,$A20,FALSE)","v":3112},{"$f":"VLOOKUP(H$8,Poblacion!$C$8:$DL$93,$A20,FALSE)","v":366},{"$f":"VLOOKUP(I$8,Poblacion!$C$8:$DL$93,$A20,FALSE)","v":594},{"$f":"VLOOKUP(J$8,Poblacion!$C$8:$DL$93,$A20,FALSE)","v":245},4907,25.467095702719533,null,{"$f":"VLOOKUP(N$8,Poblacion!$C$8:$DL$93,$A20,FALSE)","v":15040},null,{"$f":"VLOOKUP(P$8,Poblacion!$C$8:$DL$93,$A20,FALSE)","v":11967},{"$f":"VLOOKUP(Q$8,Poblacion!$C$8:$DL$93,$A20,FALSE)","v":29161},{"$f":"VLOOKUP(R$8,Poblacion!$C$8:$DL$93,$A20,FALSE)","v":8513},{"$f":"VLOOKUP(S$8,Poblacion!$C$8:$DL$93,$A20,FALSE)","v":8081},{"$f":"VLOOKUP(T$8,Poblacion!$C$8:$DL$93,$A20,FALSE)","v":4907},62629]
[85,"Gestantes",{"$f":"VLOOKUP(C$8,Poblacion!$C$8:$DI$93,$A21,FALSE)","v":8},{"$f":"VLOOKUP(D$8,Poblacion!$C$8:$DI$93,$A21,FALSE)","v":15},{"$f":"VLOOKUP(E$8,Poblacion!$C$8:$DI$93,$A21,FALSE)","v":24},{"$f":"VLOOKUP(F$8,Poblacion!$C$8:$DI$93,$A21,FALSE)","v":15},{"$f":"VLOOKUP(G$8,Poblacion!$C$8:$DI$93,$A21,FALSE)","v":230},{"$f":"VLOOKUP(H$8,Poblacion!$C$8:$DI$93,$A21,FALSE)","v":23},{"$f":"VLOOKUP(I$8,Poblacion!$C$8:$DI$93,$A21,FALSE)","v":119},{"$f":"VLOOKUP(J$8,Poblacion!$C$8:$DI$93,$A21,FALSE)","v":21},455,2.3614282748598714,null,{"$f":"VLOOKUP(N$8,Poblacion!$C$8:$DI$93,$A21,FALSE)","v":1068},null,{"$f":"VLOOKUP(P$8,Poblacion!$C$8:$DI$93,$A21,FALSE)","v":1158},{"$f":"VLOOKUP(Q$8,Poblacion!$C$8:$DI$93,$A21,FALSE)","v":2742},{"$f":"VLOOKUP(R$8,Poblacion!$C$8:$DI$93,$A21,FALSE)","v":909},{"$f":"VLOOKUP(S$8,Poblacion!$C$8:$DI$93,$A21,FALSE)","v":1259},{"$f":"VLOOKUP(T$8,Poblacion!$C$8:$DI$93,$A21,FALSE)","v":455},6523]
[111,"Mujeres en Edad Fertil (MEF)",{"$f":"VLOOKUP(C$8,Poblacion!$C$8:$DI$93,$A22,FALSE)","v":53},{"$f":"VLOOKUP(D$8,Poblacion!$C$8:$DI$93,$A22,FALSE)","v":106},{"$f":"VLOOKUP(E$8,Poblacion!$C$8:$DI$93,$A22,FALSE)","v":171},{"$f":"VLOOKUP(F$8,Poblacion!$C$8:$DI$93,$A22,FALSE)","v":191},{"$f":"VLOOKUP(G$8,Poblacion!$C$8:$DI$93,$A22,FALSE)","v":3210},{"$f":"VLOOKUP(H$8,Poblacion!$C$8:$DI$93,$A22,FALSE)","v":307},{"$f":"VLOOKUP(I$8,Poblacion!$C$8:$DI$93,$A22,FALSE)","v":564},{"$f":"VLOOKUP(J$8,Poblacion!$C$8:$DI$93,$A22,FALSE)","v":221},4823,25.031139713514634,null,{"$f":"VLOOKUP(N$8,Poblacion!$C$8:$DI$93,$A22,FALSE)","v":14132},null,{"$f":"VLOOKUP(P$8,Poblacion!$C$8:$DI$93,$A22,FALSE)","v":11841},{"$f":"VLOOKUP(Q$8,Poblacion!$C$8:$DI$93,$A22,FALSE)","v":28451},{"$f":"VLOOKUP(R$8,Poblacion!$C$8:$DI$93,$A22,FALSE)","v":8633},{"$f":"VLOOKUP(S$8,Poblacion!$C$8:$DI$93,$A22,FALSE)","v":8404},{"$f":"VLOOKUP(T$8,Poblacion!$C$8:$DI$93,$A22,FALSE)","v":4823},62152]
[null," TOTAL",{"$f":"+SUM(C10:C21)","v":625},701,1366,1201,19518,2254,4012,1527,{"$f":"K13+K15+K16+K17+K18","v":19268},100,null,{"$f":"N13+N15+N16+N17+N18","v":54061},null,{"$f":"P13+P15+P16+P17+P18","v":42675},104855,30971,30415,19268,228184]
[null,{"$f":"Interfaz!$C$22","v":"Elaboración: Área de Estadística - RIS Huaura Oyón."}]

{"sheet":"Etapas de Vida","index":3,"n_rows":34,"n_cols":6,"rows_kept":34,"cut":false,"hidden":false,"merged":[[1,2,1,4],[39,0,39,14]]}
[]
[]
[]
[]
[86]
[true]
[]
[13]
[]
[]
[null,null,"POBLACIÓN POR CICLO Y \n ETAPAS DE VIDA","PROP. (%)","Nº"]
[75,"Neonatal","Neonatal   (0 - 28dias)",{"$f":"IFERROR((E12/$E$24)*100,0)","v":5.668833814593704E-3},{"$f":"VLOOKUP($A$8,Poblacion!$C$8:$DI$93,$A12,FALSE)","v":16}]
[87,"Infantil","Infantil   (< 1 año)",0.13817782423072153,{"$f":"VLOOKUP($A$8,Poblacion!$C$8:$DI$93,$A13,FALSE)","v":390}]
[88,"Pre-escolar","Pre-escolar   (1 a 4 años)",0.53712200393275344,{"$f":"VLOOKUP($A$8,Poblacion!$C$8:$DI$93,$A14,FALSE)","v":1516}]
[89,"Niños","Niños   (5 - 9 años)",1.9578734787153007,{"$f":"VLOOKUP($A$8,Poblacion!$C$8:$DI$93,$A15,FALSE)","v":5526}]
[90,"Escolar","Escolar   (5 - 17 años)",2.3288277914577762,{"$f":"VLOOKUP($A$8,Poblacion!$C$8:$DI$93,$A16,FALSE)","v":6573}]
[97,"Adolescentes","Adolescentes   (10 - 19 años)",1.7084447908731777,{"$f":"VLOOKUP($A$8,Poblacion!$C$8:$DI$93,$A17,FALSE)","v":4822}]
[98,"Adulto","Adulto   (20 - 59 años)",7.6026147495969809,{"$f":"VLOOKUP($A$8,Poblacion!$C$8:$DI$93,$A18,FALSE)","v":21458}]
[94,"Adul. Mayor","Adul. Mayor   (60 a Más)",1.4909032932381443,{"$f":"VLOOKUP($A$8,Poblacion!$C$8:$DI$93,$A19,FALSE)","v":4208}]
[85,"Gestantes  ","Gestantes  ",0.23631950964587506,{"$f":"VLOOKUP($A$8,Poblacion!$C$8:$DI$93,$A20,FALSE)","v":667}]
[111,"M.E.F","M.E.F",3.0058991301883116,{"$f":"VLOOKUP($A$8,Poblacion!$C$8:$DL$93,$A21,FALSE)","v":8484}]
[113,"(14 -17 años)","Población Hombres Adolescentes  (14 -17 años)",0.32170631897819274,{"$f":"VLOOKUP($A$8,Poblacion!$C$8:$DL$93,$A22,FALSE)","v":908},{"$f":"D22","v":0.32170631897819274}]
[114,"(18 - 59 años)","Población Hombres (18 - 59 años)",3.1040408156034651,{"$f":"VLOOKUP($A$8,Poblacion!$C$8:$DL$93,$A23,FALSE)","v":8761},{"$f":"D23","v":3.1040408156034651}]
[null,null," TOTAL",100,{"$f":"Poblacion!F8","v":282245}]
[null,null,{"$f":"C34","v":"Elaboración: Área de Estadística - RIS Huaura Oyón."}]
[]
[null,null,"POBLACIÓN POR  \nETAPAS DE VIDA ACTUALES","PROP. (%)","Nº"]
[89,"Niños","Niños   (0 - 11 años)",{"$f":"IFERROR((E28/$E$33)*100,0)","v":17.924099902692184},{"$f":"VLOOKUP($A$8,Poblacion!$C$8:$DI$93,$A28,FALSE)","v":5526}]
[91,"Adolescente","Adolescente   (12 - 17 años)",9.5783327927343489,{"$f":"VLOOKUP($A$8,Poblacion!$C$8:$DI$93,$A29,FALSE)","v":2953}]
[92,"Adulto Joven","Adulto Joven   (18 - 29 años)",19.228024651313653,{"$f":"VLOOKUP($A$8,Poblacion!$C$8:$DI$93,$A30,FALSE)","v":5928}]
[93,"Adulto","Adulto   (30 - 59 años)",39.620499513460913,{"$f":"VLOOKUP($A$8,Poblacion!$C$8:$DI$93,$A31,FALSE)","v":12215}]
[94,"Adulto Mayor","Adulto Mayor   (60 a Más)",13.649043139798897,{"$f":"VLOOKUP($A$8,Poblacion!$C$8:$DI$93,$A32,FALSE)","v":4208}]
[null,null,"TOTAL",100,{"$f":"+SUM(E28:$E$32)","v":30830}]
[null,null,{"$f":"'etapas y mredes'!B24","v":"Elaboración: Área de Estadística - RIS Huaura Oyón."}]

{"sheet":"Piramide Poblacional","index":4,"n_rows":154,"n_cols":164,"rows_kept":154,"cut":false,"hidden":false,"merged":[[44,3,46,18],[29,44,29,46],[29,48,29,50],[10,90,10,91],[10,92,10,93],[10,94,10,95],[10,96,10,97],[129,144,129,145],[129,146,129,147],[129,117,129,118],[129,119,129,120],[129,121,129,122],[129,123,129,124],[129,125,129,126],[129,130,129,131],[129,105,129,106],[129,107,129,108],[129,109,129,110],[129,111,129,112],[129,113,129,114],[129,115,129,116],[128,91,130,91],[128,93,128,126],[128,128,130,128],[128,130,128,163],[129,93,129,94],[129,95,129,96],[129,97,129,98],[129,99,129,100],[129,101,129,102],[129,103,129,104],[129,156,129,157],[129,158,129,159],[129,160,129,161],[129,162,129,163],[129,148,129,149],[129,150,129,151],[129,152,129,153],[129,154,129,155],[129,132,129,133],[129,134,129,135],[129,136,129,137],[129,138,129,139],[129,140,129,141],[129,142,129,143],[118,17,118,18],[118,22,118,23],[118,27,118,28],[118,32,118,33],[118,37,118,38],[119,17,119,18],[119,22,119,23],[119,27,119,28],[119,32,119,33],[119,37,119,38],[116,17,116,18],[116,22,116,23],[116,27,116,28],[116,32,116,33],[116,37,116,38],[117,17,117,18],[117,22,117,23],[117,27,117,28],[117,32,117,33],[117,37,117,38],[114,17,114,18],[114,22,114,23],[114,27,114,28],[114,32,114,33],[114,37,114,38],[115,17,115,18],[115,22,115,23],[115,27,115,28],[115,32,115,33],[115,37,115,38],[112,17,112,18],[112,22,112,23],[112,27,112,28],[112,32,112,33],[112,37,112,38],[113,17,113,18],[113,22,113,23],[113,27,113,28],[113,32,113,33],[113,37,113,38],[110,17,110,18],[110,22,110,23],[110,27,110,28],[110,32,110,33],[110,37,110,38],[111,17,111,18],[111,22,111,23],[111,27,111,28],[111,32,111,33],[111,37,111,38],[108,17,108,18],[108,22,108,23],[108,27,108,28],[108,32,108,33],[108,37,108,38],[109,17,109,18],[109,22,109,23],[109,27,109,28],[109,32,109,33],[109,37,109,38],[106,17,106,18],[106,22,106,23],[106,27,106,28],[106,32,106,33],[106,37,106,38],[107,17,107,18],[107,22,107,23],[107,27,107,28],[107,32,107,33],[107,37,107,38],[104,17,104,18],[104,22,104,23],[104,27,104,28],[104,32,104,33],[104,37,104,38],[105,17,105,18],[105,22,105,23],[105,27,105,28],[105,32,105,33],[105,37,105,38],[102,32,102,33],[102,37,102,38],[102,42,102,43],[103,17,103,18],[103,22,103,23],[103,27,103,28],[103,32,103,33],[103,37,103,38],[101,152,101,153],[101,129,102,129],[101,130,101,131],[101,132,101,133],[101,134,101,135],[101,136,101,137],[101,138,101,139],[101,115,101,116],[101,117,101,118],[101,119,101,120],[101,121,101,122],[101,123,101,124],[101,125,101,126],[101,103,101,104],[101,105,101,106],[101,107,101,108],[101,154,101,155],[101,156,101,157],[101,158,101,159],[101,160,101,161],[101,162,101,163],[101,140,101,141],[101,142,101,143],[101,144,101,145],[101,146,101,147],[101,148,101,149],[101,150,101,151],[100,91,102,91],[100,92,100,126],[101,78,101,79],[101,80,101,81],[101,82,101,83],[101,84,101,85],[101,86,101,87],[101,88,101,89],[101,66,101,67],[101,68,101,69],[101,70,101,71],[101,72,101,73],[101,74,101,75],[101,76,101,77],[101,109,101,110],[101,111,101,112],[101,113,101,114],[101,92,102,92],[101,93,101,94],[101,95,101,96],[101,97,101,98],[101,99,101,100],[101,101,101,102],[100,128,102,128],[100,129,100,163],[101,17,101,18],[101,22,101,23],[101,27,101,28],[101,32,101,33],[101,37,101,38],[100,17,100,20],[100,22,100,25],[100,27,100,30],[100,32,100,35],[100,37,100,40],[100,54,102,54],[101,42,101,43],[102,17,102,18],[102,22,102,23],[102,27,102,28],[101,55,102,55],[101,56,101,57],[101,58,101,59],[101,60,101,61],[101,62,101,63],[101,64,101,65],[100,55,100,89],[10,55,11,55],[10,56,10,57],[10,58,10,59],[10,60,10,61],[10,62,10,63],[10,64,10,65],[4,4,4,7],[4,11,4,13],[9,44,9,46],[9,48,9,50],[9,55,9,89],[10,78,10,79],[10,80,10,81],[10,82,10,83],[10,84,10,85],[10,86,10,87],[10,88,10,89],[10,66,10,67],[10,68,10,69],[10,70,10,71],[10,72,10,73],[10,74,10,75],[10,76,10,77]]}
[]
[null,null,null,null,null,null,null,null,{"$f":"CONCATENATE(\"PIRAMIDE POBLACIONAL 2024\")","v":"PIRAMIDE POBLACIONAL 2024"},null,null,null,null,null,null,null,null,null,null,{"$f":"UPPER(\"Piramide Poblacional 2024 - \" &$B$10)","v":"PIRAMIDE POBLACIONAL 2024 - HUAURA - OYON"}]
[]
[]
[null,null,null,null,"ESTABLECIMIENTOS",null,null,null,null,null,null,null,null,null,null,null,null,null,null,null,null,null,null,null,null,null,null,null,null,null,null,null,null,null,null,null,null,null,null,null,null,null,null,null,null,null,null,null,null,"M","F"]
[]
[87,null,null,null,null,null,null,null,null,null,null,null,null,null,null,null,null,null,null,null,null,null,null,null,null,null,null,null,null,null,null,null,null,null,null,null,null,null,null,null,null,null,null,null,null,null,null,null,null,{"$f":"AX8/SUM($AX$8:$AY$8)","v":0.4821307729100604},{"$f":"AY8/SUM($AX$8:$AY$8)","v":0.51786922708993954}]
[null,null,null,null,null,null,null,null,null,null,null,null,null,null,null,null,null,null,null,null,null,null,null,null,null,null,null,null,null,null,null,null,null,null,null,null,null,null,null,null,null,null,null,null,null,null,null,null,null,{"$f":"SUM(AX12:AX28)","v":136079},{"$f":"SUM(AY12:AY28)","v":146166},null,null,1,2,3,4,5,6,7,8,9,10,11,12,13,14,15,16,17,18,19,20,21,22,23,24,25,26,27,28,29,30,31,32,33,34,35,36,37,38,39,40,41,42,43,44,45]
[]
[1,{"$f":"VLOOKUP($A$10,$BB$13:$BC$99,2,FALSE)","v":"HUAURA - OYON"},null,null,null,null,null,null,null,null,null,null,null,null,null,null,null,null,null,null,null,null,null,null,null,null,null,null,null,null,null,null,null,null,null,null,null,null,null,null,null,null,null,null,"DATOS PIRAMIDE",null,null,null,"DATOS PIRAMIDE",null,null,null,null,"N°","DIRECCION DE SALUD","GRUPOS DE EDADES  - PIRAMIDE"]
[null,null,null,null,null,null,null,null,null,null,null,null,null,null,null,null,null,null,null,null,null,null,null,null,null,null,null,null,null,null,null,null,null,null,null,null,null,null,null,null,null,null,null,null,"DESCRIPCION","M","F",null,"DESCRIPCION","M","F",null,"Microredes",null,"PROVINCIA","TOTAL","Menor de 5 años",null,"5 - 9",null,"10 - 14",null,"15 - 19",null,"20 - 24",null,"25 - 29",null,"30 - 34",null,"35 - 39",null,"40 - 44",null,"45 - 49",null,"50 - 54",null,"55 - 59",null,"60 - 64",null,"65 - 69",null,"70 - 74",null,"75 - 79",null,"80 +++",null,"0 - 13",null,"14 - 17",null,"18 - 59",null,"60++++"]
[null,null,null,null,null,null,null,null,null,null,null,null,null,null,null,null,null,null,null,null,null,null,null,null,null,null,null,null,null,null,null,null,null,null,null,null,null,null,null,null,null,null,null,null,"MENORES DE 5 AÑOS",{"$f":"AX12","v":9417},{"$f":"-AY12","v":-9214},null,"MENORES DE 5 AÑOS",{"$f":"+LOOKUP($A$10,numeropiramide,BE13:BE99)","v":9417},{"$f":"+LOOKUP($A$10,numeropiramide,BF13:BF99)","v":9214},null,null,null,"DISTRITO",null,"M","F","M","F","M","F","M","F","M","F","M","F","M","F","M","F","M","F","M","F","M","F","M","F","M","F","M","F","M","F","M","F","M","F","M","F","M","F","M","F","M","F"]
[null,null,null,null,null,null,null,null,null,null,null,null,null,null,null,null,null,null,null,null,null,null,null,null,null,null,null,null,null,null,null,null,null,null,null,null,null,null,null,null,null,null,null,null,"DE 5 A 9 AÑOS",{"$f":"AX13","v":11740},{"$f":"-AY13","v":-12058},null,"DE 5 A 9 AÑOS",{"$f":"+LOOKUP($A$10,numeropiramide,BG13:BG99)","v":11740},{"$f":"+LOOKUP($A$10,numeropiramide,BH13:BH99)","v":12058},null,null,1,"HUAURA - OYON",{"$f":"Poblacion!F8","v":282245},{"$f":"+SUM(Poblacion!K8,Poblacion!M8,Poblacion!O8,Poblacion!Q8,Poblacion!S8)","v":9417},{"$f":"+SUM(Poblacion!L8,Poblacion!N8,Poblacion!P8,Poblacion!R8,Poblacion!T8)","v":9214},{"$f":"SUM(Poblacion!U8,Poblacion!W8,Poblacion!Y8,Poblacion!AA8,Poblacion!AC8)","v":11740},{"$f":"SUM(Poblacion!V8,Poblacion!X8,Poblacion!Z8,Poblacion!AB8,Poblacion!AD8)","v":12058},{"$f":"+SUM(Poblacion!AE8,Poblacion!AG8,Poblacion!AI8,Poblacion!AK8,Poblacion!AM8)","v":11781},{"$f":"+SUM(Poblacion!AF8,Poblacion!AH8,Poblacion!AJ8,Poblacion!AL8,Poblacion!AN8)","v":11952},{"$f":"+SUM(Poblacion!AO8,Poblacion!AQ8,Poblacion!AS8,Poblacion!AU8,Poblacion!AW8)","v":10631},{"$f":"+SUM(Poblacion!AP8,Poblacion!AR8,Poblacion!AT8,Poblacion!AV8,Poblacion!AX8)","v":11215},{"$f":"Poblacion!AY8","v":10163},{"$f":"Poblacion!AZ8","v":10755},{"$f":"Poblacion!BA8","v":11460},{"$f":"Poblacion!BB8","v":12646},{"$f":"Poblacion!BC8","v":10442},{"$f":"Poblacion!BD8","v":11647},{"$f":"Poblacion!BE8","v":10023},{"$f":"Poblacion!BF8","v":10979},{"$f":"Poblacion!BG8","v":9181},{"$f":"Poblacion!BH8","v":9858},{"$f":"Poblacion!BI8","v":8430},{"$f":"Poblacion!BJ8","v":9184},{"$f":"Poblacion!BK8","v":7433},{"$f":"Poblacion!BL8","v":8087},{"$f":"Poblacion!BM8","v":6413},{"$f":"Poblacion!BN8","v":7097},{"$f":"Poblacion!BO8","v":5390},{"$f":"Poblacion!BP8","v":5833},{"$f":"Poblacion!BQ8","v":4382},{"$f":"Poblacion!BR8","v":4867},{"$f":"Poblacion!BS8","v":3450},{"$f":"Poblacion!BT8","v":3769},{"$f":"Poblacion!BU8","v":2489},{"$f":"Poblacion!BV8","v":2872},{"$f":"Poblacion!BW8","v":3254},{"$f":"Poblacion!BX8","v":4133},{"$f":"Poblacion!DM8","v":30704},{"$f":"Poblacion!DN8","v":30940},{"$f":"Poblacion!DO8","v":8741},{"$f":"Poblacion!DP8","v":9193},{"$f":"Poblacion!DQ8","v":77669},{"$f":"Poblacion!DR8","v":84559},{"$f":"Poblacion!DS8","v":18965},{"$f":"Poblacion!DT8","v":21474}]
[null,null,null,null,null,null,null,null,null,null,null,null,null,null,null,null,null,null,null,null,null,null,null,null,null,null,null,null,null,null,null,null,null,null,null,null,null,null,null,null,null,null,null,null,"DE 10 A 14 AÑOS",11781,-11952,null,"DE 10 A 14 AÑOS",{"$f":"+LOOKUP($A$10,numeropiramide,BI13:BI99)","v":11781},{"$f":"+LOOKUP($A$10,numeropiramide,BJ13:BJ99)","v":11952},null,null,2,"PROVINCIA HUAURA",{"$f":"Poblacion!F9","v":264367},{"$f":"+SUM(Poblacion!K9,Poblacion!M9,Poblacion!O9,Poblacion!Q9,Poblacion!S9)","v":8847},{"$f":"+SUM(Poblacion!L9,Poblacion!N9,Poblacion!P9,Poblacion!R9,Poblacion!T9)","v":8637},{"$f":"SUM(Poblacion!U9,Poblacion!W9,Poblacion!Y9,Poblacion!AA9,Poblacion!AC9)","v":11012},{"$f":"SUM(Poblacion!V9,Poblacion!X9,Poblacion!Z9,Poblacion!AB9,Poblacion!AD9)","v":11270},{"$f":"+SUM(Poblacion!AE9,Poblacion!AG9,Poblacion!AI9,Poblacion!AK9,Poblacion!AM9)","v":10887},{"$f":"+SUM(Poblacion!AF9,Poblacion!AH9,Poblacion!AJ9,Poblacion!AL9,Poblacion!AN9)","v":10996},{"$f":"+SUM(Poblacion!AO9,Poblacion!AQ9,Poblacion!AS9,Poblacion!AU9,Poblacion!AW9)","v":9805},{"$f":"+SUM(Poblacion!AP9,Poblacion!AR9,Poblacion!AT9,Poblacion!AV9,Poblacion!AX9)","v":10334},{"$f":"Poblacion!AY9","v":9506},{"$f":"Poblacion!AZ9","v":10064},{"$f":"Poblacion!BA9","v":10788},{"$f":"Poblacion!BB9","v":11919},{"$f":"Poblacion!BC9","v":9851},{"$f":"Poblacion!BD9","v":10958},{"$f":"Poblacion!BE9","v":9432},{"$f":"Poblacion!BF9","v":10325},{"$f":"Poblacion!BG9","v":8677},{"$f":"Poblacion!BH9","v":9361},{"$f":"Poblacion!BI9","v":7922},{"$f":"Poblacion!BJ9","v":8685},{"$f":"Poblacion!BK9","v":6975},{"$f":"Poblacion!BL9","v":7600},{"$f":"Poblacion!BM9","v":6030},{"$f":"Poblacion!BN9","v":6675},{"$f":"Poblacion!BO9","v":5039},{"$f":"Poblacion!BP9","v":5475},{"$f":"Poblacion!BQ9","v":4108},{"$f":"Poblacion!BR9","v":4576},{"$f":"Poblacion!BS9","v":3229},{"$f":"Poblacion!BT9","v":3540},{"$f":"Poblacion!BU9","v":2336},{"$f":"Poblacion!BV9","v":2672},{"$f":"Poblacion!BW9","v":3040},{"$f":"Poblacion!BX9","v":3796},{"$f":"Poblacion!DM9","v":28673},{"$f":"Poblacion!DN9","v":28798},{"$f":"Poblacion!DO9","v":8051},{"$f":"Poblacion!DP9","v":8430},{"$f":"Poblacion!DQ9","v":73008},{"$f":"Poblacion!DR9","v":79596},{"$f":"Poblacion!DS9","v":17752},{"$f":"Poblacion!DT9","v":20059}]
[18,{"$f":"VLOOKUP($A$15,$BB$104:$BC$126,2,FALSE)","v":"DISTRITO CAUJUL"},null,null,null,null,null,null,null,null,null,null,null,null,null,null,null,null,null,null,null,null,null,null,null,null,null,null,null,null,null,null,null,null,null,null,null,null,null,null,null,null,null,null,"DE 15 A 19 AÑOS",10631,-11215,null,"DE 15 A 19 AÑOS",{"$f":"+LOOKUP($A$10,numeropiramide,BK13:BK99)","v":10631},{"$f":"+LOOKUP($A$10,numeropiramide,BL13:BL99)","v":11215},null,null,3,"DISTRITO HUACHO",{"$f":"Poblacion!F10","v":75089},{"$f":"+SUM(Poblacion!K10,Poblacion!M10,Poblacion!O10,Poblacion!Q10,Poblacion!S10)","v":1912},{"$f":"+SUM(Poblacion!L10,Poblacion!N10,Poblacion!P10,Poblacion!R10,Poblacion!T10)","v":1848},{"$f":"SUM(Poblacion!U10,Poblacion!W10,Poblacion!Y10,Poblacion!AA10,Poblacion!AC10)","v":2917},{"$f":"SUM(Poblacion!V10,Poblacion!X10,Poblacion!Z10,Poblacion!AB10,Poblacion!AD10)","v":2948},{"$f":"+SUM(Poblacion!AE10,Poblacion!AG10,Poblacion!AI10,Poblacion!AK10,Poblacion!AM10)","v":2873},{"$f":"+SUM(Poblacion!AF10,Poblacion!AH10,Poblacion!AJ10,Poblacion!AL10,Poblacion!AN10)","v":2861},{"$f":"+SUM(Poblacion!AO10,Poblacion!AQ10,Poblacion!AS10,Poblacion!AU10,Poblacion!AW10)","v":2692},{"$f":"+SUM(Poblacion!AP10,Poblacion!AR10,Poblacion!AT10,Poblacion!AV10,Poblacion!AX10)","v":2698},{"$f":"Poblacion!AY10","v":2578},{"$f":"Poblacion!AZ10","v":2601},{"$f":"Poblacion!BA10","v":2822},{"$f":"Poblacion!BB10","v":3181},{"$f":"Poblacion!BC10","v":2646},{"$f":"Poblacion!BD10","v":2968},{"$f":"Poblacion!BE10","v":2669},{"$f":"Poblacion!BF10","v":2826},{"$f":"Poblacion!BG10","v":2548},{"$f":"Poblacion!BH10","v":2739},{"$f":"Poblacion!BI10","v":2389},{"$f":"Poblacion!BJ10","v":2614},{"$f":"Poblacion!BK10","v":2213},{"$f":"Poblacion!BL10","v":2407},{"$f":"Poblacion!BM10","v":1945},{"$f":"Poblacion!BN10","v":2181},{"$f":"Poblacion!BO10","v":1667},{"$f":"Poblacion!BP10","v":1881},{"$f":"Poblacion!BQ10","v":1412},{"$f":"Poblacion!BR10","v":1594},{"$f":"Poblacion!BS10","v":1074},{"$f":"Poblacion!BT10","v":1288},{"$f":"Poblacion!BU10","v":752},{"$f":"Poblacion!BV10","v":912},{"$f":"Poblacion!BW10","v":1054},{"$f":"Poblacion!BX10","v":1379},{"$f":"Poblacion!DM10","v":7168},{"$f":"Poblacion!DN10","v":7111},{"$f":"Poblacion!DO10","v":2146},{"$f":"Poblacion!DP10","v":2211},{"$f":"Poblacion!DQ10","v":20890},{"$f":"Poblacion!DR10","v":22550},{"$f":"Poblacion!DS10","v":5959},{"$f":"Poblacion!DT10","v":7054}]
[1,null,null,null,null,null,null,null,null,null,null,null,null,null,null,null,null,null,null,null,null,null,null,null,null,null,null,null,null,null,null,null,null,null,null,null,null,null,null,null,null,null,null,null,"DE 20 A 24 AÑOS",10163,-10755,null,"DE 20 A 24 AÑOS",{"$f":"+LOOKUP($A$10,numeropiramide,BM13:BM99)","v":10163},{"$f":"+LOOKUP($A$10,numeropiramide,BN13:BN99)","v":10755},null,"00",4,"HOSPITAL HUACHO",{"$f":"Poblacion!F11","v":54061},{"$f":"+SUM(Poblacion!K11,Poblacion!M11,Poblacion!O11,Poblacion!Q11,Poblacion!S11)","v":1377},{"$f":"+SUM(Poblacion!L11,Poblacion!N11,Poblacion!P11,Poblacion!R11,Poblacion!T11)","v":1330},{"$f":"SUM(Poblacion!U11,Poblacion!W11,Poblacion!Y11,Poblacion!AA11,Poblacion!AC11)","v":2100},{"$f":"SUM(Poblacion!V11,Poblacion!X11,Poblacion!Z11,Poblacion!AB11,Poblacion!AD11)","v":2122},{"$f":"+SUM(Poblacion!AE11,Poblacion!AG11,Poblacion!AI11,Poblacion!AK11,Poblacion!AM11)","v":2068},{"$f":"+SUM(Poblacion!AF11,Poblacion!AH11,Poblacion!AJ11,Poblacion!AL11,Poblacion!AN11)","v":2060},{"$f":"+SUM(Poblacion!AO11,Poblacion!AQ11,Poblacion!AS11,Poblacion!AU11,Poblacion!AW11)","v":1937},{"$f":"+SUM(Poblacion!AP11,Poblacion!AR11,Poblacion!AT11,Poblacion!AV11,Poblacion!AX11)","v":1943},{"$f":"Poblacion!AY11","v":1856},{"$f":"Poblacion!AZ11","v":1873},{"$f":"Poblacion!BA11","v":2032},{"$f":"Poblacion!BB11","v":2290},{"$f":"Poblacion!BC11","v":1905},{"$f":"Poblacion!BD11","v":2137},{"$f":"Poblacion!BE11","v":1922},{"$f":"Poblacion!BF11","v":2035},{"$f":"Poblacion!BG11","v":1835},{"$f":"Poblacion!BH11","v":1972},{"$f":"Poblacion!BI11","v":1720},{"$f":"Poblacion!BJ11","v":1882},{"$f":"Poblacion!BK11","v":1593},{"$f":"Poblacion!BL11","v":1733},{"$f":"Poblacion!BM11","v":1400},{"$f":"Poblacion!BN11","v":1570},{"$f":"Poblacion!BO11","v":1200},{"$f":"Poblacion!BP11","v":1354},{"$f":"Poblacion!BQ11","v":1017},{"$f":"Poblacion!BR11","v":1148},{"$f":"Poblacion!BS11","v":773},{"$f":"Poblacion!BT11","v":927},{"$f":"Poblacion!BU11","v":541},{"$f":"Poblacion!BV11","v":657},{"$f":"Poblacion!BW11","v":759},{"$f":"Poblacion!BX11","v":993},{"$f":"Poblacion!DM11","v":5161},{"$f":"Poblacion!DN11","v":5119},{"$f":"Poblacion!DO11","v":1544},{"$f":"Poblacion!DP11","v":1592},{"$f":"Poblacion!DQ11","v":15040},{"$f":"Poblacion!DR11","v":16236},{"$f":"Poblacion!DS11","v":4290},{"$f":"Poblacion!DT11","v":5079}]
[-1,null,null,null,null,null,null,null,null,null,null,null,null,null,null,null,null,null,null,null,null,null,null,null,null,null,null,null,null,null,null,null,null,null,null,null,null,null,null,null,null,null,null,null,"DE 25 A 29 AÑOS",11460,-12646,null,"DE 25 A 29 AÑOS",{"$f":"+LOOKUP($A$10,numeropiramide,BO13:BO99)","v":11460},{"$f":"+LOOKUP($A$10,numeropiramide,BP13:BP99)","v":12646},null,"02",5,"C.S. MANZANARES",{"$f":"Poblacion!F12","v":21028},{"$f":"+SUM(Poblacion!K12,Poblacion!M12,Poblacion!O12,Poblacion!Q12,Poblacion!S12)","v":535},{"$f":"+SUM(Poblacion!L12,Poblacion!N12,Poblacion!P12,Poblacion!R12,Poblacion!T12)","v":518},{"$f":"SUM(Poblacion!U12,Poblacion!W12,Poblacion!Y12,Poblacion!AA12,Poblacion!AC12)","v":817},{"$f":"SUM(Poblacion!V12,Poblacion!X12,Poblacion!Z12,Poblacion!AB12,Poblacion!AD12)","v":826},{"$f":"+SUM(Poblacion!AE12,Poblacion!AG12,Poblacion!AI12,Poblacion!AK12,Poblacion!AM12)","v":805},{"$f":"+SUM(Poblacion!AF12,Poblacion!AH12,Poblacion!AJ12,Poblacion!AL12,Poblacion!AN12)","v":801},{"$f":"+SUM(Poblacion!AO12,Poblacion!AQ12,Poblacion!AS12,Poblacion!AU12,Poblacion!AW12)","v":755},{"$f":"+SUM(Poblacion!AP12,Poblacion!AR12,Poblacion!AT12,Poblacion!AV12,Poblacion!AX12)","v":755},{"$f":"Poblacion!AY12","v":722},{"$f":"Poblacion!AZ12","v":728},{"$f":"Poblacion!BA12","v":790},{"$f":"Poblacion!BB12","v":891},{"$f":"Poblacion!BC12","v":741},{"$f":"Poblacion!BD12","v":831},{"$f":"Poblacion!BE12","v":747},{"$f":"Poblacion!BF12","v":791},{"$f":"Poblacion!BG12","v":713},{"$f":"Poblacion!BH12","v":767},{"$f":"Poblacion!BI12","v":669},{"$f":"Poblacion!BJ12","v":732},{"$f":"Poblacion!BK12","v":620},{"$f":"Poblacion!BL12","v":674},{"$f":"Poblacion!BM12","v":545},{"$f":"Poblacion!BN12","v":611},{"$f":"Poblacion!BO12","v":467},{"$f":"Poblacion!BP12","v":527},{"$f":"Poblacion!BQ12","v":395},{"$f":"Poblacion!BR12","v":446},{"$f":"Poblacion!BS12","v":301},{"$f":"Poblacion!BT12","v":361},{"$f":"Poblacion!BU12","v":211},{"$f":"Poblacion!BV12","v":255},{"$f":"Poblacion!BW12","v":295},{"$f":"Poblacion!BX12","v":386},{"$f":"Poblacion!DM12","v":2007},{"$f":"Poblacion!DN12","v":1992},{"$f":"Poblacion!DO12","v":602},{"$f":"Poblacion!DP12","v":619},{"$f":"Poblacion!DQ12","v":5850},{"$f":"Poblacion!DR12","v":6314},{"$f":"Poblacion!DS12","v":1669},{"$f":"Poblacion!DT12","v":1975}]
[null,null,null,null,null,null,null,null,null,null,null,null,null,null,null,null,null,null,null,null,null,null,null,null,null,null,null,null,null,null,null,null,null,null,null,null,null,null,null,null,null,null,null,null,"DE 30 A 34 AÑOS",10442,-11647,null,"DE 30 A 34 AÑOS",{"$f":"+LOOKUP($A$10,numeropiramide,BQ13:BQ99)","v":10442},{"$f":"+LOOKUP($A$10,numeropiramide,BR13:BR99)","v":11647},null,null,6,"DISTRITO AMBAR",{"$f":"Poblacion!F13","v":2428},{"$f":"+SUM(Poblacion!K13,Poblacion!M13,Poblacion!O13,Poblacion!Q13,Poblacion!S13)","v":99},{"$f":"+SUM(Poblacion!L13,Poblacion!N13,Poblacion!P13,Poblacion!R13,Poblacion!T13)","v":104},{"$f":"SUM(Poblacion!U13,Poblacion!W13,Poblacion!Y13,Poblacion!AA13,Poblacion!AC13)","v":95},{"$f":"SUM(Poblacion!V13,Poblacion!X13,Poblacion!Z13,Poblacion!AB13,Poblacion!AD13)","v":78},{"$f":"+SUM(Poblacion!AE13,Poblacion!AG13,Poblacion!AI13,Poblacion!AK13,Poblacion!AM13)","v":89},{"$f":"+SUM(Poblacion!AF13,Poblacion!AH13,Poblacion!AJ13,Poblacion!AL13,Poblacion!AN13)","v":94},{"$f":"+SUM(Poblacion!AO13,Poblacion!AQ13,Poblacion!AS13,Poblacion!AU13,Poblacion!AW13)","v":83},{"$f":"+SUM(Poblacion!AP13,Poblacion!AR13,Poblacion!AT13,Poblacion!AV13,Poblacion!AX13)","v":91},{"$f":"Poblacion!AY13","v":96},{"$f":"Poblacion!AZ13","v":97},{"$f":"Poblacion!BA13","v":88},{"$f":"Poblacion!BB13","v":108},{"$f":"Poblacion!BC13","v":66},{"$f":"Poblacion!BD13","v":90},{"$f":"Poblacion!BE13","v":81},{"$f":"Poblacion!BF13","v":109},{"$f":"Poblacion!BG13","v":70},{"$f":"Poblacion!BH13","v":66},{"$f":"Poblacion!BI13","v":74},{"$f":"Poblacion!BJ13","v":74},{"$f":"Poblacion!BK13","v":59},{"$f":"Poblacion!BL13","v":69},{"$f":"Poblacion!BM13","v":64},{"$f":"Poblacion!BN13","v":51},{"$f":"Poblacion!BO13","v":47},{"$f":"Poblacion!BP13","v":54},{"$f":"Poblacion!BQ13","v":54},{"$f":"Poblacion!BR13","v":54},{"$f":"Poblacion!BS13","v":41},{"$f":"Poblacion!BT13","v":31},{"$f":"Poblacion!BU13","v":42},{"$f":"Poblacion!BV13","v":18},{"$f":"Poblacion!BW13","v":34},{"$f":"Poblacion!BX13","v":58},{"$f":"Poblacion!DM13","v":267},{"$f":"Poblacion!DN13","v":254},{"$f":"Poblacion!DO13","v":60},{"$f":"Poblacion!DP13","v":75},{"$f":"Poblacion!DQ13","v":637},{"$f":"Poblacion!DR13","v":702},{"$f":"Poblacion!DS13","v":218},{"$f":"Poblacion!DT13","v":215}]
[null,null,null,null,null,null,null,null,null,null,null,null,null,null,null,null,null,null,null,null,null,null,null,null,null,null,null,null,null,null,null,null,null,null,null,null,null,null,null,null,null,null,null,null,"DE 35 A 39 AÑOS",10023,-10979,null,"DE 35 A 39 AÑOS",{"$f":"+LOOKUP($A$10,numeropiramide,BS13:BS99)","v":10023},{"$f":"+LOOKUP($A$10,numeropiramide,BT13:BT99)","v":10979},null,"01",7,"C.S. AMBAR",{"$f":"Poblacion!F14","v":1528},{"$f":"+SUM(Poblacion!K14,Poblacion!M14,Poblacion!O14,Poblacion!Q14,Poblacion!S14)","v":61},{"$f":"+SUM(Poblacion!L14,Poblacion!N14,Poblacion!P14,Poblacion!R14,Poblacion!T14)","v":66},{"$f":"SUM(Poblacion!U14,Poblacion!W14,Poblacion!Y14,Poblacion!AA14,Poblacion!AC14)","v":60},{"$f":"SUM(Poblacion!V14,Poblacion!X14,Poblacion!Z14,Poblacion!AB14,Poblacion!AD14)","v":49},{"$f":"+SUM(Poblacion!AE14,Poblacion!AG14,Poblacion!AI14,Poblacion!AK14,Poblacion!AM14)","v":56},{"$f":"+SUM(Poblacion!AF14,Poblacion!AH14,Poblacion!AJ14,Poblacion!AL14,Poblacion!AN14)","v":59},{"$f":"+SUM(Poblacion!AO14,Poblacion!AQ14,Poblacion!AS14,Poblacion!AU14,Poblacion!AW14)","v":52},{"$f":"+SUM(Poblacion!AP14,Poblacion!AR14,Poblacion!AT14,Poblacion!AV14,Poblacion!AX14)","v":57},{"$f":"Poblacion!AY14","v":60},{"$f":"Poblacion!AZ14","v":61},{"$f":"Poblacion!BA14","v":55},{"$f":"Poblacion!BB14","v":68},{"$f":"Poblacion!BC14","v":42},{"$f":"Poblacion!BD14","v":57},{"$f":"Poblacion!BE14","v":51},{"$f":"Poblacion!BF14","v":69},{"$f":"Poblacion!BG14","v":44},{"$f":"Poblacion!BH14","v":42},{"$f":"Poblacion!BI14","v":47},{"$f":"Poblacion!BJ14","v":47},{"$f":"Poblacion!BK14","v":37},{"$f":"Poblacion!BL14","v":43},{"$f":"Poblacion!BM14","v":40},{"$f":"Poblacion!BN14","v":32},{"$f":"Poblacion!BO14","v":30},{"$f":"Poblacion!BP14","v":34},{"$f":"Poblacion!BQ14","v":34},{"$f":"Poblacion!BR14","v":34},{"$f":"Poblacion!BS14","v":26},{"$f":"Poblacion!BT14","v":20},{"$f":"Poblacion!BU14","v":26},{"$f":"Poblacion!BV14","v":11},{"$f":"Poblacion!BW14","v":21},{"$f":"Poblacion!BX14","v":37},{"$f":"Poblacion!DM14","v":167},{"$f":"Poblacion!DN14","v":160},{"$f":"Poblacion!DO14","v":37},{"$f":"Poblacion!DP14","v":48},{"$f":"Poblacion!DQ14","v":401},{"$f":"Poblacion!DR14","v":442},{"$f":"Poblacion!DS14","v":137},{"$f":"Poblacion!DT14","v":136}]
[null,null,null,null,null,null,null,null,null,null,null,null,null,null,null,null,null,null,null,null,null,null,null,null,null,null,null,null,null,null,null,null,null,null,null,null,null,null,null,null,null,null,null,null,"DE 40 A 44 AÑOS",9181,-9858,null,"DE 40 A 44 AÑOS",{"$f":"+LOOKUP($A$10,numeropiramide,BU13:BU99)","v":9181},{"$f":"+LOOKUP($A$10,numeropiramide,BV13:BV99)","v":9858},null,"01",8,"P.S. AYNACA",{"$f":"Poblacion!F15","v":900},{"$f":"+SUM(Poblacion!K15,Poblacion!M15,Poblacion!O15,Poblacion!Q15,Poblacion!S15)","v":38},{"$f":"+SUM(Poblacion!L15,Poblacion!N15,Poblacion!P15,Poblacion!R15,Poblacion!T15)","v":38},{"$f":"SUM(Poblacion!U15,Poblacion!W15,Poblacion!Y15,Poblacion!AA15,Poblacion!AC15)","v":35},{"$f":"SUM(Poblacion!V15,Poblacion!X15,Poblacion!Z15,Poblacion!AB15,Poblacion!AD15)","v":29},{"$f":"+SUM(Poblacion!AE15,Poblacion!AG15,Poblacion!AI15,Poblacion!AK15,Poblacion!AM15)","v":33},{"$f":"+SUM(Poblacion!AF15,Poblacion!AH15,Poblacion!AJ15,Poblacion!AL15,Poblacion!AN15)","v":35},{"$f":"+SUM(Poblacion!AO15,Poblacion!AQ15,Poblacion!AS15,Poblacion!AU15,Poblacion!AW15)","v":31},{"$f":"+SUM(Poblacion!AP15,Poblacion!AR15,Poblacion!AT15,Poblacion!AV15,Poblacion!AX15)","v":34},{"$f":"Poblacion!AY15","v":36},{"$f":"Poblacion!AZ15","v":36},{"$f":"Poblacion!BA15","v":33},{"$f":"Poblacion!BB15","v":40},{"$f":"Poblacion!BC15","v":24},{"$f":"Poblacion!BD15","v":33},{"$f":"Poblacion!BE15","v":30},{"$f":"Poblacion!BF15","v":40},{"$f":"Poblacion!BG15","v":26},{"$f":"Poblacion!BH15","v":24},{"$f":"Poblacion!BI15","v":27},{"$f":"Poblacion!BJ15","v":27},{"$f":"Poblacion!BK15","v":22},{"$f":"Poblacion!BL15","v":26},{"$f":"Poblacion!BM15","v":24},{"$f":"Poblacion!BN15","v":19},{"$f":"Poblacion!BO15","v":17},{"$f":"Poblacion!BP15","v":20},{"$f":"Poblacion!BQ15","v":20},{"$f":"Poblacion!BR15","v":20},{"$f":"Poblacion!BS15","v":15},{"$f":"Poblacion!BT15","v":11},{"$f":"Poblacion!BU15","v":16},{"$f":"Poblacion!BV15","v":7},{"$f":"Poblacion!BW15","v":13},{"$f":"Poblacion!BX15","v":21},{"$f":"Poblacion!DM15","v":100},{"$f":"Poblacion!DN15","v":94},{"$f":"Poblacion!DO15","v":23},{"$f":"Poblacion!DP15","v":27},{"$f":"Poblacion!DQ15","v":236},{"$f":"Poblacion!DR15","v":260},{"$f":"Poblacion!DS15","v":81},{"$f":"Poblacion!DT15","v":79}]
[null,null,null,null,null,null,null,null,null,null,null,null,null,null,null,null,null,null,null,null,null,null,null,null,null,null,null,null,null,null,null,null,null,null,null,null,null,null,null,null,null,null,null,null,"DE 45 A 49 AÑOS",8430,-9184,null,"DE 45 A 49 AÑOS",{"$f":"+LOOKUP($A$10,numeropiramide,BW13:BW99)","v":8430},{"$f":"+LOOKUP($A$10,numeropiramide,BX13:BX99)","v":9184},null,null,9,"DISTRITO CARQUIN",{"$f":"Poblacion!F16","v":9351},{"$f":"+SUM(Poblacion!K16,Poblacion!M16,Poblacion!O16,Poblacion!Q16,Poblacion!S16)","v":234},{"$f":"+SUM(Poblacion!L16,Poblacion!N16,Poblacion!P16,Poblacion!R16,Poblacion!T16)","v":237},{"$f":"SUM(Poblacion!U16,Poblacion!W16,Poblacion!Y16,Poblacion!AA16,Poblacion!AC16)","v":365},{"$f":"SUM(Poblacion!V16,Poblacion!X16,Poblacion!Z16,Poblacion!AB16,Poblacion!AD16)","v":379},{"$f":"+SUM(Poblacion!AE16,Poblacion!AG16,Poblacion!AI16,Poblacion!AK16,Poblacion!AM16)","v":425},{"$f":"+SUM(Poblacion!AF16,Poblacion!AH16,Poblacion!AJ16,Poblacion!AL16,Poblacion!AN16)","v":431},{"$f":"+SUM(Poblacion!AO16,Poblacion!AQ16,Poblacion!AS16,Poblacion!AU16,Poblacion!AW16)","v":354},{"$f":"+SUM(Poblacion!AP16,Poblacion!AR16,Poblacion!AT16,Poblacion!AV16,Poblacion!AX16)","v":391},{"$f":"Poblacion!AY16","v":348},{"$f":"Poblacion!AZ16","v":369},{"$f":"Poblacion!BA16","v":368},{"$f":"Poblacion!BB16","v":385},{"$f":"Poblacion!BC16","v":351},{"$f":"Poblacion!BD16","v":416},{"$f":"Poblacion!BE16","v":364},{"$f":"Poblacion!BF16","v":371},{"$f":"Poblacion!BG16","v":325},{"$f":"Poblacion!BH16","v":383},{"$f":"Poblacion!BI16","v":296},{"$f":"Poblacion!BJ16","v":311},{"$f":"Poblacion!BK16","v":237},{"$f":"Poblacion!BL16","v":258},{"$f":"Poblacion!BM16","v":225},{"$f":"Poblacion!BN16","v":248},{"$f":"Poblacion!BO16","v":186},{"$f":"Poblacion!BP16","v":175},{"$f":"Poblacion!BQ16","v":128},{"$f":"Poblacion!BR16","v":162},{"$f":"Poblacion!BS16","v":125},{"$f":"Poblacion!BT16","v":126},{"$f":"Poblacion!BU16","v":76},{"$f":"Poblacion!BV16","v":90},{"$f":"Poblacion!BW16","v":101},{"$f":"Poblacion!BX16","v":111},{"$f":"Poblacion!DM16","v":951},{"$f":"Poblacion!DN16","v":958},{"$f":"Poblacion!DO16","v":316},{"$f":"Poblacion!DP16","v":344},{"$f":"Poblacion!DQ16","v":2625},{"$f":"Poblacion!DR16","v":2877},{"$f":"Poblacion!DS16","v":616},{"$f":"Poblacion!DT16","v":664}]
[null,null,null,null,null,null,null,null,null,null,null,null,null,null,null,null,null,null,null,null,null,null,null,null,null,null,null,null,null,null,null,null,null,null,null,null,null,null,null,null,null,null,null,null,"DE 50 A 54 AÑOS",7433,-8087,null,"DE 50 A 54 AÑOS",{"$f":"+LOOKUP($A$10,numeropiramide,BY13:BY99)","v":7433},{"$f":"+LOOKUP($A$10,numeropiramide,BZ13:BZ99)","v":8087},null,"02",10,"P.S. CARQUIN",{"$f":"Poblacion!F17","v":9351},{"$f":"+SUM(Poblacion!K17,Poblacion!M17,Poblacion!O17,Poblacion!Q17,Poblacion!S17)","v":234},{"$f":"+SUM(Poblacion!L17,Poblacion!N17,Poblacion!P17,Poblacion!R17,Poblacion!T17)","v":237},{"$f":"SUM(Poblacion!U17,Poblacion!W17,Poblacion!Y17,Poblacion!AA17,Poblacion!AC17)","v":365},{"$f":"SUM(Poblacion!V17,Poblacion!X17,Poblacion!Z17,Poblacion!AB17,Poblacion!AD17)","v":379},{"$f":"+SUM(Poblacion!AE17,Poblacion!AG17,Poblacion!AI17,Poblacion!AK17,Poblacion!AM17)","v":425},{"$f":"+SUM(Poblacion!AF17,Poblacion!AH17,Poblacion!AJ17,Poblacion!AL17,Poblacion!AN17)","v":431},{"$f":"+SUM(Poblacion!AO17,Poblacion!AQ17,Poblacion!AS17,Poblacion!AU17,Poblacion!AW17)","v":354},{"$f":"+SUM(Poblacion!AP17,Poblacion!AR17,Poblacion!AT17,Poblacion!AV17,Poblacion!AX17)","v":391},{"$f":"Poblacion!AY17","v":348},{"$f":"Poblacion!AZ17","v":369},{"$f":"Poblacion!BA17","v":368},{"$f":"Poblacion!BB17","v":385},{"$f":"Poblacion!BC17","v":351},{"$f":"Poblacion!BD17","v":416},{"$f":"Poblacion!BE17","v":364},{"$f":"Poblacion!BF17","v":371},{"$f":"Poblacion!BG17","v":325},{"$f":"Poblacion!BH17","v":383},{"$f":"Poblacion!BI17","v":296},{"$f":"Poblacion!BJ17","v":311},{"$f":"Poblacion!BK17","v":237},{"$f":"Poblacion!BL17","v":258},{"$f":"Poblacion!BM17","v":225},{"$f":"Poblacion!BN17","v":248},{"$f":"Poblacion!BO17","v":186},{"$f":"Poblacion!BP17","v":175},{"$f":"Poblacion!BQ17","v":128},{"$f":"Poblacion!BR17","v":162},{"$f":"Poblacion!BS17","v":125},{"$f":"Poblacion!BT17","v":126},{"$f":"Poblacion!BU17","v":76},{"$f":"Poblacion!BV17","v":90},{"$f":"Poblacion!BW17","v":101},{"$f":"Poblacion!BX17","v":111},{"$f":"Poblacion!DM17","v":951},{"$f":"Poblacion!DN17","v":958},{"$f":"Poblacion!DO17","v":316},{"$f":"Poblacion!DP17","v":344},{"$f":"Poblacion!DQ17","v":2625},{"$f":"Poblacion!DR17","v":2877},{"$f":"Poblacion!DS17","v":616},{"$f":"Poblacion!DT17","v":664}]
[null,null,null,null,null,null,null,null,null,null,null,null,null,null,null,null,null,null,null,null,null,null,null,null,null,null,null,null,null,null,null,null,null,null,null,null,null,null,null,null,null,null,null,null,"DE 55 A 59 AÑOS",6413,-7097,null,"DE 55 A 59 AÑOS",{"$f":"+LOOKUP($A$10,numeropiramide,CA13:CA99)","v":6413},{"$f":"+LOOKUP($A$10,numeropiramide,CB13:CB99)","v":7097},null,null,11,"DISTRITO CHECRAS",{"$f":"Poblacion!F18","v":896},{"$f":"+SUM(Poblacion!K18,Poblacion!M18,Poblacion!O18,Poblacion!Q18,Poblacion!S18)","v":16},{"$f":"+SUM(Poblacion!L18,Poblacion!N18,Poblacion!P18,Poblacion!R18,Poblacion!T18)","v":19},{"$f":"SUM(Poblacion!U18,Poblacion!W18,Poblacion!Y18,Poblacion!AA18,Poblacion!AC18)","v":23},{"$f":"SUM(Poblacion!V18,Poblacion!X18,Poblacion!Z18,Poblacion!AB18,Poblacion!AD18)","v":20},{"$f":"+SUM(Poblacion!AE18,Poblacion!AG18,Poblacion!AI18,Poblacion!AK18,Poblacion!AM18)","v":30},{"$f":"+SUM(Poblacion!AF18,Poblacion!AH18,Poblacion!AJ18,Poblacion!AL18,Poblacion!AN18)","v":32},{"$f":"+SUM(Poblacion!AO18,Poblacion!AQ18,Poblacion!AS18,Poblacion!AU18,Poblacion!AW18)","v":46},{"$f":"+SUM(Poblacion!AP18,Poblacion!AR18,Poblacion!AT18,Poblacion!AV18,Poblacion!AX18)","v":37},{"$f":"Poblacion!AY18","v":19},{"$f":"Poblacion!AZ18","v":31},{"$f":"Poblacion!BA18","v":31},{"$f":"Poblacion!BB18","v":27},{"$f":"Poblacion!BC18","v":17},{"$f":"Poblacion!BD18","v":22},{"$f":"Poblacion!BE18","v":19},{"$f":"Poblacion!BF18","v":24},{"$f":"Poblacion!BG18","v":24},{"$f":"Poblacion!BH18","v":15},{"$f":"Poblacion!BI18","v":23},{"$f":"Poblacion!BJ18","v":15},{"$f":"Poblacion!BK18","v":25},{"$f":"Poblacion!BL18","v":32},{"$f":"Poblacion!BM18","v":32},{"$f":"Poblacion!BN18","v":29},{"$f":"Poblacion!BO18","v":24},{"$f":"Poblacion!BP18","v":24},{"$f":"Poblacion!BQ18","v":27},{"$f":"Poblacion!BR18","v":30},{"$f":"Poblacion!BS18","v":24},{"$f":"Poblacion!BT18","v":29},{"$f":"Poblacion!BU18","v":12},{"$f":"Poblacion!BV18","v":22},{"$f":"Poblacion!BW18","v":37},{"$f":"Poblacion!BX18","v":59},{"$f":"Poblacion!DM18","v":64},{"$f":"Poblacion!DN18","v":64},{"$f":"Poblacion!DO18","v":40},{"$f":"Poblacion!DP18","v":34},{"$f":"Poblacion!DQ18","v":201},{"$f":"Poblacion!DR18","v":205},{"$f":"Poblacion!DS18","v":124},{"$f":"Poblacion!DT18","v":164}]
[null,null,null,null,null,null,null,null,null,null,null,null,null,null,null,null,null,null,null,null,null,null,null,null,null,null,null,null,null,null,null,null,null,null,null,null,null,null,null,null,null,null,null,null,"DE 60 A 64 AÑOS",5390,-5833,null,"DE 60 A 64 AÑOS",{"$f":"+LOOKUP($A$10,numeropiramide,CC13:CC99)","v":5390},{"$f":"+LOOKUP($A$10,numeropiramide,CD13:CD99)","v":5833},null,"05",12,"P.S. PUÑUN",{"$f":"Poblacion!F19","v":896},{"$f":"+SUM(Poblacion!K19,Poblacion!M19,Poblacion!O19,Poblacion!Q19,Poblacion!S19)","v":16},{"$f":"+SUM(Poblacion!L19,Poblacion!N19,Poblacion!P19,Poblacion!R19,Poblacion!T19)","v":19},{"$f":"SUM(Poblacion!U19,Poblacion!W19,Poblacion!Y19,Poblacion!AA19,Poblacion!AC19)","v":23},{"$f":"SUM(Poblacion!V19,Poblacion!X19,Poblacion!Z19,Poblacion!AB19,Poblacion!AD19)","v":20},{"$f":"+SUM(Poblacion!AE19,Poblacion!AG19,Poblacion!AI19,Poblacion!AK19,Poblacion!AM19)","v":30},{"$f":"+SUM(Poblacion!AF19,Poblacion!AH19,Poblacion!AJ19,Poblacion!AL19,Poblacion!AN19)","v":32},{"$f":"+SUM(Poblacion!AO19,Poblacion!AQ19,Poblacion!AS19,Poblacion!AU19,Poblacion!AW19)","v":46},{"$f":"+SUM(Poblacion!AP19,Poblacion!AR19,Poblacion!AT19,Poblacion!AV19,Poblacion!AX19)","v":37},{"$f":"Poblacion!AY19","v":19},{"$f":"Poblacion!AZ19","v":31},{"$f":"Poblacion!BA19","v":31},{"$f":"Poblacion!BB19","v":27},{"$f":"Poblacion!BC19","v":17},{"$f":"Poblacion!BD19","v":22},{"$f":"Poblacion!BE19","v":19},{"$f":"Poblacion!BF19","v":24},{"$f":"Poblacion!BG19","v":24},{"$f":"Poblacion!BH19","v":15},{"$f":"Poblacion!BI19","v":23},{"$f":"Poblacion!BJ19","v":15},{"$f":"Poblacion!BK19","v":25},{"$f":"Poblacion!BL19","v":32},{"$f":"Poblacion!BM19","v":32},{"$f":"Poblacion!BN19","v":29},{"$f":"Poblacion!BO19","v":24},{"$f":"Poblacion!BP19","v":24},{"$f":"Poblacion!BQ19","v":27},{"$f":"Poblacion!BR19","v":30},{"$f":"Poblacion!BS19","v":24},{"$f":"Poblacion!BT19","v":29},{"$f":"Poblacion!BU19","v":12},{"$f":"Poblacion!BV19","v":22},{"$f":"Poblacion!BW19","v":37},{"$f":"Poblacion!BX19","v":59},{"$f":"Poblacion!DM19","v":64},{"$f":"Poblacion!DN19","v":64},{"$f":"Poblacion!DO19","v":40},{"$f":"Poblacion!DP19","v":34},{"$f":"Poblacion!DQ19","v":201},{"$f":"Poblacion!DR19","v":205},{"$f":"Poblacion!DS19","v":124},{"$f":"Poblacion!DT19","v":164}]
[null,null,null,null,null,null,null,null,null,null,null,null,null,null,null,null,null,null,null,null,null,null,null,null,null,null,null,null,null,null,null,null,null,null,null,null,null,null,null,null,null,null,null,null,"DE 65 A 69 AÑOS",4382,-4867,null,"DE 65 A 69 AÑOS",{"$f":"+LOOKUP($A$10,numeropiramide,CE13:CE99)","v":4382},{"$f":"+LOOKUP($A$10,numeropiramide,CF13:CF99)","v":4867},null,null,13,"DISTRITO HUALMAY",{"$f":"Poblacion!F20","v":30830},{"$f":"+SUM(Poblacion!K20,Poblacion!M20,Poblacion!O20,Poblacion!Q20,Poblacion!S20)","v":968},{"$f":"+SUM(Poblacion!L20,Poblacion!N20,Poblacion!P20,Poblacion!R20,Poblacion!T20)","v":938},{"$f":"SUM(Poblacion!U20,Poblacion!W20,Poblacion!Y20,Poblacion!AA20,Poblacion!AC20)","v":1294},{"$f":"SUM(Poblacion!V20,Poblacion!X20,Poblacion!Z20,Poblacion!AB20,Poblacion!AD20)","v":1350},{"$f":"+SUM(Poblacion!AE20,Poblacion!AG20,Poblacion!AI20,Poblacion!AK20,Poblacion!AM20)","v":1253},{"$f":"+SUM(Poblacion!AF20,Poblacion!AH20,Poblacion!AJ20,Poblacion!AL20,Poblacion!AN20)","v":1281},{"$f":"+SUM(Poblacion!AO20,Poblacion!AQ20,Poblacion!AS20,Poblacion!AU20,Poblacion!AW20)","v":1107},{"$f":"+SUM(Poblacion!AP20,Poblacion!AR20,Poblacion!AT20,Poblacion!AV20,Poblacion!AX20)","v":1181},{"$f":"Poblacion!AY20","v":1146},{"$f":"Poblacion!AZ20","v":1200},{"$f":"Poblacion!BA20","v":1275},{"$f":"Poblacion!BB20","v":1414},{"$f":"Poblacion!BC20","v":1187},{"$f":"Poblacion!BD20","v":1232},{"$f":"Poblacion!BE20","v":1116},{"$f":"Poblacion!BF20","v":1276},{"$f":"Poblacion!BG20","v":1021},{"$f":"Poblacion!BH20","v":1117},{"$f":"Poblacion!BI20","v":1003},{"$f":"Poblacion!BJ20","v":1064},{"$f":"Poblacion!BK20","v":875},{"$f":"Poblacion!BL20","v":850},{"$f":"Poblacion!BM20","v":706},{"$f":"Poblacion!BN20","v":768},{"$f":"Poblacion!BO20","v":554},{"$f":"Poblacion!BP20","v":596},{"$f":"Poblacion!BQ20","v":448},{"$f":"Poblacion!BR20","v":542},{"$f":"Poblacion!BS20","v":343},{"$f":"Poblacion!BT20","v":390},{"$f":"Poblacion!BU20","v":260},{"$f":"Poblacion!BV20","v":340},{"$f":"Poblacion!BW20","v":294},{"$f":"Poblacion!BX20","v":441},{"$f":"Poblacion!DM20","v":3282},{"$f":"Poblacion!DN20","v":3306},{"$f":"Poblacion!DO20","v":908},{"$f":"Poblacion!DP20","v":983},{"$f":"Poblacion!DQ20","v":8761},{"$f":"Poblacion!DR20","v":9382},{"$f":"Poblacion!DS20","v":1899},{"$f":"Poblacion!DT20","v":2309}]
[null,null,null,null,null,null,null,null,null,null,null,null,null,null,null,null,null,null,null,null,null,null,null,null,null,null,null,null,null,null,null,null,null,null,null,null,null,null,null,null,null,null,null,null,"DE 70 A 74 AÑOS",3450,-3769,null,"DE 70 A 74 AÑOS",{"$f":"+LOOKUP($A$10,numeropiramide,CG13:CG99)","v":3450},{"$f":"+LOOKUP($A$10,numeropiramide,CH13:CH99)","v":3769},null,"02",14,"C.S. HUALMAY",{"$f":"Poblacion!F21","v":14801},{"$f":"+SUM(Poblacion!K21,Poblacion!M21,Poblacion!O21,Poblacion!Q21,Poblacion!S21)","v":464},{"$f":"+SUM(Poblacion!L21,Poblacion!N21,Poblacion!P21,Poblacion!R21,Poblacion!T21)","v":451},{"$f":"SUM(Poblacion!U21,Poblacion!W21,Poblacion!Y21,Poblacion!AA21,Poblacion!AC21)","v":621},{"$f":"SUM(Poblacion!V21,Poblacion!X21,Poblacion!Z21,Poblacion!AB21,Poblacion!AD21)","v":649},{"$f":"+SUM(Poblacion!AE21,Poblacion!AG21,Poblacion!AI21,Poblacion!AK21,Poblacion!AM21)","v":601},{"$f":"+SUM(Poblacion!AF21,Poblacion!AH21,Poblacion!AJ21,Poblacion!AL21,Poblacion!AN21)","v":614},{"$f":"+SUM(Poblacion!AO21,Poblacion!AQ21,Poblacion!AS21,Poblacion!AU21,Poblacion!AW21)","v":533},{"$f":"+SUM(Poblacion!AP21,Poblacion!AR21,Poblacion!AT21,Poblacion!AV21,Poblacion!AX21)","v":566},{"$f":"Poblacion!AY21","v":550},{"$f":"Poblacion!AZ21","v":576},{"$f":"Poblacion!BA21","v":612},{"$f":"Poblacion!BB21","v":679},{"$f":"Poblacion!BC21","v":570},{"$f":"Poblacion!BD21","v":591},{"$f":"Poblacion!BE21","v":535},{"$f":"Poblacion!BF21","v":613},{"$f":"Poblacion!BG21","v":490},{"$f":"Poblacion!BH21","v":536},{"$f":"Poblacion!BI21","v":482},{"$f":"Poblacion!BJ21","v":511},{"$f":"Poblacion!BK21","v":420},{"$f":"Poblacion!BL21","v":408},{"$f":"Poblacion!BM21","v":339},{"$f":"Poblacion!BN21","v":369},{"$f":"Poblacion!BO21","v":266},{"$f":"Poblacion!BP21","v":286},{"$f":"Poblacion!BQ21","v":215},{"$f":"Poblacion!BR21","v":260},{"$f":"Poblacion!BS21","v":165},{"$f":"Poblacion!BT21","v":188},{"$f":"Poblacion!BU21","v":124},{"$f":"Poblacion!BV21","v":164},{"$f":"Poblacion!BW21","v":142},{"$f":"Poblacion!BX21","v":211},{"$f":"Poblacion!DM21","v":1574},{"$f":"Poblacion!DN21","v":1588},{"$f":"Poblacion!DO21","v":437},{"$f":"Poblacion!DP21","v":471},{"$f":"Poblacion!DQ21","v":4206},{"$f":"Poblacion!DR21","v":4504},{"$f":"Poblacion!DS21","v":912},{"$f":"Poblacion!DT21","v":1109}]
[null,null,null,null,null,null,null,null,null,null,null,null,null,null,null,null,null,null,null,null,null,null,null,null,null,null,null,null,null,null,null,null,null,null,null,null,null,null,null,null,null,null,null,null,"DE 75 A 79 AÑOS",2489,-2872,null,"DE 75 A 79 AÑOS",{"$f":"+LOOKUP($A$10,numeropiramide,CI13:CI99)","v":2489},{"$f":"+LOOKUP($A$10,numeropiramide,CJ13:CJ99)","v":2872},null,"02",15,"P.S. DGO. MANDAMIENTO",{"$f":"Poblacion!F22","v":11096},{"$f":"+SUM(Poblacion!K22,Poblacion!M22,Poblacion!O22,Poblacion!Q22,Poblacion!S22)","v":349},{"$f":"+SUM(Poblacion!L22,Poblacion!N22,Poblacion!P22,Poblacion!R22,Poblacion!T22)","v":337},{"$f":"SUM(Poblacion!U22,Poblacion!W22,Poblacion!Y22,Poblacion!AA22,Poblacion!AC22)","v":465},{"$f":"SUM(Poblacion!V22,Poblacion!X22,Poblacion!Z22,Poblacion!AB22,Poblacion!AD22)","v":485},{"$f":"+SUM(Poblacion!AE22,Poblacion!AG22,Poblacion!AI22,Poblacion!AK22,Poblacion!AM22)","v":452},{"$f":"+SUM(Poblacion!AF22,Poblacion!AH22,Poblacion!AJ22,Poblacion!AL22,Poblacion!AN22)","v":461},{"$f":"+SUM(Poblacion!AO22,Poblacion!AQ22,Poblacion!AS22,Poblacion!AU22,Poblacion!AW22)","v":398},{"$f":"+SUM(Poblacion!AP22,Poblacion!AR22,Poblacion!AT22,Poblacion!AV22,Poblacion!AX22)","v":426},{"$f":"Poblacion!AY22","v":413},{"$f":"Poblacion!AZ22","v":432},{"$f":"Poblacion!BA22","v":459},{"$f":"Poblacion!BB22","v":509},{"$f":"Poblacion!BC22","v":427},{"$f":"Poblacion!BD22","v":444},{"$f":"Poblacion!BE22","v":402},{"$f":"Poblacion!BF22","v":459},{"$f":"Poblacion!BG22","v":368},{"$f":"Poblacion!BH22","v":402},{"$f":"Poblacion!BI22","v":361},{"$f":"Poblacion!BJ22","v":383},{"$f":"Poblacion!BK22","v":315},{"$f":"Poblacion!BL22","v":306},{"$f":"Poblacion!BM22","v":254},{"$f":"Poblacion!BN22","v":276},{"$f":"Poblacion!BO22","v":199},{"$f":"Poblacion!BP22","v":215},{"$f":"Poblacion!BQ22","v":161},{"$f":"Poblacion!BR22","v":195},{"$f":"Poblacion!BS22","v":123},{"$f":"Poblacion!BT22","v":140},{"$f":"Poblacion!BU22","v":94},{"$f":"Poblacion!BV22","v":122},{"$f":"Poblacion!BW22","v":105},{"$f":"Poblacion!BX22","v":159},{"$f":"Poblacion!DM22","v":1182},{"$f":"Poblacion!DN22","v":1188},{"$f":"Poblacion!DO22","v":327},{"$f":"Poblacion!DP22","v":355},{"$f":"Poblacion!DQ22","v":3154},{"$f":"Poblacion!DR22","v":3377},{"$f":"Poblacion!DS22","v":682},{"$f":"Poblacion!DT22","v":831}]
[null,null,null,null,null,null,null,null,null,null,null,null,null,null,null,null,null,null,null,null,null,null,null,null,null,null,null,null,null,null,null,null,null,null,null,null,null,null,null,null,null,null,null,null,"DE 80 A MAS AÑOS",3254,-4133,null,"DE 80 A MAS AÑOS",{"$f":"+LOOKUP($A$10,numeropiramide,CK13:CK99)","v":3254},{"$f":"+LOOKUP($A$10,numeropiramide,CL13:CL99)","v":4133},null,"02",16,"P.S. CAMPO ALEGRE",{"$f":"Poblacion!F23","v":4933},{"$f":"+SUM(Poblacion!K23,Poblacion!M23,Poblacion!O23,Poblacion!Q23,Poblacion!S23)","v":155},{"$f":"+SUM(Poblacion!L23,Poblacion!N23,Poblacion!P23,Poblacion!R23,Poblacion!T23)","v":150},{"$f":"SUM(Poblacion!U23,Poblacion!W23,Poblacion!Y23,Poblacion!AA23,Poblacion!AC23)","v":208},{"$f":"SUM(Poblacion!V23,Poblacion!X23,Poblacion!Z23,Poblacion!AB23,Poblacion!AD23)","v":216},{"$f":"+SUM(Poblacion!AE23,Poblacion!AG23,Poblacion!AI23,Poblacion!AK23,Poblacion!AM23)","v":200},{"$f":"+SUM(Poblacion!AF23,Poblacion!AH23,Poblacion!AJ23,Poblacion!AL23,Poblacion!AN23)","v":206},{"$f":"+SUM(Poblacion!AO23,Poblacion!AQ23,Poblacion!AS23,Poblacion!AU23,Poblacion!AW23)","v":176},{"$f":"+SUM(Poblacion!AP23,Poblacion!AR23,Poblacion!AT23,Poblacion!AV23,Poblacion!AX23)","v":189},{"$f":"Poblacion!AY23","v":183},{"$f":"Poblacion!AZ23","v":192},{"$f":"Poblacion!BA23","v":204},{"$f":"Poblacion!BB23","v":226},{"$f":"Poblacion!BC23","v":190},{"$f":"Poblacion!BD23","v":197},{"$f":"Poblacion!BE23","v":179},{"$f":"Poblacion!BF23","v":204},{"$f":"Poblacion!BG23","v":163},{"$f":"Poblacion!BH23","v":179},{"$f":"Poblacion!BI23","v":160},{"$f":"Poblacion!BJ23","v":170},{"$f":"Poblacion!BK23","v":140},{"$f":"Poblacion!BL23","v":136},{"$f":"Poblacion!BM23","v":113},{"$f":"Poblacion!BN23","v":123},{"$f":"Poblacion!BO23","v":89},{"$f":"Poblacion!BP23","v":95},{"$f":"Poblacion!BQ23","v":72},{"$f":"Poblacion!BR23","v":87},{"$f":"Poblacion!BS23","v":55},{"$f":"Poblacion!BT23","v":62},{"$f":"Poblacion!BU23","v":42},{"$f":"Poblacion!BV23","v":54},{"$f":"Poblacion!BW23","v":47},{"$f":"Poblacion!BX23","v":71},{"$f":"Poblacion!DM23","v":526},{"$f":"Poblacion!DN23","v":530},{"$f":"Poblacion!DO23","v":144},{"$f":"Poblacion!DP23","v":157},{"$f":"Poblacion!DQ23","v":1401},{"$f":"Poblacion!DR23","v":1501},{"$f":"Poblacion!DS23","v":305},{"$f":"Poblacion!DT23","v":369}]
[null,null,null,null,null,null,null,null,null,null,null,null,null,null,null,null,null,null,null,null,null,null,null,null,null,null,null,null,null,null,null,null,null,null,null,null,null,null,null,null,null,null,null,null,null,null,null,null,null,null,null,null,null,17,"DISTRITO HUAURA                   ",{"$f":"Poblacion!F24","v":40247},{"$f":"+SUM(Poblacion!K24,Poblacion!M24,Poblacion!O24,Poblacion!Q24,Poblacion!S24)","v":1392},{"$f":"+SUM(Poblacion!L24,Poblacion!N24,Poblacion!P24,Poblacion!R24,Poblacion!T24)","v":1337},{"$f":"SUM(Poblacion!U24,Poblacion!W24,Poblacion!Y24,Poblacion!AA24,Poblacion!AC24)","v":1757},{"$f":"SUM(Poblacion!V24,Poblacion!X24,Poblacion!Z24,Poblacion!AB24,Poblacion!AD24)","v":1722},{"$f":"+SUM(Poblacion!AE24,Poblacion!AG24,Poblacion!AI24,Poblacion!AK24,Poblacion!AM24)","v":1704},{"$f":"+SUM(Poblacion!AF24,Poblacion!AH24,Poblacion!AJ24,Poblacion!AL24,Poblacion!AN24)","v":1811},{"$f":"+SUM(Poblacion!AO24,Poblacion!AQ24,Poblacion!AS24,Poblacion!AU24,Poblacion!AW24)","v":1472},{"$f":"+SUM(Poblacion!AP24,Poblacion!AR24,Poblacion!AT24,Poblacion!AV24,Poblacion!AX24)","v":1666},{"$f":"Poblacion!AY24","v":1447},{"$f":"Poblacion!AZ24","v":1566},{"$f":"Poblacion!BA24","v":1791},{"$f":"Poblacion!BB24","v":1902},{"$f":"Poblacion!BC24","v":1676},{"$f":"Poblacion!BD24","v":1717},{"$f":"Poblacion!BE24","v":1427},{"$f":"Poblacion!BF24","v":1586},{"$f":"Poblacion!BG24","v":1378},{"$f":"Poblacion!BH24","v":1429},{"$f":"Poblacion!BI24","v":1150},{"$f":"Poblacion!BJ24","v":1340},{"$f":"Poblacion!BK24","v":998},{"$f":"Poblacion!BL24","v":1204},{"$f":"Poblacion!BM24","v":874},{"$f":"Poblacion!BN24","v":1000},{"$f":"Poblacion!BO24","v":740},{"$f":"Poblacion!BP24","v":772},{"$f":"Poblacion!BQ24","v":537},{"$f":"Poblacion!BR24","v":590},{"$f":"Poblacion!BS24","v":408},{"$f":"Poblacion!BT24","v":442},{"$f":"Poblacion!BU24","v":290},{"$f":"Poblacion!BV24","v":304},{"$f":"Poblacion!BW24","v":373},{"$f":"Poblacion!BX24","v":445},{"$f":"Poblacion!DM24","v":4534},{"$f":"Poblacion!DN24","v":4530},{"$f":"Poblacion!DO24","v":1202},{"$f":"Poblacion!DP24","v":1364},{"$f":"Poblacion!DQ24","v":11330},{"$f":"Poblacion!DR24","v":12386},{"$f":"Poblacion!DS24","v":2348},{"$f":"Poblacion!DT24","v":2553}]
[null,null,null,null,null,null,null,null,null,null,null,null,null,null,null,null,null,null,null,null,null,null,null,null,null,null,null,null,null,null,null,null,null,null,null,null,null,null,null,null,null,null,null,null,"DATOS PIRAMIDE-CANCER",null,null,null,"DATOS PIRAMIDE- CANCER",null,null,null,"01",18,"C.S. HUAURA",{"$f":"Poblacion!F25","v":18113},{"$f":"+SUM(Poblacion!K25,Poblacion!M25,Poblacion!O25,Poblacion!Q25,Poblacion!S25)","v":627},{"$f":"+SUM(Poblacion!L25,Poblacion!N25,Poblacion!P25,Poblacion!R25,Poblacion!T25)","v":602},{"$f":"SUM(Poblacion!U25,Poblacion!W25,Poblacion!Y25,Poblacion!AA25,Poblacion!AC25)","v":791},{"$f":"SUM(Poblacion!V25,Poblacion!X25,Poblacion!Z25,Poblacion!AB25,Poblacion!AD25)","v":776},{"$f":"+SUM(Poblacion!AE25,Poblacion!AG25,Poblacion!AI25,Poblacion!AK25,Poblacion!AM25)","v":765},{"$f":"+SUM(Poblacion!AF25,Poblacion!AH25,Poblacion!AJ25,Poblacion!AL25,Poblacion!AN25)","v":814},{"$f":"+SUM(Poblacion!AO25,Poblacion!AQ25,Poblacion!AS25,Poblacion!AU25,Poblacion!AW25)","v":661},{"$f":"+SUM(Poblacion!AP25,Poblacion!AR25,Poblacion!AT25,Poblacion!AV25,Poblacion!AX25)","v":750},{"$f":"Poblacion!AY25","v":652},{"$f":"Poblacion!AZ25","v":705},{"$f":"Poblacion!BA25","v":806},{"$f":"Poblacion!BB25","v":856},{"$f":"Poblacion!BC25","v":754},{"$f":"Poblacion!BD25","v":773},{"$f":"Poblacion!BE25","v":643},{"$f":"Poblacion!BF25","v":713},{"$f":"Poblacion!BG25","v":620},{"$f":"Poblacion!BH25","v":643},{"$f":"Poblacion!BI25","v":516},{"$f":"Poblacion!BJ25","v":603},{"$f":"Poblacion!BK25","v":449},{"$f":"Poblacion!BL25","v":543},{"$f":"Poblacion!BM25","v":393},{"$f":"Poblacion!BN25","v":450},{"$f":"Poblacion!BO25","v":333},{"$f":"Poblacion!BP25","v":347},{"$f":"Poblacion!BQ25","v":242},{"$f":"Poblacion!BR25","v":266},{"$f":"Poblacion!BS25","v":183},{"$f":"Poblacion!BT25","v":199},{"$f":"Poblacion!BU25","v":131},{"$f":"Poblacion!BV25","v":138},{"$f":"Poblacion!BW25","v":168},{"$f":"Poblacion!BX25","v":201},{"$f":"Poblacion!DM25","v":2040},{"$f":"Poblacion!DN25","v":2039},{"$f":"Poblacion!DO25","v":540},{"$f":"Poblacion!DP25","v":614},{"$f":"Poblacion!DQ25","v":5097},{"$f":"Poblacion!DR25","v":5575},{"$f":"Poblacion!DS25","v":1057},{"$f":"Poblacion!DT25","v":1151}]
[null,null,null,null,null,null,null,null,null,null,null,null,null,null,null,null,null,null,null,null,null,null,null,null,null,null,null,null,null,null,null,null,null,null,null,null,null,null,null,null,null,null,null,null,"DESCRIPCION","M","F",null,"DESCRIPCION","M","F",null,"01",19,"P.S. HUMAYA",{"$f":"Poblacion!F26","v":3625},{"$f":"+SUM(Poblacion!K26,Poblacion!M26,Poblacion!O26,Poblacion!Q26,Poblacion!S26)","v":125},{"$f":"+SUM(Poblacion!L26,Poblacion!N26,Poblacion!P26,Poblacion!R26,Poblacion!T26)","v":121},{"$f":"SUM(Poblacion!U26,Poblacion!W26,Poblacion!Y26,Poblacion!AA26,Poblacion!AC26)","v":158},{"$f":"SUM(Poblacion!V26,Poblacion!X26,Poblacion!Z26,Poblacion!AB26,Poblacion!AD26)","v":156},{"$f":"+SUM(Poblacion!AE26,Poblacion!AG26,Poblacion!AI26,Poblacion!AK26,Poblacion!AM26)","v":154},{"$f":"+SUM(Poblacion!AF26,Poblacion!AH26,Poblacion!AJ26,Poblacion!AL26,Poblacion!AN26)","v":163},{"$f":"+SUM(Poblacion!AO26,Poblacion!AQ26,Poblacion!AS26,Poblacion!AU26,Poblacion!AW26)","v":133},{"$f":"+SUM(Poblacion!AP26,Poblacion!AR26,Poblacion!AT26,Poblacion!AV26,Poblacion!AX26)","v":150},{"$f":"Poblacion!AY26","v":130},{"$f":"Poblacion!AZ26","v":141},{"$f":"Poblacion!BA26","v":161},{"$f":"Poblacion!BB26","v":171},{"$f":"Poblacion!BC26","v":151},{"$f":"Poblacion!BD26","v":155},{"$f":"Poblacion!BE26","v":128},{"$f":"Poblacion!BF26","v":143},{"$f":"Poblacion!BG26","v":124},{"$f":"Poblacion!BH26","v":129},{"$f":"Poblacion!BI26","v":104},{"$f":"Poblacion!BJ26","v":121},{"$f":"Poblacion!BK26","v":90},{"$f":"Poblacion!BL26","v":108},{"$f":"Poblacion!BM26","v":79},{"$f":"Poblacion!BN26","v":90},{"$f":"Poblacion!BO26","v":67},{"$f":"Poblacion!BP26","v":69},{"$f":"Poblacion!BQ26","v":48},{"$f":"Poblacion!BR26","v":53},{"$f":"Poblacion!BS26","v":37},{"$f":"Poblacion!BT26","v":40},{"$f":"Poblacion!BU26","v":26},{"$f":"Poblacion!BV26","v":27},{"$f":"Poblacion!BW26","v":33},{"$f":"Poblacion!BX26","v":40},{"$f":"Poblacion!DM26","v":408},{"$f":"Poblacion!DN26","v":409},{"$f":"Poblacion!DO26","v":109},{"$f":"Poblacion!DP26","v":123},{"$f":"Poblacion!DQ26","v":1020},{"$f":"Poblacion!DR26","v":1116},{"$f":"Poblacion!DS26","v":211},{"$f":"Poblacion!DT26","v":229}]
[null,null,null,null,null,null,null,null,null,null,null,null,null,null,null,null,null,null,null,null,null,null,null,null,null,null,null,null,null,null,null,null,null,null,null,null,null,null,null,null,null,null,null,null,"DE 0 A 13 AÑOS",{"$f":"AX32","v":206},{"$f":"-AY32","v":-212},null,"DE 0 A 13 AÑOS",{"$f":"VLOOKUP($T$48,$BB$13:$CT$99,38,FALSE)","v":206},{"$f":"VLOOKUP($T$48,$BB$13:$CT$99,39,FALSE)","v":212},null,"01",20,"P.S. VILCAHUAURA",{"$f":"Poblacion!F27","v":3214},{"$f":"+SUM(Poblacion!K27,Poblacion!M27,Poblacion!O27,Poblacion!Q27,Poblacion!S27)","v":111},{"$f":"+SUM(Poblacion!L27,Poblacion!N27,Poblacion!P27,Poblacion!R27,Poblacion!T27)","v":107},{"$f":"SUM(Poblacion!U27,Poblacion!W27,Poblacion!Y27,Poblacion!AA27,Poblacion!AC27)","v":140},{"$f":"SUM(Poblacion!V27,Poblacion!X27,Poblacion!Z27,Poblacion!AB27,Poblacion!AD27)","v":137},{"$f":"+SUM(Poblacion!AE27,Poblacion!AG27,Poblacion!AI27,Poblacion!AK27,Poblacion!AM27)","v":136},{"$f":"+SUM(Poblacion!AF27,Poblacion!AH27,Poblacion!AJ27,Poblacion!AL27,Poblacion!AN27)","v":144},{"$f":"+SUM(Poblacion!AO27,Poblacion!AQ27,Poblacion!AS27,Poblacion!AU27,Poblacion!AW27)","v":118},{"$f":"+SUM(Poblacion!AP27,Poblacion!AR27,Poblacion!AT27,Poblacion!AV27,Poblacion!AX27)","v":133},{"$f":"Poblacion!AY27","v":116},{"$f":"Poblacion!AZ27","v":125},{"$f":"Poblacion!BA27","v":143},{"$f":"Poblacion!BB27","v":152},{"$f":"Poblacion!BC27","v":134},{"$f":"Poblacion!BD27","v":137},{"$f":"Poblacion!BE27","v":114},{"$f":"Poblacion!BF27","v":127},{"$f":"Poblacion!BG27","v":110},{"$f":"Poblacion!BH27","v":114},{"$f":"Poblacion!BI27","v":92},{"$f":"Poblacion!BJ27","v":107},{"$f":"Poblacion!BK27","v":80},{"$f":"Poblacion!BL27","v":96},{"$f":"Poblacion!BM27","v":70},{"$f":"Poblacion!BN27","v":80},{"$f":"Poblacion!BO27","v":59},{"$f":"Poblacion!BP27","v":62},{"$f":"Poblacion!BQ27","v":43},{"$f":"Poblacion!BR27","v":47},{"$f":"Poblacion!BS27","v":33},{"$f":"Poblacion!BT27","v":35},{"$f":"Poblacion!BU27","v":23},{"$f":"Poblacion!BV27","v":24},{"$f":"Poblacion!BW27","v":30},{"$f":"Poblacion!BX27","v":35},{"$f":"Poblacion!DM27","v":361},{"$f":"Poblacion!DN27","v":361},{"$f":"Poblacion!DO27","v":96},{"$f":"Poblacion!DP27","v":109},{"$f":"Poblacion!DQ27","v":907},{"$f":"Poblacion!DR27","v":989},{"$f":"Poblacion!DS27","v":188},{"$f":"Poblacion!DT27","v":203}]
[null,null,null,null,null,null,null,null,null,null,null,null,null,null,null,null,null,null,null,null,null,null,null,null,null,null,null,null,null,null,null,null,null,null,null,null,null,null,null,null,null,null,null,null,"DE 14 A 17 AÑOS",{"$f":"AX33","v":46},{"$f":"-AY33","v":-53},null,"DE 14 A 17 AÑOS",{"$f":"VLOOKUP($T$48,$BB$13:$CT$99,40,FALSE)","v":46},{"$f":"VLOOKUP($T$48,$BB$13:$CT$99,41,FALSE)","v":53},null,"01",21,"P.S. PEÑICO",{"$f":"Poblacion!F28","v":403},{"$f":"+SUM(Poblacion!K28,Poblacion!M28,Poblacion!O28,Poblacion!Q28,Poblacion!S28)","v":14},{"$f":"+SUM(Poblacion!L28,Poblacion!N28,Poblacion!P28,Poblacion!R28,Poblacion!T28)","v":13},{"$f":"SUM(Poblacion!U28,Poblacion!W28,Poblacion!Y28,Poblacion!AA28,Poblacion!AC28)","v":18},{"$f":"SUM(Poblacion!V28,Poblacion!X28,Poblacion!Z28,Poblacion!AB28,Poblacion!AD28)","v":17},{"$f":"+SUM(Poblacion!AE28,Poblacion!AG28,Poblacion!AI28,Poblacion!AK28,Poblacion!AM28)","v":18},{"$f":"+SUM(Poblacion!AF28,Poblacion!AH28,Poblacion!AJ28,Poblacion!AL28,Poblacion!AN28)","v":19},{"$f":"+SUM(Poblacion!AO28,Poblacion!AQ28,Poblacion!AS28,Poblacion!AU28,Poblacion!AW28)","v":15},{"$f":"+SUM(Poblacion!AP28,Poblacion!AR28,Poblacion!AT28,Poblacion!AV28,Poblacion!AX28)","v":16},{"$f":"Poblacion!AY28","v":14},{"$f":"Poblacion!AZ28","v":16},{"$f":"Poblacion!BA28","v":18},{"$f":"Poblacion!BB28","v":19},{"$f":"Poblacion!BC28","v":17},{"$f":"Poblacion!BD28","v":17},{"$f":"Poblacion!BE28","v":14},{"$f":"Poblacion!BF28","v":16},{"$f":"Poblacion!BG28","v":14},{"$f":"Poblacion!BH28","v":14},{"$f":"Poblacion!BI28","v":12},{"$f":"Poblacion!BJ28","v":13},{"$f":"Poblacion!BK28","v":10},{"$f":"Poblacion!BL28","v":12},{"$f":"Poblacion!BM28","v":9},{"$f":"Poblacion!BN28","v":10},{"$f":"Poblacion!BO28","v":7},{"$f":"Poblacion!BP28","v":8},{"$f":"Poblacion!BQ28","v":5},{"$f":"Poblacion!BR28","v":6},{"$f":"Poblacion!BS28","v":4},{"$f":"Poblacion!BT28","v":4},{"$f":"Poblacion!BU28","v":3},{"$f":"Poblacion!BV28","v":3},{"$f":"Poblacion!BW28","v":4},{"$f":"Poblacion!BX28","v":4},{"$f":"Poblacion!DM28","v":47},{"$f":"Poblacion!DN28","v":46},{"$f":"Poblacion!DO28","v":12},{"$f":"Poblacion!DP28","v":13},{"$f":"Poblacion!DQ28","v":114},{"$f":"Poblacion!DR28","v":123},{"$f":"Poblacion!DS28","v":23},{"$f":"Poblacion!DT28","v":25}]
[null,null,null,null,null,null,null,null,null,null,null,null,null,null,null,null,null,null,null,null,null,null,null,null,null,null,null,null,null,null,null,null,null,null,null,null,null,null,null,null,null,null,null,null,"DE 18 A 59 AÑOS",401,-430,null,"DE 18 A 59 AÑOS",{"$f":"VLOOKUP($T$48,$BB$13:$CT$99,42,FALSE)","v":401},{"$f":"VLOOKUP($T$48,$BB$13:$CT$99,43,FALSE)","v":430},null,"01",22,"P.S. EL SOCORRO",{"$f":"Poblacion!F29","v":14892},{"$f":"+SUM(Poblacion!K29,Poblacion!M29,Poblacion!O29,Poblacion!Q29,Poblacion!S29)","v":515},{"$f":"+SUM(Poblacion!L29,Poblacion!N29,Poblacion!P29,Poblacion!R29,Poblacion!T29)","v":494},{"$f":"SUM(Poblacion!U29,Poblacion!W29,Poblacion!Y29,Poblacion!AA29,Poblacion!AC29)","v":650},{"$f":"SUM(Poblacion!V29,Poblacion!X29,Poblacion!Z29,Poblacion!AB29,Poblacion!AD29)","v":636},{"$f":"+SUM(Poblacion!AE29,Poblacion!AG29,Poblacion!AI29,Poblacion!AK29,Poblacion!AM29)","v":631},{"$f":"+SUM(Poblacion!AF29,Poblacion!AH29,Poblacion!AJ29,Poblacion!AL29,Poblacion!AN29)","v":671},{"$f":"+SUM(Poblacion!AO29,Poblacion!AQ29,Poblacion!AS29,Poblacion!AU29,Poblacion!AW29)","v":545},{"$f":"+SUM(Poblacion!AP29,Poblacion!AR29,Poblacion!AT29,Poblacion!AV29,Poblacion!AX29)","v":617},{"$f":"Poblacion!AY29","v":535},{"$f":"Poblacion!AZ29","v":579},{"$f":"Poblacion!BA29","v":663},{"$f":"Poblacion!BB29","v":704},{"$f":"Poblacion!BC29","v":620},{"$f":"Poblacion!BD29","v":635},{"$f":"Poblacion!BE29","v":528},{"$f":"Poblacion!BF29","v":587},{"$f":"Poblacion!BG29","v":510},{"$f":"Poblacion!BH29","v":529},{"$f":"Poblacion!BI29","v":426},{"$f":"Poblacion!BJ29","v":496},{"$f":"Poblacion!BK29","v":369},{"$f":"Poblacion!BL29","v":445},{"$f":"Poblacion!BM29","v":323},{"$f":"Poblacion!BN29","v":370},{"$f":"Poblacion!BO29","v":274},{"$f":"Poblacion!BP29","v":286},{"$f":"Poblacion!BQ29","v":199},{"$f":"Poblacion!BR29","v":218},{"$f":"Poblacion!BS29","v":151},{"$f":"Poblacion!BT29","v":164},{"$f":"Poblacion!BU29","v":107},{"$f":"Poblacion!BV29","v":112},{"$f":"Poblacion!BW29","v":138},{"$f":"Poblacion!BX29","v":165},{"$f":"Poblacion!DM29","v":1678},{"$f":"Poblacion!DN29","v":1675},{"$f":"Poblacion!DO29","v":445},{"$f":"Poblacion!DP29","v":505},{"$f":"Poblacion!DQ29","v":4192},{"$f":"Poblacion!DR29","v":4583},{"$f":"Poblacion!DS29","v":869},{"$f":"Poblacion!DT29","v":945}]
[null,null,null,null,null,null,null,null,null,null,null,null,null,null,null,null,null,null,null,null,null,null,null,null,null,null,null,null,null,null,null,null,null,null,null,null,null,null,null,null,null,null,null,null,"DE 60 A MAS AÑOS",143,{"$f":"-AY35","v":-154},null,"DE 60 A MAS AÑOS",{"$f":"VLOOKUP($T$48,$BB$13:$CT$99,44,FALSE)","v":143},{"$f":"VLOOKUP($T$48,$BB$13:$CT$99,45,FALSE)","v":154},null,null,23,"DISTRITO LEONCIO PRADO",{"$f":"Poblacion!F30","v":2234},{"$f":"+SUM(Poblacion!K30,Poblacion!M30,Poblacion!O30,Poblacion!Q30,Poblacion!S30)","v":99},{"$f":"+SUM(Poblacion!L30,Poblacion!N30,Poblacion!P30,Poblacion!R30,Poblacion!T30)","v":78},{"$f":"SUM(Poblacion!U30,Poblacion!W30,Poblacion!Y30,Poblacion!AA30,Poblacion!AC30)","v":64},{"$f":"SUM(Poblacion!V30,Poblacion!X30,Poblacion!Z30,Poblacion!AB30,Poblacion!AD30)","v":77},{"$f":"+SUM(Poblacion!AE30,Poblacion!AG30,Poblacion!AI30,Poblacion!AK30,Poblacion!AM30)","v":73},{"$f":"+SUM(Poblacion!AF30,Poblacion!AH30,Poblacion!AJ30,Poblacion!AL30,Poblacion!AN30)","v":94},{"$f":"+SUM(Poblacion!AO30,Poblacion!AQ30,Poblacion!AS30,Poblacion!AU30,Poblacion!AW30)","v":94},{"$f":"+SUM(Poblacion!AP30,Poblacion!AR30,Poblacion!AT30,Poblacion!AV30,Poblacion!AX30)","v":93},{"$f":"Poblacion!AY30","v":99},{"$f":"Poblacion!AZ30","v":108},{"$f":"Poblacion!BA30","v":65},{"$f":"Poblacion!BB30","v":87},{"$f":"Poblacion!BC30","v":91},{"$f":"Poblacion!BD30","v":81},{"$f":"Poblacion!BE30","v":77},{"$f":"Poblacion!BF30","v":81},{"$f":"Poblacion!BG30","v":71},{"$f":"Poblacion!BH30","v":66},{"$f":"Poblacion!BI30","v":71},{"$f":"Poblacion!BJ30","v":70},{"$f":"Poblacion!BK30","v":54},{"$f":"Poblacion!BL30","v":61},{"$f":"Poblacion!BM30","v":50},{"$f":"Poblacion!BN30","v":43},{"$f":"Poblacion!BO30","v":46},{"$f":"Poblacion!BP30","v":51},{"$f":"Poblacion!BQ30","v":51},{"$f":"Poblacion!BR30","v":55},{"$f":"Poblacion!BS30","v":27},{"$f":"Poblacion!BT30","v":26},{"$f":"Poblacion!BU30","v":20},{"$f":"Poblacion!BV30","v":28},{"$f":"Poblacion!BW30","v":34},{"$f":"Poblacion!BX30","v":49},{"$f":"Poblacion!DM30","v":223},{"$f":"Poblacion!DN30","v":229},{"$f":"Poblacion!DO30","v":67},{"$f":"Poblacion!DP30","v":76},{"$f":"Poblacion!DQ30","v":618},{"$f":"Poblacion!DR30","v":634},{"$f":"Poblacion!DS30","v":178},{"$f":"Poblacion!DT30","v":209}]
[null,null,null,null,null,null,null,null,null,null,null,null,null,null,null,null,null,null,null,null,null,null,null,null,null,null,null,null,null,null,null,null,null,null,null,null,null,null,null,null,null,null,null,null,null,null,null,null,null,null,null,null,"03",24,"P.S. AUQUIMARCA",{"$f":"Poblacion!F31","v":118},{"$f":"+SUM(Poblacion!K31,Poblacion!M31,Poblacion!O31,Poblacion!Q31,Poblacion!S31)","v":5},{"$f":"+SUM(Poblacion!L31,Poblacion!N31,Poblacion!P31,Poblacion!R31,Poblacion!T31)","v":5},{"$f":"SUM(Poblacion!U31,Poblacion!W31,Poblacion!Y31,Poblacion!AA31,Poblacion!AC31)","v":5},{"$f":"SUM(Poblacion!V31,Poblacion!X31,Poblacion!Z31,Poblacion!AB31,Poblacion!AD31)","v":4},{"$f":"+SUM(Poblacion!AE31,Poblacion!AG31,Poblacion!AI31,Poblacion!AK31,Poblacion!AM31)","v":5},{"$f":"+SUM(Poblacion!AF31,Poblacion!AH31,Poblacion!AJ31,Poblacion!AL31,Poblacion!AN31)","v":5},{"$f":"+SUM(Poblacion!AO31,Poblacion!AQ31,Poblacion!AS31,Poblacion!AU31,Poblacion!AW31)","v":5},{"$f":"+SUM(Poblacion!AP31,Poblacion!AR31,Poblacion!AT31,Poblacion!AV31,Poblacion!AX31)","v":5},{"$f":"Poblacion!AY31","v":5},{"$f":"Poblacion!AZ31","v":5},{"$f":"Poblacion!BA31","v":3},{"$f":"Poblacion!BB31","v":4},{"$f":"Poblacion!BC31","v":5},{"$f":"Poblacion!BD31","v":4},{"$f":"Poblacion!BE31","v":4},{"$f":"Poblacion!BF31","v":4},{"$f":"Poblacion!BG31","v":4},{"$f":"Poblacion!BH31","v":3},{"$f":"Poblacion!BI31","v":4},{"$f":"Poblacion!BJ31","v":4},{"$f":"Poblacion!BK31","v":3},{"$f":"Poblacion!BL31","v":3},{"$f":"Poblacion!BM31","v":3},{"$f":"Poblacion!BN31","v":2},{"$f":"Poblacion!BO31","v":2},{"$f":"Poblacion!BP31","v":3},{"$f":"Poblacion!BQ31","v":3},{"$f":"Poblacion!BR31","v":3},{"$f":"Poblacion!BS31","v":1},{"$f":"Poblacion!BT31","v":1},{"$f":"Poblacion!BU31","v":1},{"$f":"Poblacion!BV31","v":1},{"$f":"Poblacion!BW31","v":2},{"$f":"Poblacion!BX31","v":2},{"$f":"Poblacion!DM31","v":14},{"$f":"Poblacion!DN31","v":13},{"$f":"Poblacion!DO31","v":4},{"$f":"Poblacion!DP31","v":4},{"$f":"Poblacion!DQ31","v":33},{"$f":"Poblacion!DR31","v":31},{"$f":"Poblacion!DS31","v":9},{"$f":"Poblacion!DT31","v":10}]
[null,null,null,null,null,null,null,null,null,null,null,null,null,null,null,null,null,null,null,null,null,null,null,null,null,null,null,null,null,null,null,null,null,null,null,null,null,null,null,null,null,null,null,null,null,null,null,null,null,null,null,null,"03",25,"P.S. PARAN",{"$f":"Poblacion!F32","v":778},{"$f":"+SUM(Poblacion!K32,Poblacion!M32,Poblacion!O32,Poblacion!Q32,Poblacion!S32)","v":35},{"$f":"+SUM(Poblacion!L32,Poblacion!N32,Poblacion!P32,Poblacion!R32,Poblacion!T32)","v":26},{"$f":"SUM(Poblacion!U32,Poblacion!W32,Poblacion!Y32,Poblacion!AA32,Poblacion!AC32)","v":20},{"$f":"SUM(Poblacion!V32,Poblacion!X32,Poblacion!Z32,Poblacion!AB32,Poblacion!AD32)","v":27},{"$f":"+SUM(Poblacion!AE32,Poblacion!AG32,Poblacion!AI32,Poblacion!AK32,Poblacion!AM32)","v":24},{"$f":"+SUM(Poblacion!AF32,Poblacion!AH32,Poblacion!AJ32,Poblacion!AL32,Poblacion!AN32)","v":33},{"$f":"+SUM(Poblacion!AO32,Poblacion!AQ32,Poblacion!AS32,Poblacion!AU32,Poblacion!AW32)","v":34},{"$f":"+SUM(Poblacion!AP32,Poblacion!AR32,Poblacion!AT32,Poblacion!AV32,Poblacion!AX32)","v":33},{"$f":"Poblacion!AY32","v":35},{"$f":"Poblacion!AZ32","v":38},{"$f":"Poblacion!BA32","v":23},{"$f":"Poblacion!BB32","v":30},{"$f":"Poblacion!BC32","v":32},{"$f":"Poblacion!BD32","v":28},{"$f":"Poblacion!BE32","v":27},{"$f":"Poblacion!BF32","v":28},{"$f":"Poblacion!BG32","v":25},{"$f":"Poblacion!BH32","v":23},{"$f":"Poblacion!BI32","v":25},{"$f":"Poblacion!BJ32","v":25},{"$f":"Poblacion!BK32","v":19},{"$f":"Poblacion!BL32","v":21},{"$f":"Poblacion!BM32","v":18},{"$f":"Poblacion!BN32","v":15},{"$f":"Poblacion!BO32","v":16},{"$f":"Poblacion!BP32","v":18},{"$f":"Poblacion!BQ32","v":18},{"$f":"Poblacion!BR32","v":19},{"$f":"Poblacion!BS32","v":9},{"$f":"Poblacion!BT32","v":9},{"$f":"Poblacion!BU32","v":7},{"$f":"Poblacion!BV32","v":10},{"$f":"Poblacion!BW32","v":11},{"$f":"Poblacion!BX32","v":17},{"$f":"Poblacion!DM32","v":75},{"$f":"Poblacion!DN32","v":79},{"$f":"Poblacion!DO32","v":24},{"$f":"Poblacion!DP32","v":27},{"$f":"Poblacion!DQ32","v":218},{"$f":"Poblacion!DR32","v":221},{"$f":"Poblacion!DS32","v":61},{"$f":"Poblacion!DT32","v":73}]
[null,null,null,null,null,null,null,null,null,null,null,null,null,null,null,null,null,null,null,null,null,null,null,null,null,null,null,null,null,null,null,null,null,null,null,null,null,null,null,null,null,null,null,null,null,null,null,null,null,null,null,null,"03",26,"P.S. SANTA CRUZ",{"$f":"Poblacion!F33","v":447},{"$f":"+SUM(Poblacion!K33,Poblacion!M33,Poblacion!O33,Poblacion!Q33,Poblacion!S33)","v":21},{"$f":"+SUM(Poblacion!L33,Poblacion!N33,Poblacion!P33,Poblacion!R33,Poblacion!T33)","v":16},{"$f":"SUM(Poblacion!U33,Poblacion!W33,Poblacion!Y33,Poblacion!AA33,Poblacion!AC33)","v":14},{"$f":"SUM(Poblacion!V33,Poblacion!X33,Poblacion!Z33,Poblacion!AB33,Poblacion!AD33)","v":15},{"$f":"+SUM(Poblacion!AE33,Poblacion!AG33,Poblacion!AI33,Poblacion!AK33,Poblacion!AM33)","v":15},{"$f":"+SUM(Poblacion!AF33,Poblacion!AH33,Poblacion!AJ33,Poblacion!AL33,Poblacion!AN33)","v":20},{"$f":"+SUM(Poblacion!AO33,Poblacion!AQ33,Poblacion!AS33,Poblacion!AU33,Poblacion!AW33)","v":18},{"$f":"+SUM(Poblacion!AP33,Poblacion!AR33,Poblacion!AT33,Poblacion!AV33,Poblacion!AX33)","v":18},{"$f":"Poblacion!AY33","v":20},{"$f":"Poblacion!AZ33","v":22},{"$f":"Poblacion!BA33","v":13},{"$f":"Poblacion!BB33","v":17},{"$f":"Poblacion!BC33","v":18},{"$f":"Poblacion!BD33","v":16},{"$f":"Poblacion!BE33","v":15},{"$f":"Poblacion!BF33","v":16},{"$f":"Poblacion!BG33","v":14},{"$f":"Poblacion!BH33","v":13},{"$f":"Poblacion!BI33","v":14},{"$f":"Poblacion!BJ33","v":14},{"$f":"Poblacion!BK33","v":11},{"$f":"Poblacion!BL33","v":12},{"$f":"Poblacion!BM33","v":10},{"$f":"Poblacion!BN33","v":9},{"$f":"Poblacion!BO33","v":9},{"$f":"Poblacion!BP33","v":10},{"$f":"Poblacion!BQ33","v":10},{"$f":"Poblacion!BR33","v":11},{"$f":"Poblacion!BS33","v":5},{"$f":"Poblacion!BT33","v":5},{"$f":"Poblacion!BU33","v":4},{"$f":"Poblacion!BV33","v":6},{"$f":"Poblacion!BW33","v":7},{"$f":"Poblacion!BX33","v":9},{"$f":"Poblacion!DM33","v":47},{"$f":"Poblacion!DN33","v":47},{"$f":"Poblacion!DO33","v":13},{"$f":"Poblacion!DP33","v":15},{"$f":"Poblacion!DQ33","v":123},{"$f":"Poblacion!DR33","v":126},{"$f":"Poblacion!DS33","v":35},{"$f":"Poblacion!DT33","v":41}]
[null,null,null,null,null,null,null,null,null,null,null,null,null,null,null,null,null,null,null,null,null,null,null,null,null,null,null,null,null,null,null,null,null,null,null,null,null,null,null,null,null,null,null,null,null,null,null,null,null,null,null,null,"03",27,"P.S. HUANANGUI",{"$f":"Poblacion!F34","v":891},{"$f":"+SUM(Poblacion!K34,Poblacion!M34,Poblacion!O34,Poblacion!Q34,Poblacion!S34)","v":38},{"$f":"+SUM(Poblacion!L34,Poblacion!N34,Poblacion!P34,Poblacion!R34,Poblacion!T34)","v":31},{"$f":"SUM(Poblacion!U34,Poblacion!W34,Poblacion!Y34,Poblacion!AA34,Poblacion!AC34)","v":25},{"$f":"SUM(Poblacion!V34,Poblacion!X34,Poblacion!Z34,Poblacion!AB34,Poblacion!AD34)","v":31},{"$f":"+SUM(Poblacion!AE34,Poblacion!AG34,Poblacion!AI34,Poblacion!AK34,Poblacion!AM34)","v":29},{"$f":"+SUM(Poblacion!AF34,Poblacion!AH34,Poblacion!AJ34,Poblacion!AL34,Poblacion!AN34)","v":36},{"$f":"+SUM(Poblacion!AO34,Poblacion!AQ34,Poblacion!AS34,Poblacion!AU34,Poblacion!AW34)","v":37},{"$f":"+SUM(Poblacion!AP34,Poblacion!AR34,Poblacion!AT34,Poblacion!AV34,Poblacion!AX34)","v":37},{"$f":"Poblacion!AY34","v":39},{"$f":"Poblacion!AZ34","v":43},{"$f":"Poblacion!BA34","v":26},{"$f":"Poblacion!BB34","v":36},{"$f":"Poblacion!BC34","v":36},{"$f":"Poblacion!BD34","v":33},{"$f":"Poblacion!BE34","v":31},{"$f":"Poblacion!BF34","v":33},{"$f":"Poblacion!BG34","v":28},{"$f":"Poblacion!BH34","v":27},{"$f":"Poblacion!BI34","v":28},{"$f":"Poblacion!BJ34","v":27},{"$f":"Poblacion!BK34","v":21},{"$f":"Poblacion!BL34","v":25},{"$f":"Poblacion!BM34","v":19},{"$f":"Poblacion!BN34","v":17},{"$f":"Poblacion!BO34","v":19},{"$f":"Poblacion!BP34","v":20},{"$f":"Poblacion!BQ34","v":20},{"$f":"Poblacion!BR34","v":22},{"$f":"Poblacion!BS34","v":12},{"$f":"Poblacion!BT34","v":11},{"$f":"Poblacion!BU34","v":8},{"$f":"Poblacion!BV34","v":11},{"$f":"Poblacion!BW34","v":14},{"$f":"Poblacion!BX34","v":21},{"$f":"Poblacion!DM34","v":87},{"$f":"Poblacion!DN34","v":90},{"$f":"Poblacion!DO34","v":26},{"$f":"Poblacion!DP34","v":30},{"$f":"Poblacion!DQ34","v":244},{"$f":"Poblacion!DR34","v":256},{"$f":"Poblacion!DS34","v":73},{"$f":"Poblacion!DT34","v":85}]
[null,null,null,null,null,null,null,null,null,null,null,null,null,null,null,null,null,null,null,null,null,null,null,null,null,null,null,null,null,null,null,null,null,null,null,null,null,null,null,null,null,null,null,null,null,null,null,null,null,null,null,null,null,28,"DISTRITO PACCHO",{"$f":"Poblacion!F35","v":1516},{"$f":"+SUM(Poblacion!K35,Poblacion!M35,Poblacion!O35,Poblacion!Q35,Poblacion!S35)","v":30},{"$f":"+SUM(Poblacion!L35,Poblacion!N35,Poblacion!P35,Poblacion!R35,Poblacion!T35)","v":28},{"$f":"SUM(Poblacion!U35,Poblacion!W35,Poblacion!Y35,Poblacion!AA35,Poblacion!AC35)","v":43},{"$f":"SUM(Poblacion!V35,Poblacion!X35,Poblacion!Z35,Poblacion!AB35,Poblacion!AD35)","v":46},{"$f":"+SUM(Poblacion!AE35,Poblacion!AG35,Poblacion!AI35,Poblacion!AK35,Poblacion!AM35)","v":49},{"$f":"+SUM(Poblacion!AF35,Poblacion!AH35,Poblacion!AJ35,Poblacion!AL35,Poblacion!AN35)","v":48},{"$f":"+SUM(Poblacion!AO35,Poblacion!AQ35,Poblacion!AS35,Poblacion!AU35,Poblacion!AW35)","v":52},{"$f":"+SUM(Poblacion!AP35,Poblacion!AR35,Poblacion!AT35,Poblacion!AV35,Poblacion!AX35)","v":47},{"$f":"Poblacion!AY35","v":39},{"$f":"Poblacion!AZ35","v":52},{"$f":"Poblacion!BA35","v":40},{"$f":"Poblacion!BB35","v":45},{"$f":"Poblacion!BC35","v":38},{"$f":"Poblacion!BD35","v":40},{"$f":"Poblacion!BE35","v":46},{"$f":"Poblacion!BF35","v":34},{"$f":"Poblacion!BG35","v":37},{"$f":"Poblacion!BH35","v":40},{"$f":"Poblacion!BI35","v":49},{"$f":"Poblacion!BJ35","v":49},{"$f":"Poblacion!BK35","v":49},{"$f":"Poblacion!BL35","v":64},{"$f":"Poblacion!BM35","v":49},{"$f":"Poblacion!BN35","v":47},{"$f":"Poblacion!BO35","v":41},{"$f":"Poblacion!BP35","v":41},{"$f":"Poblacion!BQ35","v":40},{"$f":"Poblacion!BR35","v":40},{"$f":"Poblacion!BS35","v":30},{"$f":"Poblacion!BT35","v":39},{"$f":"Poblacion!BU35","v":40},{"$f":"Poblacion!BV35","v":45},{"$f":"Poblacion!BW35","v":63},{"$f":"Poblacion!BX35","v":76},{"$f":"Poblacion!DM35","v":110},{"$f":"Poblacion!DN35","v":110},{"$f":"Poblacion!DO35","v":45},{"$f":"Poblacion!DP35","v":38},{"$f":"Poblacion!DQ35","v":366},{"$f":"Poblacion!DR35","v":392},{"$f":"Poblacion!DS35","v":214},{"$f":"Poblacion!DT35","v":241}]
[null,null,null,null,null,null,null,null,null,null,null,null,null,null,null,null,null,null,null,null,null,null,null,null,null,null,null,null,null,null,null,null,null,null,null,null,null,null,null,null,null,null,null,null,null,null,null,null,null,null,null,null,"05",29,"P.S. PACCHO",{"$f":"Poblacion!F36","v":597},{"$f":"+SUM(Poblacion!K36,Poblacion!M36,Poblacion!O36,Poblacion!Q36,Poblacion!S36)","v":11},{"$f":"+SUM(Poblacion!L36,Poblacion!N36,Poblacion!P36,Poblacion!R36,Poblacion!T36)","v":10},{"$f":"SUM(Poblacion!U36,Poblacion!W36,Poblacion!Y36,Poblacion!AA36,Poblacion!AC36)","v":19},{"$f":"SUM(Poblacion!V36,Poblacion!X36,Poblacion!Z36,Poblacion!AB36,Poblacion!AD36)","v":18},{"$f":"+SUM(Poblacion!AE36,Poblacion!AG36,Poblacion!AI36,Poblacion!AK36,Poblacion!AM36)","v":18},{"$f":"+SUM(Poblacion!AF36,Poblacion!AH36,Poblacion!AJ36,Poblacion!AL36,Poblacion!AN36)","v":18},{"$f":"+SUM(Poblacion!AO36,Poblacion!AQ36,Poblacion!AS36,Poblacion!AU36,Poblacion!AW36)","v":20},{"$f":"+SUM(Poblacion!AP36,Poblacion!AR36,Poblacion!AT36,Poblacion!AV36,Poblacion!AX36)","v":18},{"$f":"Poblacion!AY36","v":15},{"$f":"Poblacion!AZ36","v":20},{"$f":"Poblacion!BA36","v":16},{"$f":"Poblacion!BB36","v":17},{"$f":"Poblacion!BC36","v":15},{"$f":"Poblacion!BD36","v":16},{"$f":"Poblacion!BE36","v":18},{"$f":"Poblacion!BF36","v":14},{"$f":"Poblacion!BG36","v":14},{"$f":"Poblacion!BH36","v":16},{"$f":"Poblacion!BI36","v":20},{"$f":"Poblacion!BJ36","v":20},{"$f":"Poblacion!BK36","v":20},{"$f":"Poblacion!BL36","v":25},{"$f":"Poblacion!BM36","v":20},{"$f":"Poblacion!BN36","v":19},{"$f":"Poblacion!BO36","v":17},{"$f":"Poblacion!BP36","v":17},{"$f":"Poblacion!BQ36","v":16},{"$f":"Poblacion!BR36","v":16},{"$f":"Poblacion!BS36","v":11},{"$f":"Poblacion!BT36","v":15},{"$f":"Poblacion!BU36","v":16},{"$f":"Poblacion!BV36","v":17},{"$f":"Poblacion!BW36","v":24},{"$f":"Poblacion!BX36","v":31},{"$f":"Poblacion!DM36","v":44},{"$f":"Poblacion!DN36","v":42},{"$f":"Poblacion!DO36","v":17},{"$f":"Poblacion!DP36","v":14},{"$f":"Poblacion!DQ36","v":145},{"$f":"Poblacion!DR36","v":155},{"$f":"Poblacion!DS36","v":84},{"$f":"Poblacion!DT36","v":96}]
[null,null,null,null,null,null,null,null,null,null,null,null,null,null,null,null,null,null,null,null,null,null,null,null,null,null,null,null,null,null,null,null,null,null,null,null,null,null,null,null,null,null,null,null,null,null,null,null,null,null,null,null,"05",30,"P.S. LACSANGA",{"$f":"Poblacion!F37","v":457},{"$f":"+SUM(Poblacion!K37,Poblacion!M37,Poblacion!O37,Poblacion!Q37,Poblacion!S37)","v":9},{"$f":"+SUM(Poblacion!L37,Poblacion!N37,Poblacion!P37,Poblacion!R37,Poblacion!T37)","v":8},{"$f":"SUM(Poblacion!U37,Poblacion!W37,Poblacion!Y37,Poblacion!AA37,Poblacion!AC37)","v":12},{"$f":"SUM(Poblacion!V37,Poblacion!X37,Poblacion!Z37,Poblacion!AB37,Poblacion!AD37)","v":14},{"$f":"+SUM(Poblacion!AE37,Poblacion!AG37,Poblacion!AI37,Poblacion!AK37,Poblacion!AM37)","v":15},{"$f":"+SUM(Poblacion!AF37,Poblacion!AH37,Poblacion!AJ37,Poblacion!AL37,Poblacion!AN37)","v":14},{"$f":"+SUM(Poblacion!AO37,Poblacion!AQ37,Poblacion!AS37,Poblacion!AU37,Poblacion!AW37)","v":16},{"$f":"+SUM(Poblacion!AP37,Poblacion!AR37,Poblacion!AT37,Poblacion!AV37,Poblacion!AX37)","v":15},{"$f":"Poblacion!AY37","v":12},{"$f":"Poblacion!AZ37","v":16},{"$f":"Poblacion!BA37","v":12},{"$f":"Poblacion!BB37","v":14},{"$f":"Poblacion!BC37","v":11},{"$f":"Poblacion!BD37","v":12},{"$f":"Poblacion!BE37","v":14},{"$f":"Poblacion!BF37","v":10},{"$f":"Poblacion!BG37","v":11},{"$f":"Poblacion!BH37","v":12},{"$f":"Poblacion!BI37","v":15},{"$f":"Poblacion!BJ37","v":15},{"$f":"Poblacion!BK37","v":15},{"$f":"Poblacion!BL37","v":19},{"$f":"Poblacion!BM37","v":15},{"$f":"Poblacion!BN37","v":14},{"$f":"Poblacion!BO37","v":12},{"$f":"Poblacion!BP37","v":12},{"$f":"Poblacion!BQ37","v":12},{"$f":"Poblacion!BR37","v":12},{"$f":"Poblacion!BS37","v":9},{"$f":"Poblacion!BT37","v":12},{"$f":"Poblacion!BU37","v":12},{"$f":"Poblacion!BV37","v":14},{"$f":"Poblacion!BW37","v":19},{"$f":"Poblacion!BX37","v":23},{"$f":"Poblacion!DM37","v":32},{"$f":"Poblacion!DN37","v":32},{"$f":"Poblacion!DO37","v":14},{"$f":"Poblacion!DP37","v":12},{"$f":"Poblacion!DQ37","v":111},{"$f":"Poblacion!DR37","v":119},{"$f":"Poblacion!DS37","v":64},{"$f":"Poblacion!DT37","v":73}]
[null,null,null,null,null,null,null,null,null,null,null,null,null,null,null,null,null,null,null,null,null,null,null,null,null,null,null,null,null,null,null,null,null,null,null,null,null,null,null,null,null,null,null,null,null,null,null,null,null,null,null,null,"05",31,"P.S. MUZGA",{"$f":"Poblacion!F38","v":231},{"$f":"+SUM(Poblacion!K38,Poblacion!M38,Poblacion!O38,Poblacion!Q38,Poblacion!S38)","v":5},{"$f":"+SUM(Poblacion!L38,Poblacion!N38,Poblacion!P38,Poblacion!R38,Poblacion!T38)","v":5},{"$f":"SUM(Poblacion!U38,Poblacion!W38,Poblacion!Y38,Poblacion!AA38,Poblacion!AC38)","v":6},{"$f":"SUM(Poblacion!V38,Poblacion!X38,Poblacion!Z38,Poblacion!AB38,Poblacion!AD38)","v":7},{"$f":"+SUM(Poblacion!AE38,Poblacion!AG38,Poblacion!AI38,Poblacion!AK38,Poblacion!AM38)","v":8},{"$f":"+SUM(Poblacion!AF38,Poblacion!AH38,Poblacion!AJ38,Poblacion!AL38,Poblacion!AN38)","v":8},{"$f":"+SUM(Poblacion!AO38,Poblacion!AQ38,Poblacion!AS38,Poblacion!AU38,Poblacion!AW38)","v":8},{"$f":"+SUM(Poblacion!AP38,Poblacion!AR38,Poblacion!AT38,Poblacion!AV38,Poblacion!AX38)","v":7},{"$f":"Poblacion!AY38","v":6},{"$f":"Poblacion!AZ38","v":8},{"$f":"Poblacion!BA38","v":6},{"$f":"Poblacion!BB38","v":7},{"$f":"Poblacion!BC38","v":6},{"$f":"Poblacion!BD38","v":6},{"$f":"Poblacion!BE38","v":7},{"$f":"Poblacion!BF38","v":5},{"$f":"Poblacion!BG38","v":6},{"$f":"Poblacion!BH38","v":6},{"$f":"Poblacion!BI38","v":7},{"$f":"Poblacion!BJ38","v":7},{"$f":"Poblacion!BK38","v":7},{"$f":"Poblacion!BL38","v":10},{"$f":"Poblacion!BM38","v":7},{"$f":"Poblacion!BN38","v":7},{"$f":"Poblacion!BO38","v":6},{"$f":"Poblacion!BP38","v":6},{"$f":"Poblacion!BQ38","v":6},{"$f":"Poblacion!BR38","v":6},{"$f":"Poblacion!BS38","v":5},{"$f":"Poblacion!BT38","v":6},{"$f":"Poblacion!BU38","v":6},{"$f":"Poblacion!BV38","v":7},{"$f":"Poblacion!BW38","v":10},{"$f":"Poblacion!BX38","v":11},{"$f":"Poblacion!DM38","v":17},{"$f":"Poblacion!DN38","v":18},{"$f":"Poblacion!DO38","v":7},{"$f":"Poblacion!DP38","v":6},{"$f":"Poblacion!DQ38","v":55},{"$f":"Poblacion!DR38","v":59},{"$f":"Poblacion!DS38","v":33},{"$f":"Poblacion!DT38","v":36}]
[null,null,null,null,null,null,null,null,null,null,null,null,null,null,null,null,null,null,null,null,null,null,null,null,null,null,null,null,null,null,null,null,null,null,null,null,null,null,null,null,null,null,null,null,null,null,null,null,null,null,null,null,"05",32,"P.S. AYARANGA",{"$f":"Poblacion!F39","v":231},{"$f":"+SUM(Poblacion!K39,Poblacion!M39,Poblacion!O39,Poblacion!Q39,Poblacion!S39)","v":5},{"$f":"+SUM(Poblacion!L39,Poblacion!N39,Poblacion!P39,Poblacion!R39,Poblacion!T39)","v":5},{"$f":"SUM(Poblacion!U39,Poblacion!W39,Poblacion!Y39,Poblacion!AA39,Poblacion!AC39)","v":6},{"$f":"SUM(Poblacion!V39,Poblacion!X39,Poblacion!Z39,Poblacion!AB39,Poblacion!AD39)","v":7},{"$f":"+SUM(Poblacion!AE39,Poblacion!AG39,Poblacion!AI39,Poblacion!AK39,Poblacion!AM39)","v":8},{"$f":"+SUM(Poblacion!AF39,Poblacion!AH39,Poblacion!AJ39,Poblacion!AL39,Poblacion!AN39)","v":8},{"$f":"+SUM(Poblacion!AO39,Poblacion!AQ39,Poblacion!AS39,Poblacion!AU39,Poblacion!AW39)","v":8},{"$f":"+SUM(Poblacion!AP39,Poblacion!AR39,Poblacion!AT39,Poblacion!AV39,Poblacion!AX39)","v":7},{"$f":"Poblacion!AY39","v":6},{"$f":"Poblacion!AZ39","v":8},{"$f":"Poblacion!BA39","v":6},{"$f":"Poblacion!BB39","v":7},{"$f":"Poblacion!BC39","v":6},{"$f":"Poblacion!BD39","v":6},{"$f":"Poblacion!BE39","v":7},{"$f":"Poblacion!BF39","v":5},{"$f":"Poblacion!BG39","v":6},{"$f":"Poblacion!BH39","v":6},{"$f":"Poblacion!BI39","v":7},{"$f":"Poblacion!BJ39","v":7},{"$f":"Poblacion!BK39","v":7},{"$f":"Poblacion!BL39","v":10},{"$f":"Poblacion!BM39","v":7},{"$f":"Poblacion!BN39","v":7},{"$f":"Poblacion!BO39","v":6},{"$f":"Poblacion!BP39","v":6},{"$f":"Poblacion!BQ39","v":6},{"$f":"Poblacion!BR39","v":6},{"$f":"Poblacion!BS39","v":5},{"$f":"Poblacion!BT39","v":6},{"$f":"Poblacion!BU39","v":6},{"$f":"Poblacion!BV39","v":7},{"$f":"Poblacion!BW39","v":10},{"$f":"Poblacion!BX39","v":11},{"$f":"Poblacion!DM39","v":17},{"$f":"Poblacion!DN39","v":18},{"$f":"Poblacion!DO39","v":7},{"$f":"Poblacion!DP39","v":6},{"$f":"Poblacion!DQ39","v":55},{"$f":"Poblacion!DR39","v":59},{"$f":"Poblacion!DS39","v":33},{"$f":"Poblacion!DT39","v":36}]
[null,null,null,"    PIRAMIDE POBLACIONAL ESPECIAL - ESTRATEGIA DE PREVENCIÓN Y CONTROL DE  CANCER",null,null,null,null,null,null,null,null,null,null,null,null,null,null,null,null,null,null,null,null,null,null,null,null,null,null,null,null,null,null,null,null,null,null,null,null,null,null,null,null,null,null,null,null,null,null,null,null,null,33,"DISTRITO SANTA LEONOR",{"$f":"Poblacion!F40","v":996},{"$f":"+SUM(Poblacion!K40,Poblacion!M40,Poblacion!O40,Poblacion!Q40,Poblacion!S40)","v":36},{"$f":"+SUM(Poblacion!L40,Poblacion!N40,Poblacion!P40,Poblacion!R40,Poblacion!T40)","v":28},{"$f":"SUM(Poblacion!U40,Poblacion!W40,Poblacion!Y40,Poblacion!AA40,Poblacion!AC40)","v":28},{"$f":"SUM(Poblacion!V40,Poblacion!X40,Poblacion!Z40,Poblacion!AB40,Poblacion!AD40)","v":27},{"$f":"+SUM(Poblacion!AE40,Poblacion!AG40,Poblacion!AI40,Poblacion!AK40,Poblacion!AM40)","v":32},{"$f":"+SUM(Poblacion!AF40,Poblacion!AH40,Poblacion!AJ40,Poblacion!AL40,Poblacion!AN40)","v":40},{"$f":"+SUM(Poblacion!AO40,Poblacion!AQ40,Poblacion!AS40,Poblacion!AU40,Poblacion!AW40)","v":38},{"$f":"+SUM(Poblacion!AP40,Poblacion!AR40,Poblacion!AT40,Poblacion!AV40,Poblacion!AX40)","v":33},{"$f":"Poblacion!AY40","v":29},{"$f":"Poblacion!AZ40","v":26},{"$f":"Poblacion!BA40","v":32},{"$f":"Poblacion!BB40","v":36},{"$f":"Poblacion!BC40","v":29},{"$f":"Poblacion!BD40","v":40},{"$f":"Poblacion!BE40","v":33},{"$f":"Poblacion!BF40","v":25},{"$f":"Poblacion!BG40","v":26},{"$f":"Poblacion!BH40","v":32},{"$f":"Poblacion!BI40","v":24},{"$f":"Poblacion!BJ40","v":29},{"$f":"Poblacion!BK40","v":29},{"$f":"Poblacion!BL40","v":28},{"$f":"Poblacion!BM40","v":29},{"$f":"Poblacion!BN40","v":26},{"$f":"Poblacion!BO40","v":31},{"$f":"Poblacion!BP40","v":32},{"$f":"Poblacion!BQ40","v":28},{"$f":"Poblacion!BR40","v":25},{"$f":"Poblacion!BS40","v":22},{"$f":"Poblacion!BT40","v":15},{"$f":"Poblacion!BU40","v":18},{"$f":"Poblacion!BV40","v":28},{"$f":"Poblacion!BW40","v":26},{"$f":"Poblacion!BX40","v":36},{"$f":"Poblacion!DM40","v":90},{"$f":"Poblacion!DN40","v":88},{"$f":"Poblacion!DO40","v":30},{"$f":"Poblacion!DP40","v":26},{"$f":"Poblacion!DQ40","v":245},{"$f":"Poblacion!DR40","v":256},{"$f":"Poblacion!DS40","v":125},{"$f":"Poblacion!DT40","v":136}]
[null,null,null,null,null,null,null,null,null,null,null,null,null,null,null,null,null,null,null,{"$f":"UPPER(\"Piramide Poblacional 2024 - \" &$B$15)","v":"PIRAMIDE POBLACIONAL 2024 - DISTRITO CAUJUL"},null,null,null,null,null,null,null,null,null,null,null,null,null,null,null,null,null,null,null,null,null,null,null,null,null,null,null,null,null,null,null,null,"05",34,"P.S. CHIUCHIN",{"$f":"Poblacion!F41","v":651},{"$f":"+SUM(Poblacion!K41,Poblacion!M41,Poblacion!O41,Poblacion!Q41,Poblacion!S41)","v":25},{"$f":"+SUM(Poblacion!L41,Poblacion!N41,Poblacion!P41,Poblacion!R41,Poblacion!T41)","v":18},{"$f":"SUM(Poblacion!U41,Poblacion!W41,Poblacion!Y41,Poblacion!AA41,Poblacion!AC41)","v":19},{"$f":"SUM(Poblacion!V41,Poblacion!X41,Poblacion!Z41,Poblacion!AB41,Poblacion!AD41)","v":18},{"$f":"+SUM(Poblacion!AE41,Poblacion!AG41,Poblacion!AI41,Poblacion!AK41,Poblacion!AM41)","v":21},{"$f":"+SUM(Poblacion!AF41,Poblacion!AH41,Poblacion!AJ41,Poblacion!AL41,Poblacion!AN41)","v":28},{"$f":"+SUM(Poblacion!AO41,Poblacion!AQ41,Poblacion!AS41,Poblacion!AU41,Poblacion!AW41)","v":24},{"$f":"+SUM(Poblacion!AP41,Poblacion!AR41,Poblacion!AT41,Poblacion!AV41,Poblacion!AX41)","v":21},{"$f":"Poblacion!AY41","v":19},{"$f":"Poblacion!AZ41","v":17},{"$f":"Poblacion!BA41","v":21},{"$f":"Poblacion!BB41","v":24},{"$f":"Poblacion!BC41","v":19},{"$f":"Poblacion!BD41","v":26},{"$f":"Poblacion!BE41","v":21},{"$f":"Poblacion!BF41","v":16},{"$f":"Poblacion!BG41","v":17},{"$f":"Poblacion!BH41","v":21},{"$f":"Poblacion!BI41","v":15},{"$f":"Poblacion!BJ41","v":19},{"$f":"Poblacion!BK41","v":19},{"$f":"Poblacion!BL41","v":18},{"$f":"Poblacion!BM41","v":19},{"$f":"Poblacion!BN41","v":17},{"$f":"Poblacion!BO41","v":20},{"$f":"Poblacion!BP41","v":21},{"$f":"Poblacion!BQ41","v":18},{"$f":"Poblacion!BR41","v":16},{"$f":"Poblacion!BS41","v":15},{"$f":"Poblacion!BT41","v":10},{"$f":"Poblacion!BU41","v":11},{"$f":"Poblacion!BV41","v":18},{"$f":"Poblacion!BW41","v":17},{"$f":"Poblacion!BX41","v":23},{"$f":"Poblacion!DM41","v":61},{"$f":"Poblacion!DN41","v":59},{"$f":"Poblacion!DO41","v":19},{"$f":"Poblacion!DP41","v":17},{"$f":"Poblacion!DQ41","v":159},{"$f":"Poblacion!DR41","v":167},{"$f":"Poblacion!DS41","v":81},{"$f":"Poblacion!DT41","v":88}]
[null,null,null,null,null,null,null,null,null,null,null,null,null,null,null,null,null,null,null,null,null,null,null,null,null,null,null,null,null,null,null,null,null,null,null,null,null,null,null,null,null,null,null,null,null,null,null,null,null,null,null,null,"05",35,"P.S. PARQUIN",{"$f":"Poblacion!F42","v":199},{"$f":"+SUM(Poblacion!K42,Poblacion!M42,Poblacion!O42,Poblacion!Q42,Poblacion!S42)","v":7},{"$f":"+SUM(Poblacion!L42,Poblacion!N42,Poblacion!P42,Poblacion!R42,Poblacion!T42)","v":6},{"$f":"SUM(Poblacion!U42,Poblacion!W42,Poblacion!Y42,Poblacion!AA42,Poblacion!AC42)","v":6},{"$f":"SUM(Poblacion!V42,Poblacion!X42,Poblacion!Z42,Poblacion!AB42,Poblacion!AD42)","v":6},{"$f":"+SUM(Poblacion!AE42,Poblacion!AG42,Poblacion!AI42,Poblacion!AK42,Poblacion!AM42)","v":6},{"$f":"+SUM(Poblacion!AF42,Poblacion!AH42,Poblacion!AJ42,Poblacion!AL42,Poblacion!AN42)","v":6},{"$f":"+SUM(Poblacion!AO42,Poblacion!AQ42,Poblacion!AS42,Poblacion!AU42,Poblacion!AW42)","v":8},{"$f":"+SUM(Poblacion!AP42,Poblacion!AR42,Poblacion!AT42,Poblacion!AV42,Poblacion!AX42)","v":7},{"$f":"Poblacion!AY42","v":6},{"$f":"Poblacion!AZ42","v":5},{"$f":"Poblacion!BA42","v":6},{"$f":"Poblacion!BB42","v":7},{"$f":"Poblacion!BC42","v":6},{"$f":"Poblacion!BD42","v":8},{"$f":"Poblacion!BE42","v":7},{"$f":"Poblacion!BF42","v":5},{"$f":"Poblacion!BG42","v":5},{"$f":"Poblacion!BH42","v":6},{"$f":"Poblacion!BI42","v":5},{"$f":"Poblacion!BJ42","v":6},{"$f":"Poblacion!BK42","v":6},{"$f":"Poblacion!BL42","v":6},{"$f":"Poblacion!BM42","v":6},{"$f":"Poblacion!BN42","v":5},{"$f":"Poblacion!BO42","v":6},{"$f":"Poblacion!BP42","v":6},{"$f":"Poblacion!BQ42","v":6},{"$f":"Poblacion!BR42","v":5},{"$f":"Poblacion!BS42","v":4},{"$f":"Poblacion!BT42","v":3},{"$f":"Poblacion!BU42","v":4},{"$f":"Poblacion!BV42","v":6},{"$f":"Poblacion!BW42","v":5},{"$f":"Poblacion!BX42","v":7},{"$f":"Poblacion!DM42","v":18},{"$f":"Poblacion!DN42","v":17},{"$f":"Poblacion!DO42","v":6},{"$f":"Poblacion!DP42","v":5},{"$f":"Poblacion!DQ42","v":50},{"$f":"Poblacion!DR42","v":51},{"$f":"Poblacion!DS42","v":25},{"$f":"Poblacion!DT42","v":27}]
[null,null,null,null,null,null,null,null,null,null,null,null,null,null,null,null,null,null,null,78,null,null,null,null,null,null,null,null,null,null,null,null,null,null,null,null,null,null,null,null,null,null,null,null,null,null,null,null,null,null,null,null,"05",36,"P.S. JUCUL",{"$f":"Poblacion!F43","v":146},{"$f":"+SUM(Poblacion!K43,Poblacion!M43,Poblacion!O43,Poblacion!Q43,Poblacion!S43)","v":4},{"$f":"+SUM(Poblacion!L43,Poblacion!N43,Poblacion!P43,Poblacion!R43,Poblacion!T43)","v":4},{"$f":"SUM(Poblacion!U43,Poblacion!W43,Poblacion!Y43,Poblacion!AA43,Poblacion!AC43)","v":3},{"$f":"SUM(Poblacion!V43,Poblacion!X43,Poblacion!Z43,Poblacion!AB43,Poblacion!AD43)","v":3},{"$f":"+SUM(Poblacion!AE43,Poblacion!AG43,Poblacion!AI43,Poblacion!AK43,Poblacion!AM43)","v":5},{"$f":"+SUM(Poblacion!AF43,Poblacion!AH43,Poblacion!AJ43,Poblacion!AL43,Poblacion!AN43)","v":6},{"$f":"+SUM(Poblacion!AO43,Poblacion!AQ43,Poblacion!AS43,Poblacion!AU43,Poblacion!AW43)","v":6},{"$f":"+SUM(Poblacion!AP43,Poblacion!AR43,Poblacion!AT43,Poblacion!AV43,Poblacion!AX43)","v":5},{"$f":"Poblacion!AY43","v":4},{"$f":"Poblacion!AZ43","v":4},{"$f":"Poblacion!BA43","v":5},{"$f":"Poblacion!BB43","v":5},{"$f":"Poblacion!BC43","v":4},{"$f":"Poblacion!BD43","v":6},{"$f":"Poblacion!BE43","v":5},{"$f":"Poblacion!BF43","v":4},{"$f":"Poblacion!BG43","v":4},{"$f":"Poblacion!BH43","v":5},{"$f":"Poblacion!BI43","v":4},{"$f":"Poblacion!BJ43","v":4},{"$f":"Poblacion!BK43","v":4},{"$f":"Poblacion!BL43","v":4},{"$f":"Poblacion!BM43","v":4},{"$f":"Poblacion!BN43","v":4},{"$f":"Poblacion!BO43","v":5},{"$f":"Poblacion!BP43","v":5},{"$f":"Poblacion!BQ43","v":4},{"$f":"Poblacion!BR43","v":4},{"$f":"Poblacion!BS43","v":3},{"$f":"Poblacion!BT43","v":2},{"$f":"Poblacion!BU43","v":3},{"$f":"Poblacion!BV43","v":4},{"$f":"Poblacion!BW43","v":4},{"$f":"Poblacion!BX43","v":6},{"$f":"Poblacion!DM43","v":11},{"$f":"Poblacion!DN43","v":12},{"$f":"Poblacion!DO43","v":5},{"$f":"Poblacion!DP43","v":4},{"$f":"Poblacion!DQ43","v":36},{"$f":"Poblacion!DR43","v":38},{"$f":"Poblacion!DS43","v":19},{"$f":"Poblacion!DT43","v":21}]
[null,null,null,null,null,null,null,null,null,null,null,null,null,null,null,null,null,null,null,null,null,null,null,null,null,null,null,null,null,null,null,null,null,null,null,null,null,null,null,null,null,null,null,null,null,null,null,null,null,null,null,null,null,37,"DISTRITO SANTA MARIA",{"$f":"Poblacion!F44","v":43646},{"$f":"+SUM(Poblacion!K44,Poblacion!M44,Poblacion!O44,Poblacion!Q44,Poblacion!S44)","v":1688},{"$f":"+SUM(Poblacion!L44,Poblacion!N44,Poblacion!P44,Poblacion!R44,Poblacion!T44)","v":1678},{"$f":"SUM(Poblacion!U44,Poblacion!W44,Poblacion!Y44,Poblacion!AA44,Poblacion!AC44)","v":1850},{"$f":"SUM(Poblacion!V44,Poblacion!X44,Poblacion!Z44,Poblacion!AB44,Poblacion!AD44)","v":1981},{"$f":"+SUM(Poblacion!AE44,Poblacion!AG44,Poblacion!AI44,Poblacion!AK44,Poblacion!AM44)","v":1822},{"$f":"+SUM(Poblacion!AF44,Poblacion!AH44,Poblacion!AJ44,Poblacion!AL44,Poblacion!AN44)","v":1807},{"$f":"+SUM(Poblacion!AO44,Poblacion!AQ44,Poblacion!AS44,Poblacion!AU44,Poblacion!AW44)","v":1612},{"$f":"+SUM(Poblacion!AP44,Poblacion!AR44,Poblacion!AT44,Poblacion!AV44,Poblacion!AX44)","v":1696},{"$f":"Poblacion!AY44","v":1725},{"$f":"Poblacion!AZ44","v":1709},{"$f":"Poblacion!BA44","v":1847},{"$f":"Poblacion!BB44","v":2033},{"$f":"Poblacion!BC44","v":1594},{"$f":"Poblacion!BD44","v":1828},{"$f":"Poblacion!BE44","v":1518},{"$f":"Poblacion!BF44","v":1708},{"$f":"Poblacion!BG44","v":1378},{"$f":"Poblacion!BH44","v":1481},{"$f":"Poblacion!BI44","v":1235},{"$f":"Poblacion!BJ44","v":1391},{"$f":"Poblacion!BK44","v":1103},{"$f":"Poblacion!BL44","v":1177},{"$f":"Poblacion!BM44","v":904},{"$f":"Poblacion!BN44","v":986},{"$f":"Poblacion!BO44","v":747},{"$f":"Poblacion!BP44","v":862},{"$f":"Poblacion!BQ44","v":622},{"$f":"Poblacion!BR44","v":690},{"$f":"Poblacion!BS44","v":525},{"$f":"Poblacion!BT44","v":599},{"$f":"Poblacion!BU44","v":385},{"$f":"Poblacion!BV44","v":438},{"$f":"Poblacion!BW44","v":502},{"$f":"Poblacion!BX44","v":525},{"$f":"Poblacion!DM44","v":5000},{"$f":"Poblacion!DN44","v":5130},{"$f":"Poblacion!DO44","v":1351},{"$f":"Poblacion!DP44","v":1353},{"$f":"Poblacion!DQ44","v":11925},{"$f":"Poblacion!DR44","v":12992},{"$f":"Poblacion!DS44","v":2781},{"$f":"Poblacion!DT44","v":3114}]
[null,null,null,null,null,null,null,null,null,null,null,null,null,null,null,null,null,null,null,null,null,null,null,null,null,null,null,null,null,null,null,null,null,null,null,null,null,null,null,null,null,null,null,null,null,null,null,null,null,null,null,null,null,38,"---"]
[null,null,null,null,null,null,null,null,null,null,null,null,null,null,null,null,null,null,null,null,null,null,null,null,null,null,null,null,null,null,null,null,null,null,null,null,null,null,null,null,null,null,null,null,null,null,null,null,null,null,null,null,"02",39,"C.S. SANTA MARIA",{"$f":"Poblacion!F45","v":11783},{"$f":"+SUM(Poblacion!K45,Poblacion!M45,Poblacion!O45,Poblacion!Q45,Poblacion!S45)","v":455},{"$f":"+SUM(Poblacion!L45,Poblacion!N45,Poblacion!P45,Poblacion!R45,Poblacion!T45)","v":452},{"$f":"SUM(Poblacion!U45,Poblacion!W45,Poblacion!Y45,Poblacion!AA45,Poblacion!AC45)","v":499},{"$f":"SUM(Poblacion!V45,Poblacion!X45,Poblacion!Z45,Poblacion!AB45,Poblacion!AD45)","v":535},{"$f":"+SUM(Poblacion!AE45,Poblacion!AG45,Poblacion!AI45,Poblacion!AK45,Poblacion!AM45)","v":492},{"$f":"+SUM(Poblacion!AF45,Poblacion!AH45,Poblacion!AJ45,Poblacion!AL45,Poblacion!AN45)","v":489},{"$f":"+SUM(Poblacion!AO45,Poblacion!AQ45,Poblacion!AS45,Poblacion!AU45,Poblacion!AW45)","v":435},{"$f":"+SUM(Poblacion!AP45,Poblacion!AR45,Poblacion!AT45,Poblacion!AV45,Poblacion!AX45)","v":457},{"$f":"Poblacion!AY45","v":466},{"$f":"Poblacion!AZ45","v":461},{"$f":"Poblacion!BA45","v":499},{"$f":"Poblacion!BB45","v":549},{"$f":"Poblacion!BC45","v":430},{"$f":"Poblacion!BD45","v":494},{"$f":"Poblacion!BE45","v":410},{"$f":"Poblacion!BF45","v":461},{"$f":"Poblacion!BG45","v":372},{"$f":"Poblacion!BH45","v":400},{"$f":"Poblacion!BI45","v":333},{"$f":"Poblacion!BJ45","v":376},{"$f":"Poblacion!BK45","v":298},{"$f":"Poblacion!BL45","v":318},{"$f":"Poblacion!BM45","v":244},{"$f":"Poblacion!BN45","v":266},{"$f":"Poblacion!BO45","v":202},{"$f":"Poblacion!BP45","v":233},{"$f":"Poblacion!BQ45","v":168},{"$f":"Poblacion!BR45","v":186},{"$f":"Poblacion!BS45","v":142},{"$f":"Poblacion!BT45","v":162},{"$f":"Poblacion!BU45","v":104},{"$f":"Poblacion!BV45","v":118},{"$f":"Poblacion!BW45","v":136},{"$f":"Poblacion!BX45","v":141},{"$f":"Poblacion!DM45","v":1349},{"$f":"Poblacion!DN45","v":1385},{"$f":"Poblacion!DO45","v":364},{"$f":"Poblacion!DP45","v":365},{"$f":"Poblacion!DQ45","v":3220},{"$f":"Poblacion!DR45","v":3508},{"$f":"Poblacion!DS45","v":752},{"$f":"Poblacion!DT45","v":840}]
[null,null,null,null,null,null,null,null,null,null,null,null,null,null,null,null,null,null,null,null,null,null,null,null,null,null,null,null,null,null,null,null,null,null,null,null,null,null,null,null,null,null,null,null,null,null,null,null,null,null,null,null,"02",40,"P.S. CHONTA",{"$f":"Poblacion!F46","v":6550},{"$f":"+SUM(Poblacion!K46,Poblacion!M46,Poblacion!O46,Poblacion!Q46,Poblacion!S46)","v":253},{"$f":"+SUM(Poblacion!L46,Poblacion!N46,Poblacion!P46,Poblacion!R46,Poblacion!T46)","v":252},{"$f":"SUM(Poblacion!U46,Poblacion!W46,Poblacion!Y46,Poblacion!AA46,Poblacion!AC46)","v":278},{"$f":"SUM(Poblacion!V46,Poblacion!X46,Poblacion!Z46,Poblacion!AB46,Poblacion!AD46)","v":297},{"$f":"+SUM(Poblacion!AE46,Poblacion!AG46,Poblacion!AI46,Poblacion!AK46,Poblacion!AM46)","v":273},{"$f":"+SUM(Poblacion!AF46,Poblacion!AH46,Poblacion!AJ46,Poblacion!AL46,Poblacion!AN46)","v":272},{"$f":"+SUM(Poblacion!AO46,Poblacion!AQ46,Poblacion!AS46,Poblacion!AU46,Poblacion!AW46)","v":242},{"$f":"+SUM(Poblacion!AP46,Poblacion!AR46,Poblacion!AT46,Poblacion!AV46,Poblacion!AX46)","v":254},{"$f":"Poblacion!AY46","v":259},{"$f":"Poblacion!AZ46","v":256},{"$f":"Poblacion!BA46","v":277},{"$f":"Poblacion!BB46","v":305},{"$f":"Poblacion!BC46","v":239},{"$f":"Poblacion!BD46","v":274},{"$f":"Poblacion!BE46","v":228},{"$f":"Poblacion!BF46","v":256},{"$f":"Poblacion!BG46","v":207},{"$f":"Poblacion!BH46","v":222},{"$f":"Poblacion!BI46","v":185},{"$f":"Poblacion!BJ46","v":209},{"$f":"Poblacion!BK46","v":165},{"$f":"Poblacion!BL46","v":177},{"$f":"Poblacion!BM46","v":136},{"$f":"Poblacion!BN46","v":148},{"$f":"Poblacion!BO46","v":112},{"$f":"Poblacion!BP46","v":129},{"$f":"Poblacion!BQ46","v":93},{"$f":"Poblacion!BR46","v":104},{"$f":"Poblacion!BS46","v":79},{"$f":"Poblacion!BT46","v":90},{"$f":"Poblacion!BU46","v":58},{"$f":"Poblacion!BV46","v":66},{"$f":"Poblacion!BW46","v":76},{"$f":"Poblacion!BX46","v":79},{"$f":"Poblacion!DM46","v":750},{"$f":"Poblacion!DN46","v":771},{"$f":"Poblacion!DO46","v":203},{"$f":"Poblacion!DP46","v":202},{"$f":"Poblacion!DQ46","v":1789},{"$f":"Poblacion!DR46","v":1949},{"$f":"Poblacion!DS46","v":418},{"$f":"Poblacion!DT46","v":468}]
[null,null,null,null,null,null,null,null,null,null,null,null,null,null,null,null,null,null,null,null,null,null,null,null,null,null,null,null,null,null,null,null,null,null,null,null,null,null,null,null,null,null,null,null,null,null,null,null,null,null,null,null,"02",41,"P.S. 1RO DE MAYO",{"$f":"Poblacion!F47","v":13535},{"$f":"+SUM(Poblacion!K47,Poblacion!M47,Poblacion!O47,Poblacion!Q47,Poblacion!S47)","v":525},{"$f":"+SUM(Poblacion!L47,Poblacion!N47,Poblacion!P47,Poblacion!R47,Poblacion!T47)","v":522},{"$f":"SUM(Poblacion!U47,Poblacion!W47,Poblacion!Y47,Poblacion!AA47,Poblacion!AC47)","v":574},{"$f":"SUM(Poblacion!V47,Poblacion!X47,Poblacion!Z47,Poblacion!AB47,Poblacion!AD47)","v":615},{"$f":"+SUM(Poblacion!AE47,Poblacion!AG47,Poblacion!AI47,Poblacion!AK47,Poblacion!AM47)","v":565},{"$f":"+SUM(Poblacion!AF47,Poblacion!AH47,Poblacion!AJ47,Poblacion!AL47,Poblacion!AN47)","v":559},{"$f":"+SUM(Poblacion!AO47,Poblacion!AQ47,Poblacion!AS47,Poblacion!AU47,Poblacion!AW47)","v":500},{"$f":"+SUM(Poblacion!AP47,Poblacion!AR47,Poblacion!AT47,Poblacion!AV47,Poblacion!AX47)","v":528},{"$f":"Poblacion!AY47","v":534},{"$f":"Poblacion!AZ47","v":530},{"$f":"Poblacion!BA47","v":573},{"$f":"Poblacion!BB47","v":630},{"$f":"Poblacion!BC47","v":495},{"$f":"Poblacion!BD47","v":566},{"$f":"Poblacion!BE47","v":470},{"$f":"Poblacion!BF47","v":530},{"$f":"Poblacion!BG47","v":427},{"$f":"Poblacion!BH47","v":459},{"$f":"Poblacion!BI47","v":384},{"$f":"Poblacion!BJ47","v":431},{"$f":"Poblacion!BK47","v":342},{"$f":"Poblacion!BL47","v":364},{"$f":"Poblacion!BM47","v":280},{"$f":"Poblacion!BN47","v":306},{"$f":"Poblacion!BO47","v":232},{"$f":"Poblacion!BP47","v":267},{"$f":"Poblacion!BQ47","v":193},{"$f":"Poblacion!BR47","v":214},{"$f":"Poblacion!BS47","v":162},{"$f":"Poblacion!BT47","v":185},{"$f":"Poblacion!BU47","v":119},{"$f":"Poblacion!BV47","v":136},{"$f":"Poblacion!BW47","v":155},{"$f":"Poblacion!BX47","v":163},{"$f":"Poblacion!DM47","v":1552},{"$f":"Poblacion!DN47","v":1591},{"$f":"Poblacion!DO47","v":420},{"$f":"Poblacion!DP47","v":422},{"$f":"Poblacion!DQ47","v":3697},{"$f":"Poblacion!DR47","v":4027},{"$f":"Poblacion!DS47","v":861},{"$f":"Poblacion!DT47","v":965}]
[null,null,null,null,null,null,null,null,null,null,null,null,null,null,null,null,null,null,null,null,null,null,null,null,null,null,null,null,null,null,null,null,null,null,null,null,null,null,null,null,null,null,null,null,null,null,null,null,null,null,null,null,"02",42,"P.S. ZAPATA",{"$f":"Poblacion!F48","v":3923},{"$f":"+SUM(Poblacion!K48,Poblacion!M48,Poblacion!O48,Poblacion!Q48,Poblacion!S48)","v":152},{"$f":"+SUM(Poblacion!L48,Poblacion!N48,Poblacion!P48,Poblacion!R48,Poblacion!T48)","v":150},{"$f":"SUM(Poblacion!U48,Poblacion!W48,Poblacion!Y48,Poblacion!AA48,Poblacion!AC48)","v":165},{"$f":"SUM(Poblacion!V48,Poblacion!X48,Poblacion!Z48,Poblacion!AB48,Poblacion!AD48)","v":178},{"$f":"+SUM(Poblacion!AE48,Poblacion!AG48,Poblacion!AI48,Poblacion!AK48,Poblacion!AM48)","v":164},{"$f":"+SUM(Poblacion!AF48,Poblacion!AH48,Poblacion!AJ48,Poblacion!AL48,Poblacion!AN48)","v":162},{"$f":"+SUM(Poblacion!AO48,Poblacion!AQ48,Poblacion!AS48,Poblacion!AU48,Poblacion!AW48)","v":145},{"$f":"+SUM(Poblacion!AP48,Poblacion!AR48,Poblacion!AT48,Poblacion!AV48,Poblacion!AX48)","v":152},{"$f":"Poblacion!AY48","v":155},{"$f":"Poblacion!AZ48","v":154},{"$f":"Poblacion!BA48","v":166},{"$f":"Poblacion!BB48","v":183},{"$f":"Poblacion!BC48","v":143},{"$f":"Poblacion!BD48","v":165},{"$f":"Poblacion!BE48","v":137},{"$f":"Poblacion!BF48","v":154},{"$f":"Poblacion!BG48","v":124},{"$f":"Poblacion!BH48","v":133},{"$f":"Poblacion!BI48","v":111},{"$f":"Poblacion!BJ48","v":125},{"$f":"Poblacion!BK48","v":99},{"$f":"Poblacion!BL48","v":106},{"$f":"Poblacion!BM48","v":81},{"$f":"Poblacion!BN48","v":89},{"$f":"Poblacion!BO48","v":67},{"$f":"Poblacion!BP48","v":78},{"$f":"Poblacion!BQ48","v":56},{"$f":"Poblacion!BR48","v":62},{"$f":"Poblacion!BS48","v":47},{"$f":"Poblacion!BT48","v":54},{"$f":"Poblacion!BU48","v":35},{"$f":"Poblacion!BV48","v":39},{"$f":"Poblacion!BW48","v":45},{"$f":"Poblacion!BX48","v":47},{"$f":"Poblacion!DM48","v":449},{"$f":"Poblacion!DN48","v":460},{"$f":"Poblacion!DO48","v":121},{"$f":"Poblacion!DP48","v":121},{"$f":"Poblacion!DQ48","v":1072},{"$f":"Poblacion!DR48","v":1170},{"$f":"Poblacion!DS48","v":250},{"$f":"Poblacion!DT48","v":280}]
[null,null,null,null,null,null,null,null,null,null,null,null,null,null,null,null,null,null,null,null,null,null,null,null,null,null,null,null,null,null,null,null,null,null,null,null,null,null,null,null,null,null,null,null,null,null,null,null,null,null,null,null,"02",43,"P.S. SAN BARTOLOME",{"$f":"Poblacion!F49","v":7855},{"$f":"+SUM(Poblacion!K49,Poblacion!M49,Poblacion!O49,Poblacion!Q49,Poblacion!S49)","v":303},{"$f":"+SUM(Poblacion!L49,Poblacion!N49,Poblacion!P49,Poblacion!R49,Poblacion!T49)","v":302},{"$f":"SUM(Poblacion!U49,Poblacion!W49,Poblacion!Y49,Poblacion!AA49,Poblacion!AC49)","v":334},{"$f":"SUM(Poblacion!V49,Poblacion!X49,Poblacion!Z49,Poblacion!AB49,Poblacion!AD49)","v":356},{"$f":"+SUM(Poblacion!AE49,Poblacion!AG49,Poblacion!AI49,Poblacion!AK49,Poblacion!AM49)","v":328},{"$f":"+SUM(Poblacion!AF49,Poblacion!AH49,Poblacion!AJ49,Poblacion!AL49,Poblacion!AN49)","v":325},{"$f":"+SUM(Poblacion!AO49,Poblacion!AQ49,Poblacion!AS49,Poblacion!AU49,Poblacion!AW49)","v":290},{"$f":"+SUM(Poblacion!AP49,Poblacion!AR49,Poblacion!AT49,Poblacion!AV49,Poblacion!AX49)","v":305},{"$f":"Poblacion!AY49","v":311},{"$f":"Poblacion!AZ49","v":308},{"$f":"Poblacion!BA49","v":332},{"$f":"Poblacion!BB49","v":366},{"$f":"Poblacion!BC49","v":287},{"$f":"Poblacion!BD49","v":329},{"$f":"Poblacion!BE49","v":273},{"$f":"Poblacion!BF49","v":307},{"$f":"Poblacion!BG49","v":248},{"$f":"Poblacion!BH49","v":267},{"$f":"Poblacion!BI49","v":222},{"$f":"Poblacion!BJ49","v":250},{"$f":"Poblacion!BK49","v":199},{"$f":"Poblacion!BL49","v":212},{"$f":"Poblacion!BM49","v":163},{"$f":"Poblacion!BN49","v":177},{"$f":"Poblacion!BO49","v":134},{"$f":"Poblacion!BP49","v":155},{"$f":"Poblacion!BQ49","v":112},{"$f":"Poblacion!BR49","v":124},{"$f":"Poblacion!BS49","v":95},{"$f":"Poblacion!BT49","v":108},{"$f":"Poblacion!BU49","v":69},{"$f":"Poblacion!BV49","v":79},{"$f":"Poblacion!BW49","v":90},{"$f":"Poblacion!BX49","v":95},{"$f":"Poblacion!DM49","v":900},{"$f":"Poblacion!DN49","v":923},{"$f":"Poblacion!DO49","v":243},{"$f":"Poblacion!DP49","v":243},{"$f":"Poblacion!DQ49","v":2147},{"$f":"Poblacion!DR49","v":2338},{"$f":"Poblacion!DS49","v":500},{"$f":"Poblacion!DT49","v":561}]
[null,null,null,null,null,null,null,null,null,null,null,null,null,null,null,null,null,null,null,null,null,null,null,null,null,null,null,null,null,null,null,null,null,null,null,null,null,null,null,null,null,null,null,null,null,null,null,null,null,null,null,null,null,44,"DISTRITO SAYAN",{"$f":"Poblacion!F50","v":26719},{"$f":"+SUM(Poblacion!K50,Poblacion!M50,Poblacion!O50,Poblacion!Q50,Poblacion!S50)","v":981},{"$f":"+SUM(Poblacion!L50,Poblacion!N50,Poblacion!P50,Poblacion!R50,Poblacion!T50)","v":960},{"$f":"SUM(Poblacion!U50,Poblacion!W50,Poblacion!Y50,Poblacion!AA50,Poblacion!AC50)","v":1151},{"$f":"SUM(Poblacion!V50,Poblacion!X50,Poblacion!Z50,Poblacion!AB50,Poblacion!AD50)","v":1242},{"$f":"+SUM(Poblacion!AE50,Poblacion!AG50,Poblacion!AI50,Poblacion!AK50,Poblacion!AM50)","v":1159},{"$f":"+SUM(Poblacion!AF50,Poblacion!AH50,Poblacion!AJ50,Poblacion!AL50,Poblacion!AN50)","v":1155},{"$f":"+SUM(Poblacion!AO50,Poblacion!AQ50,Poblacion!AS50,Poblacion!AU50,Poblacion!AW50)","v":1054},{"$f":"+SUM(Poblacion!AP50,Poblacion!AR50,Poblacion!AT50,Poblacion!AV50,Poblacion!AX50)","v":1191},{"$f":"Poblacion!AY50","v":961},{"$f":"Poblacion!AZ50","v":1134},{"$f":"Poblacion!BA50","v":1123},{"$f":"Poblacion!BB50","v":1238},{"$f":"Poblacion!BC50","v":969},{"$f":"Poblacion!BD50","v":1141},{"$f":"Poblacion!BE50","v":975},{"$f":"Poblacion!BF50","v":1041},{"$f":"Poblacion!BG50","v":863},{"$f":"Poblacion!BH50","v":960},{"$f":"Poblacion!BI50","v":808},{"$f":"Poblacion!BJ50","v":828},{"$f":"Poblacion!BK50","v":646},{"$f":"Poblacion!BL50","v":697},{"$f":"Poblacion!BM50","v":563},{"$f":"Poblacion!BN50","v":623},{"$f":"Poblacion!BO50","v":490},{"$f":"Poblacion!BP50","v":454},{"$f":"Poblacion!BQ50","v":372},{"$f":"Poblacion!BR50","v":395},{"$f":"Poblacion!BS50","v":309},{"$f":"Poblacion!BT50","v":263},{"$f":"Poblacion!BU50","v":215},{"$f":"Poblacion!BV50","v":220},{"$f":"Poblacion!BW50","v":263},{"$f":"Poblacion!BX50","v":275},{"$f":"Poblacion!DM50","v":3057},{"$f":"Poblacion!DN50","v":3131},{"$f":"Poblacion!DO50","v":867},{"$f":"Poblacion!DP50","v":962},{"$f":"Poblacion!DQ50","v":7329},{"$f":"Poblacion!DR50","v":8117},{"$f":"Poblacion!DS50","v":1649},{"$f":"Poblacion!DT50","v":1607}]
[null,null,null,null,null,null,null,null,null,null,null,null,null,null,null,null,null,null,null,null,null,null,null,null,null,null,null,null,null,null,null,null,null,null,null,null,null,null,null,null,null,null,null,null,null,null,null,null,null,null,null,null,"03",45,"P.S. 9 DE OCTUBRE",{"$f":"Poblacion!F51","v":7213},{"$f":"+SUM(Poblacion!K51,Poblacion!M51,Poblacion!O51,Poblacion!Q51,Poblacion!S51)","v":265},{"$f":"+SUM(Poblacion!L51,Poblacion!N51,Poblacion!P51,Poblacion!R51,Poblacion!T51)","v":259},{"$f":"SUM(Poblacion!U51,Poblacion!W51,Poblacion!Y51,Poblacion!AA51,Poblacion!AC51)","v":310},{"$f":"SUM(Poblacion!V51,Poblacion!X51,Poblacion!Z51,Poblacion!AB51,Poblacion!AD51)","v":337},{"$f":"+SUM(Poblacion!AE51,Poblacion!AG51,Poblacion!AI51,Poblacion!AK51,Poblacion!AM51)","v":313},{"$f":"+SUM(Poblacion!AF51,Poblacion!AH51,Poblacion!AJ51,Poblacion!AL51,Poblacion!AN51)","v":312},{"$f":"+SUM(Poblacion!AO51,Poblacion!AQ51,Poblacion!AS51,Poblacion!AU51,Poblacion!AW51)","v":285},{"$f":"+SUM(Poblacion!AP51,Poblacion!AR51,Poblacion!AT51,Poblacion!AV51,Poblacion!AX51)","v":321},{"$f":"Poblacion!AY51","v":259},{"$f":"Poblacion!AZ51","v":306},{"$f":"Poblacion!BA51","v":303},{"$f":"Poblacion!BB51","v":334},{"$f":"Poblacion!BC51","v":262},{"$f":"Poblacion!BD51","v":308},{"$f":"Poblacion!BE51","v":263},{"$f":"Poblacion!BF51","v":281},{"$f":"Poblacion!BG51","v":233},{"$f":"Poblacion!BH51","v":259},{"$f":"Poblacion!BI51","v":218},{"$f":"Poblacion!BJ51","v":224},{"$f":"Poblacion!BK51","v":174},{"$f":"Poblacion!BL51","v":188},{"$f":"Poblacion!BM51","v":152},{"$f":"Poblacion!BN51","v":168},{"$f":"Poblacion!BO51","v":132},{"$f":"Poblacion!BP51","v":123},{"$f":"Poblacion!BQ51","v":100},{"$f":"Poblacion!BR51","v":107},{"$f":"Poblacion!BS51","v":83},{"$f":"Poblacion!BT51","v":71},{"$f":"Poblacion!BU51","v":58},{"$f":"Poblacion!BV51","v":59},{"$f":"Poblacion!BW51","v":71},{"$f":"Poblacion!BX51","v":75},{"$f":"Poblacion!DM51","v":825},{"$f":"Poblacion!DN51","v":847},{"$f":"Poblacion!DO51","v":234},{"$f":"Poblacion!DP51","v":259},{"$f":"Poblacion!DQ51","v":1978},{"$f":"Poblacion!DR51","v":2191},{"$f":"Poblacion!DS51","v":444},{"$f":"Poblacion!DT51","v":435}]
[null,null,null,null,null,null,null,null,null,null,null,null,null,null,null,null,null,null,null,null,null,null,null,null,null,null,null,null,null,null,null,null,null,null,null,null,null,null,null,null,null,null,null,null,null,null,null,null,null,null,null,null,"03",46,"P.S. LA MERCED",{"$f":"Poblacion!F52","v":1076},{"$f":"+SUM(Poblacion!K52,Poblacion!M52,Poblacion!O52,Poblacion!Q52,Poblacion!S52)","v":39},{"$f":"+SUM(Poblacion!L52,Poblacion!N52,Poblacion!P52,Poblacion!R52,Poblacion!T52)","v":40},{"$f":"SUM(Poblacion!U52,Poblacion!W52,Poblacion!Y52,Poblacion!AA52,Poblacion!AC52)","v":46},{"$f":"SUM(Poblacion!V52,Poblacion!X52,Poblacion!Z52,Poblacion!AB52,Poblacion!AD52)","v":50},{"$f":"+SUM(Poblacion!AE52,Poblacion!AG52,Poblacion!AI52,Poblacion!AK52,Poblacion!AM52)","v":47},{"$f":"+SUM(Poblacion!AF52,Poblacion!AH52,Poblacion!AJ52,Poblacion!AL52,Poblacion!AN52)","v":46},{"$f":"+SUM(Poblacion!AO52,Poblacion!AQ52,Poblacion!AS52,Poblacion!AU52,Poblacion!AW52)","v":43},{"$f":"+SUM(Poblacion!AP52,Poblacion!AR52,Poblacion!AT52,Poblacion!AV52,Poblacion!AX52)","v":49},{"$f":"Poblacion!AY52","v":38},{"$f":"Poblacion!AZ52","v":45},{"$f":"Poblacion!BA52","v":45},{"$f":"Poblacion!BB52","v":50},{"$f":"Poblacion!BC52","v":39},{"$f":"Poblacion!BD52","v":46},{"$f":"Poblacion!BE52","v":39},{"$f":"Poblacion!BF52","v":42},{"$f":"Poblacion!BG52","v":35},{"$f":"Poblacion!BH52","v":38},{"$f":"Poblacion!BI52","v":32},{"$f":"Poblacion!BJ52","v":33},{"$f":"Poblacion!BK52","v":26},{"$f":"Poblacion!BL52","v":28},{"$f":"Poblacion!BM52","v":23},{"$f":"Poblacion!BN52","v":25},{"$f":"Poblacion!BO52","v":20},{"$f":"Poblacion!BP52","v":18},{"$f":"Poblacion!BQ52","v":15},{"$f":"Poblacion!BR52","v":16},{"$f":"Poblacion!BS52","v":12},{"$f":"Poblacion!BT52","v":11},{"$f":"Poblacion!BU52","v":9},{"$f":"Poblacion!BV52","v":9},{"$f":"Poblacion!BW52","v":11},{"$f":"Poblacion!BX52","v":11},{"$f":"Poblacion!DM52","v":123},{"$f":"Poblacion!DN52","v":127},{"$f":"Poblacion!DO52","v":35},{"$f":"Poblacion!DP52","v":39},{"$f":"Poblacion!DQ52","v":294},{"$f":"Poblacion!DR52","v":326},{"$f":"Poblacion!DS52","v":67},{"$f":"Poblacion!DT52","v":65}]
[null,null,null,null,null,null,null,null,null,null,null,null,null,null,null,null,null,null,null,null,null,null,null,null,null,null,null,null,null,null,null,null,null,null,null,null,null,null,null,null,null,null,null,null,null,null,null,null,null,null,null,null,"03",47,"P.S. LA VILLA",{"$f":"Poblacion!F53","v":7747},{"$f":"+SUM(Poblacion!K53,Poblacion!M53,Poblacion!O53,Poblacion!Q53,Poblacion!S53)","v":284},{"$f":"+SUM(Poblacion!L53,Poblacion!N53,Poblacion!P53,Poblacion!R53,Poblacion!T53)","v":278},{"$f":"SUM(Poblacion!U53,Poblacion!W53,Poblacion!Y53,Poblacion!AA53,Poblacion!AC53)","v":334},{"$f":"SUM(Poblacion!V53,Poblacion!X53,Poblacion!Z53,Poblacion!AB53,Poblacion!AD53)","v":360},{"$f":"+SUM(Poblacion!AE53,Poblacion!AG53,Poblacion!AI53,Poblacion!AK53,Poblacion!AM53)","v":336},{"$f":"+SUM(Poblacion!AF53,Poblacion!AH53,Poblacion!AJ53,Poblacion!AL53,Poblacion!AN53)","v":335},{"$f":"+SUM(Poblacion!AO53,Poblacion!AQ53,Poblacion!AS53,Poblacion!AU53,Poblacion!AW53)","v":306},{"$f":"+SUM(Poblacion!AP53,Poblacion!AR53,Poblacion!AT53,Poblacion!AV53,Poblacion!AX53)","v":345},{"$f":"Poblacion!AY53","v":279},{"$f":"Poblacion!AZ53","v":329},{"$f":"Poblacion!BA53","v":326},{"$f":"Poblacion!BB53","v":359},{"$f":"Poblacion!BC53","v":281},{"$f":"Poblacion!BD53","v":331},{"$f":"Poblacion!BE53","v":283},{"$f":"Poblacion!BF53","v":302},{"$f":"Poblacion!BG53","v":250},{"$f":"Poblacion!BH53","v":278},{"$f":"Poblacion!BI53","v":234},{"$f":"Poblacion!BJ53","v":240},{"$f":"Poblacion!BK53","v":187},{"$f":"Poblacion!BL53","v":202},{"$f":"Poblacion!BM53","v":163},{"$f":"Poblacion!BN53","v":181},{"$f":"Poblacion!BO53","v":142},{"$f":"Poblacion!BP53","v":132},{"$f":"Poblacion!BQ53","v":108},{"$f":"Poblacion!BR53","v":115},{"$f":"Poblacion!BS53","v":90},{"$f":"Poblacion!BT53","v":76},{"$f":"Poblacion!BU53","v":62},{"$f":"Poblacion!BV53","v":64},{"$f":"Poblacion!BW53","v":76},{"$f":"Poblacion!BX53","v":79},{"$f":"Poblacion!DM53","v":886},{"$f":"Poblacion!DN53","v":907},{"$f":"Poblacion!DO53","v":252},{"$f":"Poblacion!DP53","v":279},{"$f":"Poblacion!DQ53","v":2125},{"$f":"Poblacion!DR53","v":2354},{"$f":"Poblacion!DS53","v":478},{"$f":"Poblacion!DT53","v":466}]
[null,null,null,null,null,null,null,null,null,null,null,null,null,null,null,null,null,null,null,null,null,null,null,null,null,null,null,null,null,null,null,null,null,null,null,null,null,null,null,null,null,null,null,null,null,null,null,null,null,null,null,null,"03",48,"P.S. EL AHORCADO",{"$f":"Poblacion!F54","v":801},{"$f":"+SUM(Poblacion!K54,Poblacion!M54,Poblacion!O54,Poblacion!Q54,Poblacion!S54)","v":29},{"$f":"+SUM(Poblacion!L54,Poblacion!N54,Poblacion!P54,Poblacion!R54,Poblacion!T54)","v":30},{"$f":"SUM(Poblacion!U54,Poblacion!W54,Poblacion!Y54,Poblacion!AA54,Poblacion!AC54)","v":35},{"$f":"SUM(Poblacion!V54,Poblacion!X54,Poblacion!Z54,Poblacion!AB54,Poblacion!AD54)","v":37},{"$f":"+SUM(Poblacion!AE54,Poblacion!AG54,Poblacion!AI54,Poblacion!AK54,Poblacion!AM54)","v":35},{"$f":"+SUM(Poblacion!AF54,Poblacion!AH54,Poblacion!AJ54,Poblacion!AL54,Poblacion!AN54)","v":35},{"$f":"+SUM(Poblacion!AO54,Poblacion!AQ54,Poblacion!AS54,Poblacion!AU54,Poblacion!AW54)","v":30},{"$f":"+SUM(Poblacion!AP54,Poblacion!AR54,Poblacion!AT54,Poblacion!AV54,Poblacion!AX54)","v":35},{"$f":"Poblacion!AY54","v":29},{"$f":"Poblacion!AZ54","v":34},{"$f":"Poblacion!BA54","v":34},{"$f":"Poblacion!BB54","v":37},{"$f":"Poblacion!BC54","v":29},{"$f":"Poblacion!BD54","v":34},{"$f":"Poblacion!BE54","v":29},{"$f":"Poblacion!BF54","v":31},{"$f":"Poblacion!BG54","v":26},{"$f":"Poblacion!BH54","v":29},{"$f":"Poblacion!BI54","v":24},{"$f":"Poblacion!BJ54","v":25},{"$f":"Poblacion!BK54","v":19},{"$f":"Poblacion!BL54","v":21},{"$f":"Poblacion!BM54","v":17},{"$f":"Poblacion!BN54","v":19},{"$f":"Poblacion!BO54","v":15},{"$f":"Poblacion!BP54","v":14},{"$f":"Poblacion!BQ54","v":11},{"$f":"Poblacion!BR54","v":12},{"$f":"Poblacion!BS54","v":9},{"$f":"Poblacion!BT54","v":8},{"$f":"Poblacion!BU54","v":6},{"$f":"Poblacion!BV54","v":7},{"$f":"Poblacion!BW54","v":8},{"$f":"Poblacion!BX54","v":8},{"$f":"Poblacion!DM54","v":92},{"$f":"Poblacion!DN54","v":95},{"$f":"Poblacion!DO54","v":25},{"$f":"Poblacion!DP54","v":28},{"$f":"Poblacion!DQ54","v":219},{"$f":"Poblacion!DR54","v":244},{"$f":"Poblacion!DS54","v":49},{"$f":"Poblacion!DT54","v":49}]
[null,null,null,null,null,null,null,null,null,null,null,null,null,null,null,null,null,null,null,null,null,null,null,null,null,null,null,null,null,null,null,null,null,null,null,null,null,null,null,null,null,null,null,null,null,null,null,null,null,null,null,null,"03",49,"C.S. SAYAN",{"$f":"Poblacion!F55","v":8280},{"$f":"+SUM(Poblacion!K55,Poblacion!M55,Poblacion!O55,Poblacion!Q55,Poblacion!S55)","v":306},{"$f":"+SUM(Poblacion!L55,Poblacion!N55,Poblacion!P55,Poblacion!R55,Poblacion!T55)","v":293},{"$f":"SUM(Poblacion!U55,Poblacion!W55,Poblacion!Y55,Poblacion!AA55,Poblacion!AC55)","v":356},{"$f":"SUM(Poblacion!V55,Poblacion!X55,Poblacion!Z55,Poblacion!AB55,Poblacion!AD55)","v":384},{"$f":"+SUM(Poblacion!AE55,Poblacion!AG55,Poblacion!AI55,Poblacion!AK55,Poblacion!AM55)","v":358},{"$f":"+SUM(Poblacion!AF55,Poblacion!AH55,Poblacion!AJ55,Poblacion!AL55,Poblacion!AN55)","v":357},{"$f":"+SUM(Poblacion!AO55,Poblacion!AQ55,Poblacion!AS55,Poblacion!AU55,Poblacion!AW55)","v":330},{"$f":"+SUM(Poblacion!AP55,Poblacion!AR55,Poblacion!AT55,Poblacion!AV55,Poblacion!AX55)","v":371},{"$f":"Poblacion!AY55","v":298},{"$f":"Poblacion!AZ55","v":352},{"$f":"Poblacion!BA55","v":347},{"$f":"Poblacion!BB55","v":384},{"$f":"Poblacion!BC55","v":300},{"$f":"Poblacion!BD55","v":354},{"$f":"Poblacion!BE55","v":303},{"$f":"Poblacion!BF55","v":323},{"$f":"Poblacion!BG55","v":267},{"$f":"Poblacion!BH55","v":298},{"$f":"Poblacion!BI55","v":252},{"$f":"Poblacion!BJ55","v":256},{"$f":"Poblacion!BK55","v":202},{"$f":"Poblacion!BL55","v":216},{"$f":"Poblacion!BM55","v":174},{"$f":"Poblacion!BN55","v":192},{"$f":"Poblacion!BO55","v":151},{"$f":"Poblacion!BP55","v":139},{"$f":"Poblacion!BQ55","v":116},{"$f":"Poblacion!BR55","v":121},{"$f":"Poblacion!BS55","v":97},{"$f":"Poblacion!BT55","v":81},{"$f":"Poblacion!BU55","v":68},{"$f":"Poblacion!BV55","v":67},{"$f":"Poblacion!BW55","v":81},{"$f":"Poblacion!BX55","v":86},{"$f":"Poblacion!DM55","v":947},{"$f":"Poblacion!DN55","v":965},{"$f":"Poblacion!DO55","v":271},{"$f":"Poblacion!DP55","v":301},{"$f":"Poblacion!DQ55","v":2275},{"$f":"Poblacion!DR55","v":2514},{"$f":"Poblacion!DS55","v":513},{"$f":"Poblacion!DT55","v":494}]
[null,null,null,null,null,null,null,null,null,null,null,null,null,null,null,null,null,null,null,null,null,null,null,null,null,null,null,null,null,null,null,null,null,null,null,null,null,null,null,null,null,null,null,null,null,null,null,null,null,null,null,null,"03",50,"P.S. CHAMBARA",{"$f":"Poblacion!F56","v":801},{"$f":"+SUM(Poblacion!K56,Poblacion!M56,Poblacion!O56,Poblacion!Q56,Poblacion!S56)","v":29},{"$f":"+SUM(Poblacion!L56,Poblacion!N56,Poblacion!P56,Poblacion!R56,Poblacion!T56)","v":30},{"$f":"SUM(Poblacion!U56,Poblacion!W56,Poblacion!Y56,Poblacion!AA56,Poblacion!AC56)","v":35},{"$f":"SUM(Poblacion!V56,Poblacion!X56,Poblacion!Z56,Poblacion!AB56,Poblacion!AD56)","v":37},{"$f":"+SUM(Poblacion!AE56,Poblacion!AG56,Poblacion!AI56,Poblacion!AK56,Poblacion!AM56)","v":35},{"$f":"+SUM(Poblacion!AF56,Poblacion!AH56,Poblacion!AJ56,Poblacion!AL56,Poblacion!AN56)","v":35},{"$f":"+SUM(Poblacion!AO56,Poblacion!AQ56,Poblacion!AS56,Poblacion!AU56,Poblacion!AW56)","v":30},{"$f":"+SUM(Poblacion!AP56,Poblacion!AR56,Poblacion!AT56,Poblacion!AV56,Poblacion!AX56)","v":35},{"$f":"Poblacion!AY56","v":29},{"$f":"Poblacion!AZ56","v":34},{"$f":"Poblacion!BA56","v":34},{"$f":"Poblacion!BB56","v":37},{"$f":"Poblacion!BC56","v":29},{"$f":"Poblacion!BD56","v":34},{"$f":"Poblacion!BE56","v":29},{"$f":"Poblacion!BF56","v":31},{"$f":"Poblacion!BG56","v":26},{"$f":"Poblacion!BH56","v":29},{"$f":"Poblacion!BI56","v":24},{"$f":"Poblacion!BJ56","v":25},{"$f":"Poblacion!BK56","v":19},{"$f":"Poblacion!BL56","v":21},{"$f":"Poblacion!BM56","v":17},{"$f":"Poblacion!BN56","v":19},{"$f":"Poblacion!BO56","v":15},{"$f":"Poblacion!BP56","v":14},{"$f":"Poblacion!BQ56","v":11},{"$f":"Poblacion!BR56","v":12},{"$f":"Poblacion!BS56","v":9},{"$f":"Poblacion!BT56","v":8},{"$f":"Poblacion!BU56","v":6},{"$f":"Poblacion!BV56","v":7},{"$f":"Poblacion!BW56","v":8},{"$f":"Poblacion!BX56","v":8},{"$f":"Poblacion!DM56","v":92},{"$f":"Poblacion!DN56","v":95},{"$f":"Poblacion!DO56","v":25},{"$f":"Poblacion!DP56","v":28},{"$f":"Poblacion!DQ56","v":219},{"$f":"Poblacion!DR56","v":244},{"$f":"Poblacion!DS56","v":49},{"$f":"Poblacion!DT56","v":49}]
[null,null,null,null,null,null,null,null,null,null,null,null,null,null,null,null,null,null,null,null,null,null,null,null,null,null,null,null,null,null,null,null,null,null,null,null,null,null,null,null,null,null,null,null,null,null,null,null,null,null,null,null,"03",51,"P.S. LA UNION",{"$f":"Poblacion!F57","v":801},{"$f":"+SUM(Poblacion!K57,Poblacion!M57,Poblacion!O57,Poblacion!Q57,Poblacion!S57)","v":29},{"$f":"+SUM(Poblacion!L57,Poblacion!N57,Poblacion!P57,Poblacion!R57,Poblacion!T57)","v":30},{"$f":"SUM(Poblacion!U57,Poblacion!W57,Poblacion!Y57,Poblacion!AA57,Poblacion!AC57)","v":35},{"$f":"SUM(Poblacion!V57,Poblacion!X57,Poblacion!Z57,Poblacion!AB57,Poblacion!AD57)","v":37},{"$f":"+SUM(Poblacion!AE57,Poblacion!AG57,Poblacion!AI57,Poblacion!AK57,Poblacion!AM57)","v":35},{"$f":"+SUM(Poblacion!AF57,Poblacion!AH57,Poblacion!AJ57,Poblacion!AL57,Poblacion!AN57)","v":35},{"$f":"+SUM(Poblacion!AO57,Poblacion!AQ57,Poblacion!AS57,Poblacion!AU57,Poblacion!AW57)","v":30},{"$f":"+SUM(Poblacion!AP57,Poblacion!AR57,Poblacion!AT57,Poblacion!AV57,Poblacion!AX57)","v":35},{"$f":"Poblacion!AY57","v":29},{"$f":"Poblacion!AZ57","v":34},{"$f":"Poblacion!BA57","v":34},{"$f":"Poblacion!BB57","v":37},{"$f":"Poblacion!BC57","v":29},{"$f":"Poblacion!BD57","v":34},{"$f":"Poblacion!BE57","v":29},{"$f":"Poblacion!BF57","v":31},{"$f":"Poblacion!BG57","v":26},{"$f":"Poblacion!BH57","v":29},{"$f":"Poblacion!BI57","v":24},{"$f":"Poblacion!BJ57","v":25},{"$f":"Poblacion!BK57","v":19},{"$f":"Poblacion!BL57","v":21},{"$f":"Poblacion!BM57","v":17},{"$f":"Poblacion!BN57","v":19},{"$f":"Poblacion!BO57","v":15},{"$f":"Poblacion!BP57","v":14},{"$f":"Poblacion!BQ57","v":11},{"$f":"Poblacion!BR57","v":12},{"$f":"Poblacion!BS57","v":9},{"$f":"Poblacion!BT57","v":8},{"$f":"Poblacion!BU57","v":6},{"$f":"Poblacion!BV57","v":7},{"$f":"Poblacion!BW57","v":8},{"$f":"Poblacion!BX57","v":8},{"$f":"Poblacion!DM57","v":92},{"$f":"Poblacion!DN57","v":95},{"$f":"Poblacion!DO57","v":25},{"$f":"Poblacion!DP57","v":28},{"$f":"Poblacion!DQ57","v":219},{"$f":"Poblacion!DR57","v":244},{"$f":"Poblacion!DS57","v":49},{"$f":"Poblacion!DT57","v":49}]
[null,null,null,null,null,null,null,null,null,null,null,null,null,null,null,null,null,null,null,null,null,null,null,null,null,null,null,null,null,null,null,null,null,null,null,null,null,null,null,null,null,null,null,null,null,null,null,null,null,null,null,null,null,52,"DISTRITO VEGUETA",{"$f":"Poblacion!F58","v":30415},{"$f":"+SUM(Poblacion!K58,Poblacion!M58,Poblacion!O58,Poblacion!Q58,Poblacion!S58)","v":1392},{"$f":"+SUM(Poblacion!L58,Poblacion!N58,Poblacion!P58,Poblacion!R58,Poblacion!T58)","v":1382},{"$f":"SUM(Poblacion!U58,Poblacion!W58,Poblacion!Y58,Poblacion!AA58,Poblacion!AC58)","v":1425},{"$f":"SUM(Poblacion!V58,Poblacion!X58,Poblacion!Z58,Poblacion!AB58,Poblacion!AD58)","v":1400},{"$f":"+SUM(Poblacion!AE58,Poblacion!AG58,Poblacion!AI58,Poblacion!AK58,Poblacion!AM58)","v":1378},{"$f":"+SUM(Poblacion!AF58,Poblacion!AH58,Poblacion!AJ58,Poblacion!AL58,Poblacion!AN58)","v":1342},{"$f":"+SUM(Poblacion!AO58,Poblacion!AQ58,Poblacion!AS58,Poblacion!AU58,Poblacion!AW58)","v":1201},{"$f":"+SUM(Poblacion!AP58,Poblacion!AR58,Poblacion!AT58,Poblacion!AV58,Poblacion!AX58)","v":1210},{"$f":"Poblacion!AY58","v":1019},{"$f":"Poblacion!AZ58","v":1171},{"$f":"Poblacion!BA58","v":1306},{"$f":"Poblacion!BB58","v":1463},{"$f":"Poblacion!BC58","v":1187},{"$f":"Poblacion!BD58","v":1383},{"$f":"Poblacion!BE58","v":1107},{"$f":"Poblacion!BF58","v":1244},{"$f":"Poblacion!BG58","v":936},{"$f":"Poblacion!BH58","v":1033},{"$f":"Poblacion!BI58","v":800},{"$f":"Poblacion!BJ58","v":900},{"$f":"Poblacion!BK58","v":687},{"$f":"Poblacion!BL58","v":753},{"$f":"Poblacion!BM58","v":589},{"$f":"Poblacion!BN58","v":673},{"$f":"Poblacion!BO58","v":466},{"$f":"Poblacion!BP58","v":533},{"$f":"Poblacion!BQ58","v":389},{"$f":"Poblacion!BR58","v":399},{"$f":"Poblacion!BS58","v":301},{"$f":"Poblacion!BT58","v":292},{"$f":"Poblacion!BU58","v":226},{"$f":"Poblacion!BV58","v":227},{"$f":"Poblacion!BW58","v":259},{"$f":"Poblacion!BX58","v":342},{"$f":"Poblacion!DM58","v":3927},{"$f":"Poblacion!DN58","v":3887},{"$f":"Poblacion!DO58","v":1019},{"$f":"Poblacion!DP58","v":964},{"$f":"Poblacion!DQ58","v":8081},{"$f":"Poblacion!DR58","v":9103},{"$f":"Poblacion!DS58","v":1641},{"$f":"Poblacion!DT58","v":1793}]
[null,null,null,null,null,null,null,null,null,null,null,null,null,null,null,null,null,null,null,null,null,null,null,null,null,null,null,null,null,null,null,null,null,null,null,null,null,null,null,null,null,null,null,null,null,null,null,null,null,null,null,null,"04",53,"C.S. VEGUETA",{"$f":"Poblacion!F59","v":8515},{"$f":"+SUM(Poblacion!K59,Poblacion!M59,Poblacion!O59,Poblacion!Q59,Poblacion!S59)","v":389},{"$f":"+SUM(Poblacion!L59,Poblacion!N59,Poblacion!P59,Poblacion!R59,Poblacion!T59)","v":387},{"$f":"SUM(Poblacion!U59,Poblacion!W59,Poblacion!Y59,Poblacion!AA59,Poblacion!AC59)","v":400},{"$f":"SUM(Poblacion!V59,Poblacion!X59,Poblacion!Z59,Poblacion!AB59,Poblacion!AD59)","v":392},{"$f":"+SUM(Poblacion!AE59,Poblacion!AG59,Poblacion!AI59,Poblacion!AK59,Poblacion!AM59)","v":386},{"$f":"+SUM(Poblacion!AF59,Poblacion!AH59,Poblacion!AJ59,Poblacion!AL59,Poblacion!AN59)","v":375},{"$f":"+SUM(Poblacion!AO59,Poblacion!AQ59,Poblacion!AS59,Poblacion!AU59,Poblacion!AW59)","v":337},{"$f":"+SUM(Poblacion!AP59,Poblacion!AR59,Poblacion!AT59,Poblacion!AV59,Poblacion!AX59)","v":339},{"$f":"Poblacion!AY59","v":285},{"$f":"Poblacion!AZ59","v":328},{"$f":"Poblacion!BA59","v":366},{"$f":"Poblacion!BB59","v":410},{"$f":"Poblacion!BC59","v":332},{"$f":"Poblacion!BD59","v":387},{"$f":"Poblacion!BE59","v":310},{"$f":"Poblacion!BF59","v":348},{"$f":"Poblacion!BG59","v":262},{"$f":"Poblacion!BH59","v":289},{"$f":"Poblacion!BI59","v":224},{"$f":"Poblacion!BJ59","v":252},{"$f":"Poblacion!BK59","v":192},{"$f":"Poblacion!BL59","v":211},{"$f":"Poblacion!BM59","v":165},{"$f":"Poblacion!BN59","v":188},{"$f":"Poblacion!BO59","v":130},{"$f":"Poblacion!BP59","v":149},{"$f":"Poblacion!BQ59","v":109},{"$f":"Poblacion!BR59","v":112},{"$f":"Poblacion!BS59","v":84},{"$f":"Poblacion!BT59","v":82},{"$f":"Poblacion!BU59","v":63},{"$f":"Poblacion!BV59","v":64},{"$f":"Poblacion!BW59","v":72},{"$f":"Poblacion!BX59","v":96},{"$f":"Poblacion!DM59","v":1100},{"$f":"Poblacion!DN59","v":1088},{"$f":"Poblacion!DO59","v":286},{"$f":"Poblacion!DP59","v":270},{"$f":"Poblacion!DQ59","v":2262},{"$f":"Poblacion!DR59","v":2548},{"$f":"Poblacion!DS59","v":458},{"$f":"Poblacion!DT59","v":503}]
[null,null,null,null,null,null,null,null,null,null,null,null,null,null,null,null,null,null,null,null,null,null,null,null,null,null,null,null,null,null,null,null,null,null,null,null,null,null,null,null,null,null,null,null,null,null,null,null,null,null,null,null,"04",54,"P.S. MAZO",{"$f":"Poblacion!F60","v":2282},{"$f":"+SUM(Poblacion!K60,Poblacion!M60,Poblacion!O60,Poblacion!Q60,Poblacion!S60)","v":104},{"$f":"+SUM(Poblacion!L60,Poblacion!N60,Poblacion!P60,Poblacion!R60,Poblacion!T60)","v":104},{"$f":"SUM(Poblacion!U60,Poblacion!W60,Poblacion!Y60,Poblacion!AA60,Poblacion!AC60)","v":108},{"$f":"SUM(Poblacion!V60,Poblacion!X60,Poblacion!Z60,Poblacion!AB60,Poblacion!AD60)","v":105},{"$f":"+SUM(Poblacion!AE60,Poblacion!AG60,Poblacion!AI60,Poblacion!AK60,Poblacion!AM60)","v":104},{"$f":"+SUM(Poblacion!AF60,Poblacion!AH60,Poblacion!AJ60,Poblacion!AL60,Poblacion!AN60)","v":100},{"$f":"+SUM(Poblacion!AO60,Poblacion!AQ60,Poblacion!AS60,Poblacion!AU60,Poblacion!AW60)","v":90},{"$f":"+SUM(Poblacion!AP60,Poblacion!AR60,Poblacion!AT60,Poblacion!AV60,Poblacion!AX60)","v":91},{"$f":"Poblacion!AY60","v":76},{"$f":"Poblacion!AZ60","v":88},{"$f":"Poblacion!BA60","v":98},{"$f":"Poblacion!BB60","v":110},{"$f":"Poblacion!BC60","v":89},{"$f":"Poblacion!BD60","v":104},{"$f":"Poblacion!BE60","v":83},{"$f":"Poblacion!BF60","v":93},{"$f":"Poblacion!BG60","v":70},{"$f":"Poblacion!BH60","v":77},{"$f":"Poblacion!BI60","v":60},{"$f":"Poblacion!BJ60","v":68},{"$f":"Poblacion!BK60","v":52},{"$f":"Poblacion!BL60","v":56},{"$f":"Poblacion!BM60","v":44},{"$f":"Poblacion!BN60","v":50},{"$f":"Poblacion!BO60","v":35},{"$f":"Poblacion!BP60","v":40},{"$f":"Poblacion!BQ60","v":29},{"$f":"Poblacion!BR60","v":30},{"$f":"Poblacion!BS60","v":23},{"$f":"Poblacion!BT60","v":22},{"$f":"Poblacion!BU60","v":17},{"$f":"Poblacion!BV60","v":17},{"$f":"Poblacion!BW60","v":19},{"$f":"Poblacion!BX60","v":26},{"$f":"Poblacion!DM60","v":296},{"$f":"Poblacion!DN60","v":291},{"$f":"Poblacion!DO60","v":77},{"$f":"Poblacion!DP60","v":72},{"$f":"Poblacion!DQ60","v":605},{"$f":"Poblacion!DR60","v":683},{"$f":"Poblacion!DS60","v":123},{"$f":"Poblacion!DT60","v":135}]
[null,null,null,null,null,null,null,null,null,null,null,null,null,null,null,null,null,null,null,null,null,null,null,null,null,null,null,null,null,null,null,null,null,null,null,null,null,null,null,null,null,null,null,null,null,null,null,null,null,null,null,null,"04",55,"P.S. PRIMAVERA",{"$f":"Poblacion!F61","v":7299},{"$f":"+SUM(Poblacion!K61,Poblacion!M61,Poblacion!O61,Poblacion!Q61,Poblacion!S61)","v":334},{"$f":"+SUM(Poblacion!L61,Poblacion!N61,Poblacion!P61,Poblacion!R61,Poblacion!T61)","v":331},{"$f":"SUM(Poblacion!U61,Poblacion!W61,Poblacion!Y61,Poblacion!AA61,Poblacion!AC61)","v":341},{"$f":"SUM(Poblacion!V61,Poblacion!X61,Poblacion!Z61,Poblacion!AB61,Poblacion!AD61)","v":336},{"$f":"+SUM(Poblacion!AE61,Poblacion!AG61,Poblacion!AI61,Poblacion!AK61,Poblacion!AM61)","v":330},{"$f":"+SUM(Poblacion!AF61,Poblacion!AH61,Poblacion!AJ61,Poblacion!AL61,Poblacion!AN61)","v":323},{"$f":"+SUM(Poblacion!AO61,Poblacion!AQ61,Poblacion!AS61,Poblacion!AU61,Poblacion!AW61)","v":289},{"$f":"+SUM(Poblacion!AP61,Poblacion!AR61,Poblacion!AT61,Poblacion!AV61,Poblacion!AX61)","v":290},{"$f":"Poblacion!AY61","v":245},{"$f":"Poblacion!AZ61","v":281},{"$f":"Poblacion!BA61","v":313},{"$f":"Poblacion!BB61","v":351},{"$f":"Poblacion!BC61","v":285},{"$f":"Poblacion!BD61","v":332},{"$f":"Poblacion!BE61","v":266},{"$f":"Poblacion!BF61","v":299},{"$f":"Poblacion!BG61","v":225},{"$f":"Poblacion!BH61","v":248},{"$f":"Poblacion!BI61","v":192},{"$f":"Poblacion!BJ61","v":216},{"$f":"Poblacion!BK61","v":165},{"$f":"Poblacion!BL61","v":181},{"$f":"Poblacion!BM61","v":141},{"$f":"Poblacion!BN61","v":162},{"$f":"Poblacion!BO61","v":112},{"$f":"Poblacion!BP61","v":128},{"$f":"Poblacion!BQ61","v":93},{"$f":"Poblacion!BR61","v":96},{"$f":"Poblacion!BS61","v":72},{"$f":"Poblacion!BT61","v":70},{"$f":"Poblacion!BU61","v":54},{"$f":"Poblacion!BV61","v":54},{"$f":"Poblacion!BW61","v":62},{"$f":"Poblacion!BX61","v":82},{"$f":"Poblacion!DM61","v":941},{"$f":"Poblacion!DN61","v":933},{"$f":"Poblacion!DO61","v":245},{"$f":"Poblacion!DP61","v":231},{"$f":"Poblacion!DQ61","v":1940},{"$f":"Poblacion!DR61","v":2186},{"$f":"Poblacion!DS61","v":393},{"$f":"Poblacion!DT61","v":430}]
[null,null,null,null,null,null,null,null,null,null,null,null,null,null,null,null,null,null,null,null,null,null,null,null,null,null,null,null,null,null,null,null,null,null,null,null,null,null,null,null,null,null,null,null,null,null,null,null,null,null,null,null,"04",56,"P.S. MARIATEGUI",{"$f":"Poblacion!F62","v":8826},{"$f":"+SUM(Poblacion!K62,Poblacion!M62,Poblacion!O62,Poblacion!Q62,Poblacion!S62)","v":406},{"$f":"+SUM(Poblacion!L62,Poblacion!N62,Poblacion!P62,Poblacion!R62,Poblacion!T62)","v":402},{"$f":"SUM(Poblacion!U62,Poblacion!W62,Poblacion!Y62,Poblacion!AA62,Poblacion!AC62)","v":412},{"$f":"SUM(Poblacion!V62,Poblacion!X62,Poblacion!Z62,Poblacion!AB62,Poblacion!AD62)","v":407},{"$f":"+SUM(Poblacion!AE62,Poblacion!AG62,Poblacion!AI62,Poblacion!AK62,Poblacion!AM62)","v":400},{"$f":"+SUM(Poblacion!AF62,Poblacion!AH62,Poblacion!AJ62,Poblacion!AL62,Poblacion!AN62)","v":392},{"$f":"+SUM(Poblacion!AO62,Poblacion!AQ62,Poblacion!AS62,Poblacion!AU62,Poblacion!AW62)","v":349},{"$f":"+SUM(Poblacion!AP62,Poblacion!AR62,Poblacion!AT62,Poblacion!AV62,Poblacion!AX62)","v":352},{"$f":"Poblacion!AY62","v":296},{"$f":"Poblacion!AZ62","v":339},{"$f":"Poblacion!BA62","v":378},{"$f":"Poblacion!BB62","v":424},{"$f":"Poblacion!BC62","v":344},{"$f":"Poblacion!BD62","v":401},{"$f":"Poblacion!BE62","v":320},{"$f":"Poblacion!BF62","v":361},{"$f":"Poblacion!BG62","v":271},{"$f":"Poblacion!BH62","v":300},{"$f":"Poblacion!BI62","v":232},{"$f":"Poblacion!BJ62","v":260},{"$f":"Poblacion!BK62","v":199},{"$f":"Poblacion!BL62","v":218},{"$f":"Poblacion!BM62","v":171},{"$f":"Poblacion!BN62","v":196},{"$f":"Poblacion!BO62","v":136},{"$f":"Poblacion!BP62","v":154},{"$f":"Poblacion!BQ62","v":113},{"$f":"Poblacion!BR62","v":115},{"$f":"Poblacion!BS62","v":87},{"$f":"Poblacion!BT62","v":85},{"$f":"Poblacion!BU62","v":66},{"$f":"Poblacion!BV62","v":66},{"$f":"Poblacion!BW62","v":75},{"$f":"Poblacion!BX62","v":99},{"$f":"Poblacion!DM62","v":1139},{"$f":"Poblacion!DN62","v":1132},{"$f":"Poblacion!DO62","v":296},{"$f":"Poblacion!DP62","v":281},{"$f":"Poblacion!DQ62","v":2343},{"$f":"Poblacion!DR62","v":2639},{"$f":"Poblacion!DS62","v":477},{"$f":"Poblacion!DT62","v":519}]
[null,null,null,null,null,null,null,null,null,null,null,null,null,null,null,null,null,null,null,null,null,null,null,null,null,null,null,null,null,null,null,null,null,null,null,null,null,null,null,null,null,null,null,null,null,null,null,null,null,null,null,null,"04",57,"P.S. MEDIO MUNDO",{"$f":"Poblacion!F63","v":3347},{"$f":"+SUM(Poblacion!K63,Poblacion!M63,Poblacion!O63,Poblacion!Q63,Poblacion!S63)","v":153},{"$f":"+SUM(Poblacion!L63,Poblacion!N63,Poblacion!P63,Poblacion!R63,Poblacion!T63)","v":152},{"$f":"SUM(Poblacion!U63,Poblacion!W63,Poblacion!Y63,Poblacion!AA63,Poblacion!AC63)","v":156},{"$f":"SUM(Poblacion!V63,Poblacion!X63,Poblacion!Z63,Poblacion!AB63,Poblacion!AD63)","v":155},{"$f":"+SUM(Poblacion!AE63,Poblacion!AG63,Poblacion!AI63,Poblacion!AK63,Poblacion!AM63)","v":152},{"$f":"+SUM(Poblacion!AF63,Poblacion!AH63,Poblacion!AJ63,Poblacion!AL63,Poblacion!AN63)","v":147},{"$f":"+SUM(Poblacion!AO63,Poblacion!AQ63,Poblacion!AS63,Poblacion!AU63,Poblacion!AW63)","v":131},{"$f":"+SUM(Poblacion!AP63,Poblacion!AR63,Poblacion!AT63,Poblacion!AV63,Poblacion!AX63)","v":133},{"$f":"Poblacion!AY63","v":112},{"$f":"Poblacion!AZ63","v":129},{"$f":"Poblacion!BA63","v":144},{"$f":"Poblacion!BB63","v":161},{"$f":"Poblacion!BC63","v":131},{"$f":"Poblacion!BD63","v":152},{"$f":"Poblacion!BE63","v":122},{"$f":"Poblacion!BF63","v":137},{"$f":"Poblacion!BG63","v":103},{"$f":"Poblacion!BH63","v":114},{"$f":"Poblacion!BI63","v":88},{"$f":"Poblacion!BJ63","v":99},{"$f":"Poblacion!BK63","v":76},{"$f":"Poblacion!BL63","v":83},{"$f":"Poblacion!BM63","v":65},{"$f":"Poblacion!BN63","v":74},{"$f":"Poblacion!BO63","v":51},{"$f":"Poblacion!BP63","v":59},{"$f":"Poblacion!BQ63","v":43},{"$f":"Poblacion!BR63","v":44},{"$f":"Poblacion!BS63","v":33},{"$f":"Poblacion!BT63","v":32},{"$f":"Poblacion!BU63","v":25},{"$f":"Poblacion!BV63","v":25},{"$f":"Poblacion!BW63","v":29},{"$f":"Poblacion!BX63","v":37},{"$f":"Poblacion!DM63","v":432},{"$f":"Poblacion!DN63","v":428},{"$f":"Poblacion!DO63","v":111},{"$f":"Poblacion!DP63","v":106},{"$f":"Poblacion!DQ63","v":890},{"$f":"Poblacion!DR63","v":1002},{"$f":"Poblacion!DS63","v":181},{"$f":"Poblacion!DT63","v":197}]
[null,null,null,null,null,null,null,null,null,null,null,null,null,null,null,null,null,null,null,null,null,null,null,null,null,null,null,null,null,null,null,null,null,null,null,null,null,null,null,null,null,null,null,null,null,null,null,null,null,null,null,null,"04",58,"P.S. TIROLER",{"$f":"Poblacion!F64","v":146},{"$f":"+SUM(Poblacion!K64,Poblacion!M64,Poblacion!O64,Poblacion!Q64,Poblacion!S64)","v":6},{"$f":"+SUM(Poblacion!L64,Poblacion!N64,Poblacion!P64,Poblacion!R64,Poblacion!T64)","v":6},{"$f":"SUM(Poblacion!U64,Poblacion!W64,Poblacion!Y64,Poblacion!AA64,Poblacion!AC64)","v":8},{"$f":"SUM(Poblacion!V64,Poblacion!X64,Poblacion!Z64,Poblacion!AB64,Poblacion!AD64)","v":5},{"$f":"+SUM(Poblacion!AE64,Poblacion!AG64,Poblacion!AI64,Poblacion!AK64,Poblacion!AM64)","v":6},{"$f":"+SUM(Poblacion!AF64,Poblacion!AH64,Poblacion!AJ64,Poblacion!AL64,Poblacion!AN64)","v":5},{"$f":"+SUM(Poblacion!AO64,Poblacion!AQ64,Poblacion!AS64,Poblacion!AU64,Poblacion!AW64)","v":5},{"$f":"+SUM(Poblacion!AP64,Poblacion!AR64,Poblacion!AT64,Poblacion!AV64,Poblacion!AX64)","v":5},{"$f":"Poblacion!AY64","v":5},{"$f":"Poblacion!AZ64","v":6},{"$f":"Poblacion!BA64","v":7},{"$f":"Poblacion!BB64","v":7},{"$f":"Poblacion!BC64","v":6},{"$f":"Poblacion!BD64","v":7},{"$f":"Poblacion!BE64","v":6},{"$f":"Poblacion!BF64","v":6},{"$f":"Poblacion!BG64","v":5},{"$f":"Poblacion!BH64","v":5},{"$f":"Poblacion!BI64","v":4},{"$f":"Poblacion!BJ64","v":5},{"$f":"Poblacion!BK64","v":3},{"$f":"Poblacion!BL64","v":4},{"$f":"Poblacion!BM64","v":3},{"$f":"Poblacion!BN64","v":3},{"$f":"Poblacion!BO64","v":2},{"$f":"Poblacion!BP64","v":3},{"$f":"Poblacion!BQ64","v":2},{"$f":"Poblacion!BR64","v":2},{"$f":"Poblacion!BS64","v":2},{"$f":"Poblacion!BT64","v":1},{"$f":"Poblacion!BU64","v":1},{"$f":"Poblacion!BV64","v":1},{"$f":"Poblacion!BW64","v":2},{"$f":"Poblacion!BX64","v":2},{"$f":"Poblacion!DM64","v":19},{"$f":"Poblacion!DN64","v":15},{"$f":"Poblacion!DO64","v":4},{"$f":"Poblacion!DP64","v":4},{"$f":"Poblacion!DQ64","v":41},{"$f":"Poblacion!DR64","v":45},{"$f":"Poblacion!DS64","v":9},{"$f":"Poblacion!DT64","v":9}]
[null,null,null,null,null,null,null,null,null,null,null,null,null,null,null,null,null,null,null,null,null,null,null,null,null,null,null,null,null,null,null,null,null,null,null,null,null,null,null,null,null,null,null,null,null,null,null,null,null,null,null,null,null,59,"PROVINCIA OYON",{"$f":"Poblacion!F65","v":16953},{"$f":"+SUM(Poblacion!K65,Poblacion!M65,Poblacion!O65,Poblacion!Q65,Poblacion!S65)","v":549},{"$f":"+SUM(Poblacion!L65,Poblacion!N65,Poblacion!P65,Poblacion!R65,Poblacion!T65)","v":556},{"$f":"SUM(Poblacion!U65,Poblacion!W65,Poblacion!Y65,Poblacion!AA65,Poblacion!AC65)","v":701},{"$f":"SUM(Poblacion!V65,Poblacion!X65,Poblacion!Z65,Poblacion!AB65,Poblacion!AD65)","v":759},{"$f":"+SUM(Poblacion!AE65,Poblacion!AG65,Poblacion!AI65,Poblacion!AK65,Poblacion!AM65)","v":864},{"$f":"+SUM(Poblacion!AF65,Poblacion!AH65,Poblacion!AJ65,Poblacion!AL65,Poblacion!AN65)","v":920},{"$f":"+SUM(Poblacion!AO65,Poblacion!AQ65,Poblacion!AS65,Poblacion!AU65,Poblacion!AW65)","v":797},{"$f":"+SUM(Poblacion!AP65,Poblacion!AR65,Poblacion!AT65,Poblacion!AV65,Poblacion!AX65)","v":845},{"$f":"Poblacion!AY65","v":626},{"$f":"Poblacion!AZ65","v":657},{"$f":"Poblacion!BA65","v":639},{"$f":"Poblacion!BB65","v":696},{"$f":"Poblacion!BC65","v":548},{"$f":"Poblacion!BD65","v":655},{"$f":"Poblacion!BE65","v":555},{"$f":"Poblacion!BF65","v":623},{"$f":"Poblacion!BG65","v":482},{"$f":"Poblacion!BH65","v":464},{"$f":"Poblacion!BI65","v":478},{"$f":"Poblacion!BJ65","v":470},{"$f":"Poblacion!BK65","v":434},{"$f":"Poblacion!BL65","v":461},{"$f":"Poblacion!BM65","v":357},{"$f":"Poblacion!BN65","v":390},{"$f":"Poblacion!BO65","v":327},{"$f":"Poblacion!BP65","v":330},{"$f":"Poblacion!BQ65","v":255},{"$f":"Poblacion!BR65","v":273},{"$f":"Poblacion!BS65","v":204},{"$f":"Poblacion!BT65","v":214},{"$f":"Poblacion!BU65","v":140},{"$f":"Poblacion!BV65","v":188},{"$f":"Poblacion!BW65","v":191},{"$f":"Poblacion!BX65","v":305},{"$f":"Poblacion!DM65","v":1959},{"$f":"Poblacion!DN65","v":2065},{"$f":"Poblacion!DO65","v":667},{"$f":"Poblacion!DP65","v":732},{"$f":"Poblacion!DQ65","v":4404},{"$f":"Poblacion!DR65","v":4699},{"$f":"Poblacion!DS65","v":1117},{"$f":"Poblacion!DT65","v":1310}]
[null,null,null,null,null,null,null,null,null,null,null,null,null,null,null,null,null,null,null,null,null,null,null,null,null,null,null,null,null,null,null,null,null,null,null,null,null,null,null,null,null,null,null,null,null,null,null,null,null,null,null,null,null,60,"DISTRITO OYON",{"$f":"Poblacion!F66","v":11749},{"$f":"+SUM(Poblacion!K66,Poblacion!M66,Poblacion!O66,Poblacion!Q66,Poblacion!S66)","v":304},{"$f":"+SUM(Poblacion!L66,Poblacion!N66,Poblacion!P66,Poblacion!R66,Poblacion!T66)","v":293},{"$f":"SUM(Poblacion!U66,Poblacion!W66,Poblacion!Y66,Poblacion!AA66,Poblacion!AC66)","v":538},{"$f":"SUM(Poblacion!V66,Poblacion!X66,Poblacion!Z66,Poblacion!AB66,Poblacion!AD66)","v":594},{"$f":"+SUM(Poblacion!AE66,Poblacion!AG66,Poblacion!AI66,Poblacion!AK66,Poblacion!AM66)","v":678},{"$f":"+SUM(Poblacion!AF66,Poblacion!AH66,Poblacion!AJ66,Poblacion!AL66,Poblacion!AN66)","v":693},{"$f":"+SUM(Poblacion!AO66,Poblacion!AQ66,Poblacion!AS66,Poblacion!AU66,Poblacion!AW66)","v":585},{"$f":"+SUM(Poblacion!AP66,Poblacion!AR66,Poblacion!AT66,Poblacion!AV66,Poblacion!AX66)","v":614},{"$f":"Poblacion!AY66","v":449},{"$f":"Poblacion!AZ66","v":486},{"$f":"Poblacion!BA66","v":479},{"$f":"Poblacion!BB66","v":500},{"$f":"Poblacion!BC66","v":401},{"$f":"Poblacion!BD66","v":503},{"$f":"Poblacion!BE66","v":405},{"$f":"Poblacion!BF66","v":454},{"$f":"Poblacion!BG66","v":336},{"$f":"Poblacion!BH66","v":327},{"$f":"Poblacion!BI66","v":320},{"$f":"Poblacion!BJ66","v":326},{"$f":"Poblacion!BK66","v":300},{"$f":"Poblacion!BL66","v":324},{"$f":"Poblacion!BM66","v":224},{"$f":"Poblacion!BN66","v":241},{"$f":"Poblacion!BO66","v":192},{"$f":"Poblacion!BP66","v":200},{"$f":"Poblacion!BQ66","v":156},{"$f":"Poblacion!BR66","v":165},{"$f":"Poblacion!BS66","v":117},{"$f":"Poblacion!BT66","v":122},{"$f":"Poblacion!BU66","v":71},{"$f":"Poblacion!BV66","v":102},{"$f":"Poblacion!BW66","v":81},{"$f":"Poblacion!BX66","v":169},{"$f":"Poblacion!DM66","v":1396},{"$f":"Poblacion!DN66","v":1448},{"$f":"Poblacion!DO66","v":511},{"$f":"Poblacion!DP66","v":542},{"$f":"Poblacion!DQ66","v":3112},{"$f":"Poblacion!DR66","v":3365},{"$f":"Poblacion!DS66","v":617},{"$f":"Poblacion!DT66","v":758}]
[null,null,null,null,null,null,null,null,null,null,null,null,null,null,null,null,null,null,null,null,null,null,null,null,null,null,null,null,null,null,null,null,null,null,null,null,null,null,null,null,null,null,null,null,null,null,null,null,null,null,null,null,"05",61,"P.S. RAPAZ",{"$f":"Poblacion!F67","v":826},{"$f":"+SUM(Poblacion!K67,Poblacion!M67,Poblacion!O67,Poblacion!Q67,Poblacion!S67)","v":22},{"$f":"+SUM(Poblacion!L67,Poblacion!N67,Poblacion!P67,Poblacion!R67,Poblacion!T67)","v":20},{"$f":"SUM(Poblacion!U67,Poblacion!W67,Poblacion!Y67,Poblacion!AA67,Poblacion!AC67)","v":38},{"$f":"SUM(Poblacion!V67,Poblacion!X67,Poblacion!Z67,Poblacion!AB67,Poblacion!AD67)","v":43},{"$f":"+SUM(Poblacion!AE67,Poblacion!AG67,Poblacion!AI67,Poblacion!AK67,Poblacion!AM67)","v":47},{"$f":"+SUM(Poblacion!AF67,Poblacion!AH67,Poblacion!AJ67,Poblacion!AL67,Poblacion!AN67)","v":49},{"$f":"+SUM(Poblacion!AO67,Poblacion!AQ67,Poblacion!AS67,Poblacion!AU67,Poblacion!AW67)","v":41},{"$f":"+SUM(Poblacion!AP67,Poblacion!AR67,Poblacion!AT67,Poblacion!AV67,Poblacion!AX67)","v":43},{"$f":"Poblacion!AY67","v":31},{"$f":"Poblacion!AZ67","v":34},{"$f":"Poblacion!BA67","v":34},{"$f":"Poblacion!BB67","v":35},{"$f":"Poblacion!BC67","v":28},{"$f":"Poblacion!BD67","v":35},{"$f":"Poblacion!BE67","v":28},{"$f":"Poblacion!BF67","v":32},{"$f":"Poblacion!BG67","v":24},{"$f":"Poblacion!BH67","v":23},{"$f":"Poblacion!BI67","v":22},{"$f":"Poblacion!BJ67","v":23},{"$f":"Poblacion!BK67","v":21},{"$f":"Poblacion!BL67","v":23},{"$f":"Poblacion!BM67","v":16},{"$f":"Poblacion!BN67","v":17},{"$f":"Poblacion!BO67","v":13},{"$f":"Poblacion!BP67","v":14},{"$f":"Poblacion!BQ67","v":11},{"$f":"Poblacion!BR67","v":12},{"$f":"Poblacion!BS67","v":8},{"$f":"Poblacion!BT67","v":9},{"$f":"Poblacion!BU67","v":5},{"$f":"Poblacion!BV67","v":7},{"$f":"Poblacion!BW67","v":6},{"$f":"Poblacion!BX67","v":12},{"$f":"Poblacion!DM67","v":98},{"$f":"Poblacion!DN67","v":103},{"$f":"Poblacion!DO67","v":36},{"$f":"Poblacion!DP67","v":38},{"$f":"Poblacion!DQ67","v":218},{"$f":"Poblacion!DR67","v":236},{"$f":"Poblacion!DS67","v":43},{"$f":"Poblacion!DT67","v":54}]
[null,null,null,null,null,null,null,null,null,null,null,null,null,null,null,null,null,null,null,null,null,null,null,null,null,null,null,null,null,null,null,null,null,null,null,null,null,null,null,null,null,null,null,null,null,null,null,null,null,null,null,null,"05",62,"C.S. OYON",{"$f":"Poblacion!F68","v":9868},{"$f":"+SUM(Poblacion!K68,Poblacion!M68,Poblacion!O68,Poblacion!Q68,Poblacion!S68)","v":251},{"$f":"+SUM(Poblacion!L68,Poblacion!N68,Poblacion!P68,Poblacion!R68,Poblacion!T68)","v":246},{"$f":"SUM(Poblacion!U68,Poblacion!W68,Poblacion!Y68,Poblacion!AA68,Poblacion!AC68)","v":452},{"$f":"SUM(Poblacion!V68,Poblacion!X68,Poblacion!Z68,Poblacion!AB68,Poblacion!AD68)","v":499},{"$f":"+SUM(Poblacion!AE68,Poblacion!AG68,Poblacion!AI68,Poblacion!AK68,Poblacion!AM68)","v":573},{"$f":"+SUM(Poblacion!AF68,Poblacion!AH68,Poblacion!AJ68,Poblacion!AL68,Poblacion!AN68)","v":581},{"$f":"+SUM(Poblacion!AO68,Poblacion!AQ68,Poblacion!AS68,Poblacion!AU68,Poblacion!AW68)","v":492},{"$f":"+SUM(Poblacion!AP68,Poblacion!AR68,Poblacion!AT68,Poblacion!AV68,Poblacion!AX68)","v":516},{"$f":"Poblacion!AY68","v":379},{"$f":"Poblacion!AZ68","v":408},{"$f":"Poblacion!BA68","v":402},{"$f":"Poblacion!BB68","v":420},{"$f":"Poblacion!BC68","v":337},{"$f":"Poblacion!BD68","v":423},{"$f":"Poblacion!BE68","v":341},{"$f":"Poblacion!BF68","v":380},{"$f":"Poblacion!BG68","v":282},{"$f":"Poblacion!BH68","v":275},{"$f":"Poblacion!BI68","v":269},{"$f":"Poblacion!BJ68","v":274},{"$f":"Poblacion!BK68","v":252},{"$f":"Poblacion!BL68","v":272},{"$f":"Poblacion!BM68","v":188},{"$f":"Poblacion!BN68","v":203},{"$f":"Poblacion!BO68","v":161},{"$f":"Poblacion!BP68","v":168},{"$f":"Poblacion!BQ68","v":130},{"$f":"Poblacion!BR68","v":138},{"$f":"Poblacion!BS68","v":98},{"$f":"Poblacion!BT68","v":102},{"$f":"Poblacion!BU68","v":59},{"$f":"Poblacion!BV68","v":86},{"$f":"Poblacion!BW68","v":69},{"$f":"Poblacion!BX68","v":142},{"$f":"Poblacion!DM68","v":1172},{"$f":"Poblacion!DN68","v":1215},{"$f":"Poblacion!DO68","v":430},{"$f":"Poblacion!DP68","v":455},{"$f":"Poblacion!DQ68","v":2616},{"$f":"Poblacion!DR68","v":2827},{"$f":"Poblacion!DS68","v":517},{"$f":"Poblacion!DT68","v":636}]
[null,null,null,null,null,null,null,null,null,null,null,null,null,null,null,null,null,null,null,null,null,null,null,null,null,null,null,null,null,null,null,null,null,null,null,null,null,null,null,null,null,null,null,null,null,null,null,null,null,null,null,null,"05",63,"P.S. MALLAY",{"$f":"Poblacion!F69","v":586},{"$f":"+SUM(Poblacion!K69,Poblacion!M69,Poblacion!O69,Poblacion!Q69,Poblacion!S69)","v":16},{"$f":"+SUM(Poblacion!L69,Poblacion!N69,Poblacion!P69,Poblacion!R69,Poblacion!T69)","v":14},{"$f":"SUM(Poblacion!U69,Poblacion!W69,Poblacion!Y69,Poblacion!AA69,Poblacion!AC69)","v":26},{"$f":"SUM(Poblacion!V69,Poblacion!X69,Poblacion!Z69,Poblacion!AB69,Poblacion!AD69)","v":30},{"$f":"+SUM(Poblacion!AE69,Poblacion!AG69,Poblacion!AI69,Poblacion!AK69,Poblacion!AM69)","v":33},{"$f":"+SUM(Poblacion!AF69,Poblacion!AH69,Poblacion!AJ69,Poblacion!AL69,Poblacion!AN69)","v":36},{"$f":"+SUM(Poblacion!AO69,Poblacion!AQ69,Poblacion!AS69,Poblacion!AU69,Poblacion!AW69)","v":29},{"$f":"+SUM(Poblacion!AP69,Poblacion!AR69,Poblacion!AT69,Poblacion!AV69,Poblacion!AX69)","v":31},{"$f":"Poblacion!AY69","v":22},{"$f":"Poblacion!AZ69","v":24},{"$f":"Poblacion!BA69","v":24},{"$f":"Poblacion!BB69","v":25},{"$f":"Poblacion!BC69","v":20},{"$f":"Poblacion!BD69","v":25},{"$f":"Poblacion!BE69","v":20},{"$f":"Poblacion!BF69","v":23},{"$f":"Poblacion!BG69","v":17},{"$f":"Poblacion!BH69","v":16},{"$f":"Poblacion!BI69","v":16},{"$f":"Poblacion!BJ69","v":16},{"$f":"Poblacion!BK69","v":15},{"$f":"Poblacion!BL69","v":16},{"$f":"Poblacion!BM69","v":11},{"$f":"Poblacion!BN69","v":12},{"$f":"Poblacion!BO69","v":10},{"$f":"Poblacion!BP69","v":10},{"$f":"Poblacion!BQ69","v":8},{"$f":"Poblacion!BR69","v":8},{"$f":"Poblacion!BS69","v":6},{"$f":"Poblacion!BT69","v":6},{"$f":"Poblacion!BU69","v":4},{"$f":"Poblacion!BV69","v":5},{"$f":"Poblacion!BW69","v":4},{"$f":"Poblacion!BX69","v":8},{"$f":"Poblacion!DM69","v":69},{"$f":"Poblacion!DN69","v":73},{"$f":"Poblacion!DO69","v":25},{"$f":"Poblacion!DP69","v":28},{"$f":"Poblacion!DQ69","v":155},{"$f":"Poblacion!DR69","v":167},{"$f":"Poblacion!DS69","v":32},{"$f":"Poblacion!DT69","v":37}]
[null,null,null,null,null,null,null,null,null,null,null,null,null,null,null,null,null,null,null,null,null,null,null,null,null,null,null,null,null,null,null,null,null,null,null,null,null,null,null,null,null,null,null,null,null,null,null,null,null,null,null,null,"05",64,"P.S. NAVA",{"$f":"Poblacion!F70","v":114},{"$f":"+SUM(Poblacion!K70,Poblacion!M70,Poblacion!O70,Poblacion!Q70,Poblacion!S70)","v":5},{"$f":"+SUM(Poblacion!L70,Poblacion!N70,Poblacion!P70,Poblacion!R70,Poblacion!T70)","v":4},{"$f":"SUM(Poblacion!U70,Poblacion!W70,Poblacion!Y70,Poblacion!AA70,Poblacion!AC70)","v":5},{"$f":"SUM(Poblacion!V70,Poblacion!X70,Poblacion!Z70,Poblacion!AB70,Poblacion!AD70)","v":5},{"$f":"+SUM(Poblacion!AE70,Poblacion!AG70,Poblacion!AI70,Poblacion!AK70,Poblacion!AM70)","v":5},{"$f":"+SUM(Poblacion!AF70,Poblacion!AH70,Poblacion!AJ70,Poblacion!AL70,Poblacion!AN70)","v":6},{"$f":"+SUM(Poblacion!AO70,Poblacion!AQ70,Poblacion!AS70,Poblacion!AU70,Poblacion!AW70)","v":5},{"$f":"+SUM(Poblacion!AP70,Poblacion!AR70,Poblacion!AT70,Poblacion!AV70,Poblacion!AX70)","v":6},{"$f":"Poblacion!AY70","v":4},{"$f":"Poblacion!AZ70","v":5},{"$f":"Poblacion!BA70","v":5},{"$f":"Poblacion!BB70","v":5},{"$f":"Poblacion!BC70","v":4},{"$f":"Poblacion!BD70","v":5},{"$f":"Poblacion!BE70","v":4},{"$f":"Poblacion!BF70","v":5},{"$f":"Poblacion!BG70","v":3},{"$f":"Poblacion!BH70","v":3},{"$f":"Poblacion!BI70","v":3},{"$f":"Poblacion!BJ70","v":3},{"$f":"Poblacion!BK70","v":3},{"$f":"Poblacion!BL70","v":3},{"$f":"Poblacion!BM70","v":2},{"$f":"Poblacion!BN70","v":2},{"$f":"Poblacion!BO70","v":2},{"$f":"Poblacion!BP70","v":2},{"$f":"Poblacion!BQ70","v":2},{"$f":"Poblacion!BR70","v":2},{"$f":"Poblacion!BS70","v":1},{"$f":"Poblacion!BT70","v":1},{"$f":"Poblacion!BU70","v":1},{"$f":"Poblacion!BV70","v":1},{"$f":"Poblacion!BW70","v":0},{"$f":"Poblacion!BX70","v":2},{"$f":"Poblacion!DM70","v":14},{"$f":"Poblacion!DN70","v":14},{"$f":"Poblacion!DO70","v":4},{"$f":"Poblacion!DP70","v":5},{"$f":"Poblacion!DQ70","v":30},{"$f":"Poblacion!DR70","v":33},{"$f":"Poblacion!DS70","v":6},{"$f":"Poblacion!DT70","v":8}]
[null,null,null,null,null,null,null,null,null,null,null,null,null,null,null,null,null,null,null,null,null,null,null,null,null,null,null,null,null,null,null,null,null,null,null,null,null,null,null,null,null,null,null,null,null,null,null,null,null,null,null,null,"05",65,"P.S. TINTA",{"$f":"Poblacion!F71","v":355},{"$f":"+SUM(Poblacion!K71,Poblacion!M71,Poblacion!O71,Poblacion!Q71,Poblacion!S71)","v":10},{"$f":"+SUM(Poblacion!L71,Poblacion!N71,Poblacion!P71,Poblacion!R71,Poblacion!T71)","v":9},{"$f":"SUM(Poblacion!U71,Poblacion!W71,Poblacion!Y71,Poblacion!AA71,Poblacion!AC71)","v":17},{"$f":"SUM(Poblacion!V71,Poblacion!X71,Poblacion!Z71,Poblacion!AB71,Poblacion!AD71)","v":17},{"$f":"+SUM(Poblacion!AE71,Poblacion!AG71,Poblacion!AI71,Poblacion!AK71,Poblacion!AM71)","v":20},{"$f":"+SUM(Poblacion!AF71,Poblacion!AH71,Poblacion!AJ71,Poblacion!AL71,Poblacion!AN71)","v":21},{"$f":"+SUM(Poblacion!AO71,Poblacion!AQ71,Poblacion!AS71,Poblacion!AU71,Poblacion!AW71)","v":18},{"$f":"+SUM(Poblacion!AP71,Poblacion!AR71,Poblacion!AT71,Poblacion!AV71,Poblacion!AX71)","v":18},{"$f":"Poblacion!AY71","v":13},{"$f":"Poblacion!AZ71","v":15},{"$f":"Poblacion!BA71","v":14},{"$f":"Poblacion!BB71","v":15},{"$f":"Poblacion!BC71","v":12},{"$f":"Poblacion!BD71","v":15},{"$f":"Poblacion!BE71","v":12},{"$f":"Poblacion!BF71","v":14},{"$f":"Poblacion!BG71","v":10},{"$f":"Poblacion!BH71","v":10},{"$f":"Poblacion!BI71","v":10},{"$f":"Poblacion!BJ71","v":10},{"$f":"Poblacion!BK71","v":9},{"$f":"Poblacion!BL71","v":10},{"$f":"Poblacion!BM71","v":7},{"$f":"Poblacion!BN71","v":7},{"$f":"Poblacion!BO71","v":6},{"$f":"Poblacion!BP71","v":6},{"$f":"Poblacion!BQ71","v":5},{"$f":"Poblacion!BR71","v":5},{"$f":"Poblacion!BS71","v":4},{"$f":"Poblacion!BT71","v":4},{"$f":"Poblacion!BU71","v":2},{"$f":"Poblacion!BV71","v":3},{"$f":"Poblacion!BW71","v":2},{"$f":"Poblacion!BX71","v":5},{"$f":"Poblacion!DM71","v":43},{"$f":"Poblacion!DN71","v":43},{"$f":"Poblacion!DO71","v":16},{"$f":"Poblacion!DP71","v":16},{"$f":"Poblacion!DQ71","v":93},{"$f":"Poblacion!DR71","v":102},{"$f":"Poblacion!DS71","v":19},{"$f":"Poblacion!DT71","v":23}]
[null,null,null,null,null,null,null,null,null,null,null,null,null,null,null,null,null,null,null,null,null,null,null,null,null,null,null,null,null,null,null,null,null,null,null,null,null,null,null,null,null,null,null,null,null,null,null,null,null,null,null,null,null,66,"DISTRITO ANDAJES",{"$f":"Poblacion!F72","v":429},{"$f":"+SUM(Poblacion!K72,Poblacion!M72,Poblacion!O72,Poblacion!Q72,Poblacion!S72)","v":15},{"$f":"+SUM(Poblacion!L72,Poblacion!N72,Poblacion!P72,Poblacion!R72,Poblacion!T72)","v":23},{"$f":"SUM(Poblacion!U72,Poblacion!W72,Poblacion!Y72,Poblacion!AA72,Poblacion!AC72)","v":9},{"$f":"SUM(Poblacion!V72,Poblacion!X72,Poblacion!Z72,Poblacion!AB72,Poblacion!AD72)","v":5},{"$f":"+SUM(Poblacion!AE72,Poblacion!AG72,Poblacion!AI72,Poblacion!AK72,Poblacion!AM72)","v":13},{"$f":"+SUM(Poblacion!AF72,Poblacion!AH72,Poblacion!AJ72,Poblacion!AL72,Poblacion!AN72)","v":17},{"$f":"+SUM(Poblacion!AO72,Poblacion!AQ72,Poblacion!AS72,Poblacion!AU72,Poblacion!AW72)","v":10},{"$f":"+SUM(Poblacion!AP72,Poblacion!AR72,Poblacion!AT72,Poblacion!AV72,Poblacion!AX72)","v":13},{"$f":"Poblacion!AY72","v":9},{"$f":"Poblacion!AZ72","v":6},{"$f":"Poblacion!BA72","v":7},{"$f":"Poblacion!BB72","v":6},{"$f":"Poblacion!BC72","v":6},{"$f":"Poblacion!BD72","v":4},{"$f":"Poblacion!BE72","v":9},{"$f":"Poblacion!BF72","v":10},{"$f":"Poblacion!BG72","v":11},{"$f":"Poblacion!BH72","v":6},{"$f":"Poblacion!BI72","v":6},{"$f":"Poblacion!BJ72","v":8},{"$f":"Poblacion!BK72","v":17},{"$f":"Poblacion!BL72","v":7},{"$f":"Poblacion!BM72","v":12},{"$f":"Poblacion!BN72","v":16},{"$f":"Poblacion!BO72","v":26},{"$f":"Poblacion!BP72","v":18},{"$f":"Poblacion!BQ72","v":9},{"$f":"Poblacion!BR72","v":16},{"$f":"Poblacion!BS72","v":11},{"$f":"Poblacion!BT72","v":15},{"$f":"Poblacion!BU72","v":10},{"$f":"Poblacion!BV72","v":18},{"$f":"Poblacion!BW72","v":27},{"$f":"Poblacion!BX72","v":34},{"$f":"Poblacion!DM72","v":36},{"$f":"Poblacion!DN72","v":44},{"$f":"Poblacion!DO72","v":9},{"$f":"Poblacion!DP72","v":11},{"$f":"Poblacion!DQ72","v":79},{"$f":"Poblacion!DR72","v":66},{"$f":"Poblacion!DS72","v":83},{"$f":"Poblacion!DT72","v":101}]
[null,null,null,null,null,null,null,null,null,null,null,null,null,null,null,null,null,null,null,null,null,null,null,null,null,null,null,null,null,null,null,null,null,null,null,null,null,null,null,null,null,null,null,null,null,null,null,null,null,null,null,null,"05",67,"P.S. ANDAJES",{"$f":"Poblacion!F73","v":429},{"$f":"+SUM(Poblacion!K73,Poblacion!M73,Poblacion!O73,Poblacion!Q73,Poblacion!S73)","v":15},{"$f":"+SUM(Poblacion!L73,Poblacion!N73,Poblacion!P73,Poblacion!R73,Poblacion!T73)","v":23},{"$f":"SUM(Poblacion!U73,Poblacion!W73,Poblacion!Y73,Poblacion!AA73,Poblacion!AC73)","v":9},{"$f":"SUM(Poblacion!V73,Poblacion!X73,Poblacion!Z73,Poblacion!AB73,Poblacion!AD73)","v":5},{"$f":"+SUM(Poblacion!AE73,Poblacion!AG73,Poblacion!AI73,Poblacion!AK73,Poblacion!AM73)","v":13},{"$f":"+SUM(Poblacion!AF73,Poblacion!AH73,Poblacion!AJ73,Poblacion!AL73,Poblacion!AN73)","v":17},{"$f":"+SUM(Poblacion!AO73,Poblacion!AQ73,Poblacion!AS73,Poblacion!AU73,Poblacion!AW73)","v":10},{"$f":"+SUM(Poblacion!AP73,Poblacion!AR73,Poblacion!AT73,Poblacion!AV73,Poblacion!AX73)","v":13},{"$f":"Poblacion!AY73","v":9},{"$f":"Poblacion!AZ73","v":6},{"$f":"Poblacion!BA73","v":7},{"$f":"Poblacion!BB73","v":6},{"$f":"Poblacion!BC73","v":6},{"$f":"Poblacion!BD73","v":4},{"$f":"Poblacion!BE73","v":9},{"$f":"Poblacion!BF73","v":10},{"$f":"Poblacion!BG73","v":11},{"$f":"Poblacion!BH73","v":6},{"$f":"Poblacion!BI73","v":6},{"$f":"Poblacion!BJ73","v":8},{"$f":"Poblacion!BK73","v":17},{"$f":"Poblacion!BL73","v":7},{"$f":"Poblacion!BM73","v":12},{"$f":"Poblacion!BN73","v":16},{"$f":"Poblacion!BO73","v":26},{"$f":"Poblacion!BP73","v":18},{"$f":"Poblacion!BQ73","v":9},{"$f":"Poblacion!BR73","v":16},{"$f":"Poblacion!BS73","v":11},{"$f":"Poblacion!BT73","v":15},{"$f":"Poblacion!BU73","v":10},{"$f":"Poblacion!BV73","v":18},{"$f":"Poblacion!BW73","v":27},{"$f":"Poblacion!BX73","v":34},{"$f":"Poblacion!DM73","v":36},{"$f":"Poblacion!DN73","v":44},{"$f":"Poblacion!DO73","v":9},{"$f":"Poblacion!DP73","v":11},{"$f":"Poblacion!DQ73","v":79},{"$f":"Poblacion!DR73","v":66},{"$f":"Poblacion!DS73","v":83},{"$f":"Poblacion!DT73","v":101}]
[null,null,null,null,null,null,null,null,null,null,null,null,null,null,null,null,null,null,null,null,null,null,null,null,null,null,null,null,null,null,null,null,null,null,null,null,null,null,null,null,null,null,null,null,null,null,null,null,null,null,null,null,null,68,"DISTRITO CAUJUL",{"$f":"Poblacion!F74","v":451},{"$f":"+SUM(Poblacion!K74,Poblacion!M74,Poblacion!O74,Poblacion!Q74,Poblacion!S74)","v":20},{"$f":"+SUM(Poblacion!L74,Poblacion!N74,Poblacion!P74,Poblacion!R74,Poblacion!T74)","v":19},{"$f":"SUM(Poblacion!U74,Poblacion!W74,Poblacion!Y74,Poblacion!AA74,Poblacion!AC74)","v":13},{"$f":"SUM(Poblacion!V74,Poblacion!X74,Poblacion!Z74,Poblacion!AB74,Poblacion!AD74)","v":15},{"$f":"+SUM(Poblacion!AE74,Poblacion!AG74,Poblacion!AI74,Poblacion!AK74,Poblacion!AM74)","v":12},{"$f":"+SUM(Poblacion!AF74,Poblacion!AH74,Poblacion!AJ74,Poblacion!AL74,Poblacion!AN74)","v":16},{"$f":"+SUM(Poblacion!AO74,Poblacion!AQ74,Poblacion!AS74,Poblacion!AU74,Poblacion!AW74)","v":15},{"$f":"+SUM(Poblacion!AP74,Poblacion!AR74,Poblacion!AT74,Poblacion!AV74,Poblacion!AX74)","v":19},{"$f":"Poblacion!AY74","v":14},{"$f":"Poblacion!AZ74","v":17},{"$f":"Poblacion!BA74","v":13},{"$f":"Poblacion!BB74","v":18},{"$f":"Poblacion!BC74","v":13},{"$f":"Poblacion!BD74","v":13},{"$f":"Poblacion!BE74","v":12},{"$f":"Poblacion!BF74","v":18},{"$f":"Poblacion!BG74","v":10},{"$f":"Poblacion!BH74","v":11},{"$f":"Poblacion!BI74","v":19},{"$f":"Poblacion!BJ74","v":10},{"$f":"Poblacion!BK74","v":9},{"$f":"Poblacion!BL74","v":12},{"$f":"Poblacion!BM74","v":12},{"$f":"Poblacion!BN74","v":15},{"$f":"Poblacion!BO74","v":13},{"$f":"Poblacion!BP74","v":12},{"$f":"Poblacion!BQ74","v":15},{"$f":"Poblacion!BR74","v":8},{"$f":"Poblacion!BS74","v":8},{"$f":"Poblacion!BT74","v":6},{"$f":"Poblacion!BU74","v":6},{"$f":"Poblacion!BV74","v":8},{"$f":"Poblacion!BW74","v":12},{"$f":"Poblacion!BX74","v":18},{"$f":"Poblacion!DM74","v":43},{"$f":"Poblacion!DN74","v":47},{"$f":"Poblacion!DO74","v":12},{"$f":"Poblacion!DP74","v":14},{"$f":"Poblacion!DQ74","v":107},{"$f":"Poblacion!DR74","v":122},{"$f":"Poblacion!DS74","v":54},{"$f":"Poblacion!DT74","v":52}]
[null,null,null,null,null,null,null,null,null,null,null,null,null,null,null,null,null,null,null,null,null,null,null,null,null,null,null,null,null,null,null,null,null,null,null,null,null,null,null,null,null,null,null,null,null,null,null,null,null,null,null,null,"05",69,"P.S. CAUJUL",{"$f":"Poblacion!F75","v":451},{"$f":"+SUM(Poblacion!K75,Poblacion!M75,Poblacion!O75,Poblacion!Q75,Poblacion!S75)","v":20},{"$f":"+SUM(Poblacion!L75,Poblacion!N75,Poblacion!P75,Poblacion!R75,Poblacion!T75)","v":19},{"$f":"SUM(Poblacion!U75,Poblacion!W75,Poblacion!Y75,Poblacion!AA75,Poblacion!AC75)","v":13},{"$f":"SUM(Poblacion!V75,Poblacion!X75,Poblacion!Z75,Poblacion!AB75,Poblacion!AD75)","v":15},{"$f":"+SUM(Poblacion!AE75,Poblacion!AG75,Poblacion!AI75,Poblacion!AK75,Poblacion!AM75)","v":12},{"$f":"+SUM(Poblacion!AF75,Poblacion!AH75,Poblacion!AJ75,Poblacion!AL75,Poblacion!AN75)","v":16},{"$f":"+SUM(Poblacion!AO75,Poblacion!AQ75,Poblacion!AS75,Poblacion!AU75,Poblacion!AW75)","v":15},{"$f":"+SUM(Poblacion!AP75,Poblacion!AR75,Poblacion!AT75,Poblacion!AV75,Poblacion!AX75)","v":19},{"$f":"Poblacion!AY75","v":14},{"$f":"Poblacion!AZ75","v":17},{"$f":"Poblacion!BA75","v":13},{"$f":"Poblacion!BB75","v":18},{"$f":"Poblacion!BC75","v":13},{"$f":"Poblacion!BD75","v":13},{"$f":"Poblacion!BE75","v":12},{"$f":"Poblacion!BF75","v":18},{"$f":"Poblacion!BG75","v":10},{"$f":"Poblacion!BH75","v":11},{"$f":"Poblacion!BI75","v":19},{"$f":"Poblacion!BJ75","v":10},{"$f":"Poblacion!BK75","v":9},{"$f":"Poblacion!BL75","v":12},{"$f":"Poblacion!BM75","v":12},{"$f":"Poblacion!BN75","v":15},{"$f":"Poblacion!BO75","v":13},{"$f":"Poblacion!BP75","v":12},{"$f":"Poblacion!BQ75","v":15},{"$f":"Poblacion!BR75","v":8},{"$f":"Poblacion!BS75","v":8},{"$f":"Poblacion!BT75","v":6},{"$f":"Poblacion!BU75","v":6},{"$f":"Poblacion!BV75","v":8},{"$f":"Poblacion!BW75","v":12},{"$f":"Poblacion!BX75","v":18},{"$f":"Poblacion!DM75","v":43},{"$f":"Poblacion!DN75","v":47},{"$f":"Poblacion!DO75","v":12},{"$f":"Poblacion!DP75","v":14},{"$f":"Poblacion!DQ75","v":107},{"$f":"Poblacion!DR75","v":122},{"$f":"Poblacion!DS75","v":54},{"$f":"Poblacion!DT75","v":52}]
[null,null,null,null,null,null,null,null,null,null,null,null,null,null,null,null,null,null,null,null,null,null,null,null,null,null,null,null,null,null,null,null,null,null,null,null,null,null,null,null,null,null,null,null,null,null,null,null,null,null,null,null,null,70,"DISTRITO COCHAMARCA",{"$f":"Poblacion!F76","v":1093},{"$f":"+SUM(Poblacion!K76,Poblacion!M76,Poblacion!O76,Poblacion!Q76,Poblacion!S76)","v":43},{"$f":"+SUM(Poblacion!L76,Poblacion!N76,Poblacion!P76,Poblacion!R76,Poblacion!T76)","v":56},{"$f":"SUM(Poblacion!U76,Poblacion!W76,Poblacion!Y76,Poblacion!AA76,Poblacion!AC76)","v":29},{"$f":"SUM(Poblacion!V76,Poblacion!X76,Poblacion!Z76,Poblacion!AB76,Poblacion!AD76)","v":36},{"$f":"+SUM(Poblacion!AE76,Poblacion!AG76,Poblacion!AI76,Poblacion!AK76,Poblacion!AM76)","v":43},{"$f":"+SUM(Poblacion!AF76,Poblacion!AH76,Poblacion!AJ76,Poblacion!AL76,Poblacion!AN76)","v":63},{"$f":"+SUM(Poblacion!AO76,Poblacion!AQ76,Poblacion!AS76,Poblacion!AU76,Poblacion!AW76)","v":72},{"$f":"+SUM(Poblacion!AP76,Poblacion!AR76,Poblacion!AT76,Poblacion!AV76,Poblacion!AX76)","v":66},{"$f":"Poblacion!AY76","v":55},{"$f":"Poblacion!AZ76","v":54},{"$f":"Poblacion!BA76","v":44},{"$f":"Poblacion!BB76","v":45},{"$f":"Poblacion!BC76","v":38},{"$f":"Poblacion!BD76","v":32},{"$f":"Poblacion!BE76","v":28},{"$f":"Poblacion!BF76","v":31},{"$f":"Poblacion!BG76","v":23},{"$f":"Poblacion!BH76","v":22},{"$f":"Poblacion!BI76","v":34},{"$f":"Poblacion!BJ76","v":36},{"$f":"Poblacion!BK76","v":26},{"$f":"Poblacion!BL76","v":27},{"$f":"Poblacion!BM76","v":30},{"$f":"Poblacion!BN76","v":20},{"$f":"Poblacion!BO76","v":17},{"$f":"Poblacion!BP76","v":19},{"$f":"Poblacion!BQ76","v":11},{"$f":"Poblacion!BR76","v":12},{"$f":"Poblacion!BS76","v":13},{"$f":"Poblacion!BT76","v":17},{"$f":"Poblacion!BU76","v":6},{"$f":"Poblacion!BV76","v":10},{"$f":"Poblacion!BW76","v":16},{"$f":"Poblacion!BX76","v":19},{"$f":"Poblacion!DM76","v":109},{"$f":"Poblacion!DN76","v":141},{"$f":"Poblacion!DO76","v":47},{"$f":"Poblacion!DP76","v":53},{"$f":"Poblacion!DQ76","v":309},{"$f":"Poblacion!DR76","v":294},{"$f":"Poblacion!DS76","v":63},{"$f":"Poblacion!DT76","v":77}]
[null,null,null,null,null,null,null,null,null,null,null,null,null,null,null,null,null,null,null,null,null,null,null,null,null,null,null,null,null,null,null,null,null,null,null,null,null,null,null,null,null,null,null,null,null,null,null,null,null,null,null,null,"03",71,"P.S. COCHAMARCA",{"$f":"Poblacion!F77","v":463},{"$f":"+SUM(Poblacion!K77,Poblacion!M77,Poblacion!O77,Poblacion!Q77,Poblacion!S77)","v":17},{"$f":"+SUM(Poblacion!L77,Poblacion!N77,Poblacion!P77,Poblacion!R77,Poblacion!T77)","v":24},{"$f":"SUM(Poblacion!U77,Poblacion!W77,Poblacion!Y77,Poblacion!AA77,Poblacion!AC77)","v":12},{"$f":"SUM(Poblacion!V77,Poblacion!X77,Poblacion!Z77,Poblacion!AB77,Poblacion!AD77)","v":14},{"$f":"+SUM(Poblacion!AE77,Poblacion!AG77,Poblacion!AI77,Poblacion!AK77,Poblacion!AM77)","v":17},{"$f":"+SUM(Poblacion!AF77,Poblacion!AH77,Poblacion!AJ77,Poblacion!AL77,Poblacion!AN77)","v":27},{"$f":"+SUM(Poblacion!AO77,Poblacion!AQ77,Poblacion!AS77,Poblacion!AU77,Poblacion!AW77)","v":31},{"$f":"+SUM(Poblacion!AP77,Poblacion!AR77,Poblacion!AT77,Poblacion!AV77,Poblacion!AX77)","v":29},{"$f":"Poblacion!AY77","v":24},{"$f":"Poblacion!AZ77","v":23},{"$f":"Poblacion!BA77","v":19},{"$f":"Poblacion!BB77","v":19},{"$f":"Poblacion!BC77","v":16},{"$f":"Poblacion!BD77","v":14},{"$f":"Poblacion!BE77","v":12},{"$f":"Poblacion!BF77","v":13},{"$f":"Poblacion!BG77","v":10},{"$f":"Poblacion!BH77","v":9},{"$f":"Poblacion!BI77","v":15},{"$f":"Poblacion!BJ77","v":15},{"$f":"Poblacion!BK77","v":11},{"$f":"Poblacion!BL77","v":12},{"$f":"Poblacion!BM77","v":13},{"$f":"Poblacion!BN77","v":8},{"$f":"Poblacion!BO77","v":7},{"$f":"Poblacion!BP77","v":8},{"$f":"Poblacion!BQ77","v":5},{"$f":"Poblacion!BR77","v":5},{"$f":"Poblacion!BS77","v":6},{"$f":"Poblacion!BT77","v":7},{"$f":"Poblacion!BU77","v":2},{"$f":"Poblacion!BV77","v":4},{"$f":"Poblacion!BW77","v":7},{"$f":"Poblacion!BX77","v":8},{"$f":"Poblacion!DM77","v":44},{"$f":"Poblacion!DN77","v":59},{"$f":"Poblacion!DO77","v":19},{"$f":"Poblacion!DP77","v":23},{"$f":"Poblacion!DQ77","v":134},{"$f":"Poblacion!DR77","v":125},{"$f":"Poblacion!DS77","v":27},{"$f":"Poblacion!DT77","v":32}]
[null,null,null,null,null,null,null,null,null,null,null,null,null,null,null,null,null,null,null,null,null,null,null,null,null,null,null,null,null,null,null,null,null,null,null,null,null,null,null,null,null,null,null,null,null,null,null,null,null,null,null,null,"03",72,"P.S. COLCAPAMPA",{"$f":"Poblacion!F78","v":529},{"$f":"+SUM(Poblacion!K78,Poblacion!M78,Poblacion!O78,Poblacion!Q78,Poblacion!S78)","v":21},{"$f":"+SUM(Poblacion!L78,Poblacion!N78,Poblacion!P78,Poblacion!R78,Poblacion!T78)","v":27},{"$f":"SUM(Poblacion!U78,Poblacion!W78,Poblacion!Y78,Poblacion!AA78,Poblacion!AC78)","v":16},{"$f":"SUM(Poblacion!V78,Poblacion!X78,Poblacion!Z78,Poblacion!AB78,Poblacion!AD78)","v":18},{"$f":"+SUM(Poblacion!AE78,Poblacion!AG78,Poblacion!AI78,Poblacion!AK78,Poblacion!AM78)","v":21},{"$f":"+SUM(Poblacion!AF78,Poblacion!AH78,Poblacion!AJ78,Poblacion!AL78,Poblacion!AN78)","v":31},{"$f":"+SUM(Poblacion!AO78,Poblacion!AQ78,Poblacion!AS78,Poblacion!AU78,Poblacion!AW78)","v":35},{"$f":"+SUM(Poblacion!AP78,Poblacion!AR78,Poblacion!AT78,Poblacion!AV78,Poblacion!AX78)","v":31},{"$f":"Poblacion!AY78","v":26},{"$f":"Poblacion!AZ78","v":26},{"$f":"Poblacion!BA78","v":21},{"$f":"Poblacion!BB78","v":22},{"$f":"Poblacion!BC78","v":19},{"$f":"Poblacion!BD78","v":15},{"$f":"Poblacion!BE78","v":13},{"$f":"Poblacion!BF78","v":15},{"$f":"Poblacion!BG78","v":11},{"$f":"Poblacion!BH78","v":11},{"$f":"Poblacion!BI78","v":16},{"$f":"Poblacion!BJ78","v":18},{"$f":"Poblacion!BK78","v":13},{"$f":"Poblacion!BL78","v":13},{"$f":"Poblacion!BM78","v":14},{"$f":"Poblacion!BN78","v":10},{"$f":"Poblacion!BO78","v":8},{"$f":"Poblacion!BP78","v":9},{"$f":"Poblacion!BQ78","v":5},{"$f":"Poblacion!BR78","v":6},{"$f":"Poblacion!BS78","v":6},{"$f":"Poblacion!BT78","v":8},{"$f":"Poblacion!BU78","v":3},{"$f":"Poblacion!BV78","v":5},{"$f":"Poblacion!BW78","v":7},{"$f":"Poblacion!BX78","v":9},{"$f":"Poblacion!DM78","v":55},{"$f":"Poblacion!DN78","v":69},{"$f":"Poblacion!DO78","v":24},{"$f":"Poblacion!DP78","v":25},{"$f":"Poblacion!DQ78","v":147},{"$f":"Poblacion!DR78","v":143},{"$f":"Poblacion!DS78","v":29},{"$f":"Poblacion!DT78","v":37}]
[null,null,null,null,null,null,null,null,null,null,null,null,null,null,null,null,null,null,null,null,null,null,null,null,null,null,null,null,null,null,null,null,null,null,null,null,null,null,null,null,null,null,null,null,null,null,null,null,null,null,null,null,"03",73,"P.S. YARUCAYA",{"$f":"Poblacion!F79","v":101},{"$f":"+SUM(Poblacion!K79,Poblacion!M79,Poblacion!O79,Poblacion!Q79,Poblacion!S79)","v":5},{"$f":"+SUM(Poblacion!L79,Poblacion!N79,Poblacion!P79,Poblacion!R79,Poblacion!T79)","v":5},{"$f":"SUM(Poblacion!U79,Poblacion!W79,Poblacion!Y79,Poblacion!AA79,Poblacion!AC79)","v":1},{"$f":"SUM(Poblacion!V79,Poblacion!X79,Poblacion!Z79,Poblacion!AB79,Poblacion!AD79)","v":4},{"$f":"+SUM(Poblacion!AE79,Poblacion!AG79,Poblacion!AI79,Poblacion!AK79,Poblacion!AM79)","v":5},{"$f":"+SUM(Poblacion!AF79,Poblacion!AH79,Poblacion!AJ79,Poblacion!AL79,Poblacion!AN79)","v":5},{"$f":"+SUM(Poblacion!AO79,Poblacion!AQ79,Poblacion!AS79,Poblacion!AU79,Poblacion!AW79)","v":6},{"$f":"+SUM(Poblacion!AP79,Poblacion!AR79,Poblacion!AT79,Poblacion!AV79,Poblacion!AX79)","v":6},{"$f":"Poblacion!AY79","v":5},{"$f":"Poblacion!AZ79","v":5},{"$f":"Poblacion!BA79","v":4},{"$f":"Poblacion!BB79","v":4},{"$f":"Poblacion!BC79","v":3},{"$f":"Poblacion!BD79","v":3},{"$f":"Poblacion!BE79","v":3},{"$f":"Poblacion!BF79","v":3},{"$f":"Poblacion!BG79","v":2},{"$f":"Poblacion!BH79","v":2},{"$f":"Poblacion!BI79","v":3},{"$f":"Poblacion!BJ79","v":3},{"$f":"Poblacion!BK79","v":2},{"$f":"Poblacion!BL79","v":2},{"$f":"Poblacion!BM79","v":3},{"$f":"Poblacion!BN79","v":2},{"$f":"Poblacion!BO79","v":2},{"$f":"Poblacion!BP79","v":2},{"$f":"Poblacion!BQ79","v":1},{"$f":"Poblacion!BR79","v":1},{"$f":"Poblacion!BS79","v":1},{"$f":"Poblacion!BT79","v":2},{"$f":"Poblacion!BU79","v":1},{"$f":"Poblacion!BV79","v":1},{"$f":"Poblacion!BW79","v":2},{"$f":"Poblacion!BX79","v":2},{"$f":"Poblacion!DM79","v":10},{"$f":"Poblacion!DN79","v":13},{"$f":"Poblacion!DO79","v":4},{"$f":"Poblacion!DP79","v":5},{"$f":"Poblacion!DQ79","v":28},{"$f":"Poblacion!DR79","v":26},{"$f":"Poblacion!DS79","v":7},{"$f":"Poblacion!DT79","v":8}]
[null,null,null,null,null,null,null,null,null,null,null,null,null,null,null,null,null,null,null,null,null,null,null,null,null,null,null,null,null,null,null,null,null,null,null,null,null,null,null,null,null,null,null,null,null,null,null,null,null,null,null,null,null,74,"DISTRITO NAVAN",{"$f":"Poblacion!F80","v":776},{"$f":"+SUM(Poblacion!K80,Poblacion!M80,Poblacion!O80,Poblacion!Q80,Poblacion!S80)","v":23},{"$f":"+SUM(Poblacion!L80,Poblacion!N80,Poblacion!P80,Poblacion!R80,Poblacion!T80)","v":23},{"$f":"SUM(Poblacion!U80,Poblacion!W80,Poblacion!Y80,Poblacion!AA80,Poblacion!AC80)","v":21},{"$f":"SUM(Poblacion!V80,Poblacion!X80,Poblacion!Z80,Poblacion!AB80,Poblacion!AD80)","v":15},{"$f":"+SUM(Poblacion!AE80,Poblacion!AG80,Poblacion!AI80,Poblacion!AK80,Poblacion!AM80)","v":28},{"$f":"+SUM(Poblacion!AF80,Poblacion!AH80,Poblacion!AJ80,Poblacion!AL80,Poblacion!AN80)","v":35},{"$f":"+SUM(Poblacion!AO80,Poblacion!AQ80,Poblacion!AS80,Poblacion!AU80,Poblacion!AW80)","v":26},{"$f":"+SUM(Poblacion!AP80,Poblacion!AR80,Poblacion!AT80,Poblacion!AV80,Poblacion!AX80)","v":42},{"$f":"Poblacion!AY80","v":23},{"$f":"Poblacion!AZ80","v":23},{"$f":"Poblacion!BA80","v":16},{"$f":"Poblacion!BB80","v":20},{"$f":"Poblacion!BC80","v":14},{"$f":"Poblacion!BD80","v":28},{"$f":"Poblacion!BE80","v":32},{"$f":"Poblacion!BF80","v":27},{"$f":"Poblacion!BG80","v":20},{"$f":"Poblacion!BH80","v":23},{"$f":"Poblacion!BI80","v":27},{"$f":"Poblacion!BJ80","v":28},{"$f":"Poblacion!BK80","v":35},{"$f":"Poblacion!BL80","v":23},{"$f":"Poblacion!BM80","v":23},{"$f":"Poblacion!BN80","v":26},{"$f":"Poblacion!BO80","v":25},{"$f":"Poblacion!BP80","v":21},{"$f":"Poblacion!BQ80","v":19},{"$f":"Poblacion!BR80","v":18},{"$f":"Poblacion!BS80","v":14},{"$f":"Poblacion!BT80","v":16},{"$f":"Poblacion!BU80","v":10},{"$f":"Poblacion!BV80","v":13},{"$f":"Poblacion!BW80","v":17},{"$f":"Poblacion!BX80","v":22},{"$f":"Poblacion!DM80","v":66},{"$f":"Poblacion!DN80","v":69},{"$f":"Poblacion!DO80","v":19},{"$f":"Poblacion!DP80","v":33},{"$f":"Poblacion!DQ80","v":203},{"$f":"Poblacion!DR80","v":211},{"$f":"Poblacion!DS80","v":85},{"$f":"Poblacion!DT80","v":90}]
[null,null,null,null,null,null,null,null,null,null,null,null,null,null,null,null,null,null,null,null,null,null,null,null,null,null,null,null,null,null,null,null,null,null,null,null,null,null,null,null,null,null,null,null,null,null,null,null,null,null,null,null,"05",75,"P.S. NAVAN",{"$f":"Poblacion!F81","v":776},{"$f":"+SUM(Poblacion!K81,Poblacion!M81,Poblacion!O81,Poblacion!Q81,Poblacion!S81)","v":23},{"$f":"+SUM(Poblacion!L81,Poblacion!N81,Poblacion!P81,Poblacion!R81,Poblacion!T81)","v":23},{"$f":"SUM(Poblacion!U81,Poblacion!W81,Poblacion!Y81,Poblacion!AA81,Poblacion!AC81)","v":21},{"$f":"SUM(Poblacion!V81,Poblacion!X81,Poblacion!Z81,Poblacion!AB81,Poblacion!AD81)","v":15},{"$f":"+SUM(Poblacion!AE81,Poblacion!AG81,Poblacion!AI81,Poblacion!AK81,Poblacion!AM81)","v":28},{"$f":"+SUM(Poblacion!AF81,Poblacion!AH81,Poblacion!AJ81,Poblacion!AL81,Poblacion!AN81)","v":35},{"$f":"+SUM(Poblacion!AO81,Poblacion!AQ81,Poblacion!AS81,Poblacion!AU81,Poblacion!AW81)","v":26},{"$f":"+SUM(Poblacion!AP81,Poblacion!AR81,Poblacion!AT81,Poblacion!AV81,Poblacion!AX81)","v":42},{"$f":"Poblacion!AY81","v":23},{"$f":"Poblacion!AZ81","v":23},{"$f":"Poblacion!BA81","v":16},{"$f":"Poblacion!BB81","v":20},{"$f":"Poblacion!BC81","v":14},{"$f":"Poblacion!BD81","v":28},{"$f":"Poblacion!BE81","v":32},{"$f":"Poblacion!BF81","v":27},{"$f":"Poblacion!BG81","v":20},{"$f":"Poblacion!BH81","v":23},{"$f":"Poblacion!BI81","v":27},{"$f":"Poblacion!BJ81","v":28},{"$f":"Poblacion!BK81","v":35},{"$f":"Poblacion!BL81","v":23},{"$f":"Poblacion!BM81","v":23},{"$f":"Poblacion!BN81","v":26},{"$f":"Poblacion!BO81","v":25},{"$f":"Poblacion!BP81","v":21},{"$f":"Poblacion!BQ81","v":19},{"$f":"Poblacion!BR81","v":18},{"$f":"Poblacion!BS81","v":14},{"$f":"Poblacion!BT81","v":16},{"$f":"Poblacion!BU81","v":10},{"$f":"Poblacion!BV81","v":13},{"$f":"Poblacion!BW81","v":17},{"$f":"Poblacion!BX81","v":22},{"$f":"Poblacion!DM81","v":66},{"$f":"Poblacion!DN81","v":69},{"$f":"Poblacion!DO81","v":19},{"$f":"Poblacion!DP81","v":33},{"$f":"Poblacion!DQ81","v":203},{"$f":"Poblacion!DR81","v":211},{"$f":"Poblacion!DS81","v":85},{"$f":"Poblacion!DT81","v":90}]
[null,null,null,null,null,null,null,null,null,null,null,null,null,null,null,null,null,null,null,null,null,null,null,null,null,null,null,null,null,null,null,null,null,null,null,null,null,null,null,null,null,null,null,null,null,null,null,null,null,null,null,null,null,76,"DISTRITO PACHANGARA",{"$f":"Poblacion!F82","v":2455},{"$f":"+SUM(Poblacion!K82,Poblacion!M82,Poblacion!O82,Poblacion!Q82,Poblacion!S82)","v":144},{"$f":"+SUM(Poblacion!L82,Poblacion!N82,Poblacion!P82,Poblacion!R82,Poblacion!T82)","v":142},{"$f":"SUM(Poblacion!U82,Poblacion!W82,Poblacion!Y82,Poblacion!AA82,Poblacion!AC82)","v":91},{"$f":"SUM(Poblacion!V82,Poblacion!X82,Poblacion!Z82,Poblacion!AB82,Poblacion!AD82)","v":94},{"$f":"+SUM(Poblacion!AE82,Poblacion!AG82,Poblacion!AI82,Poblacion!AK82,Poblacion!AM82)","v":90},{"$f":"+SUM(Poblacion!AF82,Poblacion!AH82,Poblacion!AJ82,Poblacion!AL82,Poblacion!AN82)","v":96},{"$f":"+SUM(Poblacion!AO82,Poblacion!AQ82,Poblacion!AS82,Poblacion!AU82,Poblacion!AW82)","v":89},{"$f":"+SUM(Poblacion!AP82,Poblacion!AR82,Poblacion!AT82,Poblacion!AV82,Poblacion!AX82)","v":91},{"$f":"Poblacion!AY82","v":76},{"$f":"Poblacion!AZ82","v":71},{"$f":"Poblacion!BA82","v":80},{"$f":"Poblacion!BB82","v":107},{"$f":"Poblacion!BC82","v":76},{"$f":"Poblacion!BD82","v":75},{"$f":"Poblacion!BE82","v":69},{"$f":"Poblacion!BF82","v":83},{"$f":"Poblacion!BG82","v":82},{"$f":"Poblacion!BH82","v":75},{"$f":"Poblacion!BI82","v":72},{"$f":"Poblacion!BJ82","v":62},{"$f":"Poblacion!BK82","v":47},{"$f":"Poblacion!BL82","v":68},{"$f":"Poblacion!BM82","v":56},{"$f":"Poblacion!BN82","v":72},{"$f":"Poblacion!BO82","v":54},{"$f":"Poblacion!BP82","v":60},{"$f":"Poblacion!BQ82","v":45},{"$f":"Poblacion!BR82","v":54},{"$f":"Poblacion!BS82","v":41},{"$f":"Poblacion!BT82","v":38},{"$f":"Poblacion!BU82","v":37},{"$f":"Poblacion!BV82","v":37},{"$f":"Poblacion!BW82","v":38},{"$f":"Poblacion!BX82","v":43},{"$f":"Poblacion!DM82","v":309},{"$f":"Poblacion!DN82","v":316},{"$f":"Poblacion!DO82","v":69},{"$f":"Poblacion!DP82","v":79},{"$f":"Poblacion!DQ82","v":594},{"$f":"Poblacion!DR82","v":641},{"$f":"Poblacion!DS82","v":215},{"$f":"Poblacion!DT82","v":232}]
[null,null,null,null,null,null,null,null,null,null,null,null,null,null,null,null,null,null,null,null,null,null,null,null,null,null,null,null,null,null,null,null,null,null,null,null,null,null,null,null,null,null,null,null,null,null,null,null,null,null,null,null,"05",77,"P.S. HUANCAHUASI",{"$f":"Poblacion!F83","v":444},{"$f":"+SUM(Poblacion!K83,Poblacion!M83,Poblacion!O83,Poblacion!Q83,Poblacion!S83)","v":26},{"$f":"+SUM(Poblacion!L83,Poblacion!N83,Poblacion!P83,Poblacion!R83,Poblacion!T83)","v":26},{"$f":"SUM(Poblacion!U83,Poblacion!W83,Poblacion!Y83,Poblacion!AA83,Poblacion!AC83)","v":17},{"$f":"SUM(Poblacion!V83,Poblacion!X83,Poblacion!Z83,Poblacion!AB83,Poblacion!AD83)","v":17},{"$f":"+SUM(Poblacion!AE83,Poblacion!AG83,Poblacion!AI83,Poblacion!AK83,Poblacion!AM83)","v":16},{"$f":"+SUM(Poblacion!AF83,Poblacion!AH83,Poblacion!AJ83,Poblacion!AL83,Poblacion!AN83)","v":18},{"$f":"+SUM(Poblacion!AO83,Poblacion!AQ83,Poblacion!AS83,Poblacion!AU83,Poblacion!AW83)","v":15},{"$f":"+SUM(Poblacion!AP83,Poblacion!AR83,Poblacion!AT83,Poblacion!AV83,Poblacion!AX83)","v":16},{"$f":"Poblacion!AY83","v":14},{"$f":"Poblacion!AZ83","v":13},{"$f":"Poblacion!BA83","v":14},{"$f":"Poblacion!BB83","v":19},{"$f":"Poblacion!BC83","v":14},{"$f":"Poblacion!BD83","v":14},{"$f":"Poblacion!BE83","v":12},{"$f":"Poblacion!BF83","v":15},{"$f":"Poblacion!BG83","v":15},{"$f":"Poblacion!BH83","v":14},{"$f":"Poblacion!BI83","v":13},{"$f":"Poblacion!BJ83","v":11},{"$f":"Poblacion!BK83","v":8},{"$f":"Poblacion!BL83","v":12},{"$f":"Poblacion!BM83","v":10},{"$f":"Poblacion!BN83","v":13},{"$f":"Poblacion!BO83","v":10},{"$f":"Poblacion!BP83","v":11},{"$f":"Poblacion!BQ83","v":8},{"$f":"Poblacion!BR83","v":10},{"$f":"Poblacion!BS83","v":7},{"$f":"Poblacion!BT83","v":7},{"$f":"Poblacion!BU83","v":7},{"$f":"Poblacion!BV83","v":7},{"$f":"Poblacion!BW83","v":7},{"$f":"Poblacion!BX83","v":8},{"$f":"Poblacion!DM83","v":56},{"$f":"Poblacion!DN83","v":58},{"$f":"Poblacion!DO83","v":12},{"$f":"Poblacion!DP83","v":14},{"$f":"Poblacion!DQ83","v":106},{"$f":"Poblacion!DR83","v":116},{"$f":"Poblacion!DS83","v":39},{"$f":"Poblacion!DT83","v":43}]
[null,null,null,null,null,null,null,null,null,null,null,null,null,null,null,null,null,null,null,null,null,null,null,null,null,null,null,null,null,null,null,null,null,null,null,null,null,null,null,null,null,null,null,null,null,null,null,null,null,null,null,null,"05",78,"C.S. CHURIN",{"$f":"Poblacion!F84","v":1645},{"$f":"+SUM(Poblacion!K84,Poblacion!M84,Poblacion!O84,Poblacion!Q84,Poblacion!S84)","v":96},{"$f":"+SUM(Poblacion!L84,Poblacion!N84,Poblacion!P84,Poblacion!R84,Poblacion!T84)","v":95},{"$f":"SUM(Poblacion!U84,Poblacion!W84,Poblacion!Y84,Poblacion!AA84,Poblacion!AC84)","v":59},{"$f":"SUM(Poblacion!V84,Poblacion!X84,Poblacion!Z84,Poblacion!AB84,Poblacion!AD84)","v":63},{"$f":"+SUM(Poblacion!AE84,Poblacion!AG84,Poblacion!AI84,Poblacion!AK84,Poblacion!AM84)","v":62},{"$f":"+SUM(Poblacion!AF84,Poblacion!AH84,Poblacion!AJ84,Poblacion!AL84,Poblacion!AN84)","v":65},{"$f":"+SUM(Poblacion!AO84,Poblacion!AQ84,Poblacion!AS84,Poblacion!AU84,Poblacion!AW84)","v":60},{"$f":"+SUM(Poblacion!AP84,Poblacion!AR84,Poblacion!AT84,Poblacion!AV84,Poblacion!AX84)","v":61},{"$f":"Poblacion!AY84","v":51},{"$f":"Poblacion!AZ84","v":47},{"$f":"Poblacion!BA84","v":54},{"$f":"Poblacion!BB84","v":72},{"$f":"Poblacion!BC84","v":51},{"$f":"Poblacion!BD84","v":50},{"$f":"Poblacion!BE84","v":47},{"$f":"Poblacion!BF84","v":56},{"$f":"Poblacion!BG84","v":55},{"$f":"Poblacion!BH84","v":50},{"$f":"Poblacion!BI84","v":48},{"$f":"Poblacion!BJ84","v":42},{"$f":"Poblacion!BK84","v":32},{"$f":"Poblacion!BL84","v":46},{"$f":"Poblacion!BM84","v":38},{"$f":"Poblacion!BN84","v":48},{"$f":"Poblacion!BO84","v":36},{"$f":"Poblacion!BP84","v":40},{"$f":"Poblacion!BQ84","v":30},{"$f":"Poblacion!BR84","v":36},{"$f":"Poblacion!BS84","v":28},{"$f":"Poblacion!BT84","v":25},{"$f":"Poblacion!BU84","v":24},{"$f":"Poblacion!BV84","v":24},{"$f":"Poblacion!BW84","v":25},{"$f":"Poblacion!BX84","v":29},{"$f":"Poblacion!DM84","v":206},{"$f":"Poblacion!DN84","v":212},{"$f":"Poblacion!DO84","v":46},{"$f":"Poblacion!DP84","v":53},{"$f":"Poblacion!DQ84","v":401},{"$f":"Poblacion!DR84","v":430},{"$f":"Poblacion!DS84","v":143},{"$f":"Poblacion!DT84","v":154}]
[null,null,null,null,null,null,null,null,null,null,null,null,null,null,null,null,null,null,null,null,null,null,null,null,null,null,null,null,null,null,null,null,null,null,null,null,null,null,null,null,null,null,null,null,null,null,null,null,null,null,null,null,"05",79,"P.S. PACHANGARA",{"$f":"Poblacion!F85","v":366},{"$f":"+SUM(Poblacion!K85,Poblacion!M85,Poblacion!O85,Poblacion!Q85,Poblacion!S85)","v":22},{"$f":"+SUM(Poblacion!L85,Poblacion!N85,Poblacion!P85,Poblacion!R85,Poblacion!T85)","v":21},{"$f":"SUM(Poblacion!U85,Poblacion!W85,Poblacion!Y85,Poblacion!AA85,Poblacion!AC85)","v":15},{"$f":"SUM(Poblacion!V85,Poblacion!X85,Poblacion!Z85,Poblacion!AB85,Poblacion!AD85)","v":14},{"$f":"+SUM(Poblacion!AE85,Poblacion!AG85,Poblacion!AI85,Poblacion!AK85,Poblacion!AM85)","v":12},{"$f":"+SUM(Poblacion!AF85,Poblacion!AH85,Poblacion!AJ85,Poblacion!AL85,Poblacion!AN85)","v":13},{"$f":"+SUM(Poblacion!AO85,Poblacion!AQ85,Poblacion!AS85,Poblacion!AU85,Poblacion!AW85)","v":14},{"$f":"+SUM(Poblacion!AP85,Poblacion!AR85,Poblacion!AT85,Poblacion!AV85,Poblacion!AX85)","v":14},{"$f":"Poblacion!AY85","v":11},{"$f":"Poblacion!AZ85","v":11},{"$f":"Poblacion!BA85","v":12},{"$f":"Poblacion!BB85","v":16},{"$f":"Poblacion!BC85","v":11},{"$f":"Poblacion!BD85","v":11},{"$f":"Poblacion!BE85","v":10},{"$f":"Poblacion!BF85","v":12},{"$f":"Poblacion!BG85","v":12},{"$f":"Poblacion!BH85","v":11},{"$f":"Poblacion!BI85","v":11},{"$f":"Poblacion!BJ85","v":9},{"$f":"Poblacion!BK85","v":7},{"$f":"Poblacion!BL85","v":10},{"$f":"Poblacion!BM85","v":8},{"$f":"Poblacion!BN85","v":11},{"$f":"Poblacion!BO85","v":8},{"$f":"Poblacion!BP85","v":9},{"$f":"Poblacion!BQ85","v":7},{"$f":"Poblacion!BR85","v":8},{"$f":"Poblacion!BS85","v":6},{"$f":"Poblacion!BT85","v":6},{"$f":"Poblacion!BU85","v":6},{"$f":"Poblacion!BV85","v":6},{"$f":"Poblacion!BW85","v":6},{"$f":"Poblacion!BX85","v":6},{"$f":"Poblacion!DM85","v":47},{"$f":"Poblacion!DN85","v":46},{"$f":"Poblacion!DO85","v":11},{"$f":"Poblacion!DP85","v":12},{"$f":"Poblacion!DQ85","v":87},{"$f":"Poblacion!DR85","v":95},{"$f":"Poblacion!DS85","v":33},{"$f":"Poblacion!DT85","v":35}]
[null,null,null,null,null,null,null,null,null,null,null,null,null,null,null,null,null,null,null,null,null,null,null,null,null,null,null,null,null,null,null,null,null,null,null,null,null,null,null,null,null,null,null,null,null,null,null,null,null,null,null,null,null,80,"PROVINCIA HUARAL",{"$f":"Poblacion!F86","v":925},{"$f":"+SUM(Poblacion!K86,Poblacion!M86,Poblacion!O86,Poblacion!Q86,Poblacion!S86)","v":21},{"$f":"+SUM(Poblacion!L86,Poblacion!N86,Poblacion!P86,Poblacion!R86,Poblacion!T86)","v":21},{"$f":"SUM(Poblacion!U86,Poblacion!W86,Poblacion!Y86,Poblacion!AA86,Poblacion!AC86)","v":27},{"$f":"SUM(Poblacion!V86,Poblacion!X86,Poblacion!Z86,Poblacion!AB86,Poblacion!AD86)","v":29},{"$f":"+SUM(Poblacion!AE86,Poblacion!AG86,Poblacion!AI86,Poblacion!AK86,Poblacion!AM86)","v":30},{"$f":"+SUM(Poblacion!AF86,Poblacion!AH86,Poblacion!AJ86,Poblacion!AL86,Poblacion!AN86)","v":36},{"$f":"+SUM(Poblacion!AO86,Poblacion!AQ86,Poblacion!AS86,Poblacion!AU86,Poblacion!AW86)","v":29},{"$f":"+SUM(Poblacion!AP86,Poblacion!AR86,Poblacion!AT86,Poblacion!AV86,Poblacion!AX86)","v":36},{"$f":"Poblacion!AY86","v":31},{"$f":"Poblacion!AZ86","v":34},{"$f":"Poblacion!BA86","v":33},{"$f":"Poblacion!BB86","v":31},{"$f":"Poblacion!BC86","v":43},{"$f":"Poblacion!BD86","v":34},{"$f":"Poblacion!BE86","v":36},{"$f":"Poblacion!BF86","v":31},{"$f":"Poblacion!BG86","v":22},{"$f":"Poblacion!BH86","v":33},{"$f":"Poblacion!BI86","v":30},{"$f":"Poblacion!BJ86","v":29},{"$f":"Poblacion!BK86","v":24},{"$f":"Poblacion!BL86","v":26},{"$f":"Poblacion!BM86","v":26},{"$f":"Poblacion!BN86","v":32},{"$f":"Poblacion!BO86","v":24},{"$f":"Poblacion!BP86","v":28},{"$f":"Poblacion!BQ86","v":19},{"$f":"Poblacion!BR86","v":18},{"$f":"Poblacion!BS86","v":17},{"$f":"Poblacion!BT86","v":15},{"$f":"Poblacion!BU86","v":13},{"$f":"Poblacion!BV86","v":12},{"$f":"Poblacion!BW86","v":23},{"$f":"Poblacion!BX86","v":32},{"$f":"Poblacion!DM86","v":72},{"$f":"Poblacion!DN86","v":77},{"$f":"Poblacion!DO86","v":23},{"$f":"Poblacion!DP86","v":31},{"$f":"Poblacion!DQ86","v":257},{"$f":"Poblacion!DR86","v":264},{"$f":"Poblacion!DS86","v":96},{"$f":"Poblacion!DT86","v":105}]
[null,null,null,null,null,null,null,null,null,null,null,null,null,null,null,null,null,null,null,null,null,null,null,null,null,null,null,null,null,null,null,null,null,null,null,null,null,null,null,null,null,null,null,null,null,null,null,null,null,null,null,null,"03",81,"IHUARI - P.S. ACOTAMA (46.8%)",{"$f":"Poblacion!F87","v":925},{"$f":"+SUM(Poblacion!K87,Poblacion!M87,Poblacion!O87,Poblacion!Q87,Poblacion!S87)","v":21},{"$f":"+SUM(Poblacion!L87,Poblacion!N87,Poblacion!P87,Poblacion!R87,Poblacion!T87)","v":21},{"$f":"SUM(Poblacion!U87,Poblacion!W87,Poblacion!Y87,Poblacion!AA87,Poblacion!AC87)","v":27},{"$f":"SUM(Poblacion!V87,Poblacion!X87,Poblacion!Z87,Poblacion!AB87,Poblacion!AD87)","v":29},{"$f":"+SUM(Poblacion!AE87,Poblacion!AG87,Poblacion!AI87,Poblacion!AK87,Poblacion!AM87)","v":30},{"$f":"+SUM(Poblacion!AF87,Poblacion!AH87,Poblacion!AJ87,Poblacion!AL87,Poblacion!AN87)","v":36},{"$f":"+SUM(Poblacion!AO87,Poblacion!AQ87,Poblacion!AS87,Poblacion!AU87,Poblacion!AW87)","v":29},{"$f":"+SUM(Poblacion!AP87,Poblacion!AR87,Poblacion!AT87,Poblacion!AV87,Poblacion!AX87)","v":36},{"$f":"Poblacion!AY87","v":31},{"$f":"Poblacion!AZ87","v":34},{"$f":"Poblacion!BA87","v":33},{"$f":"Poblacion!BB87","v":31},{"$f":"Poblacion!BC87","v":43},{"$f":"Poblacion!BD87","v":34},{"$f":"Poblacion!BE87","v":36},{"$f":"Poblacion!BF87","v":31},{"$f":"Poblacion!BG87","v":22},{"$f":"Poblacion!BH87","v":33},{"$f":"Poblacion!BI87","v":30},{"$f":"Poblacion!BJ87","v":29},{"$f":"Poblacion!BK87","v":24},{"$f":"Poblacion!BL87","v":26},{"$f":"Poblacion!BM87","v":26},{"$f":"Poblacion!BN87","v":32},{"$f":"Poblacion!BO87","v":24},{"$f":"Poblacion!BP87","v":28},{"$f":"Poblacion!BQ87","v":19},{"$f":"Poblacion!BR87","v":18},{"$f":"Poblacion!BS87","v":17},{"$f":"Poblacion!BT87","v":15},{"$f":"Poblacion!BU87","v":13},{"$f":"Poblacion!BV87","v":12},{"$f":"Poblacion!BW87","v":23},{"$f":"Poblacion!BX87","v":32},{"$f":"Poblacion!DM87","v":72},{"$f":"Poblacion!DN87","v":77},{"$f":"Poblacion!DO87","v":23},{"$f":"Poblacion!DP87","v":31},{"$f":"Poblacion!DQ87","v":257},{"$f":"Poblacion!DR87","v":264},{"$f":"Poblacion!DS87","v":96},{"$f":"Poblacion!DT87","v":105}]
[null,null,null,null,null,null,null,null,null,null,null,null,null,null,null,null,null,null,null,null,null,null,null,null,null,null,null,null,null,null,null,null,null,null,null,null,null,null,null,null,null,null,null,null,null,null,null,null,null,null,null,null,null,82,"---"]
[null,null,null,null,null,null,null,null,null,null,null,null,null,null,null,null,null,null,null,null,null,null,null,null,null,null,null,null,null,null,null,null,null,null,null,null,null,null,null,null,null,null,null,null,null,null,null,null,null,null,null,null,"01",83,"MICRORED HUAURA",{"$f":"Poblacion!F89","v":42675},{"$f":"+SUM(Poblacion!K89,Poblacion!M89,Poblacion!O89,Poblacion!Q89,Poblacion!S89)","v":1491},{"$f":"+SUM(Poblacion!L89,Poblacion!N89,Poblacion!P89,Poblacion!R89,Poblacion!T89)","v":1441},{"$f":"SUM(Poblacion!U89,Poblacion!W89,Poblacion!Y89,Poblacion!AA89,Poblacion!AC89)","v":1852},{"$f":"SUM(Poblacion!V89,Poblacion!X89,Poblacion!Z89,Poblacion!AB89,Poblacion!AD89)","v":1800},{"$f":"+SUM(Poblacion!AE89,Poblacion!AG89,Poblacion!AI89,Poblacion!AK89,Poblacion!AM89)","v":1793},{"$f":"+SUM(Poblacion!AF89,Poblacion!AH89,Poblacion!AJ89,Poblacion!AL89,Poblacion!AN89)","v":1905},{"$f":"+SUM(Poblacion!AO89,Poblacion!AQ89,Poblacion!AS89,Poblacion!AU89,Poblacion!AW89)","v":1555},{"$f":"+SUM(Poblacion!AP89,Poblacion!AR89,Poblacion!AT89,Poblacion!AV89,Poblacion!AX89)","v":1757},{"$f":"Poblacion!AY89","v":1543},{"$f":"Poblacion!AZ89","v":1663},{"$f":"Poblacion!BA89","v":1879},{"$f":"Poblacion!BB89","v":2010},{"$f":"Poblacion!BC89","v":1742},{"$f":"Poblacion!BD89","v":1807},{"$f":"Poblacion!BE89","v":1508},{"$f":"Poblacion!BF89","v":1695},{"$f":"Poblacion!BG89","v":1448},{"$f":"Poblacion!BH89","v":1495},{"$f":"Poblacion!BI89","v":1224},{"$f":"Poblacion!BJ89","v":1414},{"$f":"Poblacion!BK89","v":1057},{"$f":"Poblacion!BL89","v":1273},{"$f":"Poblacion!BM89","v":938},{"$f":"Poblacion!BN89","v":1051},{"$f":"Poblacion!BO89","v":787},{"$f":"Poblacion!BP89","v":826},{"$f":"Poblacion!BQ89","v":591},{"$f":"Poblacion!BR89","v":644},{"$f":"Poblacion!BS89","v":449},{"$f":"Poblacion!BT89","v":473},{"$f":"Poblacion!BU89","v":332},{"$f":"Poblacion!BV89","v":322},{"$f":"Poblacion!BW89","v":407},{"$f":"Poblacion!BX89","v":503},{"$f":"Poblacion!DM89","v":4801},{"$f":"Poblacion!DN89","v":4784},{"$f":"Poblacion!DO89","v":1262},{"$f":"Poblacion!DP89","v":1439},{"$f":"Poblacion!DQ89","v":11967},{"$f":"Poblacion!DR89","v":13088},{"$f":"Poblacion!DS89","v":2566},{"$f":"Poblacion!DT89","v":2768}]
[null,null,null,null,null,null,null,null,null,null,null,null,null,null,null,null,null,null,null,null,null,null,null,null,null,null,null,null,null,null,null,null,null,null,null,null,null,null,null,null,null,null,null,null,null,null,null,null,null,null,null,null,"02",84,"MICRORED HUALMAY",{"$f":"Poblacion!F90","v":108258},{"$f":"+SUM(Poblacion!K90,Poblacion!M90,Poblacion!O90,Poblacion!Q90,Poblacion!S90)","v":3425},{"$f":"+SUM(Poblacion!L90,Poblacion!N90,Poblacion!P90,Poblacion!R90,Poblacion!T90)","v":3371},{"$f":"SUM(Poblacion!U90,Poblacion!W90,Poblacion!Y90,Poblacion!AA90,Poblacion!AC90)","v":4326},{"$f":"SUM(Poblacion!V90,Poblacion!X90,Poblacion!Z90,Poblacion!AB90,Poblacion!AD90)","v":4536},{"$f":"+SUM(Poblacion!AE90,Poblacion!AG90,Poblacion!AI90,Poblacion!AK90,Poblacion!AM90)","v":4305},{"$f":"+SUM(Poblacion!AF90,Poblacion!AH90,Poblacion!AJ90,Poblacion!AL90,Poblacion!AN90)","v":4320},{"$f":"+SUM(Poblacion!AO90,Poblacion!AQ90,Poblacion!AS90,Poblacion!AU90,Poblacion!AW90)","v":3828},{"$f":"+SUM(Poblacion!AP90,Poblacion!AR90,Poblacion!AT90,Poblacion!AV90,Poblacion!AX90)","v":4023},{"$f":"Poblacion!AY90","v":3941},{"$f":"Poblacion!AZ90","v":4006},{"$f":"Poblacion!BA90","v":4280},{"$f":"Poblacion!BB90","v":4723},{"$f":"Poblacion!BC90","v":3873},{"$f":"Poblacion!BD90","v":4307},{"$f":"Poblacion!BE90","v":3745},{"$f":"Poblacion!BF90","v":4146},{"$f":"Poblacion!BG90","v":3437},{"$f":"Poblacion!BH90","v":3748},{"$f":"Poblacion!BI90","v":3203},{"$f":"Poblacion!BJ90","v":3498},{"$f":"Poblacion!BK90","v":2835},{"$f":"Poblacion!BL90","v":2959},{"$f":"Poblacion!BM90","v":2380},{"$f":"Poblacion!BN90","v":2613},{"$f":"Poblacion!BO90","v":1954},{"$f":"Poblacion!BP90","v":2160},{"$f":"Poblacion!BQ90","v":1593},{"$f":"Poblacion!BR90","v":1840},{"$f":"Poblacion!BS90","v":1294},{"$f":"Poblacion!BT90","v":1476},{"$f":"Poblacion!BU90","v":932},{"$f":"Poblacion!BV90","v":1123},{"$f":"Poblacion!BW90","v":1192},{"$f":"Poblacion!BX90","v":1463},{"$f":"Poblacion!DM90","v":11240},{"$f":"Poblacion!DN90","v":11386},{"$f":"Poblacion!DO90","v":3177},{"$f":"Poblacion!DP90","v":3299},{"$f":"Poblacion!DQ90","v":29161},{"$f":"Poblacion!DR90","v":31565},{"$f":"Poblacion!DS90","v":6965},{"$f":"Poblacion!DT90","v":8062}]
[null,null,null,null,null,null,null,null,null,null,null,null,null,null,null,null,null,null,null,null,null,null,null,null,null,null,null,null,null,null,null,null,null,null,null,null,null,null,null,null,null,null,null,null,null,null,null,null,null,null,null,null,"03",85,"MICRORED SAYAN",{"$f":"Poblacion!F91","v":31750},{"$f":"+SUM(Poblacion!K91,Poblacion!M91,Poblacion!O91,Poblacion!Q91,Poblacion!S91)","v":1144},{"$f":"+SUM(Poblacion!L91,Poblacion!N91,Poblacion!P91,Poblacion!R91,Poblacion!T91)","v":1115},{"$f":"SUM(Poblacion!U91,Poblacion!W91,Poblacion!Y91,Poblacion!AA91,Poblacion!AC91)","v":1271},{"$f":"SUM(Poblacion!V91,Poblacion!X91,Poblacion!Z91,Poblacion!AB91,Poblacion!AD91)","v":1384},{"$f":"+SUM(Poblacion!AE91,Poblacion!AG91,Poblacion!AI91,Poblacion!AK91,Poblacion!AM91)","v":1305},{"$f":"+SUM(Poblacion!AF91,Poblacion!AH91,Poblacion!AJ91,Poblacion!AL91,Poblacion!AN91)","v":1348},{"$f":"+SUM(Poblacion!AO91,Poblacion!AQ91,Poblacion!AS91,Poblacion!AU91,Poblacion!AW91)","v":1249},{"$f":"+SUM(Poblacion!AP91,Poblacion!AR91,Poblacion!AT91,Poblacion!AV91,Poblacion!AX91)","v":1386},{"$f":"Poblacion!AY91","v":1146},{"$f":"Poblacion!AZ91","v":1330},{"$f":"Poblacion!BA91","v":1265},{"$f":"Poblacion!BB91","v":1401},{"$f":"Poblacion!BC91","v":1141},{"$f":"Poblacion!BD91","v":1288},{"$f":"Poblacion!BE91","v":1116},{"$f":"Poblacion!BF91","v":1184},{"$f":"Poblacion!BG91","v":979},{"$f":"Poblacion!BH91","v":1081},{"$f":"Poblacion!BI91","v":943},{"$f":"Poblacion!BJ91","v":963},{"$f":"Poblacion!BK91","v":750},{"$f":"Poblacion!BL91","v":811},{"$f":"Poblacion!BM91","v":669},{"$f":"Poblacion!BN91","v":718},{"$f":"Poblacion!BO91","v":577},{"$f":"Poblacion!BP91","v":552},{"$f":"Poblacion!BQ91","v":453},{"$f":"Poblacion!BR91","v":480},{"$f":"Poblacion!BS91","v":366},{"$f":"Poblacion!BT91","v":321},{"$f":"Poblacion!BU91","v":254},{"$f":"Poblacion!BV91","v":270},{"$f":"Poblacion!BW91","v":336},{"$f":"Poblacion!BX91","v":375},{"$f":"Poblacion!DM91","v":3461},{"$f":"Poblacion!DN91","v":3578},{"$f":"Poblacion!DO91","v":1004},{"$f":"Poblacion!DP91","v":1122},{"$f":"Poblacion!DQ91","v":8513},{"$f":"Poblacion!DR91","v":9309},{"$f":"Poblacion!DS91","v":1986},{"$f":"Poblacion!DT91","v":1998}]
[null,null,null,null,null,null,null,null,null,null,null,null,null,null,null,null,null,null,null,null,null,null,null,null,null,null,null,null,null,null,null,null,null,null,null,null,null,null,null,null,null,null,null,null,null,null,null,null,null,null,null,null,"04",86,"MICRORED VEGUETA",{"$f":"Poblacion!F92","v":31556},{"$f":"+SUM(Poblacion!K92,Poblacion!M92,Poblacion!O92,Poblacion!Q92,Poblacion!S92)","v":1392},{"$f":"+SUM(Poblacion!L92,Poblacion!N92,Poblacion!P92,Poblacion!R92,Poblacion!T92)","v":1382},{"$f":"SUM(Poblacion!U92,Poblacion!W92,Poblacion!Y92,Poblacion!AA92,Poblacion!AC92)","v":1425},{"$f":"SUM(Poblacion!V92,Poblacion!X92,Poblacion!Z92,Poblacion!AB92,Poblacion!AD92)","v":1400},{"$f":"+SUM(Poblacion!AE92,Poblacion!AG92,Poblacion!AI92,Poblacion!AK92,Poblacion!AM92)","v":1378},{"$f":"+SUM(Poblacion!AF92,Poblacion!AH92,Poblacion!AJ92,Poblacion!AL92,Poblacion!AN92)","v":1342},{"$f":"+SUM(Poblacion!AO92,Poblacion!AQ92,Poblacion!AS92,Poblacion!AU92,Poblacion!AW92)","v":1201},{"$f":"+SUM(Poblacion!AP92,Poblacion!AR92,Poblacion!AT92,Poblacion!AV92,Poblacion!AX92)","v":1210},{"$f":"Poblacion!AY92","v":1019},{"$f":"Poblacion!AZ92","v":1171},{"$f":"Poblacion!BA92","v":1306},{"$f":"Poblacion!BB92","v":1463},{"$f":"Poblacion!BC92","v":1187},{"$f":"Poblacion!BD92","v":1383},{"$f":"Poblacion!BE92","v":1107},{"$f":"Poblacion!BF92","v":1244},{"$f":"Poblacion!BG92","v":936},{"$f":"Poblacion!BH92","v":1033},{"$f":"Poblacion!BI92","v":800},{"$f":"Poblacion!BJ92","v":900},{"$f":"Poblacion!BK92","v":687},{"$f":"Poblacion!BL92","v":753},{"$f":"Poblacion!BM92","v":589},{"$f":"Poblacion!BN92","v":673},{"$f":"Poblacion!BO92","v":466},{"$f":"Poblacion!BP92","v":533},{"$f":"Poblacion!BQ92","v":389},{"$f":"Poblacion!BR92","v":399},{"$f":"Poblacion!BS92","v":301},{"$f":"Poblacion!BT92","v":292},{"$f":"Poblacion!BU92","v":226},{"$f":"Poblacion!BV92","v":227},{"$f":"Poblacion!BW92","v":259},{"$f":"Poblacion!BX92","v":342},{"$f":"Poblacion!DM92","v":3927},{"$f":"Poblacion!DN92","v":3887},{"$f":"Poblacion!DO92","v":1019},{"$f":"Poblacion!DP92","v":964},{"$f":"Poblacion!DQ92","v":8081},{"$f":"Poblacion!DR92","v":9103},{"$f":"Poblacion!DS92","v":1641},{"$f":"Poblacion!DT92","v":1793}]
[null,null,null,null,null,null,null,null,null,null,null,null,null,null,null,null,null,null,null,null,null,null,null,null,null,null,null,null,null,null,null,null,null,null,null,null,null,null,null,null,null,null,null,null,null,null,null,null,null,null,null,null,"05",87,"MICRORED CHURIN - OYON",{"$f":"Poblacion!F93","v":19873},{"$f":"+SUM(Poblacion!K93,Poblacion!M93,Poblacion!O93,Poblacion!Q93,Poblacion!S93)","v":588},{"$f":"+SUM(Poblacion!L93,Poblacion!N93,Poblacion!P93,Poblacion!R93,Poblacion!T93)","v":575},{"$f":"SUM(Poblacion!U93,Poblacion!W93,Poblacion!Y93,Poblacion!AA93,Poblacion!AC93)","v":766},{"$f":"SUM(Poblacion!V93,Poblacion!X93,Poblacion!Z93,Poblacion!AB93,Poblacion!AD93)","v":816},{"$f":"+SUM(Poblacion!AE93,Poblacion!AG93,Poblacion!AI93,Poblacion!AK93,Poblacion!AM93)","v":932},{"$f":"+SUM(Poblacion!AF93,Poblacion!AH93,Poblacion!AJ93,Poblacion!AL93,Poblacion!AN93)","v":977},{"$f":"+SUM(Poblacion!AO93,Poblacion!AQ93,Poblacion!AS93,Poblacion!AU93,Poblacion!AW93)","v":861},{"$f":"+SUM(Poblacion!AP93,Poblacion!AR93,Poblacion!AT93,Poblacion!AV93,Poblacion!AX93)","v":896},{"$f":"Poblacion!AY93","v":658},{"$f":"Poblacion!AZ93","v":712},{"$f":"Poblacion!BA93","v":698},{"$f":"Poblacion!BB93","v":759},{"$f":"Poblacion!BC93","v":594},{"$f":"Poblacion!BD93","v":725},{"$f":"Poblacion!BE93","v":625},{"$f":"Poblacion!BF93","v":675},{"$f":"Poblacion!BG93","v":546},{"$f":"Poblacion!BH93","v":529},{"$f":"Poblacion!BI93","v":540},{"$f":"Poblacion!BJ93","v":527},{"$f":"Poblacion!BK93","v":511},{"$f":"Poblacion!BL93","v":558},{"$f":"Poblacion!BM93","v":437},{"$f":"Poblacion!BN93","v":472},{"$f":"Poblacion!BO93","v":406},{"$f":"Poblacion!BP93","v":408},{"$f":"Poblacion!BQ93","v":339},{"$f":"Poblacion!BR93","v":356},{"$f":"Poblacion!BS93","v":267},{"$f":"Poblacion!BT93","v":280},{"$f":"Poblacion!BU93","v":204},{"$f":"Poblacion!BV93","v":273},{"$f":"Poblacion!BW93","v":301},{"$f":"Poblacion!BX93","v":457},{"$f":"Poblacion!DM93","v":2114},{"$f":"Poblacion!DN93","v":2186},{"$f":"Poblacion!DO93","v":735},{"$f":"Poblacion!DP93","v":777},{"$f":"Poblacion!DQ93","v":4907},{"$f":"Poblacion!DR93","v":5258},{"$f":"Poblacion!DS93","v":1517},{"$f":"Poblacion!DT93","v":1774}]
[]
[null,null,null,null,null,null,null,null,null,null,null,null,null,null,null,null,null,"PIRAMIDE POBLACIONAL",null,null,null,null,"DATOS PIRAMIDE",null,null,null,null,"TOTAL",null,null,null,null,"ZONA URBANA",null,null,null,null,"ZONA RURAL",null,null,null,null,"DIRECCION DE SALUD",null,"URBANA\n%","RURAL\n%",null,"DIRECCION DE SALUD","URBANA\n(ABSOLUTO)","RURAL\n(ABSOLUTO)","TOTAL",null,null,"N°","DESCRIPCION","GRUPOS DE EDADES  - PIRAMIDE",null,null,null,null,null,null,null,null,null,null,null,null,null,null,null,null,null,null,null,null,null,null,null,null,null,null,null,null,null,null,null,null,null,null,null,"DESCRIPCION","ZONA URBANA",null,null,null,null,null,null,null,null,null,null,null,null,null,null,null,null,null,null,null,null,null,null,null,null,null,null,null,null,null,null,null,null,null,null,null,"DESCRIPCION","ZONA RURAL"]
[null,null,null,null,null,null,null,null,null,null,null,null,null,null,null,null,null,"GRUPO DE EDAD",null,"HOMBRES","MUJERES",null,"GRUPO DE EDAD",null,"HOMBRES","MUJERES",null,"GRUPO DE EDAD",null,"HOMBRES","MUJERES",null,"GRUPO DE EDAD",null,"HOMBRES","MUJERES",null,"GRUPO DE EDAD",null,"HOMBRES","MUJERES",null,"PROVINCIA",null,null,null,null,"PROVINCIA",null,null,null,null,"Microredes",null,null,"TOTAL","Menor de 5 años",null,"5 - 9",null,"10 - 14",null,"15 - 19",null,"20 - 24",null,"25 - 29",null,"30 - 34",null,"35 - 39",null,"40 - 44",null,"45 - 49",null,"50 - 54",null,"55 - 59",null,"60 - 64",null,"65 - 69",null,"70 - 74",null,"75 - 79",null,"80 +++",null,null,null,"TOTAL","Menor de 5 años",null,"5 - 9",null,"10 - 14",null,"15 - 19",null,"20 - 24",null,"25 - 29",null,"30 - 34",null,"35 - 39",null,"40 - 44",null,"45 - 49",null,"50 - 54",null,"55 - 59",null,"60 - 64",null,"65 - 69",null,"70 - 74",null,"75 - 79",null,"80 +++",null,null,null,"TOTAL","Menor de 5 años",null,"5 - 9",null,"10 - 14",null,"15 - 19",null,"20 - 24",null,"25 - 29",null,"30 - 34",null,"35 - 39",null,"40 - 44",null,"45 - 49",null,"50 - 54",null,"55 - 59",null,"60 - 64",null,"65 - 69",null,"70 - 74",null,"75 - 79",null,"80 +++"]
[null,null,null,null,null,null,null,null,null,null,null,null,null,null,null,null,null,"MENORES DE 5 AÑOS",null,{"$f":"Y103","v":20},{"$f":"-Z103","v":-19},null,"MENORES DE 5 AÑOS",null,{"$f":"+IF($A$16=1,AD103,IF($A$16=2,AI103,AN103))","v":20},19,null,"MENORES DE 5 AÑOS",null,{"$f":"+LOOKUP($A$15,numeropiramidedistrito,BE104:BE126)","v":20},{"$f":"+LOOKUP($A$15,numeropiramidedistrito,BF104:BF126)","v":19},null,"MENORES DE 5 AÑOS",null,{"$f":"+LOOKUP($A$15,numeropiramidedistrito,CP104:CP126)","v":9.0000000000000018},{"$f":"+LOOKUP($A$15,numeropiramidedistrito,CQ104:CQ126)","v":8.5500000000000007},null,"MENORES DE 5 AÑOS",null,{"$f":"+LOOKUP($A$15,numeropiramidedistrito,EA104:EA126)","v":11.000000000000002},{"$f":"+LOOKUP($A$15,numeropiramidedistrito,EB104:EB126)","v":10.450000000000001},null,"DISTRITO",null,null,null,null,"DISTRITO",null,null,null,null,null,null,null,null,"M","F","M","F","M","F","M","F","M","F","M","F","M","F","M","F","M","F","M","F","M","F","M","F","M","F","M","F","M","F","M","F","M","F",null,null,null,"M","F","M","F","M","F","M","F","M","F","M","F","M","F","M","F","M","F","M","F","M","F","M","F","M","F","M","F","M","F","M","F","M","F",null,null,null,"M","F","M","F","M","F","M","F","M","F","M","F","M","F","M","F","M","F","M","F","M","F","M","F","M","F","M","F","M","F","M","F","M","F"]
[null,null,null,null,null,null,null,null,null,null,null,null,null,null,null,null,null,"DE 5 A 9 AÑOS",null,{"$f":"Y104","v":13},{"$f":"-Z104","v":-15},null,"DE 5 A 9 AÑOS",null,13,15,null,"DE 5 A 9 AÑOS",null,{"$f":"+LOOKUP($A$15,numeropiramidedistrito,BG104:BG126)","v":13},{"$f":"+LOOKUP($A$15,numeropiramidedistrito,BH104:BH126)","v":15},null,"DE 5 A 9 AÑOS",null,{"$f":"+LOOKUP($A$15,numeropiramidedistrito,CR104:CR126)","v":5.8500000000000005},{"$f":"+LOOKUP($A$15,numeropiramidedistrito,CS104:CS126)","v":6.75},null,"DE 5 A 9 AÑOS",null,{"$f":"+LOOKUP($A$15,numeropiramidedistrito,EC104:EC126)","v":7.15},{"$f":"+LOOKUP($A$15,numeropiramidedistrito,ED104:ED126)","v":8.25},null,"HUAURA - OYON",null,null,null,null,"HUAURA - OYON",{"$f":"+AW105+AW118+AW125","v":241079.63999999998},{"$f":"+AX105+AX118+AX125","v":41165.360000000001},{"$f":"Poblacion!F8","v":282245},null,null,1,"HUAURA - OYON",{"$f":"BD13","v":282245},9417,9214,11740,12058,11781,11952,10631,11215,10163,10755,11460,12646,10442,11647,10023,10979,9181,9858,8430,9184,7433,8087,6413,7097,5390,5833,4382,4867,3450,3769,2489,2872,3254,4133,null,"HUAURA - OYON",{"$f":"AW104","v":241079.63999999998},{"$f":"+CP132*$CO$104","v":8043.5329939591484},{"$f":"+CQ132*$CO$104","v":7870.1404912753096},{"$f":"+CR132*$CO$104","v":10027.724046838739},10299.343829368103,10062.744207479316,10208.803901858313,9080.4714090240759,9579.2951605874332,8680.7290875657673,9186.3860412053364,9788.5619741713745,10801.584181969563,8919.0370099736028,9948.2880727027932,8561.148051232085,9377.7156993392273,7841.9535327109425,8420.2132584102455,7200.4866878066923,7844.5159834895221,6348.8988790589729,6907.5131487891722,5477.6656143421487,6061.9043918581374,4603.8698988467459,4982.2584638168964,3742.8864372442381,4157.1493131144925,2946.8183953657285,3219.2923281546173,2125.9799959609559,2453.1195453595278,2779.4049444985735,3530.2030226221896,null,"HUAURA - OYON",{"$f":"AX104","v":41165.360000000001},{"$f":"+EA132*$DZ$104","v":1373.4670060408512},{"$f":"+EB132*$DZ$104","v":1343.8595087246895},1712.2759531612605,1758.656170631898,1718.2557925206822,1743.1960981416853,1550.5285909759252,1635.7048394125673,1482.2709124342327,1568.6139587946643,1671.4380258286239,1844.4158180304346,1522.9629900263956,1698.7119272972063,1461.8519487679143,1601.2843006607736,1339.0464672890575,1437.7867415897535,1229.5133121933072,1339.4840165104786,1084.1011209410265,1179.4868512108276,935.33438565785036,1035.0956081418626,786.13010115325335,850.74153618310345,639.11356275576179,709.85068688550734,503.18160463427171,549.70767184538261,363.02000403904412,418.88045464047195,474.59505550142603,602.79697737781009]
[null,null,null,null,null,null,null,null,null,null,null,null,null,null,null,null,null,"DE 10 A 14 AÑOS",null,12,-16,null,"DE 10 A 14 AÑOS",null,12,16,null,"DE 10 A 14 AÑOS",null,{"$f":"+LOOKUP($A$15,numeropiramidedistrito,BI104:BI126)","v":12},{"$f":"+LOOKUP($A$15,numeropiramidedistrito,BJ104:BJ126)","v":16},null,"DE 10 A 14 AÑOS",null,{"$f":"+LOOKUP($A$15,numeropiramidedistrito,CT104:CT126)","v":5.4},{"$f":"+LOOKUP($A$15,numeropiramidedistrito,CU104:CU126)","v":7.2},null,"DE 10 A 14 AÑOS",null,{"$f":"+LOOKUP($A$15,numeropiramidedistrito,EE104:EE126)","v":6.6000000000000005},{"$f":"+LOOKUP($A$15,numeropiramidedistrito,EF104:EF126)","v":8.8000000000000007},null,"PROVINCIA HUAURA",null,null,null,null,"PROVINCIA HUAURA",{"$f":"+SUM(AW106:AW117)","v":229742.56999999998},{"$f":"+SUM(AX106:AX117)","v":34624.43},{"$f":"Poblacion!F9","v":264367},null,null,2,"PROVINCIA HUAURA",{"$f":"BD14","v":264367},8847,8637,11012,11270,10887,10996,9805,10334,9506,10064,10788,11919,9851,10958,9432,10325,8677,9361,7922,8685,6975,7600,6030,6675,5039,5475,4108,4576,3229,3540,2336,2672,3040,3796,null,"PROVINCIA HUAURA",{"$f":"AW105","v":229742.56999999998},{"$f":"+CP133*$CO$105","v":7688.2989056500992},{"$f":"+CQ133*$CO$105","v":7505.8028312535225},9569.7465297862436,9793.9559926163238,9461.1179140739932,9555.842066975074,8520.8286164687725,8980.5449181630083,8260.9889676850744,8745.9071082245518,9375.084050429894,10357.955765394317,8560.8039470508793,9522.818967798552,8196.6808271834216,8972.7236578317243,7540.5639882814412,8134.9797734588647,6884.4471493794599,7547.516219687026,6061.4767567434656,6604.6198353047084,5240.244421958867,5800.7680790340701,4379.0367565921615,4757.9333681964845,3569.9708267673345,3976.6763639939932,2806.094401078803,3076.3623969708774,2030.0515704304999,2322.0452894650239,2641.8479341218831,3298.8338019495623,null,"PROVINCIA HUAURA",{"$f":"AX105","v":34624.43},{"$f":"+EA133*$DZ$105","v":1158.7010943498999},{"$f":"+EB133*$DZ$105","v":1131.1971687464775},1442.2534702137559,1476.0440073836751,1425.8820859260043,1440.1579330249235,1284.1713835312275,1353.4550818369917,1245.0110323149258,1318.0928917754486,1412.9159495701051,1561.0442346056807,1290.19605294912,1435.1810322014471,1235.3191728165771,1352.2763421682737,1136.4360117185579,1226.020226541134,1037.5528506205389,1137.4837803129742,913.52324325653353,995.380164695291,789.75557804113225,874.23192096592993,659.96324340783838,717.06663180351563,538.02917323266524,599.32363600600684,422.90559892119666,463.63760302912243,305.94842956949998,349.95471053497602,398.15206587811639,497.16619805043746]
[null,null,null,null,null,null,null,null,null,null,null,null,null,null,null,null,null,"DE 15 A 19 AÑOS",null,15,-19,null,"DE 15 A 19 AÑOS",null,{"$f":"+IF($A$16=1,AD106,IF($A$16=2,AI106,AN106))","v":15},19,null,"DE 15 A 19 AÑOS",null,{"$f":"+LOOKUP($A$15,numeropiramidedistrito,BK104:BK126)","v":15},{"$f":"+LOOKUP($A$15,numeropiramidedistrito,BL104:BL126)","v":19},null,"DE 15 A 19 AÑOS",null,{"$f":"+LOOKUP($A$15,numeropiramidedistrito,CV104:CV126)","v":6.75},{"$f":"+LOOKUP($A$15,numeropiramidedistrito,CW104:CW126)","v":8.5500000000000007},null,"DE 15 A 19 AÑOS",null,{"$f":"+LOOKUP($A$15,numeropiramidedistrito,EG104:EG126)","v":8.25},{"$f":"+LOOKUP($A$15,numeropiramidedistrito,EH104:EH126)","v":10.450000000000001},null,"DISTRITO HUACHO",null,0.97,0.03,null,"DISTRITO HUACHO",{"$f":"+AS106*AY106","v":72836.33},{"$f":"+AT106*AY106","v":2252.67},{"$f":"Poblacion!F10","v":75089},null,"02",3,"DISTRITO HUACHO",{"$f":"BD15","v":75089},1912,1848,2917,2948,2873,2861,2692,2698,2578,2601,2822,3181,2646,2968,2669,2826,2548,2739,2389,2614,2213,2407,1945,2181,1667,1881,1412,1594,1074,1288,752,912,1054,1379,null,"DISTRITO HUACHO",72836.33,{"$f":"+CP134*$CO$106","v":1854.64},{"$f":"+CQ134*$CO$106","v":1792.56},2829.4900000000002,2859.56,2786.8100000000004,2775.17,2611.2399999999998,2617.06,2500.66,2522.9700000000003,2737.34,3085.5699999999997,2566.6200000000003,2878.96,2588.9300000000003,2741.2200000000003,2471.56,2656.83,2317.3300000000004,2535.58,2146.61,2334.7900000000004,1886.6499999999999,2115.5700000000002,1616.99,1824.5700000000002,1369.64,1546.1799999999998,1041.78,1249.3600000000001,729.44,884.64,1022.38,1337.6299999999999,null,"DISTRITO HUACHO",2252.67,{"$f":"+EA134*$DZ$106","v":57.360000000000007},{"$f":"+EB134*$DZ$106","v":55.44},87.51,88.44,86.190000000000012,85.830000000000013,80.759999999999991,80.94,77.34,78.03,84.660000000000011,95.429999999999993,79.38000000000001,89.039999999999992,80.070000000000007,84.78,76.44,82.17,71.67,78.42,66.39,72.210000000000008,58.35,65.429999999999993,50.010000000000005,56.43,42.36,47.82,32.220000000000006,38.64,22.56,27.36,31.62,41.37]
[null,null,null,null,null,null,null,null,null,null,null,null,null,null,null,null,null,"DE 20 A 24 AÑOS",null,14,-17,null,"DE 20 A 24 AÑOS",null,{"$f":"+IF($A$16=1,AD107,IF($A$16=2,AI107,AN107))","v":14},17,null,"DE 20 A 24 AÑOS",null,{"$f":"+LOOKUP($A$15,numeropiramidedistrito,BM104:BM126)","v":14},{"$f":"+LOOKUP($A$15,numeropiramidedistrito,BN104:BN126)","v":17},null,"DE 20 A 24 AÑOS",null,{"$f":"+LOOKUP($A$15,numeropiramidedistrito,CX104:CX126)","v":6.3000000000000007},{"$f":"+LOOKUP($A$15,numeropiramidedistrito,CY104:CY126)","v":7.6500000000000012},null,"DE 20 A 24 AÑOS",null,{"$f":"+LOOKUP($A$15,numeropiramidedistrito,EI104:EI126)","v":7.7000000000000011},{"$f":"+LOOKUP($A$15,numeropiramidedistrito,EJ104:EJ126)","v":9.3500000000000014},null,"DISTRITO AMBAR",null,0.16,0.84,null,"DISTRITO AMBAR",{"$f":"+AS107*AY107","v":388.48},{"$f":"+AT107*AY107","v":2039.52},{"$f":"Poblacion!F13","v":2428},null,"01",4,"DISTRITO AMBAR",{"$f":"BD18","v":2428},{"$f":"BE18","v":99},{"$f":"BF18","v":104},95,78,89,94,83,91,96,97,88,108,66,90,81,109,70,66,74,74,59,69,64,51,47,54,54,54,41,31,42,18,34,58,null,"DISTRITO AMBAR",388.48,{"$f":"+CP135*$CO$107","v":15.84},{"$f":"+CQ135*$CO$107","v":16.64},15.2,12.48,14.24,15.04,13.28,14.56,15.36,15.52,14.08,17.28,10.56,14.4,12.96,17.440000000000001,11.200000000000001,10.56,11.84,11.84,9.4400000000000013,11.040000000000001,10.24,8.1600000000000019,7.52,8.64,8.64,8.64,6.56,4.96,6.72,2.88,5.44,9.2800000000000011,null,"DISTRITO AMBAR",2039.52,{"$f":"+EA135*$DZ$107","v":83.16},{"$f":"+EB135*$DZ$107","v":87.36},79.8,65.52,74.759999999999991,78.959999999999994,69.72,76.44,80.639999999999986,81.47999999999999,73.92,90.72,55.44,75.599999999999994,68.039999999999992,91.56,58.8,55.44,62.16,62.16,49.56,57.96,53.76,42.84,39.479999999999997,45.36,45.36,45.36,34.44,26.04,35.28,15.12,28.56,48.72]
[null,null,null,null,null,null,null,null,null,null,null,null,null,null,null,null,null,"DE 25 A 29 AÑOS",null,13,-18,null,"DE 25 A 29 AÑOS",null,{"$f":"+IF($A$16=1,AD108,IF($A$16=2,AI108,AN108))","v":13},18,null,"DE 25 A 29 AÑOS",null,{"$f":"+LOOKUP($A$15,numeropiramidedistrito,BO104:BO126)","v":13},{"$f":"+LOOKUP($A$15,numeropiramidedistrito,BP104:BP126)","v":18},null,"DE 25 A 29 AÑOS",null,{"$f":"+LOOKUP($A$15,numeropiramidedistrito,CZ104:CZ126)","v":5.8500000000000005},{"$f":"+LOOKUP($A$15,numeropiramidedistrito,DA104:DA126)","v":8.1},null,"DE 25 A 29 AÑOS",null,{"$f":"+LOOKUP($A$15,numeropiramidedistrito,EK104:EK126)","v":7.15},{"$f":"+LOOKUP($A$15,numeropiramidedistrito,EL104:EL126)","v":9.9},null,"DISTRITO CARQUIN",null,0.98,0.02,null,"DISTRITO CARQUIN",9163.98,{"$f":"+AT108*AY108","v":187.02},{"$f":"Poblacion!F16","v":9351},null,"02",5,"DISTRITO CARQUIN",{"$f":"BD21","v":9351},{"$f":"BE21","v":234},{"$f":"BF21","v":237},365,379,425,431,354,391,348,369,368,385,351,416,364,371,325,383,296,311,237,258,225,248,186,175,128,162,125,126,76,90,101,111,null,"DISTRITO CARQUIN",9163.98,{"$f":"+CP136*$CO$108","v":229.31999999999996},{"$f":"+CQ136*$CO$108","v":232.26},357.69999999999993,371.41999999999996,416.5,422.38,346.92,383.17999999999995,341.03999999999996,361.62,360.64,377.3,343.98,407.68,356.71999999999997,363.58,318.5,375.34,290.08,304.77999999999997,232.26,252.84,220.49999999999997,243.04,182.28,171.49999999999997,125.43999999999998,158.76,122.5,123.47999999999999,74.47999999999999,88.199999999999989,98.97999999999999,108.78,null,"DISTRITO CARQUIN",187.02,{"$f":"+EA136*$DZ$108","v":4.68},{"$f":"+EB136*$DZ$108","v":4.74},7.3,7.58,8.5,8.620000000000001,7.080000000000001,7.82,6.96,7.3800000000000008,7.36,7.7000000000000011,7.0200000000000005,8.32,7.28,7.42,6.5000000000000009,7.66,5.92,6.22,4.74,5.16,4.5,4.9600000000000009,3.72,3.5,2.56,3.2399999999999998,2.5,2.52,1.52,1.8,2.02,2.2200000000000002]
[null,null,null,null,null,null,null,null,null,null,null,null,null,null,null,null,null,"DE 30 A 34 AÑOS",null,13,-13,null,"DE 30 A 34 AÑOS",null,13,13,null,"DE 30 A 34 AÑOS",null,{"$f":"+LOOKUP($A$15,numeropiramidedistrito,BQ104:BQ126)","v":13},{"$f":"+LOOKUP($A$15,numeropiramidedistrito,BR104:BR126)","v":13},null,"DE 30 A 34 AÑOS",null,{"$f":"+LOOKUP($A$15,numeropiramidedistrito,DB104:DB126)","v":5.8500000000000005},{"$f":"+LOOKUP($A$15,numeropiramidedistrito,DC104:DC126)","v":5.8500000000000005},null,"DE 30 A 34 AÑOS",null,{"$f":"+LOOKUP($A$15,numeropiramidedistrito,EM104:EM126)","v":7.15},{"$f":"+LOOKUP($A$15,numeropiramidedistrito,EN104:EN126)","v":7.15},null,"DISTRITO CHECRAS",null,0.68,0.32,null,"DISTRITO CHECRAS",609.28000000000009,{"$f":"+AT109*AY109","v":286.72000000000003},{"$f":"Poblacion!F18","v":896},null,"05",6,"DISTRITO CHECRAS",{"$f":"BD23","v":896},{"$f":"BE23","v":16},{"$f":"BF23","v":19},23,20,30,32,46,37,19,31,31,27,17,22,19,24,24,15,23,15,25,32,32,29,24,24,27,30,24,29,12,22,37,59,null,"DISTRITO CHECRAS",609.28000000000009,{"$f":"+CP137*$CO$109","v":10.88},{"$f":"+CQ137*$CO$109","v":12.920000000000002},15.640000000000002,13.600000000000001,20.400000000000002,21.76,31.280000000000005,25.160000000000004,12.920000000000002,21.080000000000005,21.080000000000005,18.360000000000003,11.56,14.960000000000003,12.920000000000002,16.32,16.32,10.200000000000001,15.640000000000002,10.200000000000001,17.000000000000004,21.76,21.76,19.720000000000006,16.32,16.32,18.360000000000003,20.400000000000002,16.32,19.720000000000006,8.16,14.960000000000003,25.160000000000004,40.120000000000005,null,"DISTRITO CHECRAS",286.72000000000003,{"$f":"+EA137*$DZ$109","v":5.12},{"$f":"+EB137*$DZ$109","v":6.080000000000001},7.36,6.4,9.6000000000000014,10.24,14.72,11.840000000000002,6.080000000000001,9.9200000000000017,9.9200000000000017,8.64,5.44,7.0400000000000009,6.080000000000001,7.6800000000000006,7.6800000000000006,4.8000000000000007,7.36,4.8000000000000007,8.0000000000000018,10.24,10.24,9.2800000000000011,7.6800000000000006,7.6800000000000006,8.64,9.6000000000000014,7.6800000000000006,9.2800000000000011,3.8400000000000003,7.0400000000000009,11.840000000000002,18.880000000000003]
[null,null,null,null,null,null,null,null,null,null,null,null,null,null,null,null,null,"DE 35 A 39 AÑOS",null,12,-18,null,"DE 35 A 39 AÑOS",null,12,18,null,"DE 35 A 39 AÑOS",null,{"$f":"+LOOKUP($A$15,numeropiramidedistrito,BS104:BS126)","v":12},{"$f":"+LOOKUP($A$15,numeropiramidedistrito,BT104:BT126)","v":18},null,"DE 35 A 39 AÑOS",null,{"$f":"+LOOKUP($A$15,numeropiramidedistrito,DD104:DD126)","v":5.4},{"$f":"+LOOKUP($A$15,numeropiramidedistrito,DE104:DE126)","v":8.1},null,"DE 35 A 39 AÑOS",null,{"$f":"+LOOKUP($A$15,numeropiramidedistrito,EO104:EO126)","v":6.6000000000000005},{"$f":"+LOOKUP($A$15,numeropiramidedistrito,EP104:EP126)","v":9.9},null,"DISTRITO HUALMAY",null,1,0,null,"DISTRITO HUALMAY",30830,{"$f":"+AT110*AY110","v":0},{"$f":"Poblacion!F20","v":30830},null,"02",7,"DISTRITO HUALMAY",{"$f":"BD25","v":30830},{"$f":"BE25","v":968},{"$f":"BF25","v":938},1294,1350,1253,1281,1107,1181,1146,1200,1275,1414,1187,1232,1116,1276,1021,1117,1003,1064,875,850,706,768,554,596,448,542,343,390,260,340,294,441,null,"DISTRITO HUALMAY",30830,{"$f":"+CP138*$CO$110","v":968},{"$f":"+CQ138*$CO$110","v":938},1294,1350,1253,1281,1107,1181,1146,1200,1275,1414,1187,1232,1116,1276,1021,1117,1002.9999999999999,1064,875,850,706,768,554,596,448,542,343,390,260,340,294,441,null,"DISTRITO HUALMAY",0,{"$f":"+EA138*$DZ$110","v":0},{"$f":"+EB138*$DZ$110","v":0},0,0,0,0,0,0,0,0,0,0,0,0,0,0,0,0,0,0,0,0,0,0,0,0,0,0,0,0,0,0,0,0]
[null,null,null,null,null,null,null,null,null,null,null,null,null,null,null,null,null,"DE 40 A 44 AÑOS",null,10,-11,null,"DE 40 A 44 AÑOS",null,10,11,null,"DE 40 A 44 AÑOS",null,{"$f":"+LOOKUP($A$15,numeropiramidedistrito,BU104:BU126)","v":10},{"$f":"+LOOKUP($A$15,numeropiramidedistrito,BV104:BV126)","v":11},null,"DE 40 A 44 AÑOS",null,{"$f":"+LOOKUP($A$15,numeropiramidedistrito,DF104:DF126)","v":4.5000000000000009},{"$f":"+LOOKUP($A$15,numeropiramidedistrito,DG104:DG126)","v":4.95},null,"DE 40 A 44 AÑOS",null,{"$f":"+LOOKUP($A$15,numeropiramidedistrito,EQ104:EQ126)","v":5.5000000000000009},{"$f":"+LOOKUP($A$15,numeropiramidedistrito,ER104:ER126)","v":6.0500000000000007},null,"DISTRITO HUAURA                   ",null,0.86,0.14000000000000001,null,"DISTRITO HUAURA                   ",34612.42,{"$f":"+AT111*AY111","v":5634.5800000000008},{"$f":"Poblacion!F24","v":40247},null,"01",8,"DISTRITO HUAURA                   ",{"$f":"BD29","v":40247},{"$f":"BE29","v":1392},{"$f":"BF29","v":1337},1757,1722,1704,1811,1472,1666,1447,1566,1791,1902,1676,1717,1427,1586,1378,1429,1150,1340,998,1204,874,1000,740,772,537,590,408,442,290,304,373,445,null,"DISTRITO HUAURA                   ",34612.42,{"$f":"+CP139*$CO$111","v":1197.1200000000001},{"$f":"+CQ139*$CO$111","v":1149.82},1511.02,1480.9199999999998,1465.44,1557.4599999999998,1265.9199999999998,1432.76,1244.42,1346.76,1540.26,1635.72,1441.36,1476.62,1227.2199999999998,1363.96,1185.08,1228.9399999999998,989,1152.4000000000001,858.28,1035.4399999999998,751.64,860,636.39999999999986,663.92,461.82,507.4,350.87999999999994,380.11999999999995,249.39999999999998,261.44,320.78000000000003,382.69999999999993,null,"DISTRITO HUAURA                   ",5634.5800000000008,{"$f":"+EA139*$DZ$111","v":194.88000000000005},{"$f":"+EB139*$DZ$111","v":187.18},245.98000000000005,241.08000000000004,238.56000000000006,253.54000000000002,206.08,233.24000000000004,202.58000000000004,219.24000000000004,250.74000000000004,266.28000000000003,234.64000000000004,240.38000000000002,199.78000000000003,222.04000000000002,192.92000000000004,200.06000000000003,161.00000000000003,187.60000000000005,139.72000000000003,168.56000000000003,122.36000000000001,140.00000000000003,103.60000000000001,108.08000000000001,75.180000000000007,82.600000000000009,57.120000000000005,61.88,40.600000000000009,42.56,52.220000000000013,62.300000000000004]
[null,null,null,null,null,null,null,null,null,null,null,null,null,null,null,null,null,"DE 45 A 49 AÑOS",null,19,-10,null,"DE 45 A 49 AÑOS",null,19,10,null,"DE 45 A 49 AÑOS",null,{"$f":"+LOOKUP($A$15,numeropiramidedistrito,BW104:BW126)","v":19},{"$f":"+LOOKUP($A$15,numeropiramidedistrito,BX104:BX126)","v":10},null,"DE 45 A 49 AÑOS",null,{"$f":"+LOOKUP($A$15,numeropiramidedistrito,DH104:DH126)","v":8.5500000000000007},{"$f":"+LOOKUP($A$15,numeropiramidedistrito,DI104:DI126)","v":4.5000000000000009},null,"DE 45 A 49 AÑOS",null,{"$f":"+LOOKUP($A$15,numeropiramidedistrito,ES104:ES126)","v":10.450000000000001},{"$f":"+LOOKUP($A$15,numeropiramidedistrito,ET104:ET126)","v":5.5000000000000009},null,"DISTRITO LEONCIO PRADO",null,0.16,0.84,null,"DISTRITO LEONCIO PRADO",357.44,1876.56,{"$f":"Poblacion!F30","v":2234},null,"03",9,"DISTRITO LEONCIO PRADO",{"$f":"BD35","v":2234},{"$f":"BE35","v":99},{"$f":"BF35","v":78},64,77,73,94,94,93,99,108,65,87,91,81,77,81,71,66,71,70,54,61,50,43,46,51,51,55,27,26,20,28,34,49,null,"DISTRITO LEONCIO PRADO",357.44,{"$f":"+CP140*$CO$112","v":15.839999999999998},{"$f":"+CQ140*$CO$112","v":12.479999999999999},10.24,12.319999999999999,11.680000000000001,15.040000000000001,15.040000000000001,14.88,15.839999999999998,17.28,10.4,13.92,14.56,12.959999999999999,12.319999999999999,12.959999999999999,11.360000000000001,10.56,11.360000000000001,11.200000000000001,8.64,9.76,7.9999999999999991,6.88,7.36,8.16,8.16,8.8000000000000007,4.32,4.16,3.1999999999999997,4.4800000000000004,5.44,7.839999999999999,null,"DISTRITO LEONCIO PRADO",1876.56,{"$f":"+EA140*$DZ$112","v":83.16},{"$f":"+EB140*$DZ$112","v":65.52},53.76,64.679999999999993,61.32,78.960000000000008,78.960000000000008,78.12,83.16,90.72,54.6,73.08,76.44,68.039999999999992,64.679999999999993,68.039999999999992,59.64,55.44,59.64,58.800000000000004,45.36,51.239999999999995,42,36.119999999999997,38.64,42.839999999999996,42.839999999999996,46.2,22.68,21.84,16.799999999999997,23.52,28.56,41.16]
[null,null,null,null,null,null,null,null,null,null,null,null,null,null,null,null,null,"DE 50 A 54 AÑOS",null,9,-12,null,"DE 50 A 54 AÑOS",null,9,12,null,"DE 50 A 54 AÑOS",null,{"$f":"+LOOKUP($A$15,numeropiramidedistrito,BY104:BY126)","v":9},{"$f":"+LOOKUP($A$15,numeropiramidedistrito,BZ104:BZ126)","v":12},null,"DE 50 A 54 AÑOS",null,{"$f":"+LOOKUP($A$15,numeropiramidedistrito,DJ104:DJ126)","v":4.05},{"$f":"+LOOKUP($A$15,numeropiramidedistrito,DK104:DK126)","v":5.4},null,"DE 50 A 54 AÑOS",null,{"$f":"+LOOKUP($A$15,numeropiramidedistrito,EU104:EU126)","v":4.95},{"$f":"+LOOKUP($A$15,numeropiramidedistrito,EV104:EV126)","v":6.6000000000000005},null,"DISTRITO PACCHO",null,0.63,0.37,null,"DISTRITO PACCHO",955.08,560.91999999999996,{"$f":"Poblacion!F35","v":1516},null,"05",10,"DISTRITO PACCHO",{"$f":"BD40","v":1516},{"$f":"BE40","v":30},{"$f":"BF40","v":28},43,46,49,48,52,47,39,52,40,45,38,40,46,34,37,40,49,49,49,64,49,47,41,41,40,40,30,39,40,45,63,76,null,"DISTRITO PACCHO",955.08,{"$f":"+CP141*$CO$113","v":18.900000000000002},{"$f":"+CQ141*$CO$113","v":17.64},27.090000000000003,28.980000000000004,30.869999999999997,30.240000000000002,32.76,29.610000000000003,24.57,32.76,25.200000000000003,28.35,23.94,25.200000000000003,28.980000000000004,21.42,23.310000000000002,25.200000000000003,30.869999999999997,30.869999999999997,30.869999999999997,40.32,30.869999999999997,29.610000000000003,25.830000000000002,25.830000000000002,25.200000000000003,25.200000000000003,18.900000000000002,24.57,25.200000000000003,28.35,39.690000000000005,47.88,null,"DISTRITO PACCHO",560.91999999999996,{"$f":"+EA141*$DZ$113","v":11.1},{"$f":"+EB141*$DZ$113","v":10.36},15.91,17.02,18.13,17.760000000000002,19.239999999999998,17.389999999999997,14.429999999999998,19.239999999999998,14.799999999999999,16.649999999999999,14.059999999999999,14.799999999999999,17.02,12.58,13.69,14.799999999999999,18.13,18.13,18.13,23.679999999999996,18.13,17.389999999999997,15.169999999999998,15.169999999999998,14.799999999999999,14.799999999999999,11.1,14.429999999999998,14.799999999999999,16.649999999999999,23.31,28.119999999999997]
[null,null,null,null,null,null,null,null,null,null,null,null,null,null,null,null,null,"DE 55 A 59 AÑOS",null,12,-15,null,"DE 55 A 59 AÑOS",null,12,15,null,"DE 55 A 59 AÑOS",null,{"$f":"+LOOKUP($A$15,numeropiramidedistrito,CA104:CA126)","v":12},{"$f":"+LOOKUP($A$15,numeropiramidedistrito,CB104:CB126)","v":15},null,"DE 55 A 59 AÑOS",null,{"$f":"+LOOKUP($A$15,numeropiramidedistrito,DL104:DL126)","v":5.4},{"$f":"+LOOKUP($A$15,numeropiramidedistrito,DM104:DM126)","v":6.75},null,"DE 55 A 59 AÑOS",null,{"$f":"+LOOKUP($A$15,numeropiramidedistrito,EW104:EW126)","v":6.6000000000000005},{"$f":"+LOOKUP($A$15,numeropiramidedistrito,EX104:EX126)","v":8.25},null,"DISTRITO SANTA LEONOR",null,0.63,0.37,null,"DISTRITO SANTA LEONOR",627.48,368.52,{"$f":"Poblacion!F40","v":996},null,"05",11,"DISTRITO SANTA LEONOR",{"$f":"BD45","v":996},{"$f":"BE45","v":36},{"$f":"BF45","v":28},28,27,32,40,38,33,29,26,32,36,29,40,33,25,26,32,24,29,29,28,29,26,31,32,28,25,22,15,18,28,26,36,null,"DISTRITO SANTA LEONOR",627.48,{"$f":"+CP142*$CO$114","v":22.68},{"$f":"+CQ142*$CO$114","v":17.64},17.64,17.010000000000002,20.16,25.2,23.94,20.790000000000003,18.27,16.38,20.16,22.68,18.27,25.2,20.790000000000003,15.75,16.38,20.16,15.120000000000001,18.27,18.27,17.64,18.27,16.38,19.53,20.16,17.64,15.75,13.860000000000001,9.4500000000000011,11.34,17.64,16.38,22.68,null,"DISTRITO SANTA LEONOR",368.52,{"$f":"+EA142*$DZ$114","v":13.319999999999999},{"$f":"+EB142*$DZ$114","v":10.36},10.36,9.99,11.839999999999998,14.799999999999999,14.06,12.21,10.73,9.6199999999999992,11.839999999999998,13.319999999999999,10.73,14.799999999999999,12.21,9.25,9.6199999999999992,11.839999999999998,8.8800000000000008,10.73,10.73,10.36,10.73,9.6199999999999992,11.469999999999999,11.839999999999998,10.36,9.25,8.14,5.55,6.6599999999999993,10.36,9.6199999999999992,13.319999999999999]
[null,null,null,null,null,null,null,null,null,null,null,null,null,null,null,null,null,"DE 60 A 64 AÑOS",null,13,-12,null,"DE 60 A 64 AÑOS",null,13,12,null,"DE 60 A 64 AÑOS",null,{"$f":"+LOOKUP($A$15,numeropiramidedistrito,CC104:CC126)","v":13},{"$f":"+LOOKUP($A$15,numeropiramidedistrito,CD104:CD126)","v":12},null,"DE 60 A 64 AÑOS",null,{"$f":"+LOOKUP($A$15,numeropiramidedistrito,DN104:DN126)","v":5.8500000000000005},{"$f":"+LOOKUP($A$15,numeropiramidedistrito,DO104:DO126)","v":5.4},null,"DE 60 A 64 AÑOS",null,{"$f":"+LOOKUP($A$15,numeropiramidedistrito,EY104:EY126)","v":7.15},{"$f":"+LOOKUP($A$15,numeropiramidedistrito,EZ104:EZ126)","v":6.6000000000000005},null,"DISTRITO SANTA MARIA",null,0.91,0.09,null,"DISTRITO SANTA MARIA",39717.86,3928.14,{"$f":"Poblacion!F44","v":43646},null,"02",12,"DISTRITO SANTA MARIA",{"$f":"BD49","v":43646},{"$f":"BE49","v":1688},{"$f":"BF49","v":1678},1850,1981,1822,1807,1612,1696,1725,1709,1847,2033,1594,1828,1518,1708,1378,1481,1235,1391,1103,1177,904,986,747,862,622,690,525,599,385,438,502,525,null,"DISTRITO SANTA MARIA",39717.86,{"$f":"+CP143*$CO$115","v":1536.0800000000002},{"$f":"+CQ143*$CO$115","v":1526.98},1683.5,1802.7099999999998,1658.02,1644.37,1466.92,1543.36,1569.75,1555.1899999999998,1680.77,1850.0300000000002,1450.54,1663.48,1381.3799999999999,1554.28,1253.98,1347.71,1123.8499999999999,1265.81,1003.7300000000001,1071.07,822.64,897.26,679.77,784.42000000000007,566.02,627.9,477.75,545.09,350.35,398.58000000000004,456.82,477.75,null,"DISTRITO SANTA MARIA",3928.14,{"$f":"+EA143*$DZ$115","v":151.92000000000002},{"$f":"+EB143*$DZ$115","v":151.02000000000001},166.5,178.29,163.98,162.63,145.08000000000001,152.63999999999999,155.25,153.80999999999997,166.23,182.97,143.45999999999998,164.51999999999998,136.61999999999998,153.72,124.02,133.29,111.14999999999999,125.19,99.27000000000001,105.92999999999999,81.359999999999985,88.74,67.23,77.58,55.98,62.099999999999994,47.25,53.91,34.65,39.42,45.18,47.25]
[null,null,null,null,null,null,null,null,null,null,null,null,null,null,null,null,null,"DE 65 A 69 AÑOS",null,15,-8,null,"DE 65 A 69 AÑOS",null,15,8,null,"DE 65 A 69 AÑOS",null,{"$f":"+LOOKUP($A$15,numeropiramidedistrito,CE104:CE126)","v":15},{"$f":"+LOOKUP($A$15,numeropiramidedistrito,CF104:CF126)","v":8},null,"DE 65 A 69 AÑOS",null,{"$f":"+LOOKUP($A$15,numeropiramidedistrito,DP104:DP126)","v":6.75},{"$f":"+LOOKUP($A$15,numeropiramidedistrito,DQ104:DQ126)","v":3.6},null,"DE 65 A 69 AÑOS",null,{"$f":"+LOOKUP($A$15,numeropiramidedistrito,FA104:FA126)","v":8.25},{"$f":"+LOOKUP($A$15,numeropiramidedistrito,FB104:FB126)","v":4.4000000000000004},null,"DISTRITO SAYAN",null,0.63,0.37,null,"DISTRITO SAYAN",16832.97,9886.0300000000007,{"$f":"Poblacion!F50","v":26719},null,"03",13,"DISTRITO SAYAN",{"$f":"BD56","v":26719},{"$f":"BE56","v":981},{"$f":"BF56","v":960},1151,1242,1159,1155,1054,1191,961,1134,1123,1238,969,1141,975,1041,863,960,808,828,646,697,563,623,490,454,372,395,309,263,215,220,263,275,null,"DISTRITO SAYAN",16832.97,{"$f":"+CP144*$CO$116","v":618.03000000000009},{"$f":"+CQ144*$CO$116","v":604.80000000000007},725.13,782.46000000000015,730.17000000000007,727.65000000000009,664.02,750.33,605.42999999999995,714.42000000000007,707.49,779.94,610.47,718.83,614.25,655.83,543.69000000000005,604.80000000000007,509.04000000000008,521.6400000000001,406.98,439.11,354.69,392.49,308.70000000000005,286.02,234.36,248.85000000000002,194.67000000000002,165.69000000000003,135.45000000000002,138.6,165.69000000000003,173.25,null,"DISTRITO SAYAN",9886.0300000000007,{"$f":"+EA144*$DZ$116","v":362.97},{"$f":"+EB144*$DZ$116","v":355.2},425.87,459.54000000000008,428.83000000000004,427.35,389.98,440.67,355.57,419.58000000000004,415.51,458.06,358.53000000000003,422.17,360.75,385.17,319.31,355.2,298.96000000000004,306.36,239.02000000000004,257.89,208.31,230.51000000000002,181.30000000000004,167.98,137.64000000000001,146.15,114.33000000000001,97.310000000000016,79.550000000000011,81.399999999999991,97.310000000000016,101.75]
[null,null,null,null,null,null,null,null,null,null,null,null,null,null,null,null,null,"DE 70 A 74 AÑOS",null,8,-6,null,"DE 70 A 74 AÑOS",null,8,6,null,"DE 70 A 74 AÑOS",null,{"$f":"+LOOKUP($A$15,numeropiramidedistrito,CG104:CG126)","v":8},{"$f":"+LOOKUP($A$15,numeropiramidedistrito,CH104:CH126)","v":6},null,"DE 70 A 74 AÑOS",null,{"$f":"+LOOKUP($A$15,numeropiramidedistrito,DR104:DR126)","v":3.6},{"$f":"+LOOKUP($A$15,numeropiramidedistrito,DS104:DS126)","v":2.7},null,"DE 70 A 74 AÑOS",null,{"$f":"+LOOKUP($A$15,numeropiramidedistrito,FC104:FC126)","v":4.4000000000000004},{"$f":"+LOOKUP($A$15,numeropiramidedistrito,FD104:FD126)","v":3.3000000000000003},null,"DISTRITO VEGUETA",null,0.75,0.25,null,"DISTRITO VEGUETA",22811.25,7603.75,{"$f":"Poblacion!F58","v":30415},null,"04",14,"DISTRITO VEGUETA",{"$f":"BD64","v":30415},{"$f":"BE64","v":1392},{"$f":"BF64","v":1382},1425,1400,1378,1342,1201,1210,1019,1171,1306,1463,1187,1383,1107,1244,936,1033,800,900,687,753,589,673,466,533,389,399,301,292,226,227,259,342,null,"DISTRITO VEGUETA",22811.25,{"$f":"+CP145*$CO$117","v":1044},{"$f":"+CQ145*$CO$117","v":1036.5},1068.75,1050,1033.5,1006.5,900.75,907.5,764.25,878.24999999999989,979.5,1097.25,890.25,1037.25,830.25,933,702,774.75,600,675,515.25,564.75,441.75,504.75000000000006,349.5,399.75,291.75,299.25,225.74999999999997,219,169.5,170.25,194.25000000000003,256.5,null,"DISTRITO VEGUETA",7603.75,{"$f":"+EA145*$DZ$117","v":348},{"$f":"+EB145*$DZ$117","v":345.5},356.25,350,344.5,335.5,300.25,302.5,254.75,292.75,326.5,365.75,296.75,345.75,276.75,311,234,258.25,200,225,171.75,188.25,147.25,168.25,116.5,133.25,97.25,99.75,75.25,73,56.5,56.75,64.75,85.5]
[null,null,null,null,null,null,null,null,null,null,null,null,null,null,null,null,null,"DE 75 A 79 AÑOS",null,6,-8,null,"DE 75 A 79 AÑOS",null,{"$f":"+IF($A$16=1,AD118,IF($A$16=2,AI118,AN118))","v":6},8,null,"DE 75 A 79 AÑOS",null,{"$f":"+LOOKUP($A$15,numeropiramidedistrito,CI104:CI126)","v":6},{"$f":"+LOOKUP($A$15,numeropiramidedistrito,CJ104:CJ126)","v":8},null,"DE 75 A 79 AÑOS",null,{"$f":"+LOOKUP($A$15,numeropiramidedistrito,DT104:DT126)","v":2.7},{"$f":"+LOOKUP($A$15,numeropiramidedistrito,DU104:DU126)","v":3.6},null,"DE 75 A 79 AÑOS",null,{"$f":"+LOOKUP($A$15,numeropiramidedistrito,FE104:FE126)","v":3.3000000000000003},{"$f":"+LOOKUP($A$15,numeropiramidedistrito,FF104:FF126)","v":4.4000000000000004},null,"PROVINCIA OYON",null,null,null,null,"PROVINCIA OYON",{"$f":"+SUM(AW119:AW124)","v":11115.07},{"$f":"+SUM(AX119:AX124)","v":5837.9299999999994},{"$f":"Poblacion!F65","v":16953},null,null,15,"PROVINCIA OYON",{"$f":"BD71","v":16953},{"$f":"BE71","v":549},{"$f":"BF71","v":556},701,759,864,920,797,845,626,657,639,696,548,655,555,623,482,464,478,470,434,461,357,390,327,330,255,273,204,214,140,188,191,305,null,"PROVINCIA OYON",11115.07,{"$f":"+CP146*$CO$118","v":359.94652450893648},{"$f":"+CQ146*$CO$118","v":364.53600660650028},459.60385005603729,497.63098743585209,566.47321889930981,603.18907567982069,522.54531882262722,554.01605320592216,410.43082758213882,430.7556768713502,418.95415147761457,456.32564855777736,359.29088420928446,429.44439627204628,363.88036630684832,408.46390668318293,316.01862443225389,304.21709903851826,313.39606323364598,308.15094083643015,284.54789004895889,302.25017813956231,234.06358697575649,255.69971686427181,214.39437798619713,216.36129888515305,167.18827641125463,178.98980180499026,133.75062112900372,140.3070241255235,91.789641951277062,123.26037633457204,125.22729723352798,199.97029139385359,null,"PROVINCIA OYON",5837.9299999999994,{"$f":"+EA146*$DZ$118","v":189.05347549106352},{"$f":"+EB146*$DZ$118","v":191.46399339349966},241.39614994396271,261.36901256414791,297.52678110069007,316.81092432017931,274.45468117737272,290.98394679407772,215.56917241786113,226.24432312864977,220.0458485223854,239.67435144222259,188.70911579071549,225.55560372795375,191.11963369315163,214.53609331681707,165.98137556774611,159.78290096148174,164.60393676635402,161.84905916356985,149.45210995104108,158.74982186043766,122.93641302424348,134.30028313572817,112.60562201380286,113.63870111484691,87.811723588745352,94.010198195009735,70.249378870996281,73.692975874476474,48.210358048722931,64.739623665427942,65.772702766471994,105.02970860614639]
[null,null,null,null,null,null,null,null,null,null,null,null,null,null,null,null,null,"DE 80 A MAS AÑOS",null,12,-18,null,"DE 80 A MAS AÑOS",null,{"$f":"+IF($A$16=1,AD119,IF($A$16=2,AI119,AN119))","v":12},{"$f":"+IF($A$16=1,AE119,IF($A$16=2,AJ119,AO119))","v":18},null,"DE 80 A MAS AÑOS",null,{"$f":"+LOOKUP($A$15,numeropiramidedistrito,CK104:CK126)","v":12},{"$f":"+LOOKUP($A$15,numeropiramidedistrito,CL104:CL126)","v":18},null,"DE 80 A MAS AÑOS",null,{"$f":"+LOOKUP($A$15,numeropiramidedistrito,DV104:DV126)","v":5.4},{"$f":"+LOOKUP($A$15,numeropiramidedistrito,DW104:DW126)","v":8.1},null,"DE 80 A MAS AÑOS",null,{"$f":"+LOOKUP($A$15,numeropiramidedistrito,FG104:FG126)","v":6.6000000000000005},{"$f":"+LOOKUP($A$15,numeropiramidedistrito,FH104:FH126)","v":9.9},null,"DISTRITO OYON",null,0.71,0.28999999999999998,null,"DISTRITO OYON",{"$f":"+AS119*AY119","v":8341.7899999999991},{"$f":"+AT119*AY119","v":3407.2099999999996},{"$f":"Poblacion!F66","v":11749},null,"05",16,"DISTRITO OYON",{"$f":"BD72","v":11749},{"$f":"BE72","v":304},293,538,594,678,693,585,614,449,486,479,500,401,503,405,454,336,327,320,326,300,324,224,241,192,200,156,165,117,122,71,102,81,169,null,"DISTRITO OYON",8341.7899999999991,{"$f":"+CP147*$CO$119","v":215.83999999999997},{"$f":"+CQ147*$CO$119","v":208.02999999999997},381.97999999999996,421.73999999999995,481.37999999999994,492.02999999999992,415.34999999999991,435.93999999999994,318.78999999999996,345.05999999999995,340.09,354.99999999999994,284.70999999999992,357.13,287.54999999999995,322.33999999999992,238.55999999999997,232.16999999999996,227.19999999999996,231.45999999999995,212.99999999999997,230.04,159.04,171.10999999999999,136.32,142,110.75999999999998,117.14999999999999,83.069999999999979,86.61999999999999,50.41,72.419999999999987,57.51,119.99,null,"DISTRITO OYON",3407.2099999999996,{"$f":"+EA147*$DZ$119","v":88.16},{"$f":"+EB147*$DZ$119","v":84.969999999999985},156.01999999999998,172.26,196.61999999999998,200.96999999999997,169.64999999999998,178.05999999999997,130.20999999999998,140.93999999999997,138.91,144.99999999999997,116.28999999999998,145.86999999999998,117.44999999999999,131.65999999999997,97.439999999999984,94.829999999999984,92.799999999999983,94.539999999999978,86.999999999999986,93.96,64.959999999999994,69.889999999999986,55.679999999999993,58,45.239999999999995,47.849999999999994,33.929999999999993,35.379999999999995,20.59,29.58,23.49,49.01]
[null,null,null,null,null,null,null,null,null,null,null,null,null,null,null,null,null,"SUB TOTAL",null,{"$f":"+SUM(T103:T119)","v":216},{"$f":"+SUM(U103:U119)","v":-235},null,"SUB TOTAL",null,{"$f":"+SUM(Y103:Y119)","v":216},{"$f":"+SUM(Z103:Z119)","v":235},null,"SUB TOTAL",null,{"$f":"+SUM(AD103:AD119)","v":216},{"$f":"+SUM(AE103:AE119)","v":235},null,"SUB TOTAL",null,{"$f":"+SUM(AI103:AI119)","v":97.2},{"$f":"+SUM(AJ103:AJ119)","v":105.75},null,"SUB TOTAL",null,{"$f":"+SUM(AN103:AN119)","v":118.80000000000001},{"$f":"+SUM(AO103:AO119)","v":129.25},null,"DISTRITO ANDAJES",null,0.6,0.4,null,"DISTRITO ANDAJES",257.39999999999998,171.60000000000002,{"$f":"Poblacion!F72","v":429},null,"05",17,"DISTRITO ANDAJES",{"$f":"BD78","v":429},{"$f":"BE78","v":15},{"$f":"BF78","v":23},9,5,13,17,10,13,9,6,7,6,6,4,9,10,11,6,6,8,17,7,12,16,26,18,9,16,11,15,10,18,27,34,null,"DISTRITO ANDAJES",257.39999999999998,{"$f":"+CP148*$CO$120","v":9},{"$f":"+CQ148*$CO$120","v":13.799999999999999},5.3999999999999995,3,7.8,10.199999999999999,6,7.8,5.3999999999999995,3.5999999999999996,4.1999999999999993,3.5999999999999996,3.5999999999999996,2.4,5.3999999999999995,6,6.5999999999999988,3.5999999999999996,3.5999999999999996,4.8,10.199999999999999,4.1999999999999993,7.1999999999999993,9.6,15.6,10.799999999999999,5.3999999999999995,9.6,6.5999999999999988,9,6,10.799999999999999,16.2,20.399999999999999,null,"DISTRITO ANDAJES",171.60000000000002,{"$f":"+EA148*$DZ$120","v":6.0000000000000009},{"$f":"+EB148*$DZ$120","v":9.2000000000000011},3.6000000000000005,2.0000000000000004,5.2000000000000011,6.8000000000000007,4.0000000000000009,5.2000000000000011,3.6000000000000005,2.4000000000000004,2.8000000000000003,2.4000000000000004,2.4000000000000004,1.6000000000000003,3.6000000000000005,4.0000000000000009,4.4000000000000004,2.4000000000000004,2.4000000000000004,3.2000000000000006,6.8000000000000007,2.8000000000000003,4.8000000000000007,6.4000000000000012,10.400000000000002,7.2000000000000011,3.6000000000000005,6.4000000000000012,4.4000000000000004,6.0000000000000009,4.0000000000000009,7.2000000000000011,10.800000000000002,13.600000000000001]
[null,null,null,null,null,null,null,null,null,null,null,null,null,null,null,null,null,null,null,null,null,null,null,null,null,null,null,null,null,null,null,null,null,null,null,null,null,null,null,null,null,null,"DISTRITO CAUJUL",null,0.45,0.55000000000000004,null,"DISTRITO CAUJUL",202.95000000000002,248.05,{"$f":"Poblacion!F74","v":451},null,"05",18,"DISTRITO CAUJUL",{"$f":"BD80","v":451},{"$f":"BE80","v":20},{"$f":"BF80","v":19},13,15,12,16,15,19,14,17,13,18,13,13,12,18,10,11,19,10,9,12,12,15,13,12,15,8,8,6,6,8,12,18,null,"DISTRITO CAUJUL",202.95000000000002,{"$f":"+CP149*$CO$121","v":9.0000000000000018},{"$f":"+CQ149*$CO$121","v":8.5500000000000007},5.8500000000000005,6.75,5.4,7.2,6.75,8.5500000000000007,6.3000000000000007,7.6500000000000012,5.8500000000000005,8.1,5.8500000000000005,5.8500000000000005,5.4,8.1,4.5000000000000009,4.95,8.5500000000000007,4.5000000000000009,4.05,5.4,5.4,6.75,5.8500000000000005,5.4,6.75,3.6,3.6,2.7,2.7,3.6,5.4,8.1,null,"DISTRITO CAUJUL",248.05,{"$f":"+EA149*$DZ$121","v":11.000000000000002},{"$f":"+EB149*$DZ$121","v":10.450000000000001},7.15,8.25,6.6000000000000005,8.8000000000000007,8.25,10.450000000000001,7.7000000000000011,9.3500000000000014,7.15,9.9,7.15,7.15,6.6000000000000005,9.9,5.5000000000000009,6.0500000000000007,10.450000000000001,5.5000000000000009,4.95,6.6000000000000005,6.6000000000000005,8.25,7.15,6.6000000000000005,8.25,4.4000000000000004,4.4000000000000004,3.3000000000000003,3.3000000000000003,4.4000000000000004,6.6000000000000005,9.9]
[null,null,null,null,null,null,null,null,null,null,null,null,null,null,null,null,null,null,null,null,null,null,null,null,null,null,null,null,null,null,null,null,null,null,null,null,null,null,null,null,null,null,"DISTRITO COCHAMARCA",null,0.28000000000000003,0.72,null,"DISTRITO COCHAMARCA",306.04000000000002,786.95999999999992,{"$f":"Poblacion!F76","v":1093},null,"03",19,"DISTRITO COCHAMARCA",{"$f":"BD82","v":1093},{"$f":"BE82","v":43},{"$f":"BF82","v":56},29,36,43,63,72,66,55,54,44,45,38,32,28,31,23,22,34,36,26,27,30,20,17,19,11,12,13,17,6,10,16,19,null,"DISTRITO COCHAMARCA",306.04000000000002,{"$f":"+CP150*$CO$122","v":12.040000000000001},{"$f":"+CQ150*$CO$122","v":15.68},8.120000000000001,10.08,12.040000000000001,17.64,20.16,18.48,15.4,15.120000000000001,12.320000000000002,12.600000000000001,10.64,8.9600000000000009,7.84,8.68,6.44,6.160000000000001,9.5200000000000014,10.08,7.28,7.5600000000000005,8.4,5.6000000000000005,4.7600000000000007,5.32,3.0800000000000005,3.3600000000000003,3.64,4.7600000000000007,1.6800000000000002,2.8000000000000003,4.4800000000000004,5.32,null,"DISTRITO COCHAMARCA",786.95999999999992,{"$f":"+EA150*$DZ$122","v":30.959999999999997},{"$f":"+EB150*$DZ$122","v":40.319999999999993},20.88,25.919999999999995,30.959999999999997,45.36,51.839999999999989,47.519999999999996,39.599999999999994,38.879999999999995,31.68,32.4,27.359999999999996,23.04,20.159999999999997,22.319999999999997,16.559999999999999,15.84,24.479999999999997,25.919999999999995,18.72,19.439999999999998,21.599999999999998,14.4,12.239999999999998,13.679999999999998,7.92,8.6399999999999988,9.36,12.239999999999998,4.3199999999999994,7.2,11.52,13.679999999999998]
[null,null,null,null,null,null,null,null,null,null,null,null,null,null,null,null,null,null,null,null,null,null,null,null,null,null,null,null,null,null,null,null,null,null,null,null,null,null,null,null,null,null,"DISTRITO NAVAN",null,0.34,0.66,null,"DISTRITO NAVAN",263.84000000000003,512.16,{"$f":"Poblacion!F80","v":776},null,"05",20,"DISTRITO NAVAN",{"$f":"BD86","v":776},{"$f":"BE86","v":23},{"$f":"BF86","v":23},21,15,28,35,26,42,23,23,16,20,14,28,32,27,20,23,27,28,35,23,23,26,25,21,19,18,14,16,10,13,17,22,null,"DISTRITO NAVAN",263.84000000000003,{"$f":"+CP151*$CO$123","v":7.82},{"$f":"+CQ151*$CO$123","v":7.82},7.1400000000000015,5.1000000000000005,9.52,11.900000000000002,8.8400000000000016,14.280000000000003,7.82,7.82,5.44,6.8000000000000007,4.76,9.52,10.88,9.1800000000000015,6.8000000000000007,7.82,9.1800000000000015,9.52,11.900000000000002,7.82,7.82,8.8400000000000016,8.5,7.1400000000000015,6.4600000000000009,6.120000000000001,4.76,5.44,3.4000000000000004,4.4200000000000008,5.78,7.4800000000000013,null,"DISTRITO NAVAN",512.16,{"$f":"+EA151*$DZ$123","v":15.179999999999998},{"$f":"+EB151*$DZ$123","v":15.179999999999998},13.86,9.9,18.479999999999997,23.099999999999998,17.16,27.72,15.179999999999998,15.179999999999998,10.559999999999999,13.2,9.2399999999999984,18.479999999999997,21.119999999999997,17.82,13.2,15.179999999999998,17.82,18.479999999999997,23.099999999999998,15.179999999999998,15.179999999999998,17.16,16.499999999999996,13.86,12.54,11.879999999999999,9.2399999999999984,10.559999999999999,6.6,8.58,11.219999999999999,14.52]
[null,null,null,null,null,null,null,null,null,null,null,null,null,null,null,null,null,null,null,null,null,null,null,null,null,null,null,null,null,null,null,null,null,null,null,null,null,null,null,null,null,null,"DISTRITO PACHANGARA",null,0.71,0.28999999999999998,null,"DISTRITO PACHANGARA",1743.05,711.94999999999993,{"$f":"Poblacion!F82","v":2455},null,"05",21,"DISTRITO PACHANGARA",{"$f":"BD88","v":2455},{"$f":"BE88","v":144},{"$f":"BF88","v":142},91,94,90,96,89,91,76,71,80,107,76,75,69,83,82,75,72,62,47,68,56,72,54,60,45,54,41,38,37,37,38,43,null,"DISTRITO PACHANGARA",1743.05,{"$f":"+CP152*$CO$124","v":102.24},{"$f":"+CQ152*$CO$124","v":100.82000000000001},64.61,66.739999999999995,63.9,68.160000000000011,63.19,64.61,53.959999999999994,50.410000000000004,56.79999999999999,75.97,53.959999999999994,53.25,48.989999999999995,58.93,58.220000000000006,53.25,51.12,44.019999999999996,33.369999999999997,48.279999999999994,39.76,51.12,38.339999999999996,42.6,31.95,38.339999999999996,29.110000000000003,26.979999999999997,26.27,26.27,26.979999999999997,30.53,null,"DISTRITO PACHANGARA",711.94999999999993,{"$f":"+EA152*$DZ$124","v":41.76},{"$f":"+EB152*$DZ$124","v":41.18},26.389999999999997,27.259999999999994,26.099999999999998,27.84,25.81,26.389999999999997,22.039999999999996,20.59,23.199999999999996,31.029999999999994,22.039999999999996,21.749999999999996,20.009999999999998,24.07,23.78,21.749999999999996,20.88,17.979999999999997,13.629999999999997,19.72,16.239999999999998,20.88,15.659999999999998,17.399999999999999,13.049999999999999,15.659999999999998,11.89,11.019999999999998,10.729999999999999,10.729999999999999,11.019999999999998,12.469999999999999]
[null,null,null,null,null,null,null,null,null,null,null,null,null,null,null,null,null,null,null,null,null,null,null,null,null,null,null,null,null,null,null,null,null,null,null,null,null,null,null,null,null,null,"PROVINCIA HUARAL",null,null,null,null,"PROVINCIA HUARAL",{"$f":"+AW126","v":222},{"$f":"+AX126","v":703},{"$f":"Poblacion!F86","v":925},null,null,22,"PROVINCIA HUARAL",{"$f":"BD92","v":925},{"$f":"BE92","v":21},{"$f":"BF92","v":21},27,29,30,36,29,36,31,34,33,31,43,34,36,31,22,33,30,29,24,26,26,32,24,28,19,18,17,15,13,12,23,32,null,"PROVINCIA HUARAL",222,{"$f":"+CP153*$CO$125","v":5.04},{"$f":"+CQ153*$CO$125","v":5.04},6.48,6.96,7.2,8.6399999999999988,6.96,8.6399999999999988,7.4399999999999995,8.16,7.9200000000000008,7.4399999999999995,10.319999999999999,8.16,8.6399999999999988,7.4399999999999995,5.28,7.9200000000000008,7.2,6.96,5.76,6.24,6.24,7.68,5.76,6.72,4.5599999999999996,4.3199999999999994,4.08,3.6,3.12,2.88,5.52,7.68,null,"PROVINCIA HUARAL",703,{"$f":"+EA153*$DZ$125","v":15.96},{"$f":"+EB153*$DZ$125","v":15.96},20.52,22.04,22.8,27.36,22.04,27.36,23.56,25.84,25.080000000000002,23.56,32.68,25.84,27.36,23.56,16.72,25.080000000000002,22.8,22.04,18.239999999999998,19.760000000000002,19.760000000000002,24.32,18.239999999999998,21.28,14.44,13.68,12.92,11.4,9.8800000000000008,9.1199999999999992,17.48,24.32]
[null,null,null,null,null,null,null,null,null,null,null,null,null,null,null,null,null,null,null,null,null,null,null,null,null,null,null,null,null,null,null,null,null,null,null,null,null,null,null,null,null,null,"IHUARI - ACOTAMA",null,0.24,0.76,null,"IHUARI - ACOTAMA",{"$f":"+AS126*AY126","v":222},{"$f":"+AT126*AY126","v":703},{"$f":"Poblacion!F87","v":925},null,"03",23,"IHUARI - ACOTAMA",{"$f":"BD93","v":925},{"$f":"BE93","v":21},21,27,29,30,36,29,36,31,34,33,31,43,34,36,31,22,33,30,29,24,26,26,32,24,28,19,18,17,15,13,12,23,32,null,"IHUARI - ACOTAMA",222,{"$f":"+CP154*$CO$126","v":5.04},{"$f":"+CQ154*$CO$126","v":5.04},6.48,6.96,7.2,8.6399999999999988,6.96,8.6399999999999988,7.4399999999999995,8.16,7.9200000000000008,7.4399999999999995,10.319999999999999,8.16,8.6399999999999988,7.4399999999999995,5.28,7.9200000000000008,7.2,6.96,5.76,6.24,6.24,7.68,5.76,6.72,4.5599999999999996,4.3199999999999994,4.08,3.6,3.12,2.88,5.52,7.68,null,"IHUARI - ACOTAMA",703,{"$f":"+EA154*$DZ$126","v":15.96},{"$f":"+EB154*$DZ$126","v":15.96},20.52,22.04,22.8,27.36,22.04,27.36,23.56,25.84,25.080000000000002,23.56,32.68,25.84,27.36,23.56,16.72,25.080000000000002,22.8,22.04,18.239999999999998,19.760000000000002,19.760000000000002,24.32,18.239999999999998,21.28,14.44,13.68,12.92,11.4,9.8800000000000008,9.1199999999999992,17.48,24.32]
[]
[]
[null,null,null,null,null,null,null,null,null,null,null,null,null,null,null,null,null,null,null,null,null,null,null,null,null,null,null,null,null,null,null,null,null,null,null,null,null,null,null,null,null,null,null,null,"DIRECCION DE SALUD","URBANA\n%","RURAL\n%",null,null,null,null,null,null,null,null,null,null,null,null,null,null,null,null,null,null,null,null,null,null,null,null,null,null,null,null,null,null,null,null,null,null,null,null,null,null,null,null,null,null,null,null,"DESCRIPCION",null,"ZONA URBANA",null,null,null,null,null,null,null,null,null,null,null,null,null,null,null,null,null,null,null,null,null,null,null,null,null,null,null,null,null,null,null,null,null,null,"DESCRIPCION",null,"ZONA RURAL"]
[null,null,null,null,null,null,null,null,null,null,null,null,null,null,null,null,null,null,null,null,null,null,null,null,null,null,null,null,null,null,null,null,null,null,null,null,null,null,null,null,null,null,null,null,"PROVINCIA",null,null,null,null,null,null,null,null,null,null,null,null,null,null,null,null,null,null,null,null,null,null,null,null,null,null,null,null,null,null,null,null,null,null,null,null,null,null,null,null,null,null,null,null,null,null,null,null,"Menor de 5 años",null,"5 - 9",null,"10 - 14",null,"15 - 19",null,"20 - 24",null,"25 - 29",null,"30 - 34",null,"35 - 39",null,"40 - 44",null,"45 - 49",null,"50 - 54",null,"55 - 59",null,"60 - 64",null,"65 - 69",null,"70 - 74",null,"75 - 79",null,"80 +++",null,null,null,null,"Menor de 5 años",null,"5 - 9",null,"10 - 14",null,"15 - 19",null,"20 - 24",null,"25 - 29",null,"30 - 34",null,"35 - 39",null,"40 - 44",null,"45 - 49",null,"50 - 54",null,"55 - 59",null,"60 - 64",null,"65 - 69",null,"70 - 74",null,"75 - 79",null,"80 +++"]
[null,null,null,null,null,null,null,null,null,null,null,null,null,null,null,null,null,null,null,null,null,null,null,null,null,null,null,null,null,null,null,null,null,null,null,null,null,null,null,null,null,null,null,null,"DISTRITO",null,null,null,null,null,null,null,null,null,null,null,null,null,null,null,null,null,null,null,null,null,null,null,null,null,null,null,null,null,null,null,null,null,null,null,null,null,null,null,null,null,null,null,null,null,null,null,null,"M","F","M","F","M","F","M","F","M","F","M","F","M","F","M","F","M","F","M","F","M","F","M","F","M","F","M","F","M","F","M","F","M","F",null,null,null,"M","F","M","F","M","F","M","F","M","F","M","F","M","F","M","F","M","F","M","F","M","F","M","F","M","F","M","F","M","F","M","F","M","F"]
[null,null,null,null,null,null,null,null,null,null,null,null,null,null,null,null,null,null,null,null,null,null,null,null,null,null,null,null,null,null,null,null,null,null,null,null,null,null,null,null,null,null,null,null,"HUAURA - OYON",null,null,null,null,null,null,null,null,null,null,null,null,null,null,null,null,null,null,null,null,null,null,null,null,null,null,null,null,null,null,null,null,null,null,null,null,null,null,null,null,null,null,null,null,null,null,"HUAURA - OYON",null,{"$f":"+BE104/$BD$104","v":3.336463002001807E-2},{"$f":"BF104/$BD$104","v":3.2645396729791491E-2},{"$f":"BG104/$BD$104","v":4.1595068114581302E-2},4.2721748835231804E-2,4.1740331981080264E-2,4.2346188595014968E-2,3.7665857676841046E-2,3.9734982019167746E-2,3.6007723786072386E-2,3.8105192297472057E-2,4.0603022197027404E-2,4.4805045262094986E-2,3.699622668249216E-2,4.1265567149108041E-2,3.5511700827295434E-2,3.8898829031515175E-2,3.2528477032365499E-2,3.492710234016546E-2,2.9867668160640577E-2,3.2539106095767864E-2,2.6335276089921877E-2,2.8652411911637053E-2,2.2721394533118389E-2,2.5144820988857199E-2,1.9096883912912539E-2,2.0666442275328174E-2,1.5525518609718507E-2,1.7243883859767224E-2,1.2223422912717675E-2,1.3353646654502295E-2,8.8185796028273315E-3,1.0175556697195699E-2,1.1528990770429945E-2,1.4643306347322362E-2,null,"HUAURA - OYON",null,{"$f":"+BE104/$BD$104","v":3.336463002001807E-2},3.2645396729791491E-2,4.1595068114581302E-2,4.2721748835231804E-2,4.1740331981080264E-2,4.2346188595014968E-2,3.7665857676841046E-2,3.9734982019167746E-2,3.6007723786072386E-2,3.8105192297472057E-2,4.0603022197027404E-2,4.4805045262094986E-2,3.699622668249216E-2,4.1265567149108041E-2,3.5511700827295434E-2,3.8898829031515175E-2,3.2528477032365499E-2,3.492710234016546E-2,2.9867668160640577E-2,3.2539106095767864E-2,2.6335276089921877E-2,2.8652411911637053E-2,2.2721394533118389E-2,2.5144820988857199E-2,1.9096883912912539E-2,2.0666442275328174E-2,1.5525518609718507E-2,1.7243883859767224E-2,1.2223422912717675E-2,1.3353646654502295E-2,8.8185796028273315E-3,1.0175556697195699E-2,1.1528990770429945E-2,1.4643306347322362E-2]
[null,null,null,null,null,null,null,null,null,null,null,null,null,null,null,null,null,null,null,null,null,null,null,null,null,null,null,null,null,null,null,null,null,null,null,null,null,null,null,null,null,null,null,null,"PROVINCIA HUAURA",null,null,null,null,null,null,null,null,null,null,null,null,null,null,null,null,null,null,null,null,null,null,null,null,null,null,null,null,null,null,null,null,null,null,null,null,null,null,null,null,null,null,null,null,null,null,"PROVINCIA HUAURA",null,{"$f":"+BE105/$BD$105","v":3.3464842434948384E-2},{"$f":"BF14/$BD$14","v":3.2670492156736661E-2},4.1654215541274062E-2,4.2630131597362758E-2,4.1181387994719459E-2,4.1593693615315071E-2,3.7088592751742845E-2,3.9089598928761911E-2,3.595758926038424E-2,3.8068291428203976E-2,4.0806908577848217E-2,4.5085052219074238E-2,3.7262593288874934E-2,4.1449954041162473E-2,3.5677675352823915E-2,3.9055555345409977E-2,3.2821796971634128E-2,3.5409109306380901E-2,2.9965918590444344E-2,3.2852057934613627E-2,2.6383777097746693E-2,2.8747914830519694E-2,2.2809200845793916E-2,2.5248990986015653E-2,1.9060624056709045E-2,2.0709846539091491E-2,1.5539004489970382E-2,1.7309270824270806E-2,1.2214081182598433E-2,1.3390476118426279E-2,8.8362011900123688E-3,1.0107161635151135E-2,1.1499165932207877E-2,1.4358826933770099E-2,null,"PROVINCIA HUAURA",null,{"$f":"+BE105/$BD$105","v":3.3464842434948384E-2},{"$f":"+BF105/$BD$105","v":3.2670492156736661E-2},4.1654215541274062E-2,4.2630131597362758E-2,4.1181387994719459E-2,4.1593693615315071E-2,3.7088592751742845E-2,3.9089598928761911E-2,3.595758926038424E-2,3.8068291428203976E-2,4.0806908577848217E-2,4.5085052219074238E-2,3.7262593288874934E-2,4.1449954041162473E-2,3.5677675352823915E-2,3.9055555345409977E-2,3.2821796971634128E-2,3.5409109306380901E-2,2.9965918590444344E-2,3.2852057934613627E-2,2.6383777097746693E-2,2.8747914830519694E-2,2.2809200845793916E-2,2.5248990986015653E-2,1.9060624056709045E-2,2.0709846539091491E-2,1.5539004489970382E-2,1.7309270824270806E-2,1.2214081182598433E-2,1.3390476118426279E-2,8.8362011900123688E-3,1.0107161635151135E-2,1.1499165932207877E-2,1.4358826933770099E-2]
[null,null,null,null,null,null,null,null,null,null,null,null,null,null,null,null,null,null,null,null,null,null,null,null,null,null,null,null,null,null,null,null,null,null,null,null,null,null,null,null,null,null,null,null,"DISTRITO HUACHO",0.97,0.03,null,null,null,null,null,null,null,null,null,null,null,null,null,null,null,null,null,null,null,null,null,null,null,null,null,null,null,null,null,null,null,null,null,null,null,null,null,null,null,null,null,null,null,null,"DISTRITO HUACHO",null,{"$f":"+BE106/$BD$106","v":2.54631171010401E-2},{"$f":"BF15/$BD$15","v":2.4610795189708212E-2},3.8847234614923627E-2,3.9260078040725004E-2,3.8261263300882954E-2,3.8101452942508225E-2,3.5850790395397458E-2,3.5930695574584823E-2,3.433259199083754E-2,3.4638895177722437E-2,3.7582069277790356E-2,4.2363062499167652E-2,3.5238184021627671E-2,3.9526428638016219E-2,3.5544487208512568E-2,3.7635339397248599E-2,3.3933066094900717E-2,3.6476714299031814E-2,3.1815578846435565E-2,3.4812023065961727E-2,2.9471693590272876E-2,3.2055294383997658E-2,2.5902595586570602E-2,2.9045532634606932E-2,2.2200322284222723E-2,2.5050273675238717E-2,1.8804352168759739E-2,2.1228142604109788E-2,1.4303027074538215E-2,1.7152978465554209E-2,1.0014782458149662E-2,1.2145587236479377E-2,1.4036676477247E-2,1.8364873683229234E-2,null,"DISTRITO HUACHO",null,{"$f":"+BE106/$BD$106","v":2.54631171010401E-2},{"$f":"+BF106/$BD$106","v":2.4610795189708212E-2},3.8847234614923627E-2,3.9260078040725004E-2,3.8261263300882954E-2,3.8101452942508225E-2,3.5850790395397458E-2,3.5930695574584823E-2,3.433259199083754E-2,3.4638895177722437E-2,3.7582069277790356E-2,4.2363062499167652E-2,3.5238184021627671E-2,3.9526428638016219E-2,3.5544487208512568E-2,3.7635339397248599E-2,3.3933066094900717E-2,3.6476714299031814E-2,3.1815578846435565E-2,3.4812023065961727E-2,2.9471693590272876E-2,3.2055294383997658E-2,2.5902595586570602E-2,2.9045532634606932E-2,2.2200322284222723E-2,2.5050273675238717E-2,1.8804352168759739E-2,2.1228142604109788E-2,1.4303027074538215E-2,{"$f":"+CH106/$BD$106","v":1.7152978465554209E-2},1.0014782458149662E-2,1.2145587236479377E-2,1.4036676477247E-2,1.8364873683229234E-2]
[null,null,null,null,null,null,null,null,null,null,null,null,null,null,null,null,null,null,null,null,null,null,null,null,null,null,null,null,null,null,null,null,null,null,null,null,null,null,null,null,null,null,null,null,"DISTRITO AMBAR",0.16,0.84,null,null,null,null,null,null,null,null,null,null,null,null,null,null,null,null,null,null,null,null,null,null,null,null,null,null,null,null,null,null,null,null,null,null,null,null,null,null,null,null,null,null,null,null,"DISTRITO AMBAR",null,{"$f":"+BE107/$BD$107","v":4.0774299835255351E-2},4.2833607907743002E-2,3.9126853377265236E-2,3.2125205930807248E-2,3.6655683690280064E-2,3.8714991762767707E-2,3.4184514003294891E-2,3.7479406919275121E-2,3.9538714991762765E-2,3.9950576606260293E-2,3.6243822075782535E-2,4.4481054365733116E-2,2.7182866556836903E-2,3.7067545304777592E-2,3.3360790774299834E-2,4.4892915980230645E-2,2.8830313014827018E-2,2.7182866556836903E-2,3.0477759472817133E-2,3.0477759472817133E-2,2.4299835255354202E-2,2.8418451400329489E-2,2.6359143327841845E-2,2.1004942339373972E-2,1.9357495881383854E-2,2.2240527182866558E-2,2.2240527182866558E-2,2.2240527182866558E-2,1.6886326194398681E-2,1.2767710049423394E-2,1.729818780889621E-2,7.4135090609555188E-3,1.400329489291598E-2,2.3887973640856673E-2,null,"DISTRITO AMBAR",null,{"$f":"+BE107/$BD$107","v":4.0774299835255351E-2},{"$f":"+BF107/$BD$107","v":4.2833607907743002E-2},3.9126853377265236E-2,3.2125205930807248E-2,3.6655683690280064E-2,3.8714991762767707E-2,3.4184514003294891E-2,3.7479406919275121E-2,3.9538714991762765E-2,3.9950576606260293E-2,3.6243822075782535E-2,4.4481054365733116E-2,2.7182866556836903E-2,3.7067545304777592E-2,3.3360790774299834E-2,4.4892915980230645E-2,2.8830313014827018E-2,2.7182866556836903E-2,3.0477759472817133E-2,3.0477759472817133E-2,2.4299835255354202E-2,2.8418451400329489E-2,2.6359143327841845E-2,2.1004942339373972E-2,1.9357495881383854E-2,2.2240527182866558E-2,2.2240527182866558E-2,2.2240527182866558E-2,1.6886326194398681E-2,1.2767710049423394E-2,1.729818780889621E-2,7.4135090609555188E-3,1.400329489291598E-2,2.3887973640856673E-2]
[null,null,null,null,null,null,null,null,null,null,null,null,null,null,null,null,null,null,null,null,null,null,null,null,null,null,null,null,null,null,null,null,null,null,null,null,null,null,null,null,null,null,null,null,"DISTRITO CARQUIN",0.98,0.02,null,null,null,null,null,null,null,null,null,null,null,null,null,null,null,null,null,null,null,null,null,null,null,null,null,null,null,null,null,null,null,null,null,null,null,null,null,null,null,null,null,null,null,null,"DISTRITO CARQUIN",null,{"$f":"+BE108/$BD$108","v":2.5024061597690085E-2},2.5344882900224575E-2,3.9033258475029406E-2,4.0530424553523688E-2,4.5449684525719174E-2,4.6091327130788153E-2,3.7856913699069621E-2,4.1813709763661638E-2,3.7215271094000642E-2,3.9461020211742061E-2,3.9354079777563895E-2,4.1172067158592666E-2,3.7536092396535131E-2,4.4487220618115712E-2,3.8926318040851247E-2,3.9674901080098385E-2,3.4755641107902899E-2,4.0958186290236336E-2,3.1654368516736177E-2,3.3258475029408617E-2,2.5344882900224575E-2,2.7590632017965994E-2,2.406159769008662E-2,2.6521227676184367E-2,1.9890920757138275E-2,1.8714575981178483E-2,1.3688375574804833E-2,1.7324350336862367E-2,1.3367554272270345E-2,1.3474494706448507E-2,8.1274729975403699E-3,9.6246390760346481E-3,1.0800983851994439E-2,1.1870388193776067E-2,null,"DISTRITO CARQUIN",null,{"$f":"+BE108/$BD$108","v":2.5024061597690085E-2},{"$f":"+BF108/$BD$108","v":2.5344882900224575E-2},3.9033258475029406E-2,4.0530424553523688E-2,4.5449684525719174E-2,4.6091327130788153E-2,3.7856913699069621E-2,4.1813709763661638E-2,3.7215271094000642E-2,3.9461020211742061E-2,3.9354079777563895E-2,4.1172067158592666E-2,3.7536092396535131E-2,4.4487220618115712E-2,3.8926318040851247E-2,3.9674901080098385E-2,3.4755641107902899E-2,4.0958186290236336E-2,3.1654368516736177E-2,3.3258475029408617E-2,2.5344882900224575E-2,2.7590632017965994E-2,2.406159769008662E-2,2.6521227676184367E-2,1.9890920757138275E-2,1.8714575981178483E-2,1.3688375574804833E-2,1.7324350336862367E-2,1.3367554272270345E-2,1.3474494706448507E-2,8.1274729975403699E-3,9.6246390760346481E-3,1.0800983851994439E-2,1.1870388193776067E-2]
[null,null,null,null,null,null,null,null,null,null,null,null,null,null,null,null,null,null,null,null,null,null,null,null,null,null,null,null,null,null,null,null,null,null,null,null,null,null,null,null,null,null,null,null,"DISTRITO CHECRAS",0.68,0.32,null,null,null,null,null,null,null,null,null,null,null,null,null,null,null,null,null,null,null,null,null,null,null,null,null,null,null,null,null,null,null,null,null,null,null,null,null,null,null,null,null,null,null,null,"DISTRITO CHECRAS",null,{"$f":"+BE109/$BD$109","v":1.7857142857142856E-2},2.1205357142857144E-2,2.5669642857142856E-2,2.2321428571428572E-2,3.3482142857142856E-2,3.5714285714285712E-2,5.1339285714285712E-2,4.1294642857142856E-2,2.1205357142857144E-2,3.4598214285714288E-2,3.4598214285714288E-2,3.0133928571428572E-2,1.8973214285714284E-2,2.4553571428571428E-2,2.1205357142857144E-2,2.6785714285714284E-2,2.6785714285714284E-2,1.6741071428571428E-2,2.5669642857142856E-2,1.6741071428571428E-2,2.7901785714285716E-2,3.5714285714285712E-2,3.5714285714285712E-2,3.2366071428571432E-2,2.6785714285714284E-2,2.6785714285714284E-2,3.0133928571428572E-2,3.3482142857142856E-2,2.6785714285714284E-2,3.2366071428571432E-2,1.3392857142857142E-2,2.4553571428571428E-2,4.1294642857142856E-2,6.5848214285714288E-2,null,"DISTRITO CHECRAS",null,{"$f":"+BE109/$BD$109","v":1.7857142857142856E-2},{"$f":"+BF109/$BD$109","v":2.1205357142857144E-2},2.5669642857142856E-2,2.2321428571428572E-2,3.3482142857142856E-2,3.5714285714285712E-2,5.1339285714285712E-2,4.1294642857142856E-2,2.1205357142857144E-2,3.4598214285714288E-2,3.4598214285714288E-2,3.0133928571428572E-2,1.8973214285714284E-2,2.4553571428571428E-2,2.1205357142857144E-2,2.6785714285714284E-2,2.6785714285714284E-2,1.6741071428571428E-2,2.5669642857142856E-2,1.6741071428571428E-2,2.7901785714285716E-2,3.5714285714285712E-2,3.5714285714285712E-2,3.2366071428571432E-2,2.6785714285714284E-2,2.6785714285714284E-2,3.0133928571428572E-2,3.3482142857142856E-2,2.6785714285714284E-2,3.2366071428571432E-2,1.3392857142857142E-2,2.4553571428571428E-2,4.1294642857142856E-2,6.5848214285714288E-2]
[null,null,null,null,null,null,null,null,null,null,null,null,null,null,null,null,null,null,null,null,null,null,null,null,null,null,null,null,null,null,null,null,null,null,null,null,null,null,null,null,null,null,null,null,"DISTRITO HUALMAY",1,0,null,null,null,null,null,null,null,null,null,null,null,null,null,null,null,null,null,null,null,null,null,null,null,null,null,null,null,null,null,null,null,null,null,null,null,null,null,null,null,null,null,null,null,null,"DISTRITO HUALMAY",null,{"$f":"+BE110/$BD$110","v":3.1397988971780734E-2},3.0424910801167694E-2,4.1972105092442424E-2,4.3788517677586763E-2,4.0642231592604605E-2,4.1550437885176775E-2,3.5906584495621147E-2,3.8306843983133311E-2,3.7171586117418103E-2,3.8923126824521571E-2,4.1355822251054171E-2,4.5864417774894584E-2,3.8501459617255922E-2,3.9961076873175481E-2,3.6198507946805063E-2,4.1388258190074606E-2,3.3117093739863768E-2,3.6230943885825498E-2,3.2533246837495942E-2,3.4511839117742457E-2,2.8381446642880313E-2,2.7570548167369445E-2,2.2899772948426857E-2,2.4910801167693803E-2,1.7969510217320791E-2,1.9331819656179045E-2,1.453130068115472E-2,1.7580278949075576E-2,1.1125527084009082E-2,1.2650016217969511E-2,8.433344145313007E-3,1.1028219266947779E-2,9.5361660720077839E-3,1.4304249108011678E-2,null,"DISTRITO HUALMAY",null,{"$f":"+BE110/$BD$110","v":3.1397988971780734E-2},{"$f":"+BF110/$BD$110","v":3.0424910801167694E-2},4.1972105092442424E-2,4.3788517677586763E-2,4.0642231592604605E-2,4.1550437885176775E-2,3.5906584495621147E-2,3.8306843983133311E-2,3.7171586117418103E-2,3.8923126824521571E-2,4.1355822251054171E-2,4.5864417774894584E-2,3.8501459617255922E-2,3.9961076873175481E-2,3.6198507946805063E-2,4.1388258190074606E-2,3.3117093739863768E-2,3.6230943885825498E-2,3.2533246837495942E-2,3.4511839117742457E-2,2.8381446642880313E-2,2.7570548167369445E-2,2.2899772948426857E-2,2.4910801167693803E-2,1.7969510217320791E-2,1.9331819656179045E-2,1.453130068115472E-2,1.7580278949075576E-2,1.1125527084009082E-2,1.2650016217969511E-2,8.433344145313007E-3,1.1028219266947779E-2,9.5361660720077839E-3,1.4304249108011678E-2]
[null,null,null,null,null,null,null,null,null,null,null,null,null,null,null,null,null,null,null,null,null,null,null,null,null,null,null,null,null,null,null,null,null,null,null,null,null,null,null,null,null,null,null,null,"DISTRITO HUAURA                   ",0.86,0.14000000000000001,null,null,null,null,null,null,null,null,null,null,null,null,null,null,null,null,null,null,null,null,null,null,null,null,null,null,null,null,null,null,null,null,null,null,null,null,null,null,null,null,null,null,null,null,"DISTRITO HUAURA                   ",null,{"$f":"+BE111/$BD$111","v":3.4586428802146747E-2},3.3219867319303299E-2,4.3655427733744132E-2,4.2785797699207394E-2,4.2338559395731362E-2,4.4997142644172233E-2,3.6574154595373568E-2,4.139438964394862E-2,3.5952990284990188E-2,3.890973240241509E-2,4.450021119586553E-2,4.7258180733967751E-2,4.1642855368101972E-2,4.2661564837130718E-2,3.5456058836683478E-2,3.9406663850721793E-2,3.4238576788332052E-2,3.550575198151415E-2,2.8573558277635601E-2,3.329440703654931E-2,2.4796879270504633E-2,2.9915273188063706E-2,2.1715904291003056E-2,2.4846572415335305E-2,1.8386463587348124E-2,1.9181553904638854E-2,1.3342609387035059E-2,1.465947772504783E-2,1.0137401545456804E-2,1.0982185007578204E-2,7.2055060004472381E-3,7.5533580142619324E-3,9.2677715109200694E-3,1.105672472482421E-2,null,"DISTRITO HUAURA                   ",null,{"$f":"+BE111/$BD$111","v":3.4586428802146747E-2},{"$f":"+BF111/$BD$111","v":3.3219867319303299E-2},4.3655427733744132E-2,4.2785797699207394E-2,4.2338559395731362E-2,4.4997142644172233E-2,3.6574154595373568E-2,4.139438964394862E-2,3.5952990284990188E-2,3.890973240241509E-2,4.450021119586553E-2,4.7258180733967751E-2,4.1642855368101972E-2,4.2661564837130718E-2,3.5456058836683478E-2,3.9406663850721793E-2,3.4238576788332052E-2,3.550575198151415E-2,2.8573558277635601E-2,3.329440703654931E-2,2.4796879270504633E-2,2.9915273188063706E-2,2.1715904291003056E-2,2.4846572415335305E-2,1.8386463587348124E-2,1.9181553904638854E-2,1.3342609387035059E-2,1.465947772504783E-2,1.0137401545456804E-2,1.0982185007578204E-2,7.2055060004472381E-3,7.5533580142619324E-3,9.2677715109200694E-3,1.105672472482421E-2]
[null,null,null,null,null,null,null,null,null,null,null,null,null,null,null,null,null,null,null,null,null,null,null,null,null,null,null,null,null,null,null,null,null,null,null,null,null,null,null,null,null,null,null,null,"DISTRITO LEONCIO PRADO",0.16,0.84,null,null,null,null,null,null,null,null,null,null,null,null,null,null,null,null,null,null,null,null,null,null,null,null,null,null,null,null,null,null,null,null,null,null,null,null,null,null,null,null,null,null,null,null,"DISTRITO LEONCIO PRADO",null,{"$f":"+BE112/$BD$112","v":4.4315129811996416E-2},3.4914950760966873E-2,2.864816472694718E-2,3.4467323187108323E-2,3.267681289167413E-2,4.2076991942703673E-2,4.2076991942703673E-2,4.1629364368845123E-2,4.4315129811996416E-2,4.8343777976723366E-2,2.909579230080573E-2,3.8943598925693823E-2,4.0734109221128023E-2,3.6257833482542523E-2,3.4467323187108323E-2,3.6257833482542523E-2,3.178155774395703E-2,2.954341987466428E-2,3.178155774395703E-2,3.133393017009848E-2,2.4171888988361683E-2,2.730528200537153E-2,2.2381378692927483E-2,1.9247985675917637E-2,2.0590868397493287E-2,2.2829006266786033E-2,2.2829006266786033E-2,2.4619516562220233E-2,1.2085944494180842E-2,1.1638316920322292E-2,8.9525514771709933E-3,1.2533572068039392E-2,1.521933751119069E-2,2.1933751119068933E-2,null,"DISTRITO LEONCIO PRADO",null,{"$f":"+BE112/$BD$112","v":4.4315129811996416E-2},{"$f":"+BF112/$BD$112","v":3.4914950760966873E-2},2.864816472694718E-2,3.4467323187108323E-2,3.267681289167413E-2,4.2076991942703673E-2,4.2076991942703673E-2,4.1629364368845123E-2,4.4315129811996416E-2,4.8343777976723366E-2,2.909579230080573E-2,3.8943598925693823E-2,4.0734109221128023E-2,3.6257833482542523E-2,3.4467323187108323E-2,3.6257833482542523E-2,3.178155774395703E-2,2.954341987466428E-2,3.178155774395703E-2,3.133393017009848E-2,2.4171888988361683E-2,2.730528200537153E-2,2.2381378692927483E-2,1.9247985675917637E-2,2.0590868397493287E-2,2.2829006266786033E-2,2.2829006266786033E-2,2.4619516562220233E-2,1.2085944494180842E-2,1.1638316920322292E-2,8.9525514771709933E-3,1.2533572068039392E-2,1.521933751119069E-2,2.1933751119068933E-2]
[null,null,null,null,null,null,null,null,null,null,null,null,null,null,null,null,null,null,null,null,null,null,null,null,null,null,null,null,null,null,null,null,null,null,null,null,null,null,null,null,null,null,null,null,"DISTRITO PACCHO",0.63,0.37,null,null,null,null,null,null,null,null,null,null,null,null,null,null,null,null,null,null,null,null,null,null,null,null,null,null,null,null,null,null,null,null,null,null,null,null,null,null,null,null,null,null,null,null,"DISTRITO PACCHO",null,{"$f":"+BE113/$BD$113","v":1.9788918205804751E-2},1.8469656992084433E-2,2.8364116094986808E-2,3.0343007915567283E-2,3.2321899736147755E-2,3.1662269129287601E-2,3.430079155672823E-2,3.1002638522427441E-2,2.5725593667546173E-2,3.430079155672823E-2,2.6385224274406333E-2,2.9683377308707123E-2,2.5065963060686015E-2,2.6385224274406333E-2,3.0343007915567283E-2,2.2427440633245383E-2,2.4406332453825858E-2,2.6385224274406333E-2,3.2321899736147755E-2,3.2321899736147755E-2,3.2321899736147755E-2,4.221635883905013E-2,3.2321899736147755E-2,3.1002638522427441E-2,2.704485488126649E-2,2.704485488126649E-2,2.6385224274406333E-2,2.6385224274406333E-2,1.9788918205804751E-2,2.5725593667546173E-2,2.6385224274406333E-2,2.9683377308707123E-2,4.1556728232189977E-2,5.0131926121372031E-2,null,"DISTRITO PACCHO",null,{"$f":"+BE113/$BD$113","v":1.9788918205804751E-2},{"$f":"+BF113/$BD$113","v":1.8469656992084433E-2},2.8364116094986808E-2,3.0343007915567283E-2,3.2321899736147755E-2,3.1662269129287601E-2,3.430079155672823E-2,3.1002638522427441E-2,2.5725593667546173E-2,3.430079155672823E-2,2.6385224274406333E-2,2.9683377308707123E-2,2.5065963060686015E-2,2.6385224274406333E-2,3.0343007915567283E-2,2.2427440633245383E-2,2.4406332453825858E-2,2.6385224274406333E-2,3.2321899736147755E-2,3.2321899736147755E-2,3.2321899736147755E-2,4.221635883905013E-2,3.2321899736147755E-2,3.1002638522427441E-2,2.704485488126649E-2,2.704485488126649E-2,2.6385224274406333E-2,2.6385224274406333E-2,1.9788918205804751E-2,2.5725593667546173E-2,2.6385224274406333E-2,2.9683377308707123E-2,4.1556728232189977E-2,5.0131926121372031E-2]
[null,null,null,null,null,null,null,null,null,null,null,null,null,null,null,null,null,null,null,null,null,null,null,null,null,null,null,null,null,null,null,null,null,null,null,null,null,null,null,null,null,null,null,null,"DISTRITO SANTA LEONOR",0.63,0.37,null,null,null,null,null,null,null,null,null,null,null,null,null,null,null,null,null,null,null,null,null,null,null,null,null,null,null,null,null,null,null,null,null,null,null,null,null,null,null,null,null,null,null,null,"DISTRITO SANTA LEONOR",null,{"$f":"+BE114/$BD$114","v":3.614457831325301E-2},2.8112449799196786E-2,2.8112449799196786E-2,2.710843373493976E-2,3.2128514056224897E-2,4.0160642570281124E-2,3.8152610441767071E-2,3.313253012048193E-2,2.9116465863453816E-2,2.6104417670682729E-2,3.2128514056224897E-2,3.614457831325301E-2,2.9116465863453816E-2,4.0160642570281124E-2,3.313253012048193E-2,2.5100401606425703E-2,2.6104417670682729E-2,3.2128514056224897E-2,2.4096385542168676E-2,2.9116465863453816E-2,2.9116465863453816E-2,2.8112449799196786E-2,2.9116465863453816E-2,2.6104417670682729E-2,3.112449799196787E-2,3.2128514056224897E-2,2.8112449799196786E-2,2.5100401606425703E-2,2.2088353413654619E-2,1.5060240963855422E-2,1.8072289156626505E-2,2.8112449799196786E-2,2.6104417670682729E-2,3.614457831325301E-2,null,"DISTRITO SANTA LEONOR",null,{"$f":"+BE114/$BD$114","v":3.614457831325301E-2},{"$f":"+BF114/$BD$114","v":2.8112449799196786E-2},2.8112449799196786E-2,2.710843373493976E-2,3.2128514056224897E-2,4.0160642570281124E-2,3.8152610441767071E-2,3.313253012048193E-2,2.9116465863453816E-2,2.6104417670682729E-2,3.2128514056224897E-2,3.614457831325301E-2,2.9116465863453816E-2,4.0160642570281124E-2,3.313253012048193E-2,2.5100401606425703E-2,2.6104417670682729E-2,3.2128514056224897E-2,2.4096385542168676E-2,2.9116465863453816E-2,2.9116465863453816E-2,2.8112449799196786E-2,2.9116465863453816E-2,2.6104417670682729E-2,3.112449799196787E-2,3.2128514056224897E-2,2.8112449799196786E-2,2.5100401606425703E-2,2.2088353413654619E-2,1.5060240963855422E-2,1.8072289156626505E-2,2.8112449799196786E-2,2.6104417670682729E-2,3.614457831325301E-2]
[null,null,null,null,null,null,null,null,null,null,null,null,null,null,null,null,null,null,null,null,null,null,null,null,null,null,null,null,null,null,null,null,null,null,null,null,null,null,null,null,null,null,null,null,"DISTRITO SANTA MARIA",0.91,0.09,null,null,null,null,null,null,null,null,null,null,null,null,null,null,null,null,null,null,null,null,null,null,null,null,null,null,null,null,null,null,null,null,null,null,null,null,null,null,null,null,null,null,null,null,"DISTRITO SANTA MARIA",null,{"$f":"+BE115/$BD$115","v":3.867479264995647E-2},3.8445676579755304E-2,4.2386472987215325E-2,4.5387893506850567E-2,4.1744947990652065E-2,4.1401273885350316E-2,3.6933510516427626E-2,3.8858085506117399E-2,3.9522522109700774E-2,3.915593639737891E-2,4.2317738166154972E-2,4.6579297071896626E-2,3.6521101590065524E-2,4.1882417632772763E-2,3.477981945653668E-2,3.9133024790358795E-2,3.1572194473720387E-2,3.3932089996792376E-2,2.8295834669843742E-2,3.1870045364981898E-2,2.5271502543188381E-2,2.6966961462676992E-2,2.0712092746185216E-2,2.2590844521834762E-2,1.7114970444026944E-2,1.9749805251340329E-2,1.4251019566512394E-2,1.5809008843880309E-2,1.2028593685561105E-2,1.3724052605049717E-2,8.8209687027448105E-3,1.003528387481098E-2,1.1501626724098428E-2,1.2028593685561105E-2,null,"DISTRITO SANTA MARIA",null,{"$f":"+BE115/$BD$115","v":3.867479264995647E-2},{"$f":"+BF115/$BD$115","v":3.8445676579755304E-2},4.2386472987215325E-2,4.5387893506850567E-2,4.1744947990652065E-2,4.1401273885350316E-2,3.6933510516427626E-2,3.8858085506117399E-2,3.9522522109700774E-2,3.915593639737891E-2,4.2317738166154972E-2,4.6579297071896626E-2,3.6521101590065524E-2,4.1882417632772763E-2,3.477981945653668E-2,3.9133024790358795E-2,3.1572194473720387E-2,3.3932089996792376E-2,2.8295834669843742E-2,3.1870045364981898E-2,2.5271502543188381E-2,2.6966961462676992E-2,2.0712092746185216E-2,2.2590844521834762E-2,1.7114970444026944E-2,1.9749805251340329E-2,1.4251019566512394E-2,1.5809008843880309E-2,1.2028593685561105E-2,1.3724052605049717E-2,8.8209687027448105E-3,1.003528387481098E-2,1.1501626724098428E-2,1.2028593685561105E-2]
[null,null,null,null,null,null,null,null,null,null,null,null,null,null,null,null,null,null,null,null,null,null,null,null,null,null,null,null,null,null,null,null,null,null,null,null,null,null,null,null,null,null,null,null,"DISTRITO SAYAN",0.63,0.37,null,null,null,null,null,null,null,null,null,null,null,null,null,null,null,null,null,null,null,null,null,null,null,null,null,null,null,null,null,null,null,null,null,null,null,null,null,null,null,null,null,null,null,null,"DISTRITO SAYAN",null,{"$f":"+BE116/$BD$116","v":3.6715445937347956E-2},3.5929488379056101E-2,4.307795950447247E-2,4.6483775590403835E-2,4.3377371907631274E-2,4.3227665706051875E-2,3.944758411617201E-2,4.4575021520266475E-2,3.5966914929450949E-2,4.2441708147760021E-2,4.2030016093416667E-2,4.633406938882443E-2,3.6266327332609753E-2,4.270369400052397E-2,3.6490886634978854E-2,3.896103896103896E-2,3.2299112990755642E-2,3.5929488379056101E-2,3.0240652719038887E-2,3.098918372693589E-2,2.417755155507317E-2,2.6086305625210523E-2,2.1071147872300609E-2,2.3316740895991617E-2,1.8339009693476554E-2,1.6991653879261947E-2,1.392267674688424E-2,1.4783487405965792E-2,1.1564804072008683E-2,9.8431827538455786E-3,8.0467083348927729E-3,8.2338410868670227E-3,9.8431827538455786E-3,1.0292301358583779E-2,null,"DISTRITO SAYAN",null,{"$f":"+BE116/$BD$116","v":3.6715445937347956E-2},{"$f":"+BF116/$BD$116","v":3.5929488379056101E-2},4.307795950447247E-2,4.6483775590403835E-2,4.3377371907631274E-2,4.3227665706051875E-2,3.944758411617201E-2,4.4575021520266475E-2,3.5966914929450949E-2,4.2441708147760021E-2,4.2030016093416667E-2,4.633406938882443E-2,3.6266327332609753E-2,4.270369400052397E-2,3.6490886634978854E-2,3.896103896103896E-2,3.2299112990755642E-2,3.5929488379056101E-2,3.0240652719038887E-2,3.098918372693589E-2,2.417755155507317E-2,2.6086305625210523E-2,2.1071147872300609E-2,2.3316740895991617E-2,1.8339009693476554E-2,1.6991653879261947E-2,1.392267674688424E-2,1.4783487405965792E-2,1.1564804072008683E-2,9.8431827538455786E-3,8.0467083348927729E-3,8.2338410868670227E-3,9.8431827538455786E-3,1.0292301358583779E-2]
[null,null,null,null,null,null,null,null,null,null,null,null,null,null,null,null,null,null,null,null,null,null,null,null,null,null,null,null,null,null,null,null,null,null,null,null,null,null,null,null,null,null,null,null,"DISTRITO VEGUETA",0.75,0.25,null,null,null,null,null,null,null,null,null,null,null,null,null,null,null,null,null,null,null,null,null,null,null,null,null,null,null,null,null,null,null,null,null,null,null,null,null,null,null,null,null,null,null,null,"DISTRITO VEGUETA",null,{"$f":"+BE117/$BD$117","v":4.5766891336511586E-2},4.5438106197599866E-2,4.6851882294920266E-2,4.6029919447640968E-2,4.5306592142035182E-2,4.4122965641952984E-2,3.9487095183297717E-2,3.9783001808318265E-2,3.3503205655104389E-2,3.8500739766562549E-2,4.2939339141870786E-2,4.810126582278481E-2,3.9026795988821306E-2,4.5470984711491039E-2,3.6396514877527535E-2,4.0900871280618117E-2,3.0774289002137103E-2,3.39635048495808E-2,2.6302811112937696E-2,2.9590662502054908E-2,2.2587539043235245E-2,2.4757520960052605E-2,1.9365444681900379E-2,2.2127239848758837E-2,1.5321387473286208E-2,1.752424790399474E-2,1.2789741903665955E-2,1.3118527042577675E-2,9.8964326812428071E-3,9.6005260562222593E-3,7.4305441394048989E-3,7.4634226532960708E-3,8.5155350978135796E-3,1.1244451750780865E-2,null,"DISTRITO VEGUETA",null,{"$f":"+BE117/$BD$117","v":4.5766891336511586E-2},{"$f":"+BF117/$BD$117","v":4.5438106197599866E-2},4.6851882294920266E-2,4.6029919447640968E-2,4.5306592142035182E-2,4.4122965641952984E-2,3.9487095183297717E-2,3.9783001808318265E-2,3.3503205655104389E-2,3.8500739766562549E-2,4.2939339141870786E-2,4.810126582278481E-2,3.9026795988821306E-2,4.5470984711491039E-2,3.6396514877527535E-2,4.0900871280618117E-2,3.0774289002137103E-2,3.39635048495808E-2,2.6302811112937696E-2,2.9590662502054908E-2,2.2587539043235245E-2,2.4757520960052605E-2,1.9365444681900379E-2,2.2127239848758837E-2,1.5321387473286208E-2,1.752424790399474E-2,1.2789741903665955E-2,1.3118527042577675E-2,9.8964326812428071E-3,9.6005260562222593E-3,7.4305441394048989E-3,7.4634226532960708E-3,8.5155350978135796E-3,1.1244451750780865E-2]
[null,null,null,null,null,null,null,null,null,null,null,null,null,null,null,null,null,null,null,null,null,null,null,null,null,null,null,null,null,null,null,null,null,null,null,null,null,null,null,null,null,null,null,null,"PROVINCIA OYON",null,null,null,null,null,null,null,null,null,null,null,null,null,null,null,null,null,null,null,null,null,null,null,null,null,null,null,null,null,null,null,null,null,null,null,null,null,null,null,null,null,null,null,null,null,null,"PROVINCIA OYON",null,{"$f":"+BE118/$BD$118","v":3.2383648911697045E-2},3.2796555181973691E-2,4.1349613637704244E-2,4.4770837019996464E-2,5.0964431074146166E-2,5.4267681236359347E-2,4.7012328201498262E-2,4.9843685483395267E-2,3.6925617884740164E-2,3.8754202795965316E-2,3.769244381525394E-2,4.1054680587506637E-2,3.2324662301657522E-2,3.8636229575886277E-2,3.2737568571934168E-2,3.6748658054621602E-2,2.8431546039049137E-2,2.7369787058337758E-2,2.8195599598891053E-2,2.7723706718574884E-2,2.5600188757152125E-2,2.7192827228219193E-2,2.1058219784109006E-2,2.3004777915413201E-2,1.9288621482923377E-2,1.9465581313041939E-2,1.5041585560077862E-2,1.6103344540789242E-2,1.203326844806229E-2,1.2623134548457499E-2,8.2581254055329439E-3,1.1089482687429953E-2,1.1266442517548516E-2,1.7990916062053913E-2,null,"PROVINCIA OYON",null,{"$f":"+BE118/$BD$118","v":3.2383648911697045E-2},{"$f":"+BF118/$BD$118","v":3.2796555181973691E-2},4.1349613637704244E-2,4.4770837019996464E-2,5.0964431074146166E-2,5.4267681236359347E-2,4.7012328201498262E-2,4.9843685483395267E-2,3.6925617884740164E-2,3.8754202795965316E-2,3.769244381525394E-2,4.1054680587506637E-2,3.2324662301657522E-2,3.8636229575886277E-2,3.2737568571934168E-2,3.6748658054621602E-2,2.8431546039049137E-2,2.7369787058337758E-2,2.8195599598891053E-2,2.7723706718574884E-2,2.5600188757152125E-2,2.7192827228219193E-2,2.1058219784109006E-2,2.3004777915413201E-2,1.9288621482923377E-2,1.9465581313041939E-2,1.5041585560077862E-2,1.6103344540789242E-2,1.203326844806229E-2,1.2623134548457499E-2,8.2581254055329439E-3,1.1089482687429953E-2,1.1266442517548516E-2,1.7990916062053913E-2]
[null,null,null,null,null,null,null,null,null,null,null,null,null,null,null,null,null,null,null,null,null,null,null,null,null,null,null,null,null,null,null,null,null,null,null,null,null,null,null,null,null,null,null,null,"DISTRITO OYON",0.71,0.28999999999999998,null,null,null,null,null,null,null,null,null,null,null,null,null,null,null,null,null,null,null,null,null,null,null,null,null,null,null,null,null,null,null,null,null,null,null,null,null,null,null,null,null,null,null,null,"DISTRITO OYON",null,{"$f":"+BE119/$BD$119","v":2.5874542514256534E-2},2.4938292620648565E-2,4.5791131160098732E-2,5.05574942548302E-2,5.7707038896927396E-2,5.8983743297301897E-2,4.9791471614605495E-2,5.2259766788662863E-2,3.8216018384543367E-2,4.1365222572133799E-2,4.0769427185292369E-2,4.2556813345816666E-2,3.4130564303344962E-2,4.2812154225891567E-2,3.4471018810111498E-2,3.8641586518001529E-2,2.85981785683888E-2,2.7832155928164098E-2,2.7236360541322665E-2,2.7747042301472465E-2,2.5534088007489998E-2,2.75768150480892E-2,1.9065452378925866E-2,2.0512384032683632E-2,1.63418163247936E-2,1.7022725338326668E-2,1.3277725763894799E-2,1.40437484041195E-2,9.9582943229210991E-3,1.0383862456379267E-2,6.0430674951059667E-3,8.6815899225465998E-3,6.8942037620223001E-3,1.4384202910886034E-2,null,"DISTRITO OYON",null,{"$f":"+BE119/$BD$119","v":2.5874542514256534E-2},{"$f":"+BF119/$BD$119","v":2.4938292620648565E-2},4.5791131160098732E-2,5.05574942548302E-2,5.7707038896927396E-2,5.8983743297301897E-2,4.9791471614605495E-2,5.2259766788662863E-2,3.8216018384543367E-2,4.1365222572133799E-2,4.0769427185292369E-2,4.2556813345816666E-2,3.4130564303344962E-2,4.2812154225891567E-2,3.4471018810111498E-2,3.8641586518001529E-2,2.85981785683888E-2,2.7832155928164098E-2,2.7236360541322665E-2,2.7747042301472465E-2,2.5534088007489998E-2,2.75768150480892E-2,1.9065452378925866E-2,2.0512384032683632E-2,1.63418163247936E-2,1.7022725338326668E-2,1.3277725763894799E-2,1.40437484041195E-2,9.9582943229210991E-3,1.0383862456379267E-2,6.0430674951059667E-3,8.6815899225465998E-3,6.8942037620223001E-3,1.4384202910886034E-2]
[null,null,null,null,null,null,null,null,null,null,null,null,null,null,null,null,null,null,null,null,null,null,null,null,null,null,null,null,null,null,null,null,null,null,null,null,null,null,null,null,null,null,null,null,"DISTRITO ANDAJES",0.6,0.4,null,null,null,null,null,null,null,null,null,null,null,null,null,null,null,null,null,null,null,null,null,null,null,null,null,null,null,null,null,null,null,null,null,null,null,null,null,null,null,null,null,null,null,null,"DISTRITO ANDAJES",null,{"$f":"+BE120/$BD$120","v":3.4965034965034968E-2},5.3613053613053616E-2,2.097902097902098E-2,1.1655011655011656E-2,3.0303030303030304E-2,3.9627039627039624E-2,2.3310023310023312E-2,3.0303030303030304E-2,2.097902097902098E-2,1.3986013986013986E-2,1.6317016317016316E-2,1.3986013986013986E-2,1.3986013986013986E-2,9.324009324009324E-3,2.097902097902098E-2,2.3310023310023312E-2,2.564102564102564E-2,1.3986013986013986E-2,1.3986013986013986E-2,1.8648018648018648E-2,3.9627039627039624E-2,1.6317016317016316E-2,2.7972027972027972E-2,3.7296037296037296E-2,6.0606060606060608E-2,4.195804195804196E-2,2.097902097902098E-2,3.7296037296037296E-2,2.564102564102564E-2,3.4965034965034968E-2,2.3310023310023312E-2,4.195804195804196E-2,6.2937062937062943E-2,7.9254079254079249E-2,null,"DISTRITO ANDAJES",null,{"$f":"+BE120/$BD$120","v":3.4965034965034968E-2},{"$f":"+BF120/$BD$120","v":5.3613053613053616E-2},2.097902097902098E-2,1.1655011655011656E-2,3.0303030303030304E-2,3.9627039627039624E-2,2.3310023310023312E-2,3.0303030303030304E-2,2.097902097902098E-2,1.3986013986013986E-2,1.6317016317016316E-2,1.3986013986013986E-2,1.3986013986013986E-2,9.324009324009324E-3,2.097902097902098E-2,2.3310023310023312E-2,2.564102564102564E-2,1.3986013986013986E-2,1.3986013986013986E-2,1.8648018648018648E-2,3.9627039627039624E-2,1.6317016317016316E-2,2.7972027972027972E-2,3.7296037296037296E-2,6.0606060606060608E-2,4.195804195804196E-2,2.097902097902098E-2,3.7296037296037296E-2,2.564102564102564E-2,3.4965034965034968E-2,2.3310023310023312E-2,4.195804195804196E-2,6.2937062937062943E-2,7.9254079254079249E-2]
[null,null,null,null,null,null,null,null,null,null,null,null,null,null,null,null,null,null,null,null,null,null,null,null,null,null,null,null,null,null,null,null,null,null,null,null,null,null,null,null,null,null,null,null,"DISTRITO CAUJUL",0.45,0.55000000000000004,null,null,null,null,null,null,null,null,null,null,null,null,null,null,null,null,null,null,null,null,null,null,null,null,null,null,null,null,null,null,null,null,null,null,null,null,null,null,null,null,null,null,null,null,"DISTRITO CAUJUL",null,{"$f":"+BE121/$BD$121","v":4.4345898004434593E-2},4.2128603104212861E-2,2.8824833702882482E-2,3.325942350332594E-2,2.6607538802660754E-2,3.5476718403547672E-2,3.325942350332594E-2,4.2128603104212861E-2,3.1042128603104215E-2,3.7694013303769404E-2,2.8824833702882482E-2,3.9911308203991129E-2,2.8824833702882482E-2,2.8824833702882482E-2,2.6607538802660754E-2,3.9911308203991129E-2,2.2172949002217297E-2,2.4390243902439025E-2,4.2128603104212861E-2,2.2172949002217297E-2,1.9955654101995565E-2,2.6607538802660754E-2,2.6607538802660754E-2,3.325942350332594E-2,2.8824833702882482E-2,2.6607538802660754E-2,3.325942350332594E-2,1.7738359201773836E-2,1.7738359201773836E-2,1.3303769401330377E-2,1.3303769401330377E-2,1.7738359201773836E-2,2.6607538802660754E-2,3.9911308203991129E-2,null,"DISTRITO CAUJUL",null,{"$f":"+BE121/$BD$121","v":4.4345898004434593E-2},{"$f":"+BF121/$BD$121","v":4.2128603104212861E-2},2.8824833702882482E-2,3.325942350332594E-2,2.6607538802660754E-2,3.5476718403547672E-2,3.325942350332594E-2,4.2128603104212861E-2,3.1042128603104215E-2,3.7694013303769404E-2,2.8824833702882482E-2,3.9911308203991129E-2,2.8824833702882482E-2,2.8824833702882482E-2,2.6607538802660754E-2,3.9911308203991129E-2,2.2172949002217297E-2,2.4390243902439025E-2,4.2128603104212861E-2,2.2172949002217297E-2,1.9955654101995565E-2,2.6607538802660754E-2,2.6607538802660754E-2,3.325942350332594E-2,2.8824833702882482E-2,2.6607538802660754E-2,3.325942350332594E-2,1.7738359201773836E-2,1.7738359201773836E-2,1.3303769401330377E-2,1.3303769401330377E-2,1.7738359201773836E-2,2.6607538802660754E-2,3.9911308203991129E-2]
[null,null,null,null,null,null,null,null,null,null,null,null,null,null,null,null,null,null,null,null,null,null,null,null,null,null,null,null,null,null,null,null,null,null,null,null,null,null,null,null,null,null,null,null,"DISTRITO COCHAMARCA",0.28000000000000003,0.72,null,null,null,null,null,null,null,null,null,null,null,null,null,null,null,null,null,null,null,null,null,null,null,null,null,null,null,null,null,null,null,null,null,null,null,null,null,null,null,null,null,null,null,null,"DISTRITO COCHAMARCA",null,{"$f":"+BE122/$BD$122","v":3.9341262580054895E-2},5.123513266239707E-2,2.6532479414455627E-2,3.2936870997255258E-2,3.9341262580054895E-2,5.7639524245196708E-2,6.5873741994510515E-2,6.0384263494967977E-2,5.0320219579139978E-2,4.9405306495882893E-2,4.0256175663311987E-2,4.1171088746569079E-2,3.4766697163769442E-2,2.92772186642269E-2,2.5617566331198535E-2,2.8362305580969808E-2,2.1043000914913082E-2,2.0128087831655993E-2,3.110704483074108E-2,3.2936870997255258E-2,2.3787740164684355E-2,2.4702653247941447E-2,2.7447392497712716E-2,1.8298261665141813E-2,1.555352241537054E-2,1.7383348581884721E-2,1.0064043915827997E-2,1.0978956999085087E-2,1.1893870082342177E-2,1.555352241537054E-2,5.4894784995425435E-3,9.1491308325709064E-3,1.463860933211345E-2,1.7383348581884721E-2,null,"DISTRITO COCHAMARCA",null,{"$f":"+BE122/$BD$122","v":3.9341262580054895E-2},{"$f":"+BF122/$BD$122","v":5.123513266239707E-2},2.6532479414455627E-2,3.2936870997255258E-2,3.9341262580054895E-2,5.7639524245196708E-2,6.5873741994510515E-2,6.0384263494967977E-2,5.0320219579139978E-2,4.9405306495882893E-2,4.0256175663311987E-2,4.1171088746569079E-2,3.4766697163769442E-2,2.92772186642269E-2,2.5617566331198535E-2,2.8362305580969808E-2,2.1043000914913082E-2,2.0128087831655993E-2,3.110704483074108E-2,3.2936870997255258E-2,2.3787740164684355E-2,2.4702653247941447E-2,2.7447392497712716E-2,1.8298261665141813E-2,1.555352241537054E-2,1.7383348581884721E-2,1.0064043915827997E-2,1.0978956999085087E-2,1.1893870082342177E-2,1.555352241537054E-2,5.4894784995425435E-3,9.1491308325709064E-3,1.463860933211345E-2,1.7383348581884721E-2]
[null,null,null,null,null,null,null,null,null,null,null,null,null,null,null,null,null,null,null,null,null,null,null,null,null,null,null,null,null,null,null,null,null,null,null,null,null,null,null,null,null,null,null,null,"DISTRITO NAVAN",0.34,0.66,null,null,null,null,null,null,null,null,null,null,null,null,null,null,null,null,null,null,null,null,null,null,null,null,null,null,null,null,null,null,null,null,null,null,null,null,null,null,null,null,null,null,null,null,"DISTRITO NAVAN",null,{"$f":"+BE123/$BD$123","v":2.9639175257731958E-2},2.9639175257731958E-2,2.7061855670103094E-2,1.9329896907216496E-2,3.608247422680412E-2,4.5103092783505154E-2,3.3505154639175257E-2,5.4123711340206188E-2,2.9639175257731958E-2,2.9639175257731958E-2,2.0618556701030927E-2,2.5773195876288658E-2,1.804123711340206E-2,3.608247422680412E-2,4.1237113402061855E-2,3.4793814432989692E-2,2.5773195876288658E-2,2.9639175257731958E-2,3.4793814432989692E-2,3.608247422680412E-2,4.5103092783505154E-2,2.9639175257731958E-2,2.9639175257731958E-2,3.3505154639175257E-2,3.2216494845360821E-2,2.7061855670103094E-2,2.4484536082474227E-2,2.3195876288659795E-2,1.804123711340206E-2,2.0618556701030927E-2,1.2886597938144329E-2,1.6752577319587628E-2,2.1907216494845359E-2,2.8350515463917526E-2,null,"DISTRITO NAVAN",null,{"$f":"+BE123/$BD$123","v":2.9639175257731958E-2},{"$f":"+BF123/$BD$123","v":2.9639175257731958E-2},2.7061855670103094E-2,1.9329896907216496E-2,3.608247422680412E-2,4.5103092783505154E-2,3.3505154639175257E-2,5.4123711340206188E-2,2.9639175257731958E-2,2.9639175257731958E-2,2.0618556701030927E-2,2.5773195876288658E-2,1.804123711340206E-2,3.608247422680412E-2,4.1237113402061855E-2,3.4793814432989692E-2,2.5773195876288658E-2,2.9639175257731958E-2,3.4793814432989692E-2,3.608247422680412E-2,4.5103092783505154E-2,2.9639175257731958E-2,2.9639175257731958E-2,3.3505154639175257E-2,3.2216494845360821E-2,2.7061855670103094E-2,2.4484536082474227E-2,2.3195876288659795E-2,1.804123711340206E-2,2.0618556701030927E-2,1.2886597938144329E-2,1.6752577319587628E-2,2.1907216494845359E-2,2.8350515463917526E-2]
[null,null,null,null,null,null,null,null,null,null,null,null,null,null,null,null,null,null,null,null,null,null,null,null,null,null,null,null,null,null,null,null,null,null,null,null,null,null,null,null,null,null,null,null,"DISTRITO PACHANGARA",0.71,0.28999999999999998,null,null,null,null,null,null,null,null,null,null,null,null,null,null,null,null,null,null,null,null,null,null,null,null,null,null,null,null,null,null,null,null,null,null,null,null,null,null,null,null,null,null,null,null,"DISTRITO PACHANGARA",null,{"$f":"+BE124/$BD$124","v":5.8655804480651733E-2},5.7841140529531571E-2,3.7067209775967412E-2,3.8289205702647655E-2,3.6659877800407331E-2,3.9103869653767824E-2,3.625254582484725E-2,3.7067209775967412E-2,3.095723014256619E-2,2.8920570264765785E-2,3.2586558044806514E-2,4.3584521384928715E-2,3.095723014256619E-2,3.0549898167006109E-2,2.810590631364562E-2,3.3808553971486764E-2,3.3401221995926683E-2,3.0549898167006109E-2,2.9327902240325866E-2,2.5254582484725049E-2,1.9144602851323828E-2,2.7698574338085539E-2,2.2810590631364563E-2,2.9327902240325866E-2,2.1995926680244398E-2,2.4439918533604887E-2,1.8329938900203666E-2,2.1995926680244398E-2,1.6700610997963342E-2,1.5478615071283095E-2,1.5071283095723014E-2,1.5071283095723014E-2,1.5478615071283095E-2,1.7515274949083504E-2,null,"DISTRITO PACHANGARA",null,{"$f":"+BE124/$BD$124","v":5.8655804480651733E-2},{"$f":"+BF124/$BD$124","v":5.7841140529531571E-2},3.7067209775967412E-2,3.8289205702647655E-2,3.6659877800407331E-2,3.9103869653767824E-2,3.625254582484725E-2,3.7067209775967412E-2,3.095723014256619E-2,2.8920570264765785E-2,3.2586558044806514E-2,4.3584521384928715E-2,3.095723014256619E-2,3.0549898167006109E-2,2.810590631364562E-2,3.3808553971486764E-2,3.3401221995926683E-2,3.0549898167006109E-2,2.9327902240325866E-2,2.5254582484725049E-2,1.9144602851323828E-2,2.7698574338085539E-2,2.2810590631364563E-2,2.9327902240325866E-2,2.1995926680244398E-2,2.4439918533604887E-2,1.8329938900203666E-2,2.1995926680244398E-2,1.6700610997963342E-2,1.5478615071283095E-2,1.5071283095723014E-2,1.5071283095723014E-2,1.5478615071283095E-2,1.7515274949083504E-2]
[null,null,null,null,null,null,null,null,null,null,null,null,null,null,null,null,null,null,null,null,null,null,null,null,null,null,null,null,null,null,null,null,null,null,null,null,null,null,null,null,null,null,null,null,"PROVINCIA HUARAL",null,null,null,null,null,null,null,null,null,null,null,null,null,null,null,null,null,null,null,null,null,null,null,null,null,null,null,null,null,null,null,null,null,null,null,null,null,null,null,null,null,null,null,null,null,null,"PROVINCIA HUARAL",null,{"$f":"+BE125/$BD$125","v":2.2702702702702703E-2},2.2702702702702703E-2,2.9189189189189189E-2,3.135135135135135E-2,3.2432432432432434E-2,3.8918918918918917E-2,3.135135135135135E-2,3.8918918918918917E-2,3.3513513513513511E-2,3.6756756756756756E-2,3.5675675675675679E-2,3.3513513513513511E-2,4.6486486486486484E-2,3.6756756756756756E-2,3.8918918918918917E-2,3.3513513513513511E-2,2.3783783783783784E-2,3.5675675675675679E-2,3.2432432432432434E-2,3.135135135135135E-2,2.5945945945945945E-2,2.8108108108108109E-2,2.8108108108108109E-2,3.4594594594594595E-2,2.5945945945945945E-2,3.027027027027027E-2,2.0540540540540539E-2,1.9459459459459458E-2,1.8378378378378378E-2,1.6216216216216217E-2,1.4054054054054054E-2,1.2972972972972972E-2,2.4864864864864864E-2,3.4594594594594595E-2,null,"PROVINCIA HUARAL",null,{"$f":"+BE125/$BD$125","v":2.2702702702702703E-2},{"$f":"+BF125/$BD$125","v":2.2702702702702703E-2},2.9189189189189189E-2,3.135135135135135E-2,3.2432432432432434E-2,3.8918918918918917E-2,3.135135135135135E-2,3.8918918918918917E-2,3.3513513513513511E-2,3.6756756756756756E-2,3.5675675675675679E-2,3.3513513513513511E-2,4.6486486486486484E-2,3.6756756756756756E-2,3.8918918918918917E-2,3.3513513513513511E-2,2.3783783783783784E-2,3.5675675675675679E-2,3.2432432432432434E-2,3.135135135135135E-2,2.5945945945945945E-2,2.8108108108108109E-2,2.8108108108108109E-2,3.4594594594594595E-2,2.5945945945945945E-2,3.027027027027027E-2,2.0540540540540539E-2,1.9459459459459458E-2,1.8378378378378378E-2,1.6216216216216217E-2,1.4054054054054054E-2,1.2972972972972972E-2,2.4864864864864864E-2,3.4594594594594595E-2]
[null,null,null,null,null,null,null,null,null,null,null,null,null,null,null,null,null,null,null,null,null,null,null,null,null,null,null,null,null,null,null,null,null,null,null,null,null,null,null,null,null,null,null,null,"IHUARI - ACOTAMA",0.24,0.76,null,null,null,null,null,null,null,null,null,null,null,null,null,null,null,null,null,null,null,null,null,null,null,null,null,null,null,null,null,null,null,null,null,null,null,null,null,null,null,null,null,null,null,null,"IHUARI - ACOTAMA",null,{"$f":"+BE126/$BD$126","v":2.2702702702702703E-2},2.2702702702702703E-2,2.9189189189189189E-2,3.135135135135135E-2,3.2432432432432434E-2,3.8918918918918917E-2,3.135135135135135E-2,3.8918918918918917E-2,3.3513513513513511E-2,3.6756756756756756E-2,3.5675675675675679E-2,3.3513513513513511E-2,4.6486486486486484E-2,3.6756756756756756E-2,3.8918918918918917E-2,3.3513513513513511E-2,2.3783783783783784E-2,3.5675675675675679E-2,3.2432432432432434E-2,3.135135135135135E-2,2.5945945945945945E-2,2.8108108108108109E-2,2.8108108108108109E-2,3.4594594594594595E-2,2.5945945945945945E-2,3.027027027027027E-2,2.0540540540540539E-2,1.9459459459459458E-2,1.8378378378378378E-2,1.6216216216216217E-2,1.4054054054054054E-2,1.2972972972972972E-2,2.4864864864864864E-2,3.4594594594594595E-2,null,"IHUARI - ACOTAMA",null,{"$f":"+BE126/$BD$126","v":2.2702702702702703E-2},{"$f":"+BF126/$BD$126","v":2.2702702702702703E-2},2.9189189189189189E-2,3.135135135135135E-2,3.2432432432432434E-2,3.8918918918918917E-2,3.135135135135135E-2,3.8918918918918917E-2,3.3513513513513511E-2,3.6756756756756756E-2,3.5675675675675679E-2,3.3513513513513511E-2,4.6486486486486484E-2,3.6756756756756756E-2,3.8918918918918917E-2,3.3513513513513511E-2,2.3783783783783784E-2,3.5675675675675679E-2,3.2432432432432434E-2,3.135135135135135E-2,2.5945945945945945E-2,2.8108108108108109E-2,2.8108108108108109E-2,3.4594594594594595E-2,2.5945945945945945E-2,3.027027027027027E-2,2.0540540540540539E-2,1.9459459459459458E-2,1.8378378378378378E-2,1.6216216216216217E-2,1.4054054054054054E-2,1.2972972972972972E-2,2.4864864864864864E-2,3.4594594594594595E-2]

{"sheet":"Demografia","index":5,"n_rows":26,"n_cols":14,"rows_kept":26,"cut":false,"hidden":false,"merged":[]}
[]
[null,null,null,null,null,null,"DATOS DEMOGRAFICOS - 2024"]
[null,null,null,null,null,null,"DENSIDAD POBLACIONAL POR DISTRITOS "]
[]
["VINCULOS","DISTRITOS","ALTITUD\n(m.s.n.m.)","LATITUD","LONGITUD","SUPERFICIE\n(Km2)","POBLACION",null,"DENSIDAD\nPOBLACIONAL"]
[null,"HUAURA",null,null,null,4892.5199999999995,{"$f":"+SUM(G7:G18)","v":264367},null,{"$f":"G6/F6","v":54.034934961941907},null,null,null,"XXX","DDD"]
[3,"HUACHO",30,"11º 06' 22''","77º 36' 24''",717.38,{"$f":"+LOOKUP($A$7,NUMERO,TOTAL)","v":75089},null,104.67116451531963,null,null,null,"PACHANGARA",{"$f":"VLOOKUP(M7,$B$7:$I$25,8,FALSE)","v":9.7401309264034914}]
[6,"AMBAR",2082,"10º 45' 10''","77º 16' 19''",919.4,{"$f":"+LOOKUP(A8,NUMERO,TOTAL)","v":2428},null,2.6408527300413316,null,null,null,"OYÓN",8.9886270247342335]
[9,"CARQUIN",14,"10º 05' 21''","77º 37' 36''",2.04,9351,null,4583.8235294117649,null,null,null,"CAUJUL",4.2748815165876781]
[11,"CHECRAS",3743,"10º 55' 54''","76º 49' 52''",166.37,896,null,5.385586343691771,null,null,null,"COCHAMARCA",4.1159856900771983]
[13,"HUALMAY",22,"11º 06' 45''","77º 35' 36''",5.81,30830,null,5306.3683304647166,null,null,null,"NAVAN",3.4160943828138759]
[17,"HUAURA",67,"11º 03' 57''","77º 35' 51''",484.43,40247,null,83.081146914930954,null,null,null,"ANDAJES",2.8951275475772706]
[23,"LEONCIO PRADO",3278,"11º 03' 19''","76º 55' 39''",300.13,2234,null,7.4434411754906211,null,"XXX","DDD"]
[28,"PACCHO",3275,"10º 57' 15''","76º 55' 48''",229.25,1516,null,6.6128680479825519,null,"HUALMAY",{"$f":"VLOOKUP(K14,$B$7:$I$25,8,FALSE)","v":5306.3683304647166}]
[33,"SANTA LEONOR",3580,"10º 56' 43''","76º 44' 33''",375.49,996,null,2.6525340222109777,null,"CARQUIN",4583.8235294117649]
[37,"SANTA MARIA",75,"11º 05' 36''","77º 35' 30''",127.51,43646,null,342.29472198258958,null,"SANTA MARIA",342.29472198258958]
[43,"SAYAN",685,"11º 07' 51''","77º 11' 28''",1310.77,26719,null,20.384201652463819,null,"VEGUETA",119.77238717807356]
[51,"VEGUETA",12,"11º 01' 15''","77º 38' 27''",253.94,30415,null,119.77238717807356,null,"HUACHO",104.67116451531963]
[null,"OYÓN",null,null,null,1886.05,{"$f":"+SUM(G20:G25)","v":16953},null,8.9886270247342335,null,"HUAURA",83.081146914930954]
[59,"OYÓN",3620,"10º 40' 00''","76º 46' 15''",887.61,{"$f":"+LOOKUP(A20,NUMERO,TOTAL)","v":11749},null,13.236669257894796,null,"SAYAN",20.384201652463819]
[65,"ANDAJES",3487,"10º 47' 21''","76º 54' 25''",148.18,429,null,2.8951275475772706,null,"LEONCIO PRADO",7.4434411754906211]
[67,"CAUJUL",3175,"10º 48' 09''","76º 58' 35''",105.5,451,null,4.2748815165876781,null,"PACCHO",6.6128680479825519]
[69,"COCHAMARCA",2350,"10º 51' 35''","77º 07' 36''",265.55,1093,null,4.1159856900771983,null,"CHECRAS",5.385586343691771]
[73,"NAVAN",3100,"10º 50' 03''","77º 00' 39''",227.16,776,null,3.4160943828138759,null,"SANTA LEONOR",2.6525340222109777]
[75,"PACHANGARA",2265,"10º 48' 25''","76º 52' 30''",252.05,2455,null,9.7401309264034914,null,"AMBAR",2.6408527300413316]
[null,{"$f":"'Etapas de Vida'!$C$34","v":"Elaboración: Área de Estadística - RIS Huaura Oyón."}]

{"sheet":"Pobla_EESS","index":6,"n_rows":60,"n_cols":16,"rows_kept":60,"cut":false,"hidden":false,"merged":[[39,4,45,4],[39,11,41,11],[42,11,46,11],[46,4,49,4],[9,4,13,4],[9,11,11,11],[12,11,16,11],[16,3,16,5],[19,10,19,12],[32,3,32,5],[37,3,37,8],[37,10,37,15],[1,3,4,10],[7,3,7,8],[7,10,7,15],[15,3,15,4],[25,4,29,4],[25,11,30,11],[30,4,31,4],[23,3,23,8],[23,10,23,15],[31,10,31,12],[50,4,52,4],[51,11,54,11],[54,3,54,5],[55,11,57,11],[58,10,58,12]]}
[]
[null,null,null,"POBLACIÓN SEGÚN DISTRITOS Y EE.SS - 2024"]
[]
[]
[]
[]
[]
[null,null,null,"SIN MICRORED",null,null,null,null,null,null,"MICRORED HUALMAY"]
[null,null,null,"DISTRITO","POBLACIÓN","EE.SS","POBLACIÓN","MASCULINO","FEMENINO",null,"DISTRITO","POBLACIÓN","EE.SS","POBLACIÓN","MASCULINO","FEMENINO"]
[null,null,null,"HUACHO",{"$f":"G10","v":54061},"HOSPITAL REGIONAL HUACHO",{"$f":"Poblacion!F11","v":54061},{"$f":"Poblacion!H11","v":26035},{"$f":"Poblacion!I11","v":28026},null,"HUALMAY",{"$f":"SUM(N10:N12)","v":30830},"C.S. HUALMAY",{"$f":"VLOOKUP(M10,Poblacion!$E$5:$I$87,2,FALSE)","v":14801},{"$f":"VLOOKUP(M10,Poblacion!$E$5:$I$87,4,FALSE)","v":7129},{"$f":"VLOOKUP(M10,Poblacion!$E$5:$I$87,5,FALSE)","v":7672}]
[null,null,null,"HUACHO",null,"CLINICA SAN PEDRO",0,null,null,null,"HUALMAY",null,"P.S. DGO. MANDAMIENTO",{"$f":"VLOOKUP(M11,Poblacion!$E$5:$I$87,2,FALSE)","v":11096},{"$f":"VLOOKUP(M11,Poblacion!$E$5:$I$87,4,FALSE)","v":5345},{"$f":"VLOOKUP(M11,Poblacion!$E$5:$I$87,5,FALSE)","v":5751}]
[null,null,null,"HUACHO",null,"ESSALUD GUSTAVO LA NATA",0,null,null,null,"HUALMAY",null,"P.S. CAMPO ALEGRE",{"$f":"VLOOKUP(M12,Poblacion!$E$5:$I$87,2,FALSE)","v":4933},{"$f":"VLOOKUP(M12,Poblacion!$E$5:$I$87,4,FALSE)","v":2376},{"$f":"VLOOKUP(M12,Poblacion!$E$5:$I$87,5,FALSE)","v":2557}]
[null,null,null,"HUACHO",null,"CLINICA SAN BARTOLOME",0,null,null,null,"S.MARIA",{"$f":"SUM(N13:N17)","v":43646},"C.S. SANTA MARIA",{"$f":"VLOOKUP(M13,Poblacion!$E$5:$I$87,2,FALSE)","v":11783},{"$f":"VLOOKUP(M13,Poblacion!$E$5:$I$87,4,FALSE)","v":5685},{"$f":"VLOOKUP(M13,Poblacion!$E$5:$I$87,5,FALSE)","v":6098}]
[null,null,null,"HUACHO",null,"GOLD ESTANDAR EIRL.",0,null,null,null,"S.MARIA",null,"P.S. CHONTA",{"$f":"VLOOKUP(M14,Poblacion!$E$5:$I$87,2,FALSE)","v":6550},{"$f":"VLOOKUP(M14,Poblacion!$E$5:$I$87,4,FALSE)","v":3160},{"$f":"VLOOKUP(M14,Poblacion!$E$5:$I$87,5,FALSE)","v":3390}]
[null,null,null,"CARQUIN",null,"INSITUTO NACIONAL PENITENCIARIO CARQUIN",0,null,null,null,"S.MARIA",null,"P.S. ZAPATA",{"$f":"VLOOKUP(M15,Poblacion!$E$5:$I$87,2,FALSE)","v":3923},{"$f":"VLOOKUP(M15,Poblacion!$E$5:$I$87,4,FALSE)","v":1892},{"$f":"VLOOKUP(M15,Poblacion!$E$5:$I$87,5,FALSE)","v":2031}]
[null,null,null,null,null,"OTROS ESTABLECIMIENTOS",0,null,null,null,"S.MARIA",null,"P.S. SAN BARTOLOME",{"$f":"VLOOKUP(M16,Poblacion!$E$5:$I$87,2,FALSE)","v":7855},{"$f":"VLOOKUP(M16,Poblacion!$E$5:$I$87,4,FALSE)","v":3790},{"$f":"VLOOKUP(M16,Poblacion!$E$5:$I$87,5,FALSE)","v":4065}]
[null,null,null,"TOTAL SIN MICRORED",null,null,{"$f":"SUM(G10:G16)","v":54061},{"$f":"SUM(H10:H16)","v":26035},28026,null,"S.MARIA",null,"P.S. 1RO DE MAYO",{"$f":"VLOOKUP(M17,Poblacion!$E$5:$I$87,2,FALSE)","v":13535},{"$f":"VLOOKUP(M17,Poblacion!$E$5:$I$87,4,FALSE)","v":6530},{"$f":"VLOOKUP(M17,Poblacion!$E$5:$I$87,5,FALSE)","v":7005}]
[null,null,null,{"$f":"Demografia!$B$26","v":"Elaboración: Área de Estadística - RIS Huaura Oyón."},null,null,null,null,null,null,"CARQUIN",{"$f":"N18","v":9351},"P.S. CARQUIN",{"$f":"VLOOKUP(M18,Poblacion!$E$5:$I$87,2,FALSE)","v":9351},{"$f":"VLOOKUP(M18,Poblacion!$E$5:$I$87,4,FALSE)","v":4508},{"$f":"VLOOKUP(M18,Poblacion!$E$5:$I$87,5,FALSE)","v":4843}]
[null,null,null,null,null,null,null,null,null,null,"HUACHO",{"$f":"N19","v":21028},"C.S. MANZANARES",{"$f":"VLOOKUP(M19,Poblacion!$E$5:$I$87,2,FALSE)","v":21028},{"$f":"VLOOKUP(M19,Poblacion!$E$5:$I$87,4,FALSE)","v":10128},{"$f":"VLOOKUP(M19,Poblacion!$E$5:$I$87,5,FALSE)","v":10900}]
[null,null,null,null,null,null,null,null,null,null,"TOTAL MCR HUALMAY",null,"TOTAL MICRORED HUALMAY",{"$f":"SUM(N10:N19)","v":104855},{"$f":"SUM(O10:O19)","v":50543},54312]
[null,null,null,null,null,null,null,null,null,null,{"$f":"D34","v":"Elaboración: Área de Estadística - RIS Huaura Oyón."}]
[]
[]
[null,null,null,"MICRORED HUAURA",null,null,null,null,null,null,"MICRORED VEGUETA"]
[null,null,null,"DISTRITO","POBLACIÓN","EE.SS","POBLACIÓN","MASCULINO","FEMENINO",null,"DISTRITO","POBLACIÓN","EE.SS","POBLACIÓN","MASCULINO","FEMENINO"]
[null,null,null,"HUAURA",{"$f":"SUM(G26:G30)","v":40247},"C.S. HUAURA",{"$f":"VLOOKUP(F26,Poblacion!$E$5:$I$87,2,FALSE)","v":18113},{"$f":"VLOOKUP(F26,Poblacion!$E$5:$I$87,4,FALSE)","v":8734},{"$f":"VLOOKUP(F26,Poblacion!$E$5:$I$87,5,FALSE)","v":9379},null,"VEGUETA",{"$f":"SUM(N26:N31)","v":29531},"C.S. VEGUETA",8284,{"$f":"VLOOKUP(M26,Poblacion!$E$5:$I$87,4,FALSE)","v":4106},{"$f":"VLOOKUP(M26,Poblacion!$E$5:$I$87,5,FALSE)","v":4409}]
[null,null,null,"HUAURA",null,"P.S. EL SOCORRO",{"$f":"VLOOKUP(F27,Poblacion!$E$5:$I$87,2,FALSE)","v":14892},{"$f":"VLOOKUP(F27,Poblacion!$E$5:$I$87,4,FALSE)","v":7184},{"$f":"VLOOKUP(F27,Poblacion!$E$5:$I$87,5,FALSE)","v":7708},null,"VEGUETA",null,"P.S. MAZO",2955,{"$f":"VLOOKUP(M27,Poblacion!$E$5:$I$87,4,FALSE)","v":1101},{"$f":"VLOOKUP(M27,Poblacion!$E$5:$I$87,5,FALSE)","v":1181}]
[null,null,null,"HUAURA",null,"P.S. HUMAYA",{"$f":"VLOOKUP(F28,Poblacion!$E$5:$I$87,2,FALSE)","v":3625},{"$f":"VLOOKUP(F28,Poblacion!$E$5:$I$87,4,FALSE)","v":1748},{"$f":"VLOOKUP(F28,Poblacion!$E$5:$I$87,5,FALSE)","v":1877},null,"VEGUETA",null,"P.S. PRIMAVERA",6498,{"$f":"VLOOKUP(M28,Poblacion!$E$5:$I$87,4,FALSE)","v":3519},{"$f":"VLOOKUP(M28,Poblacion!$E$5:$I$87,5,FALSE)","v":3780}]
[null,null,null,"HUAURA",null,"P.S. VILCAHUAURA",{"$f":"VLOOKUP(F29,Poblacion!$E$5:$I$87,2,FALSE)","v":3214},{"$f":"VLOOKUP(F29,Poblacion!$E$5:$I$87,4,FALSE)","v":1552},{"$f":"VLOOKUP(F29,Poblacion!$E$5:$I$87,5,FALSE)","v":1662},null,"VEGUETA",null,"P.S. MARIATEGUI",7654,{"$f":"VLOOKUP(M29,Poblacion!$E$5:$I$87,4,FALSE)","v":4255},{"$f":"VLOOKUP(M29,Poblacion!$E$5:$I$87,5,FALSE)","v":4571}]
[null,null,null,"HUAURA",null,"P.S. PEÑICO",{"$f":"VLOOKUP(F30,Poblacion!$E$5:$I$87,2,FALSE)","v":403},{"$f":"VLOOKUP(F30,Poblacion!$E$5:$I$87,4,FALSE)","v":196},{"$f":"VLOOKUP(F30,Poblacion!$E$5:$I$87,5,FALSE)","v":207},null,"VEGUETA",null,"P.S. MEDIO MUNDO",3849,{"$f":"VLOOKUP(M30,Poblacion!$E$5:$I$87,4,FALSE)","v":1614},{"$f":"VLOOKUP(M30,Poblacion!$E$5:$I$87,5,FALSE)","v":1733}]
[null,null,null,"AMBAR",{"$f":"SUM(G31:G32)","v":2428},"C.S. AMBAR",{"$f":"VLOOKUP(F31,Poblacion!$E$5:$I$87,2,FALSE)","v":1528},{"$f":"VLOOKUP(F31,Poblacion!$E$5:$I$87,4,FALSE)","v":742},{"$f":"VLOOKUP(F31,Poblacion!$E$5:$I$87,5,FALSE)","v":786},null,"VEGUETA",null,"P.S. TIROLER",291,{"$f":"VLOOKUP(M31,Poblacion!$E$5:$I$87,4,FALSE)","v":73},{"$f":"VLOOKUP(M31,Poblacion!$E$5:$I$87,5,FALSE)","v":73}]
[null,null,null,"AMBAR",null,"P.S. AYNACA",{"$f":"VLOOKUP(F32,Poblacion!$E$5:$I$87,2,FALSE)","v":900},{"$f":"VLOOKUP(F32,Poblacion!$E$5:$I$87,4,FALSE)","v":440},{"$f":"VLOOKUP(F32,Poblacion!$E$5:$I$87,5,FALSE)","v":460},null,"TOTAL MCR VEGUETA",null,"TOTAL MICRORED HUAURA ",{"$f":"SUM(N26:N31)","v":29531},{"$f":"SUM(O26:O31)","v":14668},{"$f":"SUM(P26:P31)","v":15747}]
[null,null,null,"TOTAL MCR HUAURA",null,"TOTAL MICRORED HUAURA ",{"$f":"SUM(G26:G32)","v":42675},{"$f":"SUM(H26:H32)","v":20596},{"$f":"SUM(I26:I32)","v":22079},null,{"$f":"D34","v":"Elaboración: Área de Estadística - RIS Huaura Oyón."}]
[null,null,null,{"$f":"D18","v":"Elaboración: Área de Estadística - RIS Huaura Oyón."}]
[]
[]
[]
[null,null,null,"MICRORED SAYAN",null,null,null,null,null,null,"MICRORED CHURIN OYÓN"]
[null,null,null,"DISTRITO","POBLACIÓN","EE.SS","POBLACIÓN","MASCULINO","FEMENINO",null,"DISTRITO","POBLACIÓN","EE.SS","POBLACIÓN","MASCULINO","FEMENINO"]
[null,null,null,"SAYAN",{"$f":"SUM(G40:G46)","v":26719},"C.S. SAYAN",{"$f":"VLOOKUP(F40,Poblacion!$E$5:$I$87,2,FALSE)","v":8280},{"$f":"VLOOKUP(F40,Poblacion!$E$5:$I$87,4,FALSE)","v":4006},{"$f":"VLOOKUP(F40,Poblacion!$E$5:$I$87,5,FALSE)","v":4274},null,"PACHANGARA",{"$f":"SUM(N40:N42)","v":2455},"C.S. CHURIN",{"$f":"VLOOKUP(M40,Poblacion!$E$5:$I$87,2,FALSE)","v":1645},{"$f":"VLOOKUP(M40,Poblacion!$E$5:$I$87,4,FALSE)","v":796},{"$f":"VLOOKUP(M40,Poblacion!$E$5:$I$87,5,FALSE)","v":849}]
[null,null,null,"SAYAN",null,"P.S. 9 DE OCTUBRE",{"$f":"VLOOKUP(F41,Poblacion!$E$5:$I$87,2,FALSE)","v":7213},{"$f":"VLOOKUP(F41,Poblacion!$E$5:$I$87,4,FALSE)","v":3481},{"$f":"VLOOKUP(F41,Poblacion!$E$5:$I$87,5,FALSE)","v":3732},null,"PACHANGARA",null,"P.S. PACHANGARA",{"$f":"VLOOKUP(M41,Poblacion!$E$5:$I$87,2,FALSE)","v":366},{"$f":"VLOOKUP(M41,Poblacion!$E$5:$I$87,4,FALSE)","v":178},{"$f":"VLOOKUP(M41,Poblacion!$E$5:$I$87,5,FALSE)","v":188}]
[null,null,null,"SAYAN",null,"P.S. CHAMBARA",{"$f":"VLOOKUP(F42,Poblacion!$E$5:$I$87,2,FALSE)","v":801},{"$f":"VLOOKUP(F42,Poblacion!$E$5:$I$87,4,FALSE)","v":385},{"$f":"VLOOKUP(F42,Poblacion!$E$5:$I$87,5,FALSE)","v":416},null,"PACHANGARA",null,"P.S. HUANCAHUASI",{"$f":"VLOOKUP(M42,Poblacion!$E$5:$I$87,2,FALSE)","v":444},{"$f":"VLOOKUP(M42,Poblacion!$E$5:$I$87,4,FALSE)","v":213},{"$f":"VLOOKUP(M42,Poblacion!$E$5:$I$87,5,FALSE)","v":231}]
[null,null,null,"SAYAN",null,"P.S. LA MERCED",{"$f":"VLOOKUP(F43,Poblacion!$E$5:$I$87,2,FALSE)","v":1076},{"$f":"VLOOKUP(F43,Poblacion!$E$5:$I$87,4,FALSE)","v":519},{"$f":"VLOOKUP(F43,Poblacion!$E$5:$I$87,5,FALSE)","v":557},null,"OYON",{"$f":"SUM(N43:N47)","v":11749},"C.S. OYON",{"$f":"VLOOKUP(M43,Poblacion!$E$5:$I$87,2,FALSE)","v":9868},{"$f":"VLOOKUP(M43,Poblacion!$E$5:$I$87,4,FALSE)","v":4735},{"$f":"VLOOKUP(M43,Poblacion!$E$5:$I$87,5,FALSE)","v":5133}]
[null,null,null,"SAYAN",null,"P.S. LA VILLA",{"$f":"VLOOKUP(F44,Poblacion!$E$5:$I$87,2,FALSE)","v":7747},{"$f":"VLOOKUP(F44,Poblacion!$E$5:$I$87,4,FALSE)","v":3741},{"$f":"VLOOKUP(F44,Poblacion!$E$5:$I$87,5,FALSE)","v":4006},null,"OYON",null,"P.S. MALLAY",{"$f":"VLOOKUP(M44,Poblacion!$E$5:$I$87,2,FALSE)","v":586},{"$f":"VLOOKUP(M44,Poblacion!$E$5:$I$87,4,FALSE)","v":281},{"$f":"VLOOKUP(M44,Poblacion!$E$5:$I$87,5,FALSE)","v":305}]
[null,null,null,"SAYAN",null,"P.S. EL AHORCADO",{"$f":"VLOOKUP(F45,Poblacion!$E$5:$I$87,2,FALSE)","v":801},{"$f":"VLOOKUP(F45,Poblacion!$E$5:$I$87,4,FALSE)","v":385},{"$f":"VLOOKUP(F45,Poblacion!$E$5:$I$87,5,FALSE)","v":416},null,"OYON",null,"P.S. NAVA",{"$f":"VLOOKUP(M45,Poblacion!$E$5:$I$87,2,FALSE)","v":114},{"$f":"VLOOKUP(M45,Poblacion!$E$5:$I$87,4,FALSE)","v":54},{"$f":"VLOOKUP(M45,Poblacion!$E$5:$I$87,5,FALSE)","v":60}]
[null,null,null,"SAYAN",null,"P.S. LA UNION",{"$f":"VLOOKUP(F46,Poblacion!$E$5:$I$87,2,FALSE)","v":801},{"$f":"VLOOKUP(F46,Poblacion!$E$5:$I$87,4,FALSE)","v":385},{"$f":"VLOOKUP(F46,Poblacion!$E$5:$I$87,5,FALSE)","v":416},null,"OYON",null,"P.S. TINTA",{"$f":"VLOOKUP(M46,Poblacion!$E$5:$I$87,2,FALSE)","v":355},{"$f":"VLOOKUP(M46,Poblacion!$E$5:$I$87,4,FALSE)","v":171},{"$f":"VLOOKUP(M46,Poblacion!$E$5:$I$87,5,FALSE)","v":184}]
[null,null,null,"L.PRADO",{"$f":"SUM(G47:G50)","v":2234},"P.S. AUQUIMARCA",{"$f":"VLOOKUP(F47,Poblacion!$E$5:$I$87,2,FALSE)","v":118},{"$f":"VLOOKUP(F47,Poblacion!$E$5:$I$87,4,FALSE)","v":60},{"$f":"VLOOKUP(F47,Poblacion!$E$5:$I$87,5,FALSE)","v":58},null,"OYON",null,"P.S. RAPAZ",{"$f":"VLOOKUP(M47,Poblacion!$E$5:$I$87,2,FALSE)","v":826},{"$f":"VLOOKUP(M47,Poblacion!$E$5:$I$87,4,FALSE)","v":395},{"$f":"VLOOKUP(M47,Poblacion!$E$5:$I$87,5,FALSE)","v":431}]
[null,null,null,"L.PRADO",null,"P.S. PARAN",{"$f":"VLOOKUP(F48,Poblacion!$E$5:$I$87,2,FALSE)","v":778},{"$f":"VLOOKUP(F48,Poblacion!$E$5:$I$87,4,FALSE)","v":378},{"$f":"VLOOKUP(F48,Poblacion!$E$5:$I$87,5,FALSE)","v":400},null,"ANDAJES",{"$f":"SUM(N48)","v":429},"P.S. ANDAJES",{"$f":"VLOOKUP(M48,Poblacion!$E$5:$I$87,2,FALSE)","v":429},{"$f":"VLOOKUP(M48,Poblacion!$E$5:$I$87,4,FALSE)","v":207},{"$f":"VLOOKUP(M48,Poblacion!$E$5:$I$87,5,FALSE)","v":222}]
[null,null,null,"L.PRADO",null,"P.S. SANTA CRUZ",{"$f":"VLOOKUP(F49,Poblacion!$E$5:$I$87,2,FALSE)","v":447},{"$f":"VLOOKUP(F49,Poblacion!$E$5:$I$87,4,FALSE)","v":218},{"$f":"VLOOKUP(F49,Poblacion!$E$5:$I$87,5,FALSE)","v":229},null,"CAUJUL",{"$f":"SUM(N49)","v":451},"P.S. CAUJUL",{"$f":"VLOOKUP(M49,Poblacion!$E$5:$I$87,2,FALSE)","v":451},{"$f":"VLOOKUP(M49,Poblacion!$E$5:$I$87,4,FALSE)","v":216},{"$f":"VLOOKUP(M49,Poblacion!$E$5:$I$87,5,FALSE)","v":235}]
[null,null,null,"L.PRADO",null,"P.S. HUANANGUI",{"$f":"VLOOKUP(F50,Poblacion!$E$5:$I$87,2,FALSE)","v":891},{"$f":"VLOOKUP(F50,Poblacion!$E$5:$I$87,4,FALSE)","v":430},{"$f":"VLOOKUP(F50,Poblacion!$E$5:$I$87,5,FALSE)","v":461},null,"NAVAN",776,"P.S. NAVAN",{"$f":"VLOOKUP(M50,Poblacion!$E$5:$I$87,2,FALSE)","v":776},{"$f":"VLOOKUP(M50,Poblacion!$E$5:$I$87,4,FALSE)","v":373},{"$f":"VLOOKUP(M50,Poblacion!$E$5:$I$87,5,FALSE)","v":403}]
[null,null,null,"COCHAMARCA",{"$f":"SUM(G51:G53)","v":1093},"P.S. COCHAMARCA",{"$f":"VLOOKUP(F51,Poblacion!$E$5:$I$87,2,FALSE)","v":463},{"$f":"VLOOKUP(F51,Poblacion!$E$5:$I$87,4,FALSE)","v":224},{"$f":"VLOOKUP(F51,Poblacion!$E$5:$I$87,5,FALSE)","v":239},null,"CHECRAS",896,"P.S. PUÑUN",{"$f":"VLOOKUP(M51,Poblacion!$E$5:$I$87,2,FALSE)","v":896},{"$f":"VLOOKUP(M51,Poblacion!$E$5:$I$87,4,FALSE)","v":429},{"$f":"VLOOKUP(M51,Poblacion!$E$5:$I$87,5,FALSE)","v":467}]
[null,null,null,"COCHAMARCA",null,"P.S. COLCAPAMPA",{"$f":"VLOOKUP(F52,Poblacion!$E$5:$I$87,2,FALSE)","v":529},{"$f":"VLOOKUP(F52,Poblacion!$E$5:$I$87,4,FALSE)","v":255},{"$f":"VLOOKUP(F52,Poblacion!$E$5:$I$87,5,FALSE)","v":274},null,"PACCHO",{"$f":"SUM(N52:N55)","v":1516},"P.S. PACCHO",{"$f":"VLOOKUP(M52,Poblacion!$E$5:$I$87,2,FALSE)","v":597},{"$f":"VLOOKUP(M52,Poblacion!$E$5:$I$87,4,FALSE)","v":290},{"$f":"VLOOKUP(M52,Poblacion!$E$5:$I$87,5,FALSE)","v":307}]
[null,null,null,"COCHAMARCA",null,"P.S. YARUCAYA",{"$f":"VLOOKUP(F53,Poblacion!$E$5:$I$87,2,FALSE)","v":101},{"$f":"VLOOKUP(F53,Poblacion!$E$5:$I$87,4,FALSE)","v":49},{"$f":"VLOOKUP(F53,Poblacion!$E$5:$I$87,5,FALSE)","v":52},null,"PACCHO",null,"P.S. LACSANGA",{"$f":"VLOOKUP(M53,Poblacion!$E$5:$I$87,2,FALSE)","v":457},{"$f":"VLOOKUP(M53,Poblacion!$E$5:$I$87,4,FALSE)","v":221},{"$f":"VLOOKUP(M53,Poblacion!$E$5:$I$87,5,FALSE)","v":236}]
[null,null,null,"IHUARI - ACOTAMA",{"$f":"G54","v":925},"P.S. ACOTAMA",{"$f":"Poblacion!$F$87","v":925},{"$f":"Poblacion!$H$87","v":448},{"$f":"Poblacion!$I$87","v":477},null,"PACCHO",null,"P.S. MUZGA",{"$f":"VLOOKUP(M54,Poblacion!$E$5:$I$87,2,FALSE)","v":231},{"$f":"VLOOKUP(M54,Poblacion!$E$5:$I$87,4,FALSE)","v":112},{"$f":"VLOOKUP(M54,Poblacion!$E$5:$I$87,5,FALSE)","v":119}]
[null,null,null,"TOTAL MICRORED SAYAN",null,null,{"$f":"SUM(G40:G54)","v":30971},{"$f":"SUM(H40:H54)","v":14964},{"$f":"SUM(I40:I54)","v":16007},null,"PACCHO",null,"P.S. AYARANGA",{"$f":"VLOOKUP(M55,Poblacion!$E$5:$I$87,2,FALSE)","v":231},{"$f":"VLOOKUP(M55,Poblacion!$E$5:$I$87,4,FALSE)","v":112},{"$f":"VLOOKUP(M55,Poblacion!$E$5:$I$87,5,FALSE)","v":119}]
[null,null,null,{"$f":"D34","v":"Elaboración: Área de Estadística - RIS Huaura Oyón."},null,null,null,null,null,null,"S.LEONOR",{"$f":"SUM(N56:N58)","v":996},"P.S. CHIUCHIN",{"$f":"VLOOKUP(M56,Poblacion!$E$5:$I$87,2,FALSE)","v":651},{"$f":"VLOOKUP(M56,Poblacion!$E$5:$I$87,4,FALSE)","v":320},{"$f":"VLOOKUP(M56,Poblacion!$E$5:$I$87,5,FALSE)","v":331}]
[null,null,null,null,null,null,null,null,null,null,"S.LEONOR",null,"P.S. PARQUIN",{"$f":"VLOOKUP(M57,Poblacion!$E$5:$I$87,2,FALSE)","v":199},{"$f":"VLOOKUP(M57,Poblacion!$E$5:$I$87,4,FALSE)","v":99},{"$f":"VLOOKUP(M57,Poblacion!$E$5:$I$87,5,FALSE)","v":100}]
[null,null,null,null,null,null,null,null,null,null,"S.LEONOR",null,"P.S. JUCUL",{"$f":"VLOOKUP(M58,Poblacion!$E$5:$I$87,2,FALSE)","v":146},{"$f":"VLOOKUP(M58,Poblacion!$E$5:$I$87,4,FALSE)","v":71},{"$f":"VLOOKUP(M58,Poblacion!$E$5:$I$87,5,FALSE)","v":75}]
[null,null,null,null,null,null,null,null,null,null,"TOTAL MICRORED CHURIN - OYON",null,null,{"$f":"SUM(N40:N58)","v":19268},{"$f":"SUM(O40:O58)","v":9273},{"$f":"SUM(P40:P58)","v":9995}]
[null,null,null,null,null,null,null,null,null,null,{"$f":"K33","v":"Elaboración: Área de Estadística - RIS Huaura Oyón."}]