{"text_format":"1","workbook":"xlsx","n_sheets":4,"sheets":["Interfaz","Poblacion","etapas y mredes","Pobla_EESS"],"not_rendered":{"charts":1,"images":13,"macros":1,"external_links":1,"defined_names":4,"comments":0,"pivot_tables":0},"unopened":[],"bounds":{"document_bytes":16777216,"sheet_cells":100000,"rows_first":2000,"rows_last":500,"rows_between":2000,"halvings":0,"cell_chars":16384,"cell_head_chars":4096},"cells_cut":0,"cells_raw":0,"read":"whole","date_system":"1900"}

{"sheet":"Interfaz","index":0,"n_rows":27,"n_cols":18,"rows_kept":27,"cut":false,"hidden":false,"merged":[[4,2,7,11],[9,2,11,11]]}
[]
[]
[]
[]
[null,null,"POBLACIÓN ASIGNADA SEGÚN CENSOS INEI - RENIEC - PN - CNV - 2020"]
[]
[]
[]
[]
[null,null,"RED INTEGRADA DE SALUD HUAURA OYÓN "]
[]
[]
[]
[]
[]
[]
[]
[]
[]
[]
[]
["Elaboración: Área de Estadística - RIS Huaura Oyón."]
["NOTA: LA POBLACION ESTIMADA DE EDADES  SIMPLES Y GRUPOS DE EDAD DE DISTRITOS, CORRESPONDEN A CIFRAS REFERENCIALES HASTA OBTENER LAS CIFRAS DE LAS PROYECCIONES DEL INEI"]
[]
[]
["OFICINA DE GESTION DE LA INFORMACIÓN - MINISTERIO DE SALUD"]
[null,null,null,null,null,null,null,null,null,null,null,null,null,null,null,null,null,"Versión1.030"]

{"sheet":"Poblacion","index":1,"n_rows":93,"n_cols":132,"rows_kept":93,"cut":false,"hidden":false,"merged":[[5,64,5,65],[5,48,5,49],[5,56,5,57],[5,66,5,67],[5,62,5,63],[5,46,5,47],[5,40,5,41],[4,42,4,43],[4,44,4,45],[5,42,5,43],[5,44,5,45],[5,24,5,25],[5,26,5,27],[4,16,4,17],[5,16,5,17],[4,38,4,39],[5,38,5,39],[4,5,6,5],[4,66,4,67],[5,12,5,13],[4,14,4,15],[5,14,5,15],[5,58,5,59],[5,36,5,37],[4,28,4,29],[5,32,5,33],[5,34,5,35],[5,28,5,29],[5,30,5,31],[5,54,5,55],[4,60,4,61],[5,60,5,61],[4,62,4,63],[4,7,6,7],[4,8,6,8],[5,50,5,51],[4,52,4,53],[5,52,5,53],[4,10,4,11],[5,10,5,11],[4,12,4,13],[4,18,4,19],[4,20,4,21],[4,22,4,23],[4,24,4,25],[4,26,4,27],[5,18,5,19],[5,20,5,21],[5,22,5,23],[1,30,1,65],[2,30,2,65],[4,58,4,59],[4,48,4,49],[3,30,3,65],[4,36,4,37],[4,56,4,57],[4,30,4,31],[4,32,4,33],[4,34,4,35],[4,50,4,51],[4,54,4,55],[4,64,4,65],[4,40,4,41],[4,46,4,47],[4,74,4,75],[5,74,5,75],[4,89,6,89],[4,88,6,88],[4,83,5,85],[4,86,6,86],[5,77,5,78],[5,79,5,80],[5,68,5,69],[5,70,5,71],[5,72,5,73],[4,72,4,73],[4,70,4,71],[4,68,4,69],[5,76,6,76],[4,76,4,80],[4,81,6,81],[4,82,6,82],[2,93,2,100],[4,98,6,98],[4,97,6,97],[4,91,6,91],[4,92,6,92],[4,93,6,93],[4,95,6,95],[4,94,6,94],[4,90,6,90],[4,99,6,99]]}
[null,null,1,2,3,4,5,6,7,8,9,10,11,12,13,14,15,16,17,18,19,20,21,22,23,24,25,26,27,28,29,30,31,32,33,34,35,36,37,38,39,40,41,42,43,44,45,46,47,48,49,50,51,52,53,54,55,56,57,58,59,60,61,62,63,64,65,66,67,68,69,70,71,72,73,74,75,76,77,78,79,80,81,82,83,84,85,86,87,88,89,90,91,92,93,94,95,96,97,98,null,null,null,77,78,79,80,81,82,83,84,85,86,87,88,89,90,91,92,93,94,95,96,97,98,99,106,107,108,109,110,111]
[null,null,null,null,null,null,null,null,null,null,null,null,null,null,null,null,null,null,null,null,null,null,null,null,null,null,null,null,null,null,"POBLACIÓN ESTIMADA POR GRUPOS DE EDAD, SEGÚN PROVINCIAS DISTRITOS Y ESTABLECIMIENTOS DE SALUD"]
[null,null,null,null,null,null,null,null,null,null,null,null,null,null,null,null,null,null,null,null,null,null,null,null,null,null,null,null,null,null,"RED INTEGRADA DE SALUD HUAURA OYON   -   AÑO  2020",null,null,null,null,null,null,null,null,null,null,null,null,null,null,null,null,null,null,null,null,null,null,null,null,null,null,null,null,null,null,null,null,null,null,null,null,null,null,null,null,null,null,null,{"$f":"ROUND(BY3,0)","v":0},null,null,null,null,null,null,null,null,null,null,null,null,null,null,null,null,null,null,"MAS GRUPOS DE EDAD"]
[null,null,null,null,null,null,null,null,null,null,null,null,null,null,null,null,null,null,null,null,null,null,null,null,null,null,null,null,null,null,"EDADES PUNTUALES Y GRUPOS DE EDAD"]
[null,null,"N°",null,"DIRECCION DE SALUD","TOTAL GENERAL",null,"TOTAL MASCULINO","TOTAL FEMENINO",null,"EDAD",null,"EDAD",null,"EDAD",null,"EDAD",null,"EDAD",null,"EDAD",null,"EDAD",null,"EDAD",null,"EDAD",null,"EDAD",null,"EDAD",null,"EDAD",null,"EDAD",null,"EDAD",null,"EDAD",null,"EDAD",null,"EDAD",null,"EDAD",null,"EDAD",null,"EDAD",null,"EDAD",null,"EDAD",null,"EDAD",null,"EDAD",null,"EDAD",null,"EDAD",null,"EDAD",null,"EDAD",null,"EDAD",null,"EDAD",null,"EDAD",null,"EDAD",null,"EDAD",null,"EDADES ESPECIALES",null,null,null,null,"NACIMIENTOS","POBLACION FEMENINA TOTAL","POBLACION FEMENINA",null,null,"GESTANTES  ESPERADAS",null,"menor de 1 Año","Pre escolar         (1-4)","Niño             (0 - 11)","Escolar               (05 - 17)","Adolescente (12 - 17)","Adulto Joven (18 - 29)","Adulto            (30-59)","Adu.Mayor (60 a MAS)",null,"Escolar               (05 - 09)","Adolescente (10 - 19)","Adulto            (20-59)"]
["UBIGEO",null,null,null,"PROVINCIA",null,null,null,null,null,0,null,1,null,2,null,3,null,4,null,5,null,6,null,7,null,8,null,9,null,10,null,11,null,12,null,13,null,14,null,15,null,16,null,17,null,18,null,19,null,"20 - 24",null,"25 - 29",null,"30 - 34",null,"35 - 39",null,"40 - 44 ",null,"45 - 49",null,"50 - 54 ",null,"55 - 59 ",null,"60 - 64",null,"65 - 69 ",null,"70- 74 ",null,"75 - 79 ",null,"80 - +",null,"28 DIAS","0-5 MESES",null,"6-11 MESES"]
[null,"Microredes",null,"RENAES","DISTRITO",null,null,null,null,null,"M","F","M","F","M","F","M","F","M","F","M","F","M","F","M","F","M","F","M","F","M","F","M","F","M","F","M","F","M","F","M","F","M","F","M","F","M","F","M","F","M","F","M","F","M","F","M","F","M","F","M","F","M","F","M","F","M","F","M","F","M","F","M","F","M","F",null,"M","F","M","F",null,null," 10 - 14","15 - 19","20 - 49"]
[150000,null,1,null,"HUAURA - OYON",264916,null,128466,136450,null,2056,1926,2122,2033,1772,1747,1845,1769,2047,1952,2124,1973,1624,1611,1627,1681,1714,1689,1728,1818,1894,1847,1923,1948,2064,1890,1956,1987,1972,2457,1673,1648,1620,1650,1648,1569,1645,1535,1613,2600,8688,10780,9472,10079,9169,9183,9932,9568,9446,9486,7639,9690,7478,8244,7178,7264,5700,6127,5188,5958,4923,4542,3098,3470,3888,4729,396,1009,867,1047,1059,4477,0,10129,9002,58786,5947,null,{"$f":"SUM(K8:L8)","v":3982},{"$f":"SUM(M8:T8)","v":15287},{"$f":"SUM(K8:AH8)","v":44470},{"$f":"SUM(U8:AT8)","v":47335},{"$f":"SUM(AI8:AT8)","v":22134},{"$f":"SUM(AU8:BB8)","v":46412},{"$f":"SUM(BC8:BN8)","v":104277},{"$f":"SUM(BO8:BX8)","v":47623},null,{"$f":"SUM(U8:AD8)","v":17589},{"$f":"SUM(AE8:AX8)","v":37139},{"$f":"SUM(AY8:BN8)","v":143296}]
[150800,null,2,150800,"PROVINCIA HUAURA",240225,null,116559,123666,null,1917,1799,1975,1880,1642,1642,1699,1657,1881,1825,1972,1816,1423,1422,1423,1490,1501,1499,1537,1599,1686,1629,1717,1719,1847,1670,1756,1771,1764,2207,1515,1489,1471,1507,1498,1442,1504,1412,1469,2390,7939,9850,8571,9030,8234,8272,8926,8482,8565,8635,6925,8766,6848,7535,6600,6644,5261,5626,4663,5414,4477,4105,2777,3103,3576,4339,335,942,804,975,995,3934,0,8996,8240,53035,5207,null,{"$f":"SUM(K9:L9)","v":3716},{"$f":"SUM(M9:T9)","v":14201},{"$f":"SUM(K9:AH9)","v":40350},{"$f":"SUM(U9:AT9)","v":42370},{"$f":"SUM(AI9:AT9)","v":19937},{"$f":"SUM(AU9:BB9)","v":42165},{"$f":"SUM(BC9:BN9)","v":94432},{"$f":"SUM(BO9:BX9)","v":43341},null,15682,33463,129822]
[150801,null,3,150802,"DISTRITO HUACHO",65329,null,31678,33651,null,494,453,474,441,332,416,407,392,488,489,488,457,331,332,354,327,373,331,389,351,379,410,388,437,451,399,402,453,447,516,372,358,348,376,338,382,402,317,354,609,1986,2590,2298,2225,1906,2371,2554,2115,2580,2218,1854,2684,1922,2541,1909,2113,1698,1514,1535,1486,1427,1174,924,922,1074,1452,81,253,196,241,257,943,0,2215,2042,14203,1249,null,947,3439,9733,10189,4842,10781,26767,13206,null,3733,8138,35866]
[null,"00",4,7639,"HOSPITAL HUACHO",48997,null,23759,25238,null,370,340,355,331,249,312,305,294,366,367,366,343,248,249,265,245,280,248,292,263,284,307,291,328,338,299,301,340,335,387,279,268,261,282,253,286,301,238,266,457,1490,1942,1724,1669,1430,1778,1916,1586,1935,1663,1391,2013,1442,1906,1432,1585,1274,1135,1151,1115,1070,881,693,692,806,1089,61,189,147,181,193,707,null,1661,1531,10651,937,null,710,2579,7298,7638,3629,8087,20077,9906,null,2799,6101,26902]
[null,"02",5,5679,"C.S. MANZANARES",16332,null,7919,8413,null,124,113,119,110,83,104,102,98,122,122,122,114,83,83,89,82,93,83,97,88,95,103,97,109,113,100,101,113,112,129,93,90,87,94,85,96,101,79,88,152,496,648,574,556,476,593,638,529,645,555,463,671,480,635,477,528,424,379,384,371,357,293,231,230,268,363,20,64,49,60,64,236,null,554,511,3552,312,null,237,860,2435,2551,1213,2694,6690,3300,null,934,2037,8964]
[150802,null,6,150802,"DISTRITO AMBAR",2882,null,1387,1495,null,25,20,21,20,15,14,21,20,20,16,20,13,28,27,26,29,29,28,25,31,28,27,26,28,24,27,26,23,23,28,17,17,17,15,16,12,14,14,15,25,97,99,82,96,82,94,90,95,76,97,84,112,78,100,85,72,71,72,70,77,51,57,32,41,53,49,3,12,11,13,9,39,0,133,83,593,60,null,45,147,557,610,245,442,1065,573,null,256,422,1439]
[null,"01",7,5680,"C.S. AMBAR",1729,null,834,895,null,15,12,13,12,9,8,13,12,12,10,12,8,17,16,16,17,17,17,15,19,17,16,16,17,14,16,16,14,14,17,10,10,10,9,10,7,8,8,9,15,58,59,49,58,49,56,54,57,46,58,50,67,47,60,51,43,43,43,42,46,31,34,19,25,32,29,2,7,7,8,5,23,null,80,49,355,36,null,27,89,336,367,147,264,638,344,null,154,253,862]
[null,"01",8,5681,"P.S. AYNACA",1153,null,553,600,null,10,8,8,8,6,6,8,8,8,6,8,5,11,11,10,12,12,11,10,12,11,11,10,11,10,11,10,9,9,11,7,7,7,6,6,5,6,6,6,10,39,40,33,38,33,38,36,38,30,39,34,45,31,40,34,29,28,29,28,31,20,23,13,16,21,20,1,5,4,5,4,16,null,53,34,238,24,null,18,58,221,243,98,178,427,229,null,102,169,577]
[150803,null,9,150803,"DISTRITO CARQUIN",7324,null,3595,3729,null,49,59,42,52,56,45,46,64,52,48,53,46,41,46,47,40,49,38,39,50,41,51,51,41,50,44,46,47,53,54,39,43,44,37,45,37,37,46,44,70,282,313,343,295,294,324,294,265,312,291,231,225,189,262,208,181,125,175,139,173,118,98,52,75,84,94,14,29,32,20,27,129,0,237,233,1713,174,null,108,405,1146,1172,539,1430,3076,1133,null,449,920,4309]
[null,"02",10,5664,"P.S. CARQUIN",7324,null,3595,3729,null,49,59,42,52,56,45,46,64,52,48,53,46,41,46,47,40,49,38,39,50,41,51,51,41,50,44,46,47,53,54,39,43,44,37,45,37,37,46,44,70,282,313,343,295,294,324,294,265,312,291,231,225,189,262,208,181,125,175,139,173,118,98,52,75,84,94,14,29,32,20,27,129,null,237,233,1713,174,null,108,405,1146,1172,539,1430,3076,1133,null,449,920,4309]
[150804,null,11,150804,"DISTRITO CHECRAS",1949,null,952,997,null,5,4,2,7,4,0,5,5,2,1,8,2,9,11,12,10,11,11,13,11,15,12,14,14,16,13,15,12,10,17,10,11,8,9,8,7,7,7,4,11,29,33,45,46,39,44,69,65,65,72,64,66,87,87,69,68,65,74,65,65,79,97,47,49,51,56,0,2,2,3,2,32,0,68,45,326,47,null,9,26,188,289,136,182,795,648,null,98,220,948]
[null,"05",12,5663,"P.S. PUÑUN",1949,null,952,997,null,5,4,2,7,4,0,5,5,2,1,8,2,9,11,12,10,11,11,13,11,15,12,14,14,16,13,15,12,10,17,10,11,8,9,8,7,7,7,4,11,29,33,45,46,39,44,69,65,65,72,64,66,87,87,69,68,65,74,65,65,79,97,47,49,51,56,0,2,2,3,2,32,null,68,45,326,47,null,9,26,188,289,136,182,795,648,null,98,220,948]
[150805,null,13,150805,"DISTRITO HUALMAY",31314,null,15514,15800,null,201,206,229,244,219,202,224,199,214,223,297,274,178,185,191,183,174,212,188,218,239,195,248,203,241,223,259,203,241,273,189,197,171,208,182,190,207,162,189,307,1109,1183,1230,1055,1180,984,1274,1055,1104,1257,897,1064,967,890,926,873,613,818,629,744,541,482,327,450,436,638,43,91,104,110,102,514,0,1097,1064,6598,674,null,407,1754,5146,5562,2577,5442,12471,5678,null,2100,4327,17048]
[null,"02",14,5665,"C.S. HUALMAY",15657,null,7757,7900,null,101,103,115,122,109,101,112,99,107,112,148,137,89,92,95,92,87,106,94,109,119,98,124,102,121,112,129,102,121,136,95,98,85,104,91,94,104,81,95,154,555,592,614,528,590,492,637,528,552,628,450,532,481,444,463,436,306,409,315,372,271,241,164,225,218,319,22,46,52,55,51,257,null,550,531,3300,337,null,204,877,2573,2780,1288,2723,6233,2840,null,1049,2165,8522]
[null,"02",15,5666,"P.S. DGO. MANDAMIENTO",10960,null,5430,5530,null,70,72,80,85,77,71,78,70,75,78,104,96,62,65,67,64,61,74,66,76,84,68,87,71,84,78,91,71,84,96,66,69,60,73,64,67,72,57,66,107,388,414,431,369,413,344,446,369,386,440,314,372,339,312,324,306,215,286,220,260,189,169,114,158,153,223,15,32,36,38,36,180,null,384,373,2308,236,null,142,614,1801,1948,903,1904,4365,1987,null,735,1515,5967]
[null,"02",16,5667,"P.S. CAMPO ALEGRE",4697,null,2327,2370,null,30,31,34,37,33,30,34,30,32,33,45,41,27,28,29,27,26,32,28,33,36,29,37,30,36,33,39,30,36,41,28,30,26,31,27,29,31,24,28,46,166,177,185,158,177,148,191,158,166,189,133,160,147,134,139,131,92,123,94,112,81,72,49,67,65,96,6,13,16,17,15,77,null,163,160,990,101,null,61,263,772,834,386,815,1873,851,null,316,647,2559]
[150806,null,17,150806,"DISTRITO HUAURA                   ",37705,null,18531,19174,null,311,291,322,286,247,239,247,244,284,260,252,181,224,253,227,266,260,251,269,274,316,259,336,265,347,273,310,323,327,395,275,286,284,284,282,283,288,266,298,416,1412,1633,1334,1641,1495,1245,1434,1340,1338,1408,1264,1178,1083,1039,873,967,711,744,577,800,564,665,315,432,425,487,63,162,134,149,157,655,0,1515,1535,8445,859,null,602,2129,6364,7302,3669,7288,14664,5720,null,2457,6113,20684]
[null,"01",18,5682,"C.S. HUAURA",18853,null,9266,9587,null,155,146,161,143,124,119,124,122,141,130,125,90,112,126,114,133,130,124,134,137,158,130,168,132,174,136,155,161,164,197,137,143,141,142,141,142,144,133,149,208,706,817,667,821,747,623,718,670,669,704,632,589,542,520,436,484,356,372,289,400,282,333,158,216,213,244,31,81,67,74,79,327,null,756,768,4224,430,null,301,1064,3178,3646,1833,3645,7334,2863,null,1225,3055,10345]
[null,"01",19,5686,"C.S. SOCORRO",12442,null,6115,6327,null,103,96,106,94,82,79,82,81,94,86,83,60,74,83,75,87,86,83,89,90,104,85,111,87,115,90,102,107,108,130,91,94,94,94,93,93,95,88,98,137,466,539,440,542,493,411,473,442,442,465,417,389,357,343,288,319,234,246,190,264,186,219,104,143,140,161,21,53,44,50,52,216,null,499,506,2788,283,null,199,704,2100,2408,1211,2405,4839,1887,null,810,2016,6826]
[null,"01",20,5683,"P.S. HUMAYA",3394,null,1668,1726,null,28,26,29,26,22,22,22,22,26,23,23,16,20,23,20,24,23,23,24,25,29,23,30,24,31,25,28,29,29,36,25,26,26,25,25,25,26,23,27,37,127,147,120,148,135,112,129,121,120,127,114,106,97,94,79,86,64,67,52,72,51,60,29,39,38,44,6,15,13,13,13,59,null,137,136,761,77,null,54,192,573,657,330,655,1320,516,null,221,549,1862]
[null,"01",21,5684,"P.S. VILCAHUAURA",2639,null,1297,1342,null,22,20,23,20,17,17,17,17,20,18,18,13,16,18,16,19,18,18,19,19,22,18,24,19,24,19,22,23,23,28,19,20,20,20,20,20,20,19,21,29,99,114,93,115,105,87,100,94,94,98,88,82,76,72,61,68,50,52,40,56,39,46,21,30,30,34,4,11,9,11,11,46,null,107,108,590,60,null,42,149,448,515,258,510,1025,398,null,174,430,1446]
[null,"01",22,5685,"P.S. PEÑICO",377,null,185,192,null,3,3,3,3,2,2,2,2,3,3,3,2,2,3,2,3,3,3,3,3,3,3,3,3,3,3,3,3,3,4,3,3,3,3,3,3,3,3,3,5,14,16,14,15,15,12,14,13,13,14,13,12,11,10,9,10,7,7,6,8,6,7,3,4,4,4,1,2,1,1,2,7,null,16,17,82,9,null,6,20,65,76,37,73,146,56,null,27,63,205]
[150807,null,23,150807,"DISTRITO LEONCIO PRADO",2094,null,1016,1078,null,12,13,16,10,18,13,15,14,13,19,14,13,17,19,16,20,17,17,15,18,17,13,14,13,12,12,12,12,12,18,11,11,13,10,10,11,11,12,11,17,67,85,84,73,63,65,65,72,68,63,65,81,67,79,53,48,47,53,46,49,47,40,27,34,41,51,2,7,6,5,7,36,0,68,61,439,47,null,25,118,366,367,144,360,789,435,null,166,252,1098]
[null,"03",24,5778,"P.S. AUQUIMARCA",105,null,51,54,null,1,0,1,0,1,0,1,0,0,1,0,1,1,1,1,1,1,1,1,1,1,0,0,0,1,1,1,1,1,1,1,1,1,1,1,1,1,1,1,1,3,4,4,4,3,3,3,4,3,3,3,4,3,4,3,2,2,3,2,2,2,2,1,2,2,3,0,1,0,0,0,2,null,3,5,22,2,null,1,4,15,22,12,19,38,21,null,9,17,53]
[null,"03",25,5779,"P.S. PARAN",733,null,356,377,null,4,5,6,4,6,5,5,5,5,7,5,4,6,6,6,7,6,6,5,6,6,5,5,5,4,4,4,4,4,6,4,4,4,3,3,4,4,4,4,6,24,30,29,25,22,23,23,25,24,22,23,29,24,27,18,17,17,18,16,17,16,14,9,12,15,18,1,2,2,2,3,13,null,24,21,154,17,null,9,43,130,126,48,126,277,152,null,57,87,385]
[null,"03",26,6725,"P.S. SANTA CRUZ",419,null,203,216,null,2,3,3,2,4,3,3,3,3,3,3,3,3,4,3,4,3,3,3,4,3,3,3,3,2,2,2,2,2,4,2,2,3,2,2,2,2,2,2,3,13,17,17,15,13,13,13,14,14,13,13,16,13,16,11,10,9,11,10,10,10,8,6,6,8,10,0,1,2,1,1,7,null,14,11,88,9,null,5,24,74,72,27,71,159,88,null,33,48,221]
[null,"03",27,7757,"P.S. HUANANGUI",837,null,406,431,null,5,5,6,4,7,5,6,6,5,8,6,5,7,8,6,8,7,7,6,7,7,5,6,5,5,5,5,5,5,7,4,4,5,4,4,4,4,5,4,7,27,34,34,29,25,26,26,29,27,25,26,32,27,32,21,19,19,21,18,20,19,16,11,14,16,20,1,3,2,2,3,14,null,27,24,175,19,null,10,47,147,147,57,144,315,174,null,67,100,439]
[150808,null,28,150808,"DISTRITO PACCHO",2444,null,1202,1242,null,9,4,8,16,12,11,7,7,11,11,16,8,15,13,14,14,14,16,16,15,16,16,16,16,17,15,15,15,16,16,11,9,9,8,8,8,8,8,8,14,45,71,65,58,71,67,80,75,95,78,73,78,78,74,79,78,86,106,95,104,82,85,52,57,55,71,2,6,1,3,3,30,0,78,47,427,47,null,13,83,301,352,147,277,926,793,null,141,249,1165]
[null,"05",29,5650,"P.S. PACCHO",978,null,481,497,null,4,1,4,6,5,4,3,3,4,4,6,4,6,5,6,6,6,6,6,6,6,6,6,6,7,6,6,6,6,6,4,4,4,4,4,4,3,3,3,6,18,28,26,23,28,27,32,30,38,31,29,32,31,30,32,31,34,42,38,42,33,34,21,23,22,28,1,2,0,2,1,12,null,30,21,171,19,null,5,33,119,142,61,110,371,317,null,57,100,466]
[null,"05",30,5651,"P.S. LACSANGA",734,null,361,373,null,3,1,2,5,3,3,2,2,3,3,5,2,5,4,4,4,4,5,5,5,5,5,5,5,5,5,5,5,5,5,3,3,3,2,2,2,2,3,2,4,14,21,20,18,21,20,24,23,29,23,22,23,23,22,23,23,26,32,29,31,25,26,16,17,16,21,1,2,0,1,1,9,null,25,14,128,14,null,4,23,90,108,45,84,276,239,null,43,76,349]
[null,"05",31,5653,"P.S. AYARANGA",342,null,168,174,null,1,1,1,2,2,2,1,1,2,2,2,1,2,2,2,2,2,2,2,2,2,2,2,2,2,2,2,2,2,2,2,1,1,1,1,1,2,1,2,2,6,10,9,8,11,9,11,11,13,11,10,11,11,10,11,11,12,15,13,15,11,12,7,8,8,10,0,1,1,0,0,4,null,10,6,60,7,null,2,13,42,46,19,40,130,111,null,19,34,163]
[null,"05",32,5652,"P.S. MUZGA",390,null,192,198,null,1,1,1,3,2,2,1,1,2,2,3,1,2,2,2,2,2,3,3,2,3,3,3,3,3,2,2,2,3,3,2,1,1,1,1,1,1,1,1,2,7,12,10,9,11,11,13,11,15,13,12,12,13,12,13,13,14,17,15,16,13,13,8,9,9,12,0,1,0,0,1,5,null,13,6,68,7,null,2,14,50,56,22,43,149,126,null,22,39,187]
[150809,null,33,150809,"DISTRITO SANTA LEONOR",1571,null,746,825,null,7,5,6,4,4,5,4,4,4,12,7,6,10,10,11,10,11,12,12,14,15,12,15,15,15,15,13,15,12,17,10,9,8,8,7,7,7,7,8,11,33,52,36,33,35,39,53,47,53,55,55,57,61,69,46,50,46,62,37,51,38,46,33,32,34,34,0,4,1,3,4,26,0,74,42,283,36,null,12,43,215,296,136,187,620,413,null,{"$f":"SUM(U40:AD40)","v":103},{"$f":"SUM(AE40:AX40)","v":226},{"$f":"SUM(AY40:BN40)","v":774}]
[null,"05",34,5645,"P.S. CHIUCHIN",1099,null,522,577,null,5,3,4,3,3,3,3,3,3,9,5,4,7,7,8,7,8,8,8,10,10,8,10,10,10,10,9,10,8,12,7,6,6,6,5,5,5,5,6,8,23,37,26,23,25,27,37,33,37,38,38,40,43,49,32,35,32,44,26,36,26,32,23,22,24,24,0,3,1,2,2,18,null,50,30,198,26,null,8,31,149,204,94,133,434,289,null,72,156,543]
[null,"05",35,5646,"P.S. PARQUIN",283,null,134,149,null,1,1,1,1,1,1,1,1,1,2,1,1,2,2,2,2,2,3,2,2,3,3,3,3,3,3,2,3,2,3,2,2,1,1,1,1,1,1,1,2,6,9,6,6,6,7,10,8,10,10,10,10,11,12,8,9,8,11,7,9,7,8,6,6,6,6,0,1,0,0,1,5,null,15,7,50,6,null,2,9,42,55,24,32,111,74,null,19,41,138]
[null,"05",36,5647,"P.S. JUCUL",189,null,90,99,null,1,1,1,0,0,1,0,0,0,1,1,1,1,1,1,1,1,1,2,2,2,1,2,2,2,2,2,2,2,2,1,1,1,1,1,1,1,1,1,1,4,6,4,4,4,5,6,6,6,7,7,7,7,8,6,6,6,7,4,6,5,6,4,4,4,4,0,0,0,1,1,3,null,9,5,35,4,null,2,3,24,37,18,22,75,50,null,12,29,93]
[150810,null,37,150810,"DISTRITO SANTA MARIA",37026,null,17796,19230,null,329,324,326,332,283,243,246,249,313,299,329,331,232,214,206,252,232,241,244,250,245,277,254,287,298,253,269,281,254,365,250,213,237,219,233,215,211,229,220,357,1234,1370,1231,1397,1192,1368,1216,1566,1297,1259,996,1279,1009,1008,1119,935,786,967,630,873,724,596,452,469,699,712,50,143,139,186,185,596,0,1463,1233,8239,783,null,653,2291,6538,6681,3087,6249,14244,6908,null,2531,5167,19476]
[null,"02",38,5668,"C.S. SANTA MARIA",10367,null,4983,5384,null,92,91,91,92,79,69,69,70,88,83,92,93,65,60,58,71,65,67,68,70,69,78,71,80,83,71,75,79,71,102,70,60,66,61,65,60,59,64,62,100,346,384,345,391,334,383,340,438,363,353,279,358,283,282,313,262,220,271,176,244,203,167,127,131,196,199,14,40,39,52,52,167,null,410,345,2307,219,null,183,641,1831,1870,863,1751,3988,1934,null,709,1446,5454]
[null,"02",39,5669,"P.S. CHONTA",5554,null,2669,2885,null,49,49,49,50,42,36,36,37,47,45,49,50,34,32,31,38,35,36,37,38,37,41,38,43,45,38,40,42,38,55,38,32,36,33,35,32,32,34,33,54,185,206,185,210,179,205,182,235,195,189,149,192,151,151,168,140,118,145,95,131,108,89,68,70,105,107,8,21,21,28,28,89,null,219,185,1237,117,null,98,342,979,1003,464,939,2136,1036,null,380,776,2922]
[null,"02",40,5671,"P.S. ZAPATA",2962,null,1424,1538,null,26,26,26,27,23,19,20,20,25,24,26,26,19,17,16,20,19,19,20,20,20,22,20,23,24,20,22,22,20,29,20,17,19,18,19,17,17,18,18,29,99,110,98,112,95,109,97,125,104,101,80,102,81,81,89,75,63,77,50,70,58,48,35,38,56,57,4,11,11,15,15,48,null,116,99,659,63,null,52,184,523,534,247,501,1139,552,null,202,414,1558]
[null,"02",41,5670,"P.S. AMADO VELASQUEZ",11108,null,5339,5769,null,99,96,98,100,85,73,74,75,94,90,99,99,70,64,62,76,69,72,73,75,72,83,76,86,89,76,81,84,76,110,75,64,71,66,70,65,63,69,66,107,370,410,369,419,358,410,365,470,389,378,299,384,303,302,336,280,236,290,189,262,217,179,136,141,210,214,14,43,42,56,54,179,null,439,371,2471,235,null,195,689,1960,2003,927,1873,4274,2074,null,759,1549,5842]
[null,"02",42,5672,"P.S. SAN BARTOLOME",7035,null,3381,3654,null,63,62,62,63,54,46,47,47,59,57,63,63,44,41,39,47,44,47,46,47,47,53,49,55,57,48,51,54,49,69,47,40,45,41,44,41,40,44,41,67,234,260,234,265,226,261,232,298,246,238,189,243,191,192,213,178,149,184,120,166,138,113,86,89,132,135,10,28,26,35,36,113,null,279,233,1565,149,null,125,435,1245,1271,586,1185,2707,1312,null,481,982,3700]
[150811,null,43,150811,"DISTRITO SAYAN",25949,null,12304,13645,null,214,183,231,210,197,191,239,217,220,223,218,244,186,172,177,185,173,196,176,201,188,204,192,208,207,198,210,194,205,254,186,158,162,182,190,150,169,169,153,300,864,1272,1001,1137,1005,944,1066,883,793,979,702,1016,655,709,583,671,495,540,396,506,404,360,218,267,229,322,48,103,81,111,102,460,0,1058,959,6231,604,null,397,1728,4845,5016,2296,5065,10006,3737,null,1928,3879,14280]
[null,"03",44,5780,"C.S. SAYAN",8563,null,4060,4503,null,71,61,76,69,65,61,79,72,73,74,72,81,61,57,58,61,57,65,59,67,62,67,63,69,68,65,69,64,68,84,61,52,53,60,63,50,56,56,50,99,285,420,330,375,332,312,352,291,262,323,232,335,216,234,192,221,163,178,131,167,133,119,72,88,76,106,17,34,27,37,34,151,null,349,317,2056,200,null,132,569,1600,1656,757,1671,3302,1233,null,638,1279,4712]
[null,"03",45,5774,"C.S. 9 DE OCTUBRE",6877,null,3261,3616,null,57,48,61,57,52,51,63,57,58,59,58,65,49,46,48,49,46,52,47,53,50,54,51,55,55,53,56,51,54,67,49,42,43,48,50,40,45,45,41,80,229,337,265,301,266,250,282,234,210,259,186,269,174,188,154,178,131,143,105,134,107,95,58,71,61,85,13,27,21,30,27,122,null,280,255,1650,160,null,105,458,1286,1331,608,1343,2650,990,null,513,1029,3782]
[null,"03",46,5781,"P.S. CHAMBARA",778,null,369,409,null,6,5,7,6,6,6,7,7,6,7,7,7,6,5,5,6,5,6,5,6,6,6,5,6,6,6,6,6,6,8,6,5,5,5,6,5,5,5,5,8,26,38,30,34,30,28,32,26,24,29,21,32,20,21,18,20,15,16,12,15,12,11,6,8,7,10,1,3,2,3,3,14,null,32,28,187,18,null,11,52,144,151,70,151,301,112,null,58,116,429]
[null,"03",47,5775,"P.S. LA MERCED",1039,null,492,547,null,9,7,9,8,8,8,10,9,8,9,9,10,7,7,7,7,7,8,7,8,8,8,8,9,9,8,9,8,9,10,7,6,6,7,7,6,7,7,5,12,34,51,41,45,41,38,43,35,31,39,28,41,25,29,23,27,20,22,15,21,17,14,9,11,9,12,2,5,3,4,4,18,null,43,38,249,24,null,16,69,195,202,92,202,400,150,null,77,156,571]
[null,"03",48,5776,"P.S. LA VILLA",7136,null,3384,3752,null,59,50,64,58,54,53,66,60,61,61,60,67,51,47,49,51,48,54,48,55,52,56,53,57,57,54,58,53,56,70,51,43,45,50,52,41,46,46,42,83,238,350,275,313,276,260,293,243,218,269,193,279,180,195,160,185,136,149,109,139,111,99,60,73,63,89,13,28,22,31,28,127,null,290,263,1714,166,null,109,477,1334,1378,630,1393,2751,1028,null,530,1065,3927]
[null,"03",49,5777,"P.S. EL AHORCADO",778,null,369,409,null,6,6,7,6,6,6,7,6,7,6,6,7,6,5,5,6,5,5,5,6,5,7,6,6,6,6,6,6,6,7,6,5,5,6,6,4,5,5,5,9,26,38,30,35,30,28,32,27,24,30,21,30,20,21,18,20,15,16,12,15,12,11,6,8,7,10,1,3,3,3,3,14,null,32,29,188,18,null,12,51,143,149,69,153,301,112,null,56,117,430]
[null,"03",50,6726,"P.S. LA UNION",778,null,369,409,null,6,6,7,6,6,6,7,6,7,7,6,7,6,5,5,5,5,6,5,6,5,6,6,6,6,6,6,6,6,8,6,5,5,6,6,4,5,5,5,9,26,38,30,34,30,28,32,27,24,30,21,30,20,21,18,20,15,16,12,15,12,11,7,8,6,10,1,3,3,3,3,14,null,32,29,187,18,null,12,52,143,149,70,152,301,112,null,56,117,429]
[150812,null,51,150812,"DISTRITO VEGUETA",24638,null,11838,12800,null,261,237,298,258,255,263,238,242,260,224,270,241,152,140,142,154,158,146,151,166,187,153,163,192,169,198,179,193,164,254,145,177,170,151,179,140,143,175,165,253,781,1149,822,974,872,727,731,904,784,858,640,926,652,677,650,588,518,501,444,486,402,405,298,275,395,373,29,130,97,131,140,474,0,990,896,5538,627,null,498,2038,4951,4534,2119,4462,9009,4097,null,1720,3550,12735]
[null,"04",52,5673,"C.S. VEGUETA",6899,null,3315,3584,null,73,66,83,72,71,74,67,69,72,63,76,68,43,40,40,43,44,41,42,45,52,42,46,54,47,55,50,55,46,71,41,49,48,42,50,40,40,48,46,71,219,322,230,273,244,204,205,253,220,240,179,259,183,190,182,165,145,141,124,136,113,113,83,75,111,105,8,36,27,37,39,133,null,277,250,1551,176,null,139,571,1386,1270,594,1249,2524,1146,null,482,993,3568]
[null,"04",53,5674,"P.S. MAZO",2464,null,1184,1280,null,26,24,30,26,26,26,24,24,26,22,27,24,15,14,14,15,16,15,15,17,19,15,16,19,17,20,18,19,16,25,15,18,17,15,18,14,14,17,17,25,78,115,82,97,87,73,73,90,78,86,64,93,65,68,65,59,52,50,44,49,40,41,30,28,40,37,3,13,10,13,14,47,null,98,89,554,63,null,50,204,495,453,212,445,901,411,null,172,354,1273]
[null,"04",54,5675,"P.S. PRIMAVERA",5420,null,2604,2816,null,57,52,66,56,56,58,52,53,57,49,59,53,32,31,32,34,35,32,33,37,41,34,36,42,37,44,39,42,36,56,32,39,37,33,39,31,32,39,36,55,172,253,181,214,192,160,161,199,172,189,142,204,143,149,143,129,114,110,98,107,88,89,66,61,88,82,6,28,21,29,31,104,null,218,197,1219,138,null,109,447,1087,996,465,982,1983,903,null,378,780,2803]
[null,"04",55,5676,"P.S. MARIATEGUI",6406,null,3078,3328,null,68,62,77,67,66,68,62,63,68,59,70,63,40,36,37,40,40,38,39,43,49,40,42,50,44,51,47,50,43,66,37,46,44,39,47,36,37,46,43,66,203,299,214,253,227,189,190,235,204,223,166,241,170,176,169,153,135,130,115,126,105,105,77,72,103,97,8,34,25,34,37,123,null,257,233,1440,163,null,130,530,1287,1177,550,1161,2343,1065,null,446,923,3312]
[null,"04",56,5677,"P.S. MEDIO MUNDO",3203,null,1539,1664,null,34,31,39,34,33,34,31,31,34,29,35,31,20,18,18,20,21,19,20,22,24,20,21,25,22,26,23,25,21,33,19,23,22,20,23,18,19,23,21,33,102,149,107,127,113,95,95,118,102,112,83,120,85,87,85,76,67,65,58,63,52,53,39,36,51,48,4,17,13,17,18,62,null,129,117,721,82,null,65,265,644,589,275,581,1171,532,null,224,461,1656]
[null,"04",57,5678,"P.S. TIROLER",246,null,118,128,null,3,2,3,3,3,3,2,2,3,2,3,2,2,1,1,2,2,1,2,2,2,2,2,2,2,2,2,2,2,3,1,2,2,2,2,1,1,2,2,3,7,11,8,10,9,6,7,9,8,8,6,9,6,7,6,6,5,5,5,5,4,4,3,3,2,4,0,2,1,1,1,5,null,11,10,53,5,null,5,21,52,49,23,44,87,40,null,18,39,123]
[150900,null,58,150900,"PROVINCIA OYON",23477,null,11330,12147,null,134,122,138,140,121,95,133,105,159,120,144,150,190,181,195,181,203,182,181,211,200,210,199,221,210,212,193,210,201,241,153,152,143,137,145,121,136,117,137,201,717,879,860,1008,903,874,973,1044,844,807,677,872,593,673,549,591,417,472,481,503,420,406,300,348,281,361,60,65,60,69,62,524,0,1094,728,5484,715,null,256,1011,3915,4766,2118,4055,9400,3989,null,1818,3539,12864]
[150901,null,59,150901,"DISTRITO OYON",14536,null,6985,7551,null,87,67,95,87,75,62,77,63,93,83,92,88,128,123,135,120,138,122,119,148,131,147,128,156,137,148,130,141,135,160,100,104,97,90,99,78,92,76,91,130,492,570,592,728,639,601,655,719,556,498,391,567,378,392,270,337,194,211,235,228,170,173,118,163,116,171,31,47,39,40,28,349,0,752,478,3683,462,null,154,635,2564,3194,1419,2771,6003,1779,null,1213,2370,8385]
[null,"05",60,5659,"C.S. OYON",10756,null,5169,5587,null,65,50,70,64,55,46,57,46,69,61,68,65,95,91,100,89,102,90,88,110,97,109,95,115,101,110,96,105,100,118,74,78,72,66,73,58,68,56,67,96,364,421,438,540,473,445,485,532,411,368,289,420,280,290,200,250,144,156,174,170,126,127,87,120,86,125,23,35,29,30,21,259,null,557,354,2726,342,null,115,468,1897,2365,1051,2050,4443,1315,null,898,1754,6206]
[null,"05",61,5660,"P.S. MALLAY",1163,null,559,604,null,7,5,8,7,6,5,6,5,7,7,7,7,11,10,11,10,11,10,10,12,10,12,11,12,11,12,10,11,11,13,8,8,8,7,8,6,7,6,7,10,39,46,47,58,51,48,52,58,44,40,31,45,30,31,22,27,16,17,19,18,14,14,10,13,9,14,2,4,3,3,2,28,null,60,37,295,37,null,12,51,207,257,113,220,479,144,null,99,188,669]
[null,"05",62,5661,"P.S. NAVA",146,null,70,76,null,1,1,1,1,1,1,1,1,1,1,1,1,1,1,1,1,1,1,1,1,1,1,1,2,1,1,1,1,1,2,1,1,1,1,1,1,1,1,1,1,5,6,6,7,6,6,7,7,6,5,4,6,4,4,3,3,2,2,2,2,2,2,2,2,1,2,0,1,0,0,1,3,null,7,5,37,5,null,2,8,25,28,13,28,61,19,null,10,22,85]
[null,"05",63,5662,"P.S. TINTA",727,null,349,378,null,4,3,5,5,4,3,4,3,5,4,5,4,6,6,7,6,7,6,6,7,7,7,6,8,7,7,7,7,7,8,5,5,4,5,5,4,5,4,5,7,25,29,30,36,32,30,32,36,28,25,20,28,19,20,13,17,9,11,12,11,8,9,5,8,5,9,2,2,2,2,1,17,null,37,25,184,23,null,7,33,128,159,71,141,300,87,null,60,120,420]
[null,"05",64,5648,"P.S. RAPAZ",1744,null,838,906,null,10,8,11,10,9,7,9,8,11,10,11,11,15,15,16,14,17,15,14,18,16,18,15,19,17,18,16,17,16,19,12,12,12,11,12,9,11,9,11,16,59,68,71,87,77,72,79,86,67,60,47,68,45,47,32,40,23,25,28,27,20,21,14,20,15,21,4,5,5,5,3,42,null,91,57,441,55,null,18,75,307,385,171,332,720,214,null,146,286,1005]
[150902,null,65,150902,"DISTRITO ANDAJES",1218,null,579,639,null,3,3,2,0,2,4,3,4,2,4,2,2,5,4,5,5,5,5,5,4,5,6,5,6,6,5,6,5,4,7,4,4,4,4,4,4,4,4,6,8,21,26,33,34,24,24,36,44,33,37,40,50,25,35,41,47,41,40,67,70,38,41,58,54,40,49,1,0,2,3,1,9,0,29,24,215,14,null,6,21,91,121,57,136,436,498,null,{"$f":"SUM(U72:AD72)","v":42},{"$f":"SUM(AE72:AX72)","v":101},{"$f":"SUM(AY72:BN72)","v":550}]
[null,"05",66,5654,"P.S. ANDAJES",1218,null,579,639,null,3,3,2,0,2,4,3,4,2,4,2,2,5,4,5,5,5,5,5,4,5,6,5,6,6,5,6,5,4,7,4,4,4,4,4,4,4,4,6,8,21,26,33,34,24,24,36,44,33,37,40,50,25,35,41,47,41,40,67,70,38,41,58,54,40,49,1,0,2,3,1,9,null,29,24,215,14,null,{"$f":"SUM(K73:L73)","v":6},{"$f":"SUM(M73:T73)","v":21},{"$f":"SUM(K73:AH73)","v":91},{"$f":"SUM(U73:AT73)","v":121},{"$f":"SUM(AI73:AT73)","v":57},{"$f":"SUM(AU73:BB73)","v":136},{"$f":"SUM(BC73:BN73)","v":436},{"$f":"SUM(BO73:BX73)","v":498},null,42,101,550]
[150903,null,67,150903,"DISTRITO CAUJUL",1079,null,508,571,null,4,4,3,2,2,0,8,9,6,2,6,10,9,10,9,9,10,8,8,7,8,8,7,7,7,7,7,7,8,9,6,5,6,5,5,6,5,6,5,9,35,35,29,36,32,41,37,43,31,38,39,46,29,36,29,28,24,30,34,43,21,22,17,22,22,21,1,2,2,2,2,17,0,38,31,239,27,null,8,32,156,194,78,160,429,256,null,86,133,564]
[null,"05",68,5655,"P.S. CAUJUL",1079,null,508,571,null,4,4,3,2,2,0,8,9,6,2,6,10,9,10,9,9,10,8,8,7,8,8,7,7,7,7,7,7,8,9,6,5,6,5,5,6,5,6,5,9,35,35,29,36,32,41,37,43,31,38,39,46,29,36,29,28,24,30,34,43,21,22,17,22,22,21,1,2,2,2,2,17,null,38,31,239,27,null,8,32,156,194,78,160,429,256,null,86,133,564]
[150904,null,69,150904,"DISTRITO COCHAMARCA",1647,null,806,841,null,6,14,4,6,8,8,10,7,19,11,7,7,15,16,14,18,17,16,17,18,18,16,19,17,19,15,16,17,15,19,14,12,12,12,11,9,11,9,9,14,47,61,41,42,56,58,61,66,64,58,46,51,35,42,47,40,31,39,31,30,31,34,23,29,32,30,13,1,5,5,9,33,0,84,56,336,47,null,20,73,308,386,171,234,624,310,null,145,284,815]
[null,"03",70,5783,"P.S. COCHAMARCA",708,null,346,362,null,3,6,2,3,3,3,4,3,8,5,3,3,6,7,6,8,7,7,7,8,8,7,8,7,8,6,7,7,6,8,6,5,5,5,5,4,5,4,4,6,20,26,18,18,24,25,26,28,28,25,20,22,15,18,20,17,13,17,13,13,13,15,10,12,15,14,6,1,2,2,4,14,null,35,24,144,20,null,9,31,132,164,72,101,268,135,null,62,121,350]
[null,"03",71,5784,"P.S. COLCAPAMPA",774,null,379,395,null,3,7,2,2,4,4,5,3,9,5,3,3,7,8,7,8,8,8,8,8,8,7,9,8,9,7,7,8,7,9,7,6,6,6,5,4,5,4,4,7,22,29,19,20,26,27,29,31,30,27,21,24,16,20,22,19,15,18,15,14,15,16,11,14,15,14,6,0,3,3,4,16,null,39,27,158,22,null,10,34,144,181,81,110,292,147,null,68,133,382]
[null,"03",72,5785,"P.S. YARUCAYA",165,null,81,84,null,0,1,0,1,1,1,1,1,2,1,1,1,2,1,1,2,2,1,2,2,2,2,2,2,2,2,2,2,2,2,1,1,1,1,1,1,1,1,1,1,5,6,4,4,6,6,6,7,6,6,5,5,4,4,5,4,3,4,3,3,3,3,2,3,2,2,1,0,0,0,1,3,null,10,5,34,5,null,1,8,32,41,18,23,64,28,null,15,30,83]
[150905,null,73,150905,"DISTRITO NAVAN",1241,null,607,634,null,4,3,1,6,4,4,5,4,11,2,7,5,8,6,7,6,7,7,8,8,8,7,9,8,10,8,7,9,9,10,6,5,4,4,4,4,4,4,6,9,39,55,39,51,43,39,51,42,47,52,41,46,34,40,33,27,36,47,18,23,54,44,24,21,19,28,8,2,1,2,2,39,0,42,26,285,58,null,7,37,145,181,80,207,495,314,null,69,135,679]
[null,"05",74,5656,"P.S. NAVAN",1241,null,607,634,null,4,3,1,6,4,4,5,4,11,2,7,5,8,6,7,6,7,7,8,8,8,7,9,8,10,8,7,9,9,10,6,5,4,4,4,4,4,4,6,9,39,55,39,51,43,39,51,42,47,52,41,46,34,40,33,27,36,47,18,23,54,44,24,21,19,28,8,2,1,2,2,39,null,42,26,285,58,null,7,37,145,181,80,207,495,314,null,69,135,679]
[150906,null,75,150906,"DISTRITO PACHANGARA",3756,null,1845,1911,null,30,31,33,39,30,17,30,18,28,18,30,38,25,22,25,23,26,24,24,26,30,26,31,27,31,29,27,31,30,36,23,22,20,22,22,20,20,18,20,31,83,132,126,117,109,111,133,130,113,124,120,112,92,128,129,112,91,105,96,109,106,92,60,59,52,62,6,13,11,17,20,77,0,149,113,726,107,null,61,213,651,690,313,547,1413,832,null,263,516,1871]
[null,"05",76,5657,"C.S. CHURIN",3042,null,1494,1548,null,25,25,27,32,24,14,24,15,23,15,24,31,20,18,20,18,21,19,19,21,24,21,25,22,25,23,22,25,24,29,19,18,16,18,18,16,16,15,16,25,67,106,102,95,88,90,108,105,92,100,97,91,75,104,104,91,74,85,78,88,86,75,49,48,42,50,5,11,9,14,16,63,null,120,92,587,86,null,50,174,527,556,253,442,1145,675,null,211,417,1515]
[null,"05",77,5658,"P.S. PACHANGARA",301,null,148,153,null,2,3,2,3,3,1,3,1,2,1,3,3,2,2,2,2,2,2,2,2,2,2,2,2,2,3,2,2,2,3,2,2,2,2,2,2,2,1,2,3,7,11,10,9,9,9,11,10,9,10,10,9,7,10,10,9,7,8,8,9,8,7,5,5,4,5,0,1,1,1,2,6,null,12,10,58,9,null,5,16,51,56,26,45,113,66,null,22,42,150]
[null,"05",78,5649,"P.S. HUANCAHUASI",413,null,203,210,null,3,3,4,4,3,2,3,2,3,2,3,4,3,2,3,3,3,3,3,3,4,3,4,3,4,3,3,4,4,4,2,2,2,2,2,2,2,2,2,3,9,15,14,13,12,12,14,15,12,14,13,12,10,14,15,12,10,12,10,12,12,10,6,6,6,7,1,1,1,2,2,8,null,17,11,81,12,null,6,23,73,78,34,60,155,91,null,30,57,206]
[null,null,79,null,"PROVINCIA HUARAL",1214,null,577,637,null,5,5,9,13,9,10,13,7,7,7,8,7,11,8,9,10,10,8,10,8,8,8,7,8,7,8,7,6,7,9,5,7,6,6,5,6,5,6,7,9,32,51,41,41,32,37,33,42,37,44,37,52,37,36,29,29,22,29,44,41,26,31,21,19,31,29,1,2,3,3,2,19,0,39,34,267,25,null,10,75,205,199,79,192,445,293,null,89,137,610]
[null,null,80,150600,"IHUARI - ACOTAMA",1214,null,577,637,null,5,5,9,13,9,10,13,7,7,7,8,7,11,8,9,10,10,8,10,8,8,8,7,8,7,8,7,6,7,9,5,7,6,6,5,6,5,6,7,9,32,51,41,41,32,37,33,42,37,44,37,52,37,36,29,29,22,29,44,41,26,31,21,19,31,29,1,2,3,3,2,19,null,39,34,267,25,null,10,75,205,199,79,192,445,293,null,89,137,610]
[150606,"03",81]
[null,null,82,null,"MICRORED HUAURA",{"$f":"SUM(H89:I89)","v":40587},null,{"$f":"K89+M89+O89+Q89+S89+U89+W89+Y89+AA89+AC89+AE89+AG89+AI89+AK89+AM89+AO89+AQ89+AS89+AU89+AW89+AY89+BA89+BC89+BE89+BG89+BI89+BK89+BM89+BO89+BQ89+BS89+BU89+BW89","v":19918},{"$f":"L89+N89+P89+R89+T89+V89+X89+Z89+AB89+AD89+AF89+AH89+AJ89+AL89+AN89+AP89+AR89+AT89+AV89+AX89+AZ89+BB89+BD89+BF89+BH89+BJ89+BL89+BN89+BP89+BR89+BT89+BV89+BX89","v":20669},null,{"$f":"K13+K24","v":336},{"$f":"L13+L24","v":311},343,306,262,253,268,264,304,276,272,194,252,280,253,295,289,279,294,305,344,286,362,293,371,300,336,346,350,423,292,303,301,299,298,295,302,280,313,441,1509,1732,1416,1737,1577,1339,1524,1435,1414,1505,1348,1290,1161,1139,958,1039,782,816,647,877,615,722,347,473,478,{"$f":"BX13+BX24","v":536},66,174,145,162,166,694,{"$f":"CE13+CE24","v":0},1648,1618,9038,919,null,{"$f":"CK13+CK24","v":647},{"$f":"CL13+CL24","v":2276},6921,7912,3914,7730,15729,6293,null,{"$f":"CT13+CT24","v":2713},6535,22123]
[null,1,83,null,"MICRORED HUALMAY",{"$f":"SUM(H90:I90)","v":91996},null,{"$f":"K90+M90+O90+Q90+S90+U90+W90+Y90+AA90+AC90+AE90+AG90+AI90+AK90+AM90+AO90+AQ90+AS90+AU90+AW90+AY90+BA90+BC90+BE90+BG90+BI90+BK90+BM90+BO90+BQ90+BS90+BU90+BW90","v":44824},{"$f":"L90+N90+P90+R90+T90+V90+X90+Z90+AB90+AD90+AF90+AH90+AJ90+AL90+AN90+AP90+AR90+AT90+AV90+AX90+AZ90+BB90+BD90+BF90+BH90+BJ90+BL90+BN90+BP90+BR90+BT90+BV90+BX90","v":47172},null,{"$f":"K44+K20+K16+K12","v":703},{"$f":"L44+L20+L16+L12","v":702},716,738,641,594,618,610,701,692,801,765,534,528,533,557,548,574,568,606,620,626,650,640,702,620,675,644,660,821,571,543,539,558,545,538,556,516,541,886,3121,3514,3378,3303,3142,3269,3422,3415,3358,3362,2587,3239,2645,2795,2730,2517,1948,2339,1782,2161,1740,1469,1062,1224,1487,{"$f":"BX44+BX20+BX16+BX12","v":1807},127,327,324,376,378,1475,{"$f":"CE44+CE20+CE16+CE12","v":0},3351,3041,20102,1943,null,{"$f":"CK44+CK20+CK16+CK12","v":1405},{"$f":"CL44+CL20+CL16+CL12","v":5310},15265,15966,7416,15815,36481,17019,null,{"$f":"CT44+CT20+CT16+CT12","v":6014},12451,49797]
[null,2,84,null,"MICRORED SAYAN",30904,null,14703,16201,null,{"$f":"K50+K30+K76++K87","v":237},{"$f":"L50+L30+L76++L87","v":215},260,239,232,222,277,245,259,260,247,271,229,215,216,233,217,237,218,245,231,241,232,246,245,233,245,229,239,300,216,188,193,210,216,176,196,196,180,340,1010,1469,1167,1293,1156,1104,1225,1063,962,1144,850,1200,794,866,712,788,595,661,517,626,508,465,289,349,333,{"$f":"BX50+BX30+BX76++BX87","v":432},64,113,95,124,120,548,{"$f":"CE50+CE30+CE76++CE87","v":0},1249,1110,7273,723,null,{"$f":"CK50+CK30+CK76++CK87","v":452},{"$f":"CL50+CL30+CL76++CL87","v":1994},5724,5968,2690,5851,11864,4775,null,{"$f":"CT50+CT30+CT76++CT87","v":2328},4552,16803]
[null,3,85,null,"MICRORED VEGUETA",24638,null,11838,12800,null,{"$f":"K58","v":261},{"$f":"L58","v":237},298,258,255,263,238,242,260,224,270,241,152,140,142,154,158,146,151,166,187,153,163,192,169,198,179,193,164,254,145,177,170,151,179,140,143,175,165,253,781,1149,822,974,872,727,731,904,784,858,640,926,652,677,650,588,518,501,444,486,402,405,298,275,395,{"$f":"BX58","v":373},29,130,97,131,140,474,{"$f":"CE58","v":0},990,896,5538,627,null,{"$f":"CK58","v":498},{"$f":"CL58","v":2038},4951,4534,2119,4462,9009,4097,null,{"$f":"CT58","v":1720},3550,12735]
[null,4,86,null,"MICRORED CHURIN - OYON",27794,null,13424,14370,null,{"$f":"K82+K66+K72+K74+K80+K18+K35+K40","v":149},{"$f":"L82+L66+L72+L74+L80+L18+L35+L40","v":121},150,161,133,103,139,114,157,133,168,159,209,199,218,197,222,205,205,233,228,234,225,249,239,240,220,235,224,272,170,169,156,150,157,134,147,130,148,223,777,974,965,1103,992,966,1114,1165,993,954,823,1022,784,861,696,747,583,675,647,693,588,600,409,457,389,{"$f":"BX82+BX66+BX72+BX74+BX80+BX18+BX35+BX40","v":492},49,76,59,73,62,579,0,1230,806,6184,798,null,270,1090,4311,5317,2366,4467,11117,5533,null,2015,3950,14936]

{"sheet":"etapas y mredes","index":2,"n_rows":38,"n_cols":21,"rows_kept":38,"cut":false,"hidden":false,"merged":[[6,15,6,20],[6,2,6,11],[1,2,5,12],[36,2,36,3],[35,2,35,3],[34,2,34,3],[33,2,33,3],[32,2,32,3],[31,2,31,3],[30,2,30,3],[29,2,29,3],[28,2,28,3],[27,2,27,3],[26,2,26,3],[25,2,25,3],[36,4,36,5],[35,4,35,5],[34,4,34,5],[33,4,33,5],[32,4,32,5],[31,4,31,5],[25,4,25,5],[30,4,30,5],[29,4,29,5],[28,4,28,5],[27,4,27,5],[26,4,26,5]]}
[]
[null,null,"POBLACION ASIGNADA POR DISTRITO SIERRA, HOSPITAL, MICROREDES Y POR ETAPAS DE VIDA 2020"]
[]
[]
[]
[]
[null,null,"DISTRITO",null,null,null,null,null,null,null,null,null,null,null,null,"MICROREDES"]
[null,null,65,67,11,74,60,28,76,33,null,null,null,4,null,82,83,84,85,86]
[null,"POBLACION POR\nETAPAS DE VIDA","Andajes","Caujul","Checras","Naván","Oyón","Paccho","Pachangara","Santa Leonor","TOTAL","PORC. (%)",null,"HOSPITAL HUACHO",null,"HUAURA","HUALMAY","SAYAN","VEGUETA","CHURIN OYON","Total Microredes"]
[75,"Neonatal (0-28dias)",{"$f":"VLOOKUP(C$8,Poblacion!$C$8:$CV$93,$A10)","v":1},{"$f":"VLOOKUP(D$8,Poblacion!$C$8:$CV$93,$A10)","v":1},{"$f":"VLOOKUP(E$8,Poblacion!$C$8:$CV$93,$A10)","v":0},{"$f":"VLOOKUP(F$8,Poblacion!$C$8:$CV$93,$A10)","v":8},{"$f":"VLOOKUP(G$8,Poblacion!$C$8:$CV$93,$A10)","v":23},{"$f":"VLOOKUP(H$8,Poblacion!$C$8:$CV$93,$A10)","v":2},{"$f":"VLOOKUP(I$8,Poblacion!$C$8:$CV$93,$A10)","v":5},{"$f":"VLOOKUP(J$8,Poblacion!$C$8:$CV$93,$A10)","v":0},{"$f":"SUM(C10:J10)","v":40},{"$f":"IFERROR((K10/$K$20)*100,0)","v":0.17167381974248927},null,{"$f":"VLOOKUP(N$8,Poblacion!$C$8:$CV$93,$A10)","v":61},null,{"$f":"VLOOKUP(P$8,Poblacion!$C$8:$CV$93,$A10)","v":66},{"$f":"VLOOKUP(Q$8,Poblacion!$C$8:$CV$93,$A10)","v":127},{"$f":"VLOOKUP(R$8,Poblacion!$C$8:$CV$93,$A10)","v":64},{"$f":"VLOOKUP(S$8,Poblacion!$C$8:$CV$93,$A10)","v":29},{"$f":"VLOOKUP(T$8,Poblacion!$C$8:$CV$93,$A10)","v":49},{"$f":"SUM(P10:T10)","v":335}]
[87,"Infantil (Men.1año)",{"$f":"VLOOKUP(C$8,Poblacion!$C$8:$CV$93,$A11)","v":6},{"$f":"VLOOKUP(D$8,Poblacion!$C$8:$CV$93,$A11)","v":8},{"$f":"VLOOKUP(E$8,Poblacion!$C$8:$CV$93,$A11)","v":9},{"$f":"VLOOKUP(F$8,Poblacion!$C$8:$CV$93,$A11)","v":7},{"$f":"VLOOKUP(G$8,Poblacion!$C$8:$CV$93,$A11)","v":115},{"$f":"VLOOKUP(H$8,Poblacion!$C$8:$CV$93,$A11)","v":13},{"$f":"VLOOKUP(I$8,Poblacion!$C$8:$CV$93,$A11)","v":50},{"$f":"VLOOKUP(J$8,Poblacion!$C$8:$CV$93,$A11)","v":12},{"$f":"SUM(C11:J11)","v":220},{"$f":"IFERROR((K11/$K$20)*100,0)","v":0.94420600858369097},null,{"$f":"VLOOKUP(N$8,Poblacion!$C$8:$CV$93,$A11)","v":710},null,{"$f":"VLOOKUP(P$8,Poblacion!$C$8:$CV$93,$A11)","v":647},{"$f":"VLOOKUP(Q$8,Poblacion!$C$8:$CV$93,$A11)","v":1405},{"$f":"VLOOKUP(R$8,Poblacion!$C$8:$CV$93,$A11)","v":452},{"$f":"VLOOKUP(S$8,Poblacion!$C$8:$CV$93,$A11)","v":498},{"$f":"VLOOKUP(T$8,Poblacion!$C$8:$CV$93,$A11)","v":270},{"$f":"SUM(P11:T11)","v":3272}]
[88,"Pre-escolar (01-04años)",{"$f":"VLOOKUP(C$8,Poblacion!$C$8:$CV$93,$A12)","v":21},{"$f":"VLOOKUP(D$8,Poblacion!$C$8:$CV$93,$A12)","v":32},{"$f":"VLOOKUP(E$8,Poblacion!$C$8:$CV$93,$A12)","v":26},{"$f":"VLOOKUP(F$8,Poblacion!$C$8:$CV$93,$A12)","v":37},{"$f":"VLOOKUP(G$8,Poblacion!$C$8:$CV$93,$A12)","v":468},{"$f":"VLOOKUP(H$8,Poblacion!$C$8:$CV$93,$A12)","v":83},{"$f":"VLOOKUP(I$8,Poblacion!$C$8:$CV$93,$A12)","v":174},{"$f":"VLOOKUP(J$8,Poblacion!$C$8:$CV$93,$A12)","v":43},884,3.7939914163090132,null,{"$f":"VLOOKUP(N$8,Poblacion!$C$8:$CV$93,$A12)","v":2579},null,{"$f":"VLOOKUP(P$8,Poblacion!$C$8:$CV$93,$A12)","v":2276},{"$f":"VLOOKUP(Q$8,Poblacion!$C$8:$CV$93,$A12)","v":5310},{"$f":"VLOOKUP(R$8,Poblacion!$C$8:$CV$93,$A12)","v":1994},{"$f":"VLOOKUP(S$8,Poblacion!$C$8:$CV$93,$A12)","v":2038},{"$f":"VLOOKUP(T$8,Poblacion!$C$8:$CV$93,$A12)","v":1090},12708]
[89,"Niño (0-11años)",{"$f":"VLOOKUP(C$8,Poblacion!$C$8:$CV$93,$A13)","v":91},{"$f":"VLOOKUP(D$8,Poblacion!$C$8:$CV$93,$A13)","v":156},{"$f":"VLOOKUP(E$8,Poblacion!$C$8:$CV$93,$A13)","v":188},{"$f":"VLOOKUP(F$8,Poblacion!$C$8:$CV$93,$A13)","v":145},{"$f":"VLOOKUP(G$8,Poblacion!$C$8:$CV$93,$A13)","v":1897},{"$f":"VLOOKUP(H$8,Poblacion!$C$8:$CV$93,$A13)","v":301},{"$f":"VLOOKUP(I$8,Poblacion!$C$8:$CV$93,$A13)","v":527},{"$f":"VLOOKUP(J$8,Poblacion!$C$8:$CV$93,$A13)","v":215},3520,15.107296137339056,null,{"$f":"VLOOKUP(N$8,Poblacion!$C$8:$CV$93,$A13)","v":7298},null,{"$f":"VLOOKUP(P$8,Poblacion!$C$8:$CV$93,$A13)","v":6921},{"$f":"VLOOKUP(Q$8,Poblacion!$C$8:$CV$93,$A13)","v":15265},{"$f":"VLOOKUP(R$8,Poblacion!$C$8:$CV$93,$A13)","v":5724},{"$f":"VLOOKUP(S$8,Poblacion!$C$8:$CV$93,$A13)","v":4951},{"$f":"VLOOKUP(T$8,Poblacion!$C$8:$CV$93,$A13)","v":4311},37172]
[90,"Escolar  (05-17años)",{"$f":"VLOOKUP(C$8,Poblacion!$C$8:$CV$93,$A14)","v":121},{"$f":"VLOOKUP(D$8,Poblacion!$C$8:$CV$93,$A14)","v":194},{"$f":"VLOOKUP(E$8,Poblacion!$C$8:$CV$93,$A14)","v":289},{"$f":"VLOOKUP(F$8,Poblacion!$C$8:$CV$93,$A14)","v":181},{"$f":"VLOOKUP(G$8,Poblacion!$C$8:$CV$93,$A14)","v":2365},{"$f":"VLOOKUP(H$8,Poblacion!$C$8:$CV$93,$A14)","v":352},{"$f":"VLOOKUP(I$8,Poblacion!$C$8:$CV$93,$A14)","v":556},{"$f":"VLOOKUP(J$8,Poblacion!$C$8:$CV$93,$A14)","v":296},4354,18.686695278969957,null,{"$f":"VLOOKUP(N$8,Poblacion!$C$8:$CV$93,$A14)","v":7638},null,{"$f":"VLOOKUP(P$8,Poblacion!$C$8:$CV$93,$A14)","v":7912},{"$f":"VLOOKUP(Q$8,Poblacion!$C$8:$CV$93,$A14)","v":15966},{"$f":"VLOOKUP(R$8,Poblacion!$C$8:$CV$93,$A14)","v":5968},{"$f":"VLOOKUP(S$8,Poblacion!$C$8:$CV$93,$A14)","v":4534},{"$f":"VLOOKUP(T$8,Poblacion!$C$8:$CV$93,$A14)","v":5317},39697]
[91,"Adolescente (12-17años)",{"$f":"VLOOKUP(C$8,Poblacion!$C$8:$CV$93,$A15)","v":57},{"$f":"VLOOKUP(D$8,Poblacion!$C$8:$CV$93,$A15)","v":78},{"$f":"VLOOKUP(E$8,Poblacion!$C$8:$CV$93,$A15)","v":136},{"$f":"VLOOKUP(F$8,Poblacion!$C$8:$CV$93,$A15)","v":80},{"$f":"VLOOKUP(G$8,Poblacion!$C$8:$CV$93,$A15)","v":1051},{"$f":"VLOOKUP(H$8,Poblacion!$C$8:$CV$93,$A15)","v":147},{"$f":"VLOOKUP(I$8,Poblacion!$C$8:$CV$93,$A15)","v":253},{"$f":"VLOOKUP(J$8,Poblacion!$C$8:$CV$93,$A15)","v":136},1938,8.3175965665236049,null,{"$f":"VLOOKUP(N$8,Poblacion!$C$8:$CV$93,$A15)","v":3629},null,{"$f":"VLOOKUP(P$8,Poblacion!$C$8:$CV$93,$A15)","v":3914},{"$f":"VLOOKUP(Q$8,Poblacion!$C$8:$CV$93,$A15)","v":7416},{"$f":"VLOOKUP(R$8,Poblacion!$C$8:$CV$93,$A15)","v":2690},{"$f":"VLOOKUP(S$8,Poblacion!$C$8:$CV$93,$A15)","v":2119},{"$f":"VLOOKUP(T$8,Poblacion!$C$8:$CV$93,$A15)","v":2366},18505]
[92,"Adulto Joven (18-29años)",{"$f":"VLOOKUP(C$8,Poblacion!$C$8:$CV$93,$A16)","v":136},{"$f":"VLOOKUP(D$8,Poblacion!$C$8:$CV$93,$A16)","v":160},{"$f":"VLOOKUP(E$8,Poblacion!$C$8:$CV$93,$A16)","v":182},{"$f":"VLOOKUP(F$8,Poblacion!$C$8:$CV$93,$A16)","v":207},{"$f":"VLOOKUP(G$8,Poblacion!$C$8:$CV$93,$A16)","v":2050},{"$f":"VLOOKUP(H$8,Poblacion!$C$8:$CV$93,$A16)","v":277},{"$f":"VLOOKUP(I$8,Poblacion!$C$8:$CV$93,$A16)","v":442},{"$f":"VLOOKUP(J$8,Poblacion!$C$8:$CV$93,$A16)","v":187},3641,15.626609442060085,null,{"$f":"VLOOKUP(N$8,Poblacion!$C$8:$CV$93,$A16)","v":8087},null,{"$f":"VLOOKUP(P$8,Poblacion!$C$8:$CV$93,$A16)","v":7730},{"$f":"VLOOKUP(Q$8,Poblacion!$C$8:$CV$93,$A16)","v":15815},{"$f":"VLOOKUP(R$8,Poblacion!$C$8:$CV$93,$A16)","v":5851},{"$f":"VLOOKUP(S$8,Poblacion!$C$8:$CV$93,$A16)","v":4462},{"$f":"VLOOKUP(T$8,Poblacion!$C$8:$CV$93,$A16)","v":4467},38325]
[93,"Adulto    (30-59años)",{"$f":"VLOOKUP(C$8,Poblacion!$C$8:$CV$93,$A17)","v":436},{"$f":"VLOOKUP(D$8,Poblacion!$C$8:$CV$93,$A17)","v":429},{"$f":"VLOOKUP(E$8,Poblacion!$C$8:$CV$93,$A17)","v":795},{"$f":"VLOOKUP(F$8,Poblacion!$C$8:$CV$93,$A17)","v":495},{"$f":"VLOOKUP(G$8,Poblacion!$C$8:$CV$93,$A17)","v":4443},{"$f":"VLOOKUP(H$8,Poblacion!$C$8:$CV$93,$A17)","v":926},{"$f":"VLOOKUP(I$8,Poblacion!$C$8:$CV$93,$A17)","v":1145},{"$f":"VLOOKUP(J$8,Poblacion!$C$8:$CV$93,$A17)","v":620},9289,39.866952789699575,null,{"$f":"VLOOKUP(N$8,Poblacion!$C$8:$CV$93,$A17)","v":20077},null,{"$f":"VLOOKUP(P$8,Poblacion!$C$8:$CV$93,$A17)","v":15729},{"$f":"VLOOKUP(Q$8,Poblacion!$C$8:$CV$93,$A17)","v":36481},{"$f":"VLOOKUP(R$8,Poblacion!$C$8:$CV$93,$A17)","v":11864},{"$f":"VLOOKUP(S$8,Poblacion!$C$8:$CV$93,$A17)","v":9009},{"$f":"VLOOKUP(T$8,Poblacion!$C$8:$CV$93,$A17)","v":11117},84200]
[94,"Adu.Mayor (60 a MAS)",{"$f":"VLOOKUP(C$8,Poblacion!$C$8:$CV$93,$A18)","v":498},{"$f":"VLOOKUP(D$8,Poblacion!$C$8:$CV$93,$A18)","v":256},{"$f":"VLOOKUP(E$8,Poblacion!$C$8:$CV$93,$A18)","v":648},{"$f":"VLOOKUP(F$8,Poblacion!$C$8:$CV$93,$A18)","v":314},{"$f":"VLOOKUP(G$8,Poblacion!$C$8:$CV$93,$A18)","v":1315},{"$f":"VLOOKUP(H$8,Poblacion!$C$8:$CV$93,$A18)","v":793},{"$f":"VLOOKUP(I$8,Poblacion!$C$8:$CV$93,$A18)","v":675},{"$f":"VLOOKUP(J$8,Poblacion!$C$8:$CV$93,$A18)","v":413},4912,21.081545064377682,null,{"$f":"VLOOKUP(N$8,Poblacion!$C$8:$CV$93,$A18)","v":9906},null,{"$f":"VLOOKUP(P$8,Poblacion!$C$8:$CV$93,$A18)","v":6293},{"$f":"VLOOKUP(Q$8,Poblacion!$C$8:$CV$93,$A18)","v":17019},{"$f":"VLOOKUP(R$8,Poblacion!$C$8:$CV$93,$A18)","v":4775},{"$f":"VLOOKUP(S$8,Poblacion!$C$8:$CV$93,$A18)","v":4097},{"$f":"VLOOKUP(T$8,Poblacion!$C$8:$CV$93,$A18)","v":5533},37717]
[85,"Gestantes",{"$f":"VLOOKUP(C$8,Poblacion!$C$8:$CV$93,$A19)","v":14},{"$f":"VLOOKUP(D$8,Poblacion!$C$8:$CV$93,$A19)","v":27},{"$f":"VLOOKUP(E$8,Poblacion!$C$8:$CV$93,$A19)","v":47},{"$f":"VLOOKUP(F$8,Poblacion!$C$8:$CV$93,$A19)","v":58},{"$f":"VLOOKUP(G$8,Poblacion!$C$8:$CV$93,$A19)","v":342},{"$f":"VLOOKUP(H$8,Poblacion!$C$8:$CV$93,$A19)","v":47},{"$f":"VLOOKUP(I$8,Poblacion!$C$8:$CV$93,$A19)","v":86},{"$f":"VLOOKUP(J$8,Poblacion!$C$8:$CV$93,$A19)","v":36},657,2.8197424892703862,null,{"$f":"VLOOKUP(N$8,Poblacion!$C$8:$CV$93,$A19)","v":937},null,{"$f":"VLOOKUP(P$8,Poblacion!$C$8:$CV$93,$A19)","v":919},{"$f":"VLOOKUP(Q$8,Poblacion!$C$8:$CV$93,$A19)","v":1943},{"$f":"VLOOKUP(R$8,Poblacion!$C$8:$CV$93,$A19)","v":723},{"$f":"VLOOKUP(S$8,Poblacion!$C$8:$CV$93,$A19)","v":627},{"$f":"VLOOKUP(T$8,Poblacion!$C$8:$CV$93,$A19)","v":798},5010]
[null," TOTAL",{"$f":"C13+C15+C16+C17+C18","v":1218},{"$f":"D13+D15+D16+D17+D18","v":1079},1949,1241,10756,2444,3042,1571,{"$f":"K13+K15+K16+K17+K18","v":23300},{"$f":"IFERROR((K20/$K$20)*100,0)","v":100},null,{"$f":"N13+N15+N16+N17+N18","v":48997},null,40587,91996,30904,24638,27794,215919]
[null,{"$f":"Interfaz!$A$22","v":"Elaboración: Área de Estadística - RIS Huaura Oyón."}]
[]
[]
[]
[null,null,null,null,null,null,1,{"$f":"VLOOKUP($G$25,Poblacion!$C$8:$E$93,3,FALSE)","v":"HUAURA - OYON"}]
[null,"POBLACION POR\nETAPAS DE VIDA","TOTAL",null,"PORC. (%)",null,null,{"$f":"+\"POBLACION POR ETAPAS DE VIDA DEL \"&$H$25","v":"POBLACION POR ETAPAS DE VIDA DEL HUAURA - OYON"}]
[75,"Neonatal (0-28dias)",{"$f":"VLOOKUP($G$25,Poblacion!$C$8:$CV$93,$A27)","v":396},null,{"$f":"IFERROR(($C27/$C$37)*100,0)","v":0.14948134503012275},null,null,{"$f":"B30","v":"Niño (0-11años)"},{"$f":"C30","v":44470}]
[87,"Infantil (Men.1año)",{"$f":"VLOOKUP($G$25,Poblacion!$C$8:$CV$93,$A28)","v":3982},null,{"$f":"IFERROR(($C28/$C$37)*100,0)","v":1.5031179694695675},null,null,{"$f":"B32","v":"Adolescente (12-17años)"},22134]
[88,"Pre-escolar (01-04años)",{"$f":"VLOOKUP($G$25,Poblacion!$C$8:$CV$93,$A29)","v":15287},null,5.7705083875643606,null,null,"Adulto Joven (18-29años)",46412]
[89,"Niño (0-11años)",{"$f":"VLOOKUP($G$25,Poblacion!$C$8:$CV$93,$A30)","v":44470},null,16.786453064367574,null,null,"Adulto    (30-59años)",104277]
[90,"Escolar  (05-17años)",{"$f":"VLOOKUP($G$25,Poblacion!$C$8:$CV$93,$A31)","v":47335},null,17.867927946971871,null,null,"Adu.Mayor (60 a MAS)",47623]
[91,"Adolescente (12-17años)",{"$f":"VLOOKUP($G$25,Poblacion!$C$8:$CV$93,$A32)","v":22134},null,8.3551012396382252]
[92,"Adulto Joven (18-29años)",{"$f":"VLOOKUP($G$25,Poblacion!$C$8:$CV$93,$A33)","v":46412},null,17.519515620045599]
[93,"Adulto    (30-59años)",{"$f":"VLOOKUP($G$25,Poblacion!$C$8:$CV$93,$A34)","v":104277},null,39.362288423500281]
[94,"Adu.Mayor (60 a MAS)",{"$f":"VLOOKUP($G$25,Poblacion!$C$8:$CV$93,$A35)","v":47623},null,17.976641652448322]
[85,"Gestantes",{"$f":"VLOOKUP($G$25,Poblacion!$C$8:$CV$93,$A36)","v":5947},null,2.2448625224599494]
[null," TOTAL",{"$f":"C30+C32+C33+C34+C35","v":264916},null,100]
[null,{"$f":"Interfaz!$A$22","v":"Elaboración: Área de Estadística - RIS Huaura Oyón."}]

{"sheet":"Pobla_EESS","index":3,"n_rows":60,"n_cols":16,"rows_kept":60,"cut":false,"hidden":false,"merged":[[50,4,52,4],[51,11,54,11],[54,3,54,5],[55,11,57,11],[58,10,58,12],[1,3,4,10],[7,3,7,8],[7,10,7,15],[15,3,15,4],[25,4,29,4],[25,11,30,11],[30,4,31,4],[23,3,23,8],[23,10,23,15],[31,10,31,12],[39,4,45,4],[39,11,41,11],[42,11,46,11],[46,4,49,4],[9,4,13,4],[9,11,11,11],[12,11,16,11],[16,3,16,5],[19,10,19,12],[32,3,32,5],[37,3,37,8],[37,10,37,15]]}
[]
[null,null,null,"POBLACIÓN SEGÚN DISTRITOS Y EE.SS - 2020"]
[]
[]
[]
[]
[]
[null,null,null,"SIN MICRORED",null,null,null,null,null,null,"MICRORED HUALMAY"]
[null,null,null,"DISTRITO","POBLACIÓN","EE.SS","POBLACIÓN","MASCULINO","FEMENINO",null,"DISTRITO","POBLACIÓN","EE.SS","POBLACIÓN","MASCULINO","FEMENINO"]
[null,null,null,"HUACHO",{"$f":"G10","v":48997},"HOSPITAL HUACHO",{"$f":"VLOOKUP($F10,Poblacion!$E$8:$I$87,2,FALSE)","v":48997},{"$f":"VLOOKUP($F10,Poblacion!$E$8:$I$87,4,FALSE)","v":23759},{"$f":"VLOOKUP($F10,Poblacion!$E$8:$I$87,5,FALSE)","v":25238},null,"HUALMAY",{"$f":"SUM(N10:N12)","v":31314},"C.S. HUALMAY",{"$f":"VLOOKUP($M10,Poblacion!$E$8:$I$87,2,FALSE)","v":15657},{"$f":"VLOOKUP($M10,Poblacion!$E$8:$I$87,4,FALSE)","v":7757},{"$f":"VLOOKUP($M10,Poblacion!$E$8:$I$87,5,FALSE)","v":7900}]
[null,null,null,"HUACHO",null,"CLINICA SAN PEDRO",0,null,null,null,"HUALMAY",null,"P.S. DGO. MANDAMIENTO",{"$f":"VLOOKUP($M11,Poblacion!$E$8:$I$87,2,FALSE)","v":10960},{"$f":"VLOOKUP($M11,Poblacion!$E$8:$I$87,4,FALSE)","v":5430},{"$f":"VLOOKUP($M11,Poblacion!$E$8:$I$87,5,FALSE)","v":5530}]
[null,null,null,"HUACHO",null,"ESSALUD GUSTAVO LA NATA",0,null,null,null,"HUALMAY",null,"P.S. CAMPO ALEGRE",{"$f":"VLOOKUP($M12,Poblacion!$E$8:$I$87,2,FALSE)","v":4697},{"$f":"VLOOKUP($M12,Poblacion!$E$8:$I$87,4,FALSE)","v":2327},{"$f":"VLOOKUP($M12,Poblacion!$E$8:$I$87,5,FALSE)","v":2370}]
[null,null,null,"HUACHO",null,"CLINICA SAN BARTOLOME",0,null,null,null,"S.MARIA",{"$f":"SUM(N13:N17)","v":37026},"C.S. SANTA MARIA",{"$f":"VLOOKUP($M13,Poblacion!$E$8:$I$87,2,FALSE)","v":10367},{"$f":"VLOOKUP($M13,Poblacion!$E$8:$I$87,4,FALSE)","v":4983},{"$f":"VLOOKUP($M13,Poblacion!$E$8:$I$87,5,FALSE)","v":5384}]
[null,null,null,"HUACHO",null,"GOLD ESTANDAR EIRL.",0,null,null,null,"S.MARIA",null,"P.S. CHONTA",{"$f":"VLOOKUP($M14,Poblacion!$E$8:$I$87,2,FALSE)","v":5554},{"$f":"VLOOKUP($M14,Poblacion!$E$8:$I$87,4,FALSE)","v":2669},{"$f":"VLOOKUP($M14,Poblacion!$E$8:$I$87,5,FALSE)","v":2885}]
[null,null,null,"CARQUIN",null,"INSITUTO NACIONAL PENITENCIARIO CARQUIN",0,null,null,null,"S.MARIA",null,"P.S. ZAPATA",{"$f":"VLOOKUP($M15,Poblacion!$E$8:$I$87,2,FALSE)","v":2962},{"$f":"VLOOKUP($M15,Poblacion!$E$8:$I$87,4,FALSE)","v":1424},{"$f":"VLOOKUP($M15,Poblacion!$E$8:$I$87,5,FALSE)","v":1538}]
[null,null,null,null,null,"OTROS ESTABLECIMIENTOS",0,null,null,null,"S.MARIA",null,"P.S. AMADO VELASQUEZ",{"$f":"VLOOKUP($M16,Poblacion!$E$8:$I$87,2,FALSE)","v":11108},{"$f":"VLOOKUP($M16,Poblacion!$E$8:$I$87,4,FALSE)","v":5339},{"$f":"VLOOKUP($M16,Poblacion!$E$8:$I$87,5,FALSE)","v":5769}]
[null,null,null,"TOTAL SIN MICRORED",null,null,{"$f":"SUM(G10:G16)","v":48997},{"$f":"SUM(H10:H16)","v":23759},{"$f":"SUM(I10:I16)","v":25238},null,"S.MARIA",null,"P.S. SAN BARTOLOME",{"$f":"VLOOKUP($M17,Poblacion!$E$8:$I$87,2,FALSE)","v":7035},{"$f":"VLOOKUP($M17,Poblacion!$E$8:$I$87,4,FALSE)","v":3381},{"$f":"VLOOKUP($M17,Poblacion!$E$8:$I$87,5,FALSE)","v":3654}]
[null,null,null,{"$f":"'etapas y mredes'!B21","v":"Elaboración: Área de Estadística - RIS Huaura Oyón."},null,null,null,null,null,null,"CARQUIN",{"$f":"N18","v":7324},"P.S. CARQUIN",{"$f":"VLOOKUP($M18,Poblacion!$E$8:$I$87,2,FALSE)","v":7324},{"$f":"VLOOKUP($M18,Poblacion!$E$8:$I$87,4,FALSE)","v":3595},{"$f":"VLOOKUP($M18,Poblacion!$E$8:$I$87,5,FALSE)","v":3729}]
[null,null,null,null,null,null,null,null,null,null,"HUACHO",{"$f":"N19","v":16332},"C.S. MANZANARES",{"$f":"VLOOKUP($M19,Poblacion!$E$8:$I$87,2,FALSE)","v":16332},{"$f":"VLOOKUP($M19,Poblacion!$E$8:$I$87,4,FALSE)","v":7919},{"$f":"VLOOKUP($M19,Poblacion!$E$8:$I$87,5,FALSE)","v":8413}]
[null,null,null,null,null,null,null,null,null,null,"TOTAL MCR HUALMAY",null,"TOTAL MICRORED HUALMAY",{"$f":"SUM(N10:N19)","v":91996},{"$f":"SUM(O10:O19)","v":44824},{"$f":"SUM(P10:P19)","v":47172}]
[null,null,null,null,null,null,null,null,null,null,{"$f":"D18","v":"Elaboración: Área de Estadística - RIS Huaura Oyón."}]
[]
[]
[null,null,null,"MICRORED HUAURA",null,null,null,null,null,null,"MICRORED VEGUETA"]
[null,null,null,"DISTRITO","POBLACIÓN","EE.SS","POBLACIÓN","MASCULINO","FEMENINO",null,"DISTRITO","POBLACIÓN","EE.SS","POBLACIÓN","MASCULINO","FEMENINO"]
[null,null,null,"HUAURA",{"$f":"SUM(G26:G30)","v":37705},"C.S. HUAURA",{"$f":"VLOOKUP($F26,Poblacion!$E$8:$I$87,2,FALSE)","v":18853},{"$f":"VLOOKUP($F26,Poblacion!$E$8:$I$87,4,FALSE)","v":9266},{"$f":"VLOOKUP($F26,Poblacion!$E$8:$I$87,5,FALSE)","v":9587},null,"VEGUETA",{"$f":"SUM(N26:N31)","v":24638},"C.S. VEGUETA",{"$f":"VLOOKUP($M26,Poblacion!$E$8:$I$87,2,FALSE)","v":6899},{"$f":"VLOOKUP($M26,Poblacion!$E$8:$I$87,4,FALSE)","v":3315},{"$f":"VLOOKUP($M26,Poblacion!$E$8:$I$87,5,FALSE)","v":3584}]
[null,null,null,"HUAURA",null,"C.S. SOCORRO",{"$f":"VLOOKUP($F27,Poblacion!$E$8:$I$87,2,FALSE)","v":12442},{"$f":"VLOOKUP($F27,Poblacion!$E$8:$I$87,4,FALSE)","v":6115},{"$f":"VLOOKUP($F27,Poblacion!$E$8:$I$87,5,FALSE)","v":6327},null,"VEGUETA",null,"P.S. MAZO",{"$f":"VLOOKUP($M27,Poblacion!$E$8:$I$87,2,FALSE)","v":2464},{"$f":"VLOOKUP($M27,Poblacion!$E$8:$I$87,4,FALSE)","v":1184},{"$f":"VLOOKUP($M27,Poblacion!$E$8:$I$87,5,FALSE)","v":1280}]
[null,null,null,"HUAURA",null,"P.S. HUMAYA",{"$f":"VLOOKUP($F28,Poblacion!$E$8:$I$87,2,FALSE)","v":3394},{"$f":"VLOOKUP($F28,Poblacion!$E$8:$I$87,4,FALSE)","v":1668},{"$f":"VLOOKUP($F28,Poblacion!$E$8:$I$87,5,FALSE)","v":1726},null,"VEGUETA",null,"P.S. PRIMAVERA",{"$f":"VLOOKUP($M28,Poblacion!$E$8:$I$87,2,FALSE)","v":5420},{"$f":"VLOOKUP($M28,Poblacion!$E$8:$I$87,4,FALSE)","v":2604},{"$f":"VLOOKUP($M28,Poblacion!$E$8:$I$87,5,FALSE)","v":2816}]
[null,null,null,"HUAURA",null,"P.S. VILCAHUAURA",{"$f":"VLOOKUP($F29,Poblacion!$E$8:$I$87,2,FALSE)","v":2639},{"$f":"VLOOKUP($F29,Poblacion!$E$8:$I$87,4,FALSE)","v":1297},{"$f":"VLOOKUP($F29,Poblacion!$E$8:$I$87,5,FALSE)","v":1342},null,"VEGUETA",null,"P.S. MARIATEGUI",{"$f":"VLOOKUP($M29,Poblacion!$E$8:$I$87,2,FALSE)","v":6406},{"$f":"VLOOKUP($M29,Poblacion!$E$8:$I$87,4,FALSE)","v":3078},{"$f":"VLOOKUP($M29,Poblacion!$E$8:$I$87,5,FALSE)","v":3328}]
[null,null,null,"HUAURA",null,"P.S. PEÑICO",{"$f":"VLOOKUP($F30,Poblacion!$E$8:$I$87,2,FALSE)","v":377},{"$f":"VLOOKUP($F30,Poblacion!$E$8:$I$87,4,FALSE)","v":185},{"$f":"VLOOKUP($F30,Poblacion!$E$8:$I$87,5,FALSE)","v":192},null,"VEGUETA",null,"P.S. MEDIO MUNDO",{"$f":"VLOOKUP($M30,Poblacion!$E$8:$I$87,2,FALSE)","v":3203},{"$f":"VLOOKUP($M30,Poblacion!$E$8:$I$87,4,FALSE)","v":1539},{"$f":"VLOOKUP($M30,Poblacion!$E$8:$I$87,5,FALSE)","v":1664}]
[null,null,null,"AMBAR",{"$f":"SUM(G31:G32)","v":2882},"C.S. AMBAR",{"$f":"VLOOKUP($F31,Poblacion!$E$8:$I$87,2,FALSE)","v":1729},{"$f":"VLOOKUP($F31,Poblacion!$E$8:$I$87,4,FALSE)","v":834},{"$f":"VLOOKUP($F31,Poblacion!$E$8:$I$87,5,FALSE)","v":895},null,"VEGUETA",null,"P.S. TIROLER",{"$f":"VLOOKUP($M31,Poblacion!$E$8:$I$87,2,FALSE)","v":246},{"$f":"VLOOKUP($M31,Poblacion!$E$8:$I$87,4,FALSE)","v":118},{"$f":"VLOOKUP($M31,Poblacion!$E$8:$I$87,5,FALSE)","v":128}]
[null,null,null,"AMBAR",null,"P.S. AYNACA",{"$f":"VLOOKUP($F32,Poblacion!$E$8:$I$87,2,FALSE)","v":1153},{"$f":"VLOOKUP($F32,Poblacion!$E$8:$I$87,4,FALSE)","v":553},{"$f":"VLOOKUP($F32,Poblacion!$E$8:$I$87,5,FALSE)","v":600},null,"TOTAL MCR VEGUETA",null,null,{"$f":"SUM(N26:N31)","v":24638},{"$f":"SUM(O26:O31)","v":11838},{"$f":"SUM(P26:P31)","v":12800}]
[null,null,null,"TOTAL MCR HUAURA",null,"TOTAL MICRORED HUAURA ",{"$f":"SUM(G26:G32)","v":40587},{"$f":"SUM(H26:H32)","v":19918},20669,null,{"$f":"K21","v":"Elaboración: Área de Estadística - RIS Huaura Oyón."}]
[null,null,null,{"$f":"K21","v":"Elaboración: Área de Estadística - RIS Huaura Oyón."}]
[]
[]
[]
[null,null,null,"MICRORED SAYAN",null,null,null,null,null,null,"MICRORED CHURIN OYÓN"]
[null,null,null,"DISTRITO","POBLACIÓN","EE.SS","POBLACIÓN","MASCULINO","FEMENINO",null,"DISTRITO","POBLACIÓN","EE.SS","POBLACIÓN","MASCULINO","FEMENINO"]
[null,null,null,"SAYAN",{"$f":"SUM(G40:G46)","v":25949},"C.S. SAYAN",{"$f":"VLOOKUP($F40,Poblacion!$E$8:$I$87,2,FALSE)","v":8563},{"$f":"VLOOKUP($F40,Poblacion!$E$8:$I$87,4,FALSE)","v":4060},{"$f":"VLOOKUP($F40,Poblacion!$E$8:$I$87,5,FALSE)","v":4503},null,"PACHANGARA",{"$f":"SUM(N40:N42)","v":3756},"C.S. CHURIN",{"$f":"VLOOKUP(M40,Poblacion!$E$5:$I$88,2,FALSE)","v":3042},{"$f":"VLOOKUP(M40,Poblacion!$E$5:$I$88,4,FALSE)","v":1494},{"$f":"VLOOKUP(M40,Poblacion!$E$5:$I$88,5,FALSE)","v":1548}]
[null,null,null,"SAYAN",null,"C.S. 9 DE OCTUBRE",{"$f":"VLOOKUP($F41,Poblacion!$E$8:$I$87,2,FALSE)","v":6877},{"$f":"VLOOKUP($F41,Poblacion!$E$8:$I$87,4,FALSE)","v":3261},{"$f":"VLOOKUP($F41,Poblacion!$E$8:$I$87,5,FALSE)","v":3616},null,"PACHANGARA",null,"P.S. PACHANGARA",{"$f":"VLOOKUP(M41,Poblacion!$E$5:$I$88,2,FALSE)","v":301},{"$f":"VLOOKUP(M41,Poblacion!$E$5:$I$88,4,FALSE)","v":148},{"$f":"VLOOKUP(M41,Poblacion!$E$5:$I$88,5,FALSE)","v":153}]
[null,null,null,"SAYAN",null,"P.S. CHAMBARA",{"$f":"VLOOKUP($F42,Poblacion!$E$8:$I$87,2,FALSE)","v":778},{"$f":"VLOOKUP($F42,Poblacion!$E$8:$I$87,4,FALSE)","v":369},{"$f":"VLOOKUP($F42,Poblacion!$E$8:$I$87,5,FALSE)","v":409},null,"PACHANGARA",null,"P.S. HUANCAHUASI",{"$f":"VLOOKUP(M42,Poblacion!$E$5:$I$88,2,FALSE)","v":413},{"$f":"VLOOKUP(M42,Poblacion!$E$5:$I$88,4,FALSE)","v":203},{"$f":"VLOOKUP(M42,Poblacion!$E$5:$I$88,5,FALSE)","v":210}]
[null,null,null,"SAYAN",null,"P.S. LA MERCED",{"$f":"VLOOKUP($F43,Poblacion!$E$8:$I$87,2,FALSE)","v":1039},{"$f":"VLOOKUP($F43,Poblacion!$E$8:$I$87,4,FALSE)","v":492},{"$f":"VLOOKUP($F43,Poblacion!$E$8:$I$87,5,FALSE)","v":547},null,"OYON",{"$f":"SUM(N43:N47)","v":14536},"C.S. OYON",{"$f":"VLOOKUP(M43,Poblacion!$E$5:$I$88,2,FALSE)","v":10756},{"$f":"VLOOKUP(M43,Poblacion!$E$5:$I$88,4,FALSE)","v":5169},{"$f":"VLOOKUP(M43,Poblacion!$E$5:$I$88,5,FALSE)","v":5587}]
[null,null,null,"SAYAN",null,"P.S. LA VILLA",{"$f":"VLOOKUP($F44,Poblacion!$E$8:$I$87,2,FALSE)","v":7136},{"$f":"VLOOKUP($F44,Poblacion!$E$8:$I$87,4,FALSE)","v":3384},{"$f":"VLOOKUP($F44,Poblacion!$E$8:$I$87,5,FALSE)","v":3752},null,"OYON",null,"P.S. MALLAY",{"$f":"VLOOKUP(M44,Poblacion!$E$5:$I$88,2,FALSE)","v":1163},{"$f":"VLOOKUP(M44,Poblacion!$E$5:$I$88,4,FALSE)","v":559},{"$f":"VLOOKUP(M44,Poblacion!$E$5:$I$88,5,FALSE)","v":604}]
[null,null,null,"SAYAN",null,"P.S. EL AHORCADO",{"$f":"VLOOKUP($F45,Poblacion!$E$8:$I$87,2,FALSE)","v":778},{"$f":"VLOOKUP($F45,Poblacion!$E$8:$I$87,4,FALSE)","v":369},{"$f":"VLOOKUP($F45,Poblacion!$E$8:$I$87,5,FALSE)","v":409},null,"OYON",null,"P.S. NAVA",{"$f":"VLOOKUP(M45,Poblacion!$E$5:$I$88,2,FALSE)","v":146},{"$f":"VLOOKUP(M45,Poblacion!$E$5:$I$88,4,FALSE)","v":70},{"$f":"VLOOKUP(M45,Poblacion!$E$5:$I$88,5,FALSE)","v":76}]
[null,null,null,"SAYAN",null,"P.S. LA UNION",{"$f":"VLOOKUP($F46,Poblacion!$E$8:$I$87,2,FALSE)","v":778},{"$f":"VLOOKUP($F46,Poblacion!$E$8:$I$87,4,FALSE)","v":369},{"$f":"VLOOKUP($F46,Poblacion!$E$8:$I$87,5,FALSE)","v":409},null,"OYON",null,"P.S. TINTA",{"$f":"VLOOKUP(M46,Poblacion!$E$5:$I$88,2,FALSE)","v":727},{"$f":"VLOOKUP(M46,Poblacion!$E$5:$I$88,4,FALSE)","v":349},{"$f":"VLOOKUP(M46,Poblacion!$E$5:$I$88,5,FALSE)","v":378}]
[null,null,null,"L.PRADO",{"$f":"SUM(G47:G50)","v":2094},"P.S. AUQUIMARCA",{"$f":"VLOOKUP($F47,Poblacion!$E$8:$I$87,2,FALSE)","v":105},{"$f":"VLOOKUP($F47,Poblacion!$E$8:$I$87,4,FALSE)","v":51},{"$f":"VLOOKUP($F47,Poblacion!$E$8:$I$87,5,FALSE)","v":54},null,"OYON",null,"P.S. RAPAZ",{"$f":"VLOOKUP(M47,Poblacion!$E$5:$I$88,2,FALSE)","v":1744},{"$f":"VLOOKUP(M47,Poblacion!$E$5:$I$88,4,FALSE)","v":838},{"$f":"VLOOKUP(M47,Poblacion!$E$5:$I$88,5,FALSE)","v":906}]
[null,null,null,"L.PRADO",null,"P.S. PARAN",{"$f":"VLOOKUP($F48,Poblacion!$E$8:$I$87,2,FALSE)","v":733},{"$f":"VLOOKUP($F48,Poblacion!$E$8:$I$87,4,FALSE)","v":356},{"$f":"VLOOKUP($F48,Poblacion!$E$8:$I$87,5,FALSE)","v":377},null,"ANDAJES",{"$f":"N48","v":1218},"P.S. ANDAJES",{"$f":"VLOOKUP(M48,Poblacion!$E$5:$I$88,2,FALSE)","v":1218},{"$f":"VLOOKUP(M48,Poblacion!$E$5:$I$88,4,FALSE)","v":579},{"$f":"VLOOKUP(M48,Poblacion!$E$5:$I$88,5,FALSE)","v":639}]
[null,null,null,"L.PRADO",null,"P.S. SANTA CRUZ",{"$f":"VLOOKUP($F49,Poblacion!$E$8:$I$87,2,FALSE)","v":419},{"$f":"VLOOKUP($F49,Poblacion!$E$8:$I$87,4,FALSE)","v":203},{"$f":"VLOOKUP($F49,Poblacion!$E$8:$I$87,5,FALSE)","v":216},null,"CAUJUL",{"$f":"N49","v":1079},"P.S. CAUJUL",{"$f":"VLOOKUP(M49,Poblacion!$E$5:$I$88,2,FALSE)","v":1079},{"$f":"VLOOKUP(M49,Poblacion!$E$5:$I$88,4,FALSE)","v":508},{"$f":"VLOOKUP(M49,Poblacion!$E$5:$I$88,5,FALSE)","v":571}]
[null,null,null,"L.PRADO",null,"P.S. HUANANGUI",{"$f":"VLOOKUP($F50,Poblacion!$E$8:$I$87,2,FALSE)","v":837},{"$f":"VLOOKUP($F50,Poblacion!$E$8:$I$87,4,FALSE)","v":406},{"$f":"VLOOKUP($F50,Poblacion!$E$8:$I$87,5,FALSE)","v":431},null,"NAVAN",1241,"P.S. NAVAN",{"$f":"VLOOKUP(M50,Poblacion!$E$5:$I$88,2,FALSE)","v":1241},{"$f":"VLOOKUP(M50,Poblacion!$E$5:$I$88,4,FALSE)","v":607},{"$f":"VLOOKUP(M50,Poblacion!$E$5:$I$88,5,FALSE)","v":634}]
[null,null,null,"COCHAMARCA",{"$f":"SUM(G51:G53)","v":1647},"P.S. COCHAMARCA",{"$f":"VLOOKUP($F51,Poblacion!$E$8:$I$87,2,FALSE)","v":708},{"$f":"VLOOKUP($F51,Poblacion!$E$8:$I$87,4,FALSE)","v":346},{"$f":"VLOOKUP($F51,Poblacion!$E$8:$I$87,5,FALSE)","v":362},null,"CHECRAS",1949,"P.S. PUÑUN",{"$f":"VLOOKUP(M51,Poblacion!$E$5:$I$88,2,FALSE)","v":1949},{"$f":"VLOOKUP(M51,Poblacion!$E$5:$I$88,4,FALSE)","v":952},{"$f":"VLOOKUP(M51,Poblacion!$E$5:$I$88,5,FALSE)","v":997}]
[null,null,null,"COCHAMARCA",null,"P.S. COLCAPAMPA",{"$f":"VLOOKUP($F52,Poblacion!$E$8:$I$87,2,FALSE)","v":774},{"$f":"VLOOKUP($F52,Poblacion!$E$8:$I$87,4,FALSE)","v":379},{"$f":"VLOOKUP($F52,Poblacion!$E$8:$I$87,5,FALSE)","v":395},null,"PACCHO",{"$f":"SUM(N52:N55)","v":2444},"P.S. PACCHO",{"$f":"VLOOKUP(M52,Poblacion!$E$5:$I$88,2,FALSE)","v":978},{"$f":"VLOOKUP(M52,Poblacion!$E$5:$I$88,4,FALSE)","v":481},{"$f":"VLOOKUP(M52,Poblacion!$E$5:$I$88,5,FALSE)","v":497}]
[null,null,null,"COCHAMARCA",null,"P.S. YARUCAYA",{"$f":"VLOOKUP($F53,Poblacion!$E$8:$I$87,2,FALSE)","v":165},{"$f":"VLOOKUP($F53,Poblacion!$E$8:$I$87,4,FALSE)","v":81},{"$f":"VLOOKUP($F53,Poblacion!$E$8:$I$87,5,FALSE)","v":84},null,"PACCHO",null,"P.S. LACSANGA",{"$f":"VLOOKUP(M53,Poblacion!$E$5:$I$88,2,FALSE)","v":734},{"$f":"VLOOKUP(M53,Poblacion!$E$5:$I$88,4,FALSE)","v":361},{"$f":"VLOOKUP(M53,Poblacion!$E$5:$I$88,5,FALSE)","v":373}]
[null,null,null,"IHUARI - ACOTAMA",{"$f":"G54","v":1214},"IHUARI - ACOTAMA",{"$f":"VLOOKUP($F54,Poblacion!$E$8:$I$87,2,FALSE)","v":1214},{"$f":"VLOOKUP($F54,Poblacion!$E$8:$I$87,4,FALSE)","v":577},{"$f":"VLOOKUP($F54,Poblacion!$E$8:$I$87,5,FALSE)","v":637},null,"PACCHO",null,"P.S. AYARANGA",{"$f":"VLOOKUP(M54,Poblacion!$E$5:$I$88,2,FALSE)","v":342},{"$f":"VLOOKUP(M54,Poblacion!$E$5:$I$88,4,FALSE)","v":168},{"$f":"VLOOKUP(M54,Poblacion!$E$5:$I$88,5,FALSE)","v":174}]
[null,null,null,"TOTAL MICRORED SAYAN",null,null,{"$f":"SUM(G40:G54)","v":30904},{"$f":"SUM(H40:H54)","v":14703},16201,null,"PACCHO",null,"P.S. MUZGA",{"$f":"VLOOKUP(M55,Poblacion!$E$5:$I$88,2,FALSE)","v":390},{"$f":"VLOOKUP(M55,Poblacion!$E$5:$I$88,4,FALSE)","v":192},{"$f":"VLOOKUP(M55,Poblacion!$E$5:$I$88,5,FALSE)","v":198}]
[null,null,null,{"$f":"K33","v":"Elaboración: Área de Estadística - RIS Huaura Oyón."},null,null,null,null,null,null,"S.LEONOR",{"$f":"SUM(N56:N58)","v":1571},"P.S. CHIUCHIN",{"$f":"VLOOKUP(M56,Poblacion!$E$5:$I$88,2,FALSE)","v":1099},{"$f":"VLOOKUP(M56,Poblacion!$E$5:$I$88,4,FALSE)","v":522},{"$f":"VLOOKUP(M56,Poblacion!$E$5:$I$88,5,FALSE)","v":577}]
[null,null,null,null,null,null,null,null,null,null,"S.LEONOR",null,"P.S. PARQUIN",{"$f":"VLOOKUP(M57,Poblacion!$E$5:$I$88,2,FALSE)","v":283},{"$f":"VLOOKUP(M57,Poblacion!$E$5:$I$88,4,FALSE)","v":134},{"$f":"VLOOKUP(M57,Poblacion!$E$5:$I$88,5,FALSE)","v":149}]
[null,null,null,null,null,null,null,null,null,null,"S.LEONOR",null,"P.S. JUCUL",{"$f":"VLOOKUP(M58,Poblacion!$E$5:$I$88,2,FALSE)","v":189},{"$f":"VLOOKUP(M58,Poblacion!$E$5:$I$88,4,FALSE)","v":90},{"$f":"VLOOKUP(M58,Poblacion!$E$5:$I$88,5,FALSE)","v":99}]
[null,null,null,null,null,null,null,null,null,null,"TOTAL MICRORED CHURIN - OYON",null,null,{"$f":"SUM(N40:N58)","v":27794},{"$f":"SUM(O40:O58)","v":13424},14370]
[null,null,null,null,null,null,null,null,null,null,{"$f":"K33","v":"Elaboración: Área de Estadística - RIS Huaura Oyón."}]