{"text_format":"1","workbook":"xlsx","n_sheets":4,"sheets":["Interfaz","Poblacion","etapas y mredes","Pobla_EESS"],"not_rendered":{"charts":1,"images":13,"macros":1,"external_links":1,"defined_names":4,"comments":0,"pivot_tables":0},"unopened":[],"bounds":{"document_bytes":16777216,"sheet_cells":100000,"rows_first":2000,"rows_last":500,"rows_between":2000,"halvings":0,"cell_chars":16384,"cell_head_chars":4096},"cells_cut":0,"cells_raw":0,"read":"whole","date_system":"1900"}

{"sheet":"Interfaz","index":0,"n_rows":27,"n_cols":18,"rows_kept":27,"cut":false,"hidden":false,"merged":[[4,2,7,11],[9,2,11,11]]}
[]
[]
[]
[]
[null,null,"POBLACIÓN ASIGNADA SEGÚN CENSOS INEI - RENIEC - PN - CNV - 2017"]
[]
[]
[]
[]
[null,null,"RED INTEGRADA DE SALUD HUAURA OYÓN "]
[]
[]
[]
[]
[]
[]
[]
[]
[]
[]
[]
["Elaboración: Área de Estadística - RIS Huaura Oyón."]
["NOTA: LA POBLACION ESTIMADA DE EDADES  SIMPLES Y GRUPOS DE EDAD DE DISTRITOS, CORRESPONDEN A CIFRAS REFERENCIALES HASTA OBTENER LAS CIFRAS DE LAS PROYECCIONES DEL INEI"]
[]
[]
["OFICINA DE GESTION DE LA INFORMACIÓN - MINISTERIO DE SALUD"]
[null,null,null,null,null,null,null,null,null,null,null,null,null,null,null,null,null,"Versión1.030"]

{"sheet":"Poblacion","index":1,"n_rows":93,"n_cols":126,"rows_kept":93,"cut":false,"hidden":false,"merged":[[4,84,6,84],[4,93,6,93],[2,87,2,94],[4,92,6,92],[4,91,6,91],[4,85,6,85],[4,86,6,86],[4,87,6,87],[4,89,6,89],[4,88,6,88],[5,68,5,69],[5,70,5,71],[5,72,5,73],[4,72,4,73],[4,70,4,71],[4,68,4,69],[4,74,4,75],[5,74,5,75],[4,76,6,76],[4,83,6,83],[4,82,6,82],[4,77,4,80],[5,77,6,77],[5,78,6,78],[5,79,6,79],[5,80,6,80],[1,30,1,65],[2,30,2,65],[4,58,4,59],[4,48,4,49],[3,30,3,65],[4,36,4,37],[4,56,4,57],[4,30,4,31],[4,32,4,33],[4,34,4,35],[4,50,4,51],[4,54,4,55],[4,64,4,65],[4,40,4,41],[4,46,4,47],[4,7,6,7],[4,8,6,8],[5,50,5,51],[4,52,4,53],[5,52,5,53],[4,10,4,11],[5,10,5,11],[4,12,4,13],[4,18,4,19],[4,20,4,21],[4,22,4,23],[4,24,4,25],[4,26,4,27],[5,18,5,19],[5,20,5,21],[5,22,5,23],[4,5,6,5],[4,66,4,67],[5,12,5,13],[4,14,4,15],[5,14,5,15],[5,58,5,59],[5,36,5,37],[4,28,4,29],[5,32,5,33],[5,34,5,35],[5,28,5,29],[5,30,5,31],[5,54,5,55],[4,60,4,61],[5,60,5,61],[4,62,4,63],[5,24,5,25],[5,26,5,27],[4,16,4,17],[5,16,5,17],[4,38,4,39],[5,38,5,39],[5,46,5,47],[5,40,5,41],[4,42,4,43],[4,44,4,45],[5,42,5,43],[5,44,5,45],[5,64,5,65],[5,48,5,49],[5,56,5,57],[5,66,5,67],[5,62,5,63]]}
[null,null,1,2,3,4,5,6,7,8,9,10,11,12,13,14,15,16,17,18,19,20,21,22,23,24,25,26,27,28,29,30,31,32,33,34,35,36,37,38,39,40,41,42,43,44,45,46,47,48,49,50,51,52,53,54,55,56,57,58,59,60,61,62,63,64,65,66,67,68,69,70,71,72,73,74,75,76,77,78,79,80,81,82,83,84,85,86,87,88,89,90,91,92,null,null,null,77,78,79,80,81,82,83,84,85,86,87,88,89,90,91,92,93,94,95,96,97,98,99,106,107,108,109,110,111]
[null,null,null,null,null,null,null,null,null,null,null,null,null,null,null,null,null,null,null,null,null,null,null,null,null,null,null,null,null,null,"POBLACIÓN ESTIMADA POR GRUPOS DE EDAD, SEGÚN PROVINCIAS DISTRITOS Y ESTABLECIMIENTOS DE SALUD"]
[null,null,null,null,null,null,null,null,null,null,null,null,null,null,null,null,null,null,null,null,null,null,null,null,null,null,null,null,null,null,"RED INTEGRADA DE SALUD HUAURA OYON   -   AÑO  2020",null,null,null,null,null,null,null,null,null,null,null,null,null,null,null,null,null,null,null,null,null,null,null,null,null,null,null,null,null,null,null,null,null,null,null,null,null,null,null,null,null,null,null,{"$f":"ROUND(BY3,0)","v":0},null,null,null,null,null,null,null,null,null,null,null,null,"MAS GRUPOS DE EDAD"]
[null,null,null,null,null,null,null,null,null,null,null,null,null,null,null,null,null,null,null,null,null,null,null,null,null,null,null,null,null,null,"EDADES PUNTUALES Y GRUPOS DE EDAD"]
[null,null,"N°",null,"DIRECCION DE SALUD","TOTAL GENERAL",null,"TOTAL MASCULINO","TOTAL FEMENINO",null,"EDAD",null,"EDAD",null,"EDAD",null,"EDAD",null,"EDAD",null,"EDAD",null,"EDAD",null,"EDAD",null,"EDAD",null,"EDAD",null,"EDAD",null,"EDAD",null,"EDAD",null,"EDAD",null,"EDAD",null,"EDAD",null,"EDAD",null,"EDAD",null,"EDAD",null,"EDAD",null,"EDAD",null,"EDAD",null,"EDAD",null,"EDAD",null,"EDAD",null,"EDAD",null,"EDAD",null,"EDAD",null,"EDAD",null,"EDAD",null,"EDAD",null,"EDAD",null,"EDAD",null,"NACIMIENTOS","POBLACION FEMENINA",null,null,null,null,"menor de 1 Año","Pre escolar         (1-4)","Niño             (0 - 11)","Escolar               (05 - 17)","Adolescente (12 - 17)","Adulto Joven (18 - 29)","Adulto            (30-59)","Adu.Mayor (60 a MAS)",null,"Escolar               (05 - 09)","Adolescente (10 - 19)","Adulto            (20-59)"]
["UBIGEO",null,null,null,"PROVINCIA",null,null,null,null,null,0,null,1,null,2,null,3,null,4,null,5,null,6,null,7,null,8,null,9,null,10,null,11,null,12,null,13,null,14,null,15,null,16,null,17,null,18,null,19,null,"20 - 24",null,"25 - 29",null,"30 - 34",null,"35 - 39",null,"40 - 44 ",null,"45 - 49",null,"50 - 54 ",null,"55 - 59 ",null,"60 - 64",null,"65 - 69 ",null,"70- 74 ",null,"75 - 79 ",null,"80 - +",null,null,"10-14","15-19","20-49","GESTANTE"]
[null,"Microredes",null,"RENAES","DISTRITO",null,null,null,null,null,"M","F","M","F","M","F","M","F","M","F","M","F","M","F","M","F","M","F","M","F","M","F","M","F","M","F","M","F","M","F","M","F","M","F","M","F","M","F","M","F","M","F","M","F","M","F","M","F","M","F","M","F","M","F","M","F","M","F","M","F","M","F","M","F","M","F"]
[150000,null,1,null,"HUAURA - OYON",252031,null,126566,125465,null,2243,2172,2169,2111,1992,1860,2104,2097,2065,1943,2039,1889,2238,2143,2402,2236,2280,2225,2130,2063,2151,2185,2121,2042,2043,1998,2070,1928,1926,1923,1866,1774,1919,1864,2034,1943,2004,1932,2229,2137,11368,11227,10269,10375,9773,9781,8964,8829,8227,8297,7318,7371,6453,6576,5519,5460,4606,4643,3820,3755,2968,2991,2271,2310,2985,3385,5061,10076,9650,55880,5947,null,{"$f":"SUM(K8:L8)","v":4415},{"$f":"SUM(M8:T8)","v":16341},{"$f":"SUM(K8:AH8)","v":50900},{"$f":"SUM(U8:AT8)","v":53432},{"$f":"SUM(AI8:AT8)","v":23288},{"$f":"SUM(AU8:BB8)","v":51541},{"$f":"SUM(BC8:BN8)","v":92568},{"$f":"SUM(BO8:BX8)","v":33734},null,{"$f":"SUM(U8:AD8)","v":21645},{"$f":"SUM(AE8:AX8)","v":40089},{"$f":"SUM(AY8:BN8)","v":135807}]
[150800,null,2,150800,"PROVINCIA HUAURA",231741,null,116378,115363,null,2107,2072,2019,1974,1859,1736,1949,1919,1868,1783,1846,1697,2030,1944,2183,1998,2050,1996,1941,1854,1917,1950,1907,1801,1838,1799,1846,1727,1724,1724,1672,1581,1712,1674,1848,1788,1816,1763,2058,1979,10480,10349,9527,9617,9063,9060,8366,8265,7606,7731,6771,6820,5951,6080,5062,5036,4251,4305,3510,3478,2753,2720,2084,2094,2764,3049,4559,9001,8785,51842,5207,null,{"$f":"SUM(K9:L9)","v":4179},{"$f":"SUM(M9:T9)","v":15107},{"$f":"SUM(K9:AH9)","v":46400},{"$f":"SUM(U9:AT9)","v":48047},{"$f":"SUM(AI9:AT9)","v":20933},{"$f":"SUM(AU9:BB9)","v":47589},{"$f":"SUM(BC9:BN9)","v":85811},{"$f":"SUM(BO9:BX9)","v":31008},null,19539,36124,125784]
[150801,null,3,150802,"DISTRITO HUACHO",69564,null,34217,35347,null,962,954,773,746,502,448,580,602,658,623,656,642,546,488,535,521,520,537,483,497,496,535,490,483,483,500,507,447,455,444,448,444,439,437,498,461,471,477,536,508,2661,2834,2512,2646,2519,2542,2428,2472,2252,2372,2130,2235,1910,2052,1665,1781,1455,1545,1143,1268,869,926,731,755,904,1125,1200,2409,2327,15101,1249,null,1916,4932,14277,12992,5563,12645,26358,10721,null,5425,9559,37011]
[null,"00",4,7639,"HOSPITAL HUACHO",52173,null,25663,26510,null,721,716,580,559,376,336,435,451,493,468,492,481,409,366,401,391,390,403,362,373,372,401,367,363,362,375,380,336,341,333,336,333,329,328,373,346,353,358,402,381,1995,2126,1884,1984,1888,1906,1820,1854,1689,1779,1598,1675,1433,1538,1249,1336,1092,1158,858,951,653,695,549,567,681,843,900,1808,1746,11324,937,null,1437,3698,10706,9743,4172,9483,19765,8047,null,4068,7169,27754]
[null,"02",5,5679,"C.S. MANZANARES",17391,null,8554,8837,null,241,238,193,187,126,112,145,151,165,155,164,161,137,122,134,130,130,134,121,124,124,134,123,120,121,125,127,111,114,111,112,111,110,109,125,115,118,119,134,127,666,708,628,662,631,636,608,618,563,593,532,560,477,514,416,445,363,387,285,317,216,231,182,188,223,282,300,601,581,3777,312,null,479,1234,3571,3249,1391,3162,6593,2674,null,1357,2390,9257]
[150802,null,6,150802,"DISTRITO AMBAR",2210,null,1197,1013,null,24,16,29,16,18,12,29,15,24,21,16,21,21,18,25,16,22,17,18,19,15,22,19,10,19,21,22,14,21,28,23,19,24,26,14,15,25,18,28,12,102,103,66,72,78,78,67,43,73,52,55,56,75,46,53,54,50,42,44,23,43,14,19,29,36,45,40,95,90,404,60,null,40,164,463,505,246,426,730,345,null,193,395,1073]
[null,"01",7,5680,"C.S. AMBAR",1323,null,718,605,null,14,10,17,10,11,7,17,9,14,13,10,12,13,10,15,10,13,10,11,11,9,13,11,6,11,13,13,9,13,16,14,11,14,16,8,9,15,11,17,7,62,62,39,44,46,47,41,24,44,31,33,34,45,27,31,33,30,25,26,15,26,8,12,16,23,26,24,57,54,242,36,null,24,98,276,301,147,257,436,207,null,115,236,643]
[null,"01",8,5681,"P.S. AYNACA",887,null,479,408,null,10,6,12,6,7,5,12,6,10,8,6,9,8,8,10,6,9,7,7,8,6,9,8,4,8,8,9,5,8,12,9,8,10,10,6,6,10,7,11,5,40,41,27,28,32,31,26,19,29,21,22,22,30,19,22,21,20,17,18,8,17,6,7,13,13,19,16,38,36,162,24,null,16,66,187,204,99,169,294,138,null,78,159,430]
[150803,null,9,150803,"DISTRITO CARQUIN",6380,null,3285,3095,null,39,42,34,44,40,38,50,37,42,41,40,41,70,61,65,51,78,63,55,60,65,58,66,64,55,56,42,40,45,46,51,54,54,61,52,42,52,41,54,50,282,259,263,270,271,246,252,258,227,199,192,180,173,170,147,120,113,116,103,93,73,73,76,54,64,67,127,264,248,1412,174,null,81,326,1244,1435,598,1271,2435,832,null,584,1048,3509]
[null,"02",10,5664,"P.S. CARQUIN",6380,null,3285,3095,null,39,42,34,44,40,38,50,37,42,41,40,41,70,61,65,51,78,63,55,60,65,58,66,64,55,56,42,40,45,46,51,54,54,61,52,42,52,41,54,50,282,259,263,270,271,246,252,258,227,199,192,180,173,170,147,120,113,116,103,93,73,73,76,54,64,67,127,264,248,1412,174,null,81,326,1244,1435,598,1271,2435,832,null,584,1048,3509]
[150804,null,11,150804,"DISTRITO CHECRAS",1018,null,501,517,null,2,3,3,1,2,1,2,1,1,0,5,0,8,9,7,11,14,7,11,7,6,9,20,15,14,9,6,13,11,5,3,9,3,10,8,7,6,4,10,10,35,22,22,25,21,29,22,14,28,21,29,33,43,27,26,24,33,33,29,31,17,26,26,28,28,73,21,51,40,144,47,null,5,11,145,227,98,134,317,324,null,79,178,421]
[null,"05",12,5663,"P.S. PUÑUN",1018,null,501,517,null,2,3,3,1,2,1,2,1,1,0,5,0,8,9,7,11,14,7,11,7,6,9,20,15,14,9,6,13,11,5,3,9,3,10,8,7,6,4,10,10,35,22,22,25,21,29,22,14,28,21,29,33,43,27,26,24,33,33,29,31,17,26,26,28,28,73,21,51,40,144,47,null,5,11,145,227,98,134,317,324,null,79,178,421]
[150805,null,13,150805,"DISTRITO HUALMAY",27960,null,13898,14062,null,174,171,183,200,234,226,254,208,205,219,195,164,216,225,254,245,253,251,230,242,222,226,215,223,220,205,241,211,186,210,197,169,203,220,241,224,232,226,244,254,1314,1315,1216,1178,1109,1199,1039,1053,991,1008,868,793,696,717,557,552,466,533,384,402,321,356,212,263,326,374,573,1075,1093,6546,674,null,345,1729,5235,5688,2527,5979,10582,3637,null,2275,4369,15605]
[null,"02",14,5665,"C.S. HUALMAY",13980,null,6949,7031,null,87,85,92,100,117,113,127,104,102,110,98,81,108,113,127,122,127,125,115,121,111,113,108,111,110,102,121,105,93,105,99,84,102,110,121,111,116,113,122,127,657,658,608,590,553,600,519,526,494,505,432,398,347,358,279,276,233,265,191,201,161,178,107,132,165,189,286,536,545,3277,337,null,172,865,2617,2843,1263,2991,5287,1822,null,1137,2184,7800]
[null,"02",15,5666,"P.S. DGO. MANDAMIENTO",9786,null,4864,4922,null,61,60,64,70,82,79,89,73,72,76,68,58,76,78,89,86,88,88,80,85,78,79,75,78,77,72,84,74,65,74,69,59,71,77,84,79,81,79,85,89,460,460,426,412,389,420,363,370,348,352,305,277,245,251,194,194,163,187,135,140,112,124,74,91,112,131,201,377,383,2291,236,null,121,605,1832,1991,885,2092,3708,1269,null,796,1529,5466]
[null,"02",16,5667,"P.S. CAMPO ALEGRE",4194,null,2085,2109,null,26,26,27,30,35,34,38,31,31,33,29,25,32,34,38,37,38,38,35,36,33,34,32,34,33,31,36,32,28,31,29,26,30,33,36,34,35,34,37,38,197,197,182,176,167,179,157,157,149,151,131,118,104,108,84,82,70,81,58,61,48,54,31,40,49,54,86,162,165,978,101,null,52,259,786,854,379,896,1587,546,null,342,656,2339]
[150806,null,17,150806,"DISTRITO HUAURA                   ",36324,null,18393,17931,null,282,275,334,322,344,272,300,286,214,188,222,214,346,341,357,345,334,320,317,308,300,295,304,325,288,282,299,286,287,285,277,263,290,250,291,293,287,254,340,363,1837,1712,1712,1616,1463,1487,1424,1345,1194,1234,1013,1113,915,942,777,734,587,569,477,451,358,332,274,265,349,364,733,1473,1423,8507,859,null,557,2260,7145,7719,3391,8121,13641,4026,null,3104,5859,20518]
[null,"01",18,5682,"C.S. HUAURA",16345,null,8277,8068,null,127,123,150,145,155,122,135,129,96,85,100,96,156,153,161,155,151,143,143,138,135,133,137,146,130,126,134,129,129,128,125,118,131,112,131,132,129,115,154,162,826,771,769,727,659,669,640,607,537,556,457,500,412,423,347,332,263,257,214,203,158,154,123,119,163,160,330,662,639,3830,430,null,250,1017,3214,3472,1525,3653,6139,1814,null,1396,2636,9232]
[null,"01",19,5686,"C.S. SOCORRO",13803,null,6989,6814,null,107,105,128,121,131,103,114,108,82,71,85,81,131,130,136,131,127,122,120,118,114,111,116,123,109,108,114,108,109,108,105,100,110,95,111,111,109,97,129,139,698,652,650,615,555,566,541,510,454,469,385,423,347,358,296,278,224,215,181,171,136,126,104,101,131,140,279,558,542,3235,283,null,212,858,2715,2933,1288,3089,5182,1529,null,1181,2226,7797]
[null,"01",20,5683,"P.S. HUMAYA",3633,null,1839,1794,null,28,28,33,33,34,28,30,29,21,19,22,22,35,34,35,35,33,32,32,31,30,30,30,33,29,28,30,29,29,28,27,27,29,25,29,29,29,25,34,36,184,171,171,161,146,149,143,135,119,122,100,113,91,94,79,72,59,55,48,45,37,32,27,27,36,37,73,148,142,851,77,null,56,227,717,773,339,811,1363,403,null,311,586,2050]
[null,"01",21,5684,"P.S. VILCAHUAURA",2179,null,1104,1075,null,17,16,20,19,21,16,18,17,13,11,13,13,21,20,21,21,20,19,19,18,18,18,18,20,17,17,18,17,17,18,17,16,17,16,17,18,17,15,20,22,110,102,104,96,88,88,85,81,73,74,61,66,55,58,47,45,36,35,29,27,22,19,16,16,19,21,44,90,87,507,60,null,33,135,427,464,205,486,821,240,null,185,353,1233]
[null,"01",22,5685,"P.S. PEÑICO",364,null,184,180,null,3,3,3,4,3,3,3,3,2,2,2,2,3,4,4,3,3,4,3,3,3,3,3,3,3,3,3,3,3,3,3,2,3,2,3,3,3,2,3,4,19,16,18,17,15,15,15,12,11,13,10,11,10,9,8,7,5,7,5,5,5,1,4,2,0,6,7,15,13,84,9,null,6,23,72,77,34,82,136,40,null,31,58,206]
[150807,null,23,150807,"DISTRITO LEONCIO PRADO",2397,null,1320,1077,null,2,7,7,14,13,13,16,17,19,20,18,11,22,19,19,21,24,19,16,20,28,18,22,23,18,16,27,18,29,23,29,16,19,25,21,19,34,21,30,26,82,87,121,77,106,96,98,62,90,66,76,60,67,42,69,49,69,56,39,29,28,27,19,23,43,37,46,98,107,448,47,null,9,119,408,540,260,478,881,370,null,189,462,1248]
[null,"03",24,5778,"P.S. AUQUIMARCA",120,null,66,54,null,0,0,0,1,1,0,1,1,1,1,1,0,1,1,1,1,1,1,1,1,1,1,1,1,1,1,1,1,1,2,1,1,1,1,1,1,2,0,2,0,5,5,6,5,5,5,5,4,5,4,5,2,5,0,3,2,5,1,2,2,0,4,0,2,0,2,3,6,3,25,2,null,0,6,19,26,13,25,45,18,null,9,21,66]
[null,"03",25,5779,"P.S. PARAN",1199,null,660,539,null,1,4,4,7,6,7,8,8,9,10,8,7,10,11,9,11,11,10,8,10,13,10,11,12,8,8,13,10,14,12,14,9,9,13,11,9,15,12,14,14,43,39,62,34,55,46,50,27,46,30,39,29,34,22,34,26,33,31,18,18,14,14,11,10,25,19,21,52,57,205,17,null,5,59,205,271,130,233,438,193,null,95,231,616]
[null,"03",26,6725,"P.S. SANTA CRUZ",479,null,264,215,null,0,2,1,3,3,2,3,4,4,4,4,2,5,3,4,4,6,3,3,4,7,2,4,5,4,3,6,3,7,3,7,2,4,5,4,4,8,4,7,5,16,18,24,15,21,19,19,14,18,13,15,12,13,8,14,10,13,12,7,7,6,4,2,6,5,10,9,16,20,91,9,null,2,24,82,108,52,97,176,72,null,38,94,249]
[null,"03",27,7757,"P.S. HUANANGUI",599,null,330,269,null,1,1,2,3,3,4,4,4,5,5,5,2,6,4,5,5,6,5,4,5,7,5,6,5,5,4,7,4,7,6,7,4,5,6,5,5,9,5,7,7,18,25,29,23,25,26,24,17,21,19,17,17,15,12,18,11,18,12,12,2,8,5,6,5,13,6,13,24,27,127,19,null,2,30,102,135,65,123,222,87,null,47,116,317]
[150808,null,28,150808,"DISTRITO PACCHO",1621,null,826,795,null,4,5,11,10,17,9,11,12,7,16,11,10,10,8,12,10,8,11,13,13,19,12,9,7,12,12,16,15,15,10,7,12,15,17,11,10,9,10,14,15,41,45,40,38,44,31,34,37,53,45,54,65,61,48,45,41,44,39,37,41,55,41,41,40,46,60,27,56,64,261,47,null,9,93,255,305,152,212,558,444,null,106,247,722]
[null,"05",29,5650,"P.S. PACCHO",649,null,330,319,null,2,2,4,5,6,4,4,6,3,7,4,5,4,3,4,5,3,5,5,5,6,6,4,3,4,5,6,6,6,4,3,4,6,6,4,5,4,3,4,8,18,17,15,17,18,13,16,9,22,17,21,24,22,23,17,17,17,17,17,13,20,17,18,13,23,25,10,24,26,97,19,null,4,39,105,121,59,86,219,180,null,43,97,286]
[null,"05",30,5651,"P.S. LACSANGA",486,null,248,238,null,2,1,3,3,5,3,3,4,2,5,3,3,2,3,4,3,3,2,4,4,5,4,3,2,4,3,4,5,5,2,2,4,5,5,3,3,3,3,4,5,13,12,13,11,14,8,10,12,15,14,17,19,15,17,14,12,15,10,10,14,15,14,13,11,15,17,9,16,20,76,14,null,3,28,76,90,45,64,167,134,null,31,74,216]
[null,"05",31,5653,"P.S. AYARANGA",243,null,124,119,null,0,1,2,1,3,1,2,1,1,2,2,1,2,1,2,1,1,2,2,2,4,1,1,1,2,2,3,2,2,2,1,2,2,3,2,1,1,2,3,1,5,8,6,5,6,5,4,8,8,7,8,11,12,4,7,6,6,6,5,7,10,5,5,8,4,9,4,8,9,44,7,null,1,13,37,47,24,31,86,65,null,16,38,110]
[null,"05",32,5652,"P.S. MUZGA",243,null,124,119,null,0,1,2,1,3,1,2,1,1,2,2,1,2,1,2,1,1,2,2,2,4,1,1,1,2,2,3,2,2,2,1,2,2,3,2,1,1,2,3,1,5,8,6,5,6,5,4,8,8,7,8,11,12,4,7,6,6,6,5,7,10,5,5,8,4,9,4,8,9,44,7,null,1,13,37,47,24,31,86,65,null,16,38,110]
[150809,null,33,150809,"DISTRITO SANTA LEONOR",1323,null,712,611,null,4,1,4,8,14,6,12,8,9,4,17,10,7,7,9,12,10,7,9,12,14,6,11,10,13,4,14,11,10,11,11,8,8,4,9,8,8,8,16,11,58,46,53,51,49,34,42,43,41,37,41,30,37,29,45,44,41,31,31,19,25,31,17,24,23,36,28,42,39,241,36,null,5,65,211,252,111,251,472,278,null,{"$f":"SUM(U40:AD40)","v":100},{"$f":"SUM(AE40:AX40)","v":195},{"$f":"SUM(AY40:BN40)","v":680}]
[null,"05",34,5645,"P.S. CHIUCHIN",821,null,442,379,null,3,0,3,5,9,3,8,4,6,2,11,6,4,5,6,7,6,5,6,7,9,3,7,6,8,3,9,7,6,7,7,5,5,3,5,5,5,5,10,6,37,27,33,31,30,21,24,28,24,25,25,19,21,20,28,27,24,20,20,11,15,20,11,15,17,21,17,26,24,151,26,null,3,40,131,158,70,154,292,174,null,63,121,420]
[null,"05",35,5646,"P.S. PARQUIN",370,null,199,171,null,1,0,1,2,4,2,3,3,2,2,4,3,2,2,2,4,3,1,2,4,4,2,3,3,4,1,4,3,3,3,3,2,2,1,3,2,2,2,4,4,15,15,15,14,14,8,13,10,12,9,11,10,11,9,12,13,12,8,9,5,8,8,5,7,6,9,8,12,11,66,6,null,1,19,59,70,31,71,132,77,null,27,55,191]
[null,"05",36,5647,"P.S. JUCUL",132,null,71,61,null,0,1,0,1,1,1,1,1,1,0,2,1,1,0,1,1,1,1,1,1,1,1,1,1,1,0,1,1,1,1,1,1,1,0,1,1,1,1,2,1,6,4,5,6,5,5,5,5,5,3,5,1,5,0,5,4,5,3,2,3,2,3,1,2,0,6,3,4,4,24,4,null,1,6,21,24,10,26,48,27,null,10,19,69]
[150810,null,37,150810,"DISTRITO SANTA MARIA",35208,null,17755,17453,null,205,205,215,205,185,194,231,259,226,213,199,192,358,321,377,329,314,317,332,281,295,313,305,249,315,306,257,278,287,281,272,222,300,264,322,299,319,305,381,323,1725,1687,1470,1526,1431,1422,1243,1240,1146,1217,1033,1019,852,864,721,752,628,631,577,578,453,455,313,288,468,418,717,1427,1413,8111,783,null,410,1728,6320,7585,3403,7736,12940,4809,null,3020,5893,19348]
[null,"02",38,5668,"C.S. SANTA MARIA",9858,null,4971,4887,null,57,58,60,58,52,54,65,72,63,60,56,53,100,90,104,94,88,89,93,79,83,87,85,70,88,86,72,78,80,79,76,62,84,74,90,84,89,86,107,90,482,474,411,427,401,397,347,348,320,342,290,285,239,242,203,210,176,177,162,163,126,127,88,80,134,112,201,400,396,2273,219,null,115,484,1770,2124,953,2166,3624,1345,null,846,1650,5418]
[null,"02",39,5669,"P.S. CHONTA",5281,null,2663,2618,null,31,30,33,30,28,29,35,39,35,31,30,29,53,49,58,48,47,48,50,42,43,48,46,37,47,46,38,42,44,41,41,33,45,40,48,45,48,46,57,50,259,250,221,228,216,213,187,185,172,182,154,155,126,131,108,112,95,94,85,86,69,68,49,42,65,69,107,214,214,1213,117,null,61,260,949,1138,510,1159,1941,722,null,454,885,2899]
[null,"02",40,5671,"P.S. ZAPATA",2817,null,1420,1397,null,16,17,17,16,15,15,17,22,18,17,15,17,30,24,31,25,25,24,27,21,24,25,24,21,25,25,21,22,23,23,22,18,24,21,26,24,26,24,30,25,138,136,117,124,114,115,99,100,91,97,82,82,69,69,58,59,50,51,47,44,37,36,25,23,37,35,58,116,112,654,63,null,33,137,503,607,274,620,1035,385,null,239,473,1550]
[null,"02",41,5670,"P.S. AMADO VELASQUEZ",9858,null,4971,4887,null,57,58,60,58,52,54,65,72,63,60,56,53,100,90,104,94,88,89,93,79,83,87,85,70,88,86,72,78,80,79,76,62,84,74,90,84,89,86,107,90,482,474,411,427,401,397,347,348,320,342,290,285,239,242,203,210,176,177,162,163,126,127,88,80,134,112,201,400,396,2273,235,null,115,484,1770,2124,953,2166,3624,1345,null,846,1650,5418]
[null,"02",42,5672,"P.S. SAN BARTOLOME",7394,null,3730,3664,null,44,42,45,43,38,42,49,54,47,45,42,40,75,68,80,68,66,67,69,60,62,66,65,51,67,63,54,58,60,59,57,47,63,55,68,62,67,63,80,68,364,353,310,320,299,300,263,259,243,254,217,212,179,180,149,161,131,132,121,122,95,97,63,63,98,90,150,297,295,1698,149,null,86,363,1328,1592,713,1625,2716,1012,null,635,1235,4063]
[150811,null,43,150811,"DISTRITO SAYAN",24187,null,12359,11828,null,204,190,215,222,219,275,224,222,225,217,234,172,214,216,238,218,217,221,229,198,216,255,221,217,209,193,213,215,205,206,176,180,179,180,198,245,210,224,225,199,1196,1126,1010,1033,1002,926,890,870,810,759,667,624,591,570,504,433,399,373,340,268,258,222,188,154,233,205,484,1086,1028,5338,604,null,394,1819,5279,5465,2399,5223,8646,2640,null,2157,4166,13011]
[null,"03",44,5780,"C.S. SAYAN",9674,null,4943,4731,null,82,76,86,89,88,110,90,88,89,88,93,69,86,86,94,88,87,88,91,80,86,102,88,87,84,77,85,86,82,82,71,71,72,72,79,98,84,89,89,81,479,447,406,411,400,371,358,346,324,304,267,249,237,228,201,174,159,150,136,108,105,88,72,65,93,83,194,434,411,2128,200,null,158,728,2111,2184,959,2086,3459,1059,null,862,1665,5202]
[null,"03",45,5774,"C.S. 9 DE OCTUBRE",5563,null,2843,2720,null,47,43,50,50,50,63,52,51,52,50,54,39,49,49,55,50,50,51,53,45,51,58,52,48,48,44,49,49,47,48,40,42,41,42,46,56,48,52,52,46,275,260,231,238,231,213,204,201,186,175,154,143,137,133,116,100,91,87,77,61,59,50,43,35,53,48,112,247,238,1230,160,null,90,418,1212,1256,552,1202,1993,604,null,495,959,2997]
[null,"03",46,5781,"P.S. CHAMBARA",726,null,371,355,null,6,6,6,7,7,8,7,6,7,6,7,6,6,7,7,7,7,6,7,6,6,8,7,6,7,5,7,6,7,5,5,6,5,6,6,7,6,7,7,6,35,35,31,30,31,28,26,25,25,21,21,19,19,16,14,14,11,12,10,10,7,7,5,5,6,6,14,30,32,158,18,null,12,54,159,165,72,157,259,79,null,66,125,390]
[null,"03",47,5775,"P.S. LA MERCED",1209,null,618,591,null,10,10,11,11,11,14,11,11,11,11,12,8,11,11,12,11,11,11,11,10,11,13,11,11,10,10,11,10,10,11,8,10,8,10,9,13,11,10,11,10,60,55,50,52,51,45,45,43,41,37,33,31,30,28,27,19,19,20,18,13,12,12,10,7,11,13,24,55,53,263,24,null,20,91,265,274,120,259,430,135,null,108,208,647]
[null,"03",48,5776,"P.S. LA VILLA",6047,null,3090,2957,null,51,47,54,55,55,68,56,56,56,54,58,44,54,53,60,54,54,55,57,49,54,64,55,55,52,49,53,54,51,52,44,45,45,44,50,61,53,56,56,50,299,283,252,260,249,233,219,221,204,188,164,158,148,139,126,108,101,92,85,68,65,55,48,38,62,49,122,274,256,1343,166,null,98,454,1318,1366,600,1309,2157,663,null,538,1043,3251]
[null,"03",49,5777,"P.S. EL AHORCADO",484,null,247,237,null,4,4,4,5,4,6,4,5,5,4,5,3,4,5,5,4,4,5,5,4,4,5,4,5,4,4,4,5,4,4,4,3,4,3,4,5,4,5,5,3,24,23,20,21,20,18,19,17,15,17,14,12,10,13,10,9,9,6,7,4,5,5,5,2,4,3,9,23,19,108,18,null,8,37,107,110,48,105,174,50,null,44,83,262]
[null,"03",50,6726,"P.S. LA UNION",484,null,247,237,null,4,4,4,5,4,6,4,5,5,4,5,3,4,5,5,4,4,5,5,4,4,5,4,5,4,4,4,5,4,4,4,3,4,3,4,5,4,5,5,3,24,23,20,21,20,18,19,17,15,17,14,12,10,13,10,9,9,6,7,4,5,5,5,2,4,3,9,23,19,108,18,null,8,37,107,110,48,105,174,50,null,44,83,262]
[150812,null,51,150812,"DISTRITO VEGUETA",23549,null,11915,11634,null,205,203,211,186,271,242,240,252,238,221,233,220,212,231,285,219,256,226,228,197,241,201,225,175,192,195,202,179,173,175,178,185,178,180,183,165,163,175,180,208,1147,1113,1042,1085,970,970,827,828,701,721,613,612,531,573,453,452,366,337,306,275,253,217,168,171,244,245,563,925,913,5329,627,null,408,1861,5418,5334,2185,5113,8251,2582,null,2307,3753,12638]
[null,"04",52,5673,"C.S. VEGUETA",7064,null,3574,3490,null,61,60,63,56,80,73,71,77,71,67,70,66,64,69,84,67,77,68,68,59,72,61,66,54,58,58,61,53,52,52,53,56,53,55,55,49,49,52,54,62,343,335,313,323,292,291,248,248,210,217,184,183,159,173,136,136,110,101,92,80,76,65,53,49,76,75,169,278,274,1597,176,null,121,558,1624,1600,655,1531,2477,777,null,692,1125,3791]
[null,"04",53,5674,"P.S. MAZO",2355,null,1192,1163,null,21,21,21,19,28,24,24,25,24,22,23,22,21,23,30,21,26,22,23,20,24,20,23,17,18,21,20,18,17,18,18,18,18,18,18,17,16,18,18,21,114,112,103,109,97,96,83,84,72,69,60,63,54,57,45,44,36,35,31,28,25,21,17,17,24,23,56,94,92,533,63,null,42,187,544,534,219,511,824,257,null,231,376,1262]
[null,"04",54,5675,"P.S. PRIMAVERA",3297,null,1668,1629,null,29,28,30,26,38,34,34,35,33,31,33,30,30,32,40,31,36,31,32,28,34,28,32,24,27,27,28,25,24,25,25,26,25,25,26,23,23,24,25,29,161,157,146,152,134,138,115,117,98,101,87,84,75,79,63,64,52,46,41,41,34,32,23,25,35,31,79,129,127,749,138,null,57,261,759,747,306,717,1155,360,null,323,525,1771]
[null,"04",55,5676,"P.S. MARIATEGUI",5652,null,2859,2793,null,49,50,51,44,65,58,58,60,57,53,56,53,51,55,69,51,61,55,55,47,58,48,54,42,46,47,49,43,42,42,43,44,43,43,44,40,39,42,44,49,275,267,251,260,231,235,198,198,167,174,148,146,126,139,109,108,87,81,75,65,61,52,40,42,57,60,135,222,218,1280,163,null,99,446,1300,1281,526,1227,1979,620,null,553,902,3032]
[null,"04",56,5677,"P.S. MEDIO MUNDO",4239,null,2145,2094,null,37,36,38,33,49,43,43,45,43,40,42,40,38,42,51,40,46,41,41,35,43,36,41,31,35,35,36,33,31,31,32,33,32,32,33,30,29,32,32,38,207,199,187,197,175,174,148,150,126,130,110,110,96,103,82,82,67,60,55,50,47,38,29,31,44,44,102,166,165,960,82,null,73,334,974,960,393,921,1486,465,null,416,675,2276]
[null,"04",57,5678,"P.S. TIROLER",942,null,477,465,null,8,8,8,8,11,10,10,10,10,8,9,9,8,10,11,9,10,9,9,8,10,8,9,7,8,7,8,7,7,7,7,8,7,7,7,6,7,7,7,9,47,43,42,44,41,36,35,31,28,30,24,26,21,22,18,18,14,14,12,11,10,9,6,7,8,12,22,36,37,210,5,null,16,75,217,212,86,206,330,103,null,92,150,506]
[150900,null,58,150900,"PROVINCIA OYON",18825,null,9400,9425,null,125,93,141,128,122,116,144,167,182,153,179,183,197,189,209,229,218,219,179,196,225,224,199,231,195,190,211,188,193,188,183,177,198,183,174,144,178,162,158,148,829,829,667,710,645,678,558,515,569,522,507,513,457,451,413,384,322,313,279,254,190,253,159,194,195,301,477,1021,814,3767,715,null,218,1153,4248,5101,2224,3681,6212,2460,null,1998,3749,9247]
[150901,null,59,150901,"DISTRITO OYON",11412,null,5647,5765,null,90,74,91,93,73,62,80,116,120,113,116,119,153,134,140,156,150,143,131,136,150,153,129,141,122,119,119,111,122,117,117,111,122,119,108,88,122,104,94,107,535,533,441,493,401,427,342,318,330,313,291,314,245,247,205,194,169,158,139,122,76,110,62,90,62,130,290,641,529,2398,462,null,164,748,2863,3326,1375,2429,3627,1118,null,1378,2375,5629]
[null,"05",60,5659,"C.S. OYON",8445,null,4179,4266,null,67,55,68,68,54,46,59,86,89,84,86,88,112,100,104,115,111,106,97,100,111,113,95,105,90,88,88,83,90,87,87,82,90,88,80,64,90,77,70,79,396,395,326,364,297,315,251,237,243,232,214,234,180,184,151,142,126,115,105,86,57,83,46,68,49,97,215,476,390,1777,342,null,122,554,2119,2460,1017,1797,2680,832,null,1019,1757,4161]
[null,"05",61,5660,"P.S. MALLAY",913,null,452,461,null,7,6,7,8,6,5,6,10,10,9,9,10,13,10,11,13,12,11,11,10,12,12,11,11,10,9,10,8,10,9,9,9,10,9,9,7,10,8,8,8,43,43,36,39,32,34,27,26,26,26,23,26,21,18,16,16,14,12,10,10,5,10,5,7,3,12,23,49,41,194,37,null,13,61,230,265,109,195,291,88,null,110,189,452]
[null,"05",62,5661,"P.S. NAVA",114,null,56,58,null,1,1,1,1,1,0,1,1,1,1,1,1,2,1,1,2,2,1,1,2,2,2,1,2,1,1,1,1,1,1,1,1,1,1,1,1,1,1,1,1,5,5,5,5,5,4,5,2,4,3,5,0,2,3,2,3,0,5,0,5,0,0,0,0,0,0,3,7,5,19,5,null,2,7,30,33,12,24,38,10,null,14,23,58]
[null,"05",63,5662,"P.S. TINTA",799,null,395,404,null,6,5,6,7,5,4,6,8,8,8,8,8,11,9,10,11,11,10,9,10,11,10,9,10,9,8,8,8,9,8,8,8,9,9,8,6,9,7,7,7,38,35,30,36,27,31,24,22,23,23,20,22,17,17,15,13,12,10,10,10,5,8,4,6,3,10,20,44,37,169,23,null,11,52,200,235,98,169,254,78,null,97,168,393]
[null,"05",64,5648,"P.S. RAPAZ",1141,null,565,576,null,9,7,9,9,7,7,8,11,12,11,12,12,15,14,14,15,14,15,13,14,14,16,13,13,12,13,12,11,12,12,12,11,12,12,10,10,12,11,8,12,53,55,44,49,40,43,35,31,34,29,29,32,25,25,21,20,17,16,14,11,9,9,7,9,7,11,29,65,56,239,55,null,16,74,284,333,139,244,364,110,null,138,238,565]
[150902,null,65,150902,"DISTRITO ANDAJES",604,null,286,318,null,0,0,0,2,0,0,1,0,3,0,5,1,4,6,6,2,1,6,2,1,4,3,2,6,6,4,3,2,1,2,3,1,6,3,3,4,3,0,3,2,11,9,6,7,12,15,15,12,12,14,25,10,20,23,33,32,14,23,16,22,17,34,18,28,31,44,4,17,10,67,14,null,0,6,55,87,38,41,223,247,null,{"$f":"SUM(U72:AD72)","v":34},{"$f":"SUM(AE72:AX72)","v":61},{"$f":"SUM(AY72:BN72)","v":256}]
[null,"05",66,5654,"P.S. ANDAJES",604,null,286,318,null,0,0,0,2,0,0,1,0,3,0,5,1,4,6,6,2,1,6,2,1,4,3,2,6,6,4,3,2,1,2,3,1,6,3,3,4,3,0,3,2,11,9,6,7,12,15,15,12,12,14,25,10,20,23,33,32,14,23,16,22,17,34,18,28,31,44,4,17,10,67,14,null,{"$f":"SUM(K73:L73)","v":0},{"$f":"SUM(M73:T73)","v":6},{"$f":"SUM(K73:AH73)","v":55},{"$f":"SUM(U73:AT73)","v":87},{"$f":"SUM(AI73:AT73)","v":38},{"$f":"SUM(AU73:BB73)","v":41},{"$f":"SUM(BC73:BN73)","v":223},{"$f":"SUM(BO73:BX73)","v":247},null,34,61,256]
[150903,null,67,150903,"DISTRITO CAUJUL",633,null,314,319,null,4,3,5,2,6,7,3,5,8,6,5,3,6,4,5,4,3,8,3,3,7,6,5,9,4,4,4,5,4,5,6,10,6,6,6,3,1,10,3,1,22,27,22,17,19,25,16,17,22,15,14,15,17,21,19,19,22,10,17,8,11,11,8,14,11,16,14,29,30,116,27,null,7,42,120,134,63,103,219,128,null,44,105,307]
[null,"05",68,5655,"P.S. CAUJUL",633,null,314,319,null,4,3,5,2,6,7,3,5,8,6,5,3,6,4,5,4,3,8,3,3,7,6,5,9,4,4,4,5,4,5,6,10,6,6,6,3,1,10,3,1,22,27,22,17,19,25,16,17,22,15,14,15,17,21,19,19,22,10,17,8,11,11,8,14,11,16,14,29,30,116,27,null,7,42,120,134,63,103,219,128,null,44,105,307]
[150904,null,69,150904,"DISTRITO COCHAMARCA",1874,null,970,904,null,9,5,16,11,7,9,9,9,7,10,12,17,19,16,20,25,22,24,14,25,31,19,26,32,27,16,38,26,32,35,25,22,32,33,23,23,26,19,20,16,96,80,69,58,53,60,41,35,61,59,48,48,58,30,33,29,22,23,25,27,11,19,14,11,24,33,47,128,113,340,47,null,14,78,394,634,332,384,555,209,null,194,521,858]
[null,"03",70,5783,"P.S. COCHAMARCA",750,null,388,362,null,4,2,7,4,3,4,4,3,3,4,5,7,8,7,8,10,9,9,6,11,13,7,10,13,11,6,16,10,13,14,9,10,13,13,9,9,10,8,8,6,37,33,28,22,21,25,15,15,25,23,18,22,24,11,12,12,8,10,10,10,6,5,7,4,8,13,20,50,46,140,20,null,6,32,161,256,133,152,223,81,null,80,208,343]
[null,"03",71,5784,"P.S. COLCAPAMPA",862,null,446,416,null,4,2,7,5,3,4,4,4,3,5,5,8,8,7,9,12,10,11,6,11,14,8,12,14,12,8,17,12,15,15,12,9,15,15,11,11,12,9,9,8,45,36,31,28,24,28,19,17,28,27,23,20,27,13,16,13,10,11,11,13,4,11,6,6,14,15,21,57,52,156,22,null,6,35,176,287,152,178,255,101,null,87,238,395]
[null,"03",72,5785,"P.S. YARUCAYA",262,null,136,126,null,1,1,2,2,1,1,1,2,1,1,2,2,3,2,3,3,3,4,2,3,4,4,4,5,4,2,5,4,4,6,4,3,4,5,3,3,4,2,3,2,14,11,10,8,8,7,7,3,8,9,7,6,7,6,5,4,4,2,4,4,1,3,1,1,2,5,6,21,15,44,5,null,2,11,57,91,47,54,77,27,null,27,75,120]
[150905,null,73,150905,"DISTRITO NAVAN",1060,null,528,532,null,7,3,13,7,9,5,11,10,6,4,10,17,3,5,7,11,8,10,7,6,5,7,7,15,8,16,10,14,8,6,10,6,7,2,6,10,4,7,7,3,27,29,19,34,47,39,27,34,38,38,48,30,36,32,38,29,27,21,21,19,16,21,12,13,19,29,39,58,28,204,58,null,10,65,193,221,103,130,436,198,null,84,158,545]
[null,"05",74,5656,"P.S. NAVAN",1060,null,528,532,null,7,3,13,7,9,5,11,10,6,4,10,17,3,5,7,11,8,10,7,6,5,7,7,15,8,16,10,14,8,6,10,6,7,2,6,10,4,7,7,3,27,29,19,34,47,39,27,34,38,38,48,30,36,32,38,29,27,21,21,19,16,21,12,13,19,29,39,58,28,204,58,null,10,65,193,221,103,130,436,198,null,84,158,545]
[150906,null,75,150906,"DISTRITO PACHANGARA",3242,null,1655,1587,null,15,8,16,13,27,33,40,27,38,20,31,26,12,24,31,31,34,28,22,25,28,36,30,28,28,31,37,30,26,23,22,27,25,20,28,16,22,22,31,19,138,151,110,101,113,112,117,99,106,83,81,96,81,98,85,81,68,78,61,56,59,58,45,38,48,49,83,148,104,642,107,null,23,214,623,699,313,594,1152,560,null,264,529,1652]
[null,"05",76,5657,"C.S. CHURIN",2010,null,1026,984,null,9,5,10,8,17,20,24,18,22,14,19,17,7,16,19,20,21,18,14,16,17,22,19,17,17,19,22,20,16,14,14,16,15,13,17,10,14,13,19,12,86,91,68,61,70,69,71,64,65,51,50,59,50,60,53,49,42,50,38,35,36,37,29,22,36,28,51,92,64,395,86,null,14,133,389,435,193,364,711,353,null,167,326,1017]
[null,"05",77,5658,"P.S. PACHANGARA",584,null,298,286,null,3,1,3,2,5,6,7,5,7,3,6,4,2,4,6,5,6,5,4,4,5,7,5,5,5,6,7,5,5,4,4,5,5,3,5,3,4,4,6,3,25,29,19,20,21,20,22,16,20,14,15,17,15,18,15,15,12,13,10,11,11,11,7,8,6,10,15,27,18,116,9,null,4,38,110,125,57,110,208,99,null,46,96,301]
[null,"05",78,5649,"P.S. HUANCAHUASI",648,null,331,317,null,3,2,3,3,5,7,9,4,9,3,6,5,3,4,6,6,7,5,4,5,6,7,6,6,6,6,8,5,5,5,4,6,5,4,6,3,4,5,6,4,27,31,23,20,22,23,24,19,21,18,16,20,16,20,17,17,14,15,13,10,12,10,9,8,6,11,17,29,22,131,12,null,5,43,124,139,63,120,233,108,null,51,107,334]
[null,null,79,null,"PROVINCIA HUARAL",1465,null,788,677,null,11,7,9,9,11,8,11,11,15,7,14,9,11,10,10,9,12,10,10,13,9,11,15,10,10,9,13,13,9,11,11,16,9,7,12,11,10,7,13,10,59,49,75,48,65,43,40,49,52,44,40,38,45,45,44,40,33,25,31,23,25,18,28,22,26,35,25,54,51,271,25,null,18,81,252,284,131,271,545,266,null,108,216,776]
[null,null,80,150600,"IHUARI - ACOTAMA",1465,null,788,677,null,11,7,9,9,11,8,11,11,15,7,14,9,11,10,10,9,12,10,10,13,9,11,15,10,10,9,13,13,9,11,11,16,9,7,12,11,10,7,13,10,59,49,75,48,65,43,40,49,52,44,40,38,45,45,44,40,33,25,31,23,25,18,28,22,26,35,19,54,51,271,25,null,18,81,252,284,131,271,545,266,null,108,216,776]
[150606,"03",81]
[null,null,82,null,"MICRORED HUAURA",{"$f":"SUM(H89:I89)","v":38534},null,{"$f":"K89+M89+O89+Q89+S89+U89+W89+Y89+AA89+AC89+AE89+AG89+AI89+AK89+AM89+AO89+AQ89+AS89+AU89+AW89+AY89+BA89+BC89+BE89+BG89+BI89+BK89+BM89+BO89+BQ89+BS89+BU89+BW89","v":19590},{"$f":"L89+N89+P89+R89+T89+V89+X89+Z89+AB89+AD89+AF89+AH89+AJ89+AL89+AN89+AP89+AR89+AT89+AV89+AX89+AZ89+BB89+BD89+BF89+BH89+BJ89+BL89+BN89+BP89+BR89+BT89+BV89+BX89","v":18944},null,{"$f":"K13+K24","v":306},{"$f":"L13+L24","v":291},363,338,362,284,329,301,238,209,238,235,367,359,382,361,356,337,335,327,315,317,323,335,307,303,321,300,308,313,300,282,314,276,305,308,312,272,368,375,1939,1815,1778,1688,1541,1565,1491,1388,1267,1286,1068,1169,990,988,830,788,637,611,521,474,401,346,293,294,385,{"$f":"BX13+BX24","v":409},773,1568,1513,8911,919,null,{"$f":"CE13+CE24","v":597},2424,7608,8224,3637,8547,14371,4371,null,{"$f":"CN13+CN24","v":3297},6254,21591]
[null,1,83,null,"MICRORED HUALMAY",{"$f":"SUM(H90:I90)","v":86939},null,{"$f":"K90+M90+O90+Q90+S90+U90+W90+Y90+AA90+AC90+AE90+AG90+AI90+AK90+AM90+AO90+AQ90+AS90+AU90+AW90+AY90+BA90+BC90+BE90+BG90+BI90+BK90+BM90+BO90+BQ90+BS90+BU90+BW90","v":43492},43447,null,{"$f":"K44+K20+K16+K12","v":659},{"$f":"L44+L20+L16+L12","v":656},625,636,585,570,680,655,638,628,598,558,781,729,830,755,775,765,738,707,706,731,709,656,711,692,667,640,632,648,632,556,667,654,740,680,721,691,813,754,3987,3969,3577,3636,3442,3503,3142,3169,2927,3017,2625,2552,2198,2265,1841,1869,1570,1667,1349,1390,1063,1115,783,793,1081,{"$f":"BX44+BX20+BX16+BX12","v":1141},1717,3367,3335,19846,1943,null,{"$f":"CE44+CE20+CE16+CE12","v":1315},5017,16370,17957,7919,18148,32550,11952,null,{"$f":"CN44+CN20+CN16+CN12","v":7236},13700,47719]
[null,2,84,null,"MICRORED SAYAN",29923,null,15437,14486,null,{"$f":"K50+K30+K76++K87","v":226},{"$f":"L50+L30+L76++L87","v":209},247,256,250,305,260,259,266,254,278,209,266,261,287,273,275,274,269,256,284,303,284,282,264,234,291,272,275,275,241,234,239,245,254,298,280,271,288,251,1433,1342,1275,1216,1226,1125,1069,1016,1013,928,831,770,761,687,650,551,523,477,435,347,322,286,249,210,326,{"$f":"BX50+BX30+BX76++BX87","v":310},596,1366,1299,6397,723,null,{"$f":"CE50+CE30+CE76++CE87","v":435},2097,6333,6923,3122,6356,10627,3485,null,{"$f":"CN50+CN30+CN76++CN87","v":2648},5365,15893]
[null,3,85,null,"MICRORED VEGUETA",23549,null,11915,11634,null,{"$f":"K58","v":205},{"$f":"L58","v":203},211,186,271,242,240,252,238,221,233,220,212,231,285,219,256,226,228,197,241,201,225,175,192,195,202,179,173,175,178,185,178,180,183,165,163,175,180,208,1147,1113,1042,1085,970,970,827,828,701,721,613,612,531,573,453,452,366,337,306,275,253,217,168,171,244,{"$f":"BX58","v":245},563,925,913,5329,627,null,{"$f":"CE58","v":408},1861,5418,5334,2185,5113,8251,2582,null,{"$f":"CN58","v":2307},3753,12638]
[null,4,86,null,"MICRORED CHURIN - OYON",20913,null,10469,10444,null,{"$f":"K82+K66+K72+K74+K80+K18+K35+K40","v":126},{"$f":"L82+L66+L72+L74+L80+L18+L35+L40","v":97},143,136,148,123,160,179,192,163,200,186,203,197,217,237,228,220,198,203,233,232,213,231,207,199,209,201,197,179,179,184,192,181,179,146,175,165,178,168,867,862,713,766,706,712,615,574,630,566,583,593,540,525,496,464,418,393,351,318,276,332,229,275,268,{"$f":"BX82+BX66+BX72+BX74+BX80+BX18+BX35+BX40","v":437},506,1042,844,4073,798,null,{"$f":"CE82+CE66+CE72+CE74+CE80+CE18+CE35+CE40","v":223},1244,4465,5251,2253,3894,7004,3297,null,{"$f":"CN82+CN66+CN72+CN74+CN80+CN18+CN35+CN40","v":2089},3848,10212]

{"sheet":"etapas y mredes","index":2,"n_rows":38,"n_cols":21,"rows_kept":38,"cut":false,"hidden":false,"merged":[[25,4,25,5],[30,4,30,5],[29,4,29,5],[28,4,28,5],[27,4,27,5],[26,4,26,5],[35,4,35,5],[34,4,34,5],[33,4,33,5],[32,4,32,5],[31,4,31,5],[6,15,6,20],[6,2,6,11],[1,2,5,12],[36,2,36,3],[35,2,35,3],[34,2,34,3],[33,2,33,3],[32,2,32,3],[31,2,31,3],[30,2,30,3],[29,2,29,3],[28,2,28,3],[27,2,27,3],[26,2,26,3],[25,2,25,3],[36,4,36,5]]}
[]
[null,null,"POBLACION ASIGNADA POR DISTRITO SIERRA, HOSPITAL, MICROREDES Y POR ETAPAS DE VIDA 2017"]
[]
[]
[]
[]
[null,null,"DISTRITO",null,null,null,null,null,null,null,null,null,null,null,null,"MICROREDES"]
[null,null,65,67,11,74,60,28,76,33,null,null,null,4,null,82,83,84,85,86]
[null,"POBLACION POR\nETAPAS DE VIDA","Andajes","Caujul","Checras","Naván","Oyón","Paccho","Pachangara","Santa Leonor","TOTAL","PORC. (%)",null,"HOSPITAL HUACHO",null,"HUAURA","HUALMAY","SAYAN","VEGUETA","CHURIN OYON","Total Microredes"]
[]
[81,"Infantil (Men.1año)",{"$f":"VLOOKUP(C$8,Poblacion!$C$8:$CP$93,$A11)","v":0},{"$f":"VLOOKUP(D$8,Poblacion!$C$8:$CP$93,$A11)","v":7},{"$f":"VLOOKUP(E$8,Poblacion!$C$8:$CP$93,$A11)","v":5},{"$f":"VLOOKUP(F$8,Poblacion!$C$8:$CP$93,$A11)","v":10},{"$f":"VLOOKUP(G$8,Poblacion!$C$8:$CP$93,$A11)","v":122},{"$f":"VLOOKUP(H$8,Poblacion!$C$8:$CP$93,$A11)","v":9},{"$f":"VLOOKUP(I$8,Poblacion!$C$8:$CP$93,$A11)","v":14},{"$f":"VLOOKUP(J$8,Poblacion!$C$8:$CP$93,$A11)","v":5},{"$f":"SUM(C11:J11)","v":172},{"$f":"IFERROR((K11/$K$20)*100,0)","v":1.0290774201268398},null,{"$f":"VLOOKUP(N$8,Poblacion!$C$8:$CP$93,$A11)","v":1437},null,{"$f":"VLOOKUP(P$8,Poblacion!$C$8:$CP$93,$A11)","v":597},{"$f":"VLOOKUP(Q$8,Poblacion!$C$8:$CP$93,$A11)","v":1315},{"$f":"VLOOKUP(R$8,Poblacion!$C$8:$CP$93,$A11)","v":435},{"$f":"VLOOKUP(S$8,Poblacion!$C$8:$CP$93,$A11)","v":408},{"$f":"VLOOKUP(T$8,Poblacion!$C$8:$CP$93,$A11)","v":223},{"$f":"SUM(P11:T11)","v":2978}]
[82,"Pre-escolar (01-04años)",{"$f":"VLOOKUP(C$8,Poblacion!$C$8:$CP$93,$A12)","v":6},{"$f":"VLOOKUP(D$8,Poblacion!$C$8:$CP$93,$A12)","v":42},{"$f":"VLOOKUP(E$8,Poblacion!$C$8:$CP$93,$A12)","v":11},{"$f":"VLOOKUP(F$8,Poblacion!$C$8:$CP$93,$A12)","v":65},{"$f":"VLOOKUP(G$8,Poblacion!$C$8:$CP$93,$A12)","v":554},{"$f":"VLOOKUP(H$8,Poblacion!$C$8:$CP$93,$A12)","v":93},{"$f":"VLOOKUP(I$8,Poblacion!$C$8:$CP$93,$A12)","v":133},{"$f":"VLOOKUP(J$8,Poblacion!$C$8:$CP$93,$A12)","v":65},969,5.7975350005983008,null,{"$f":"VLOOKUP(N$8,Poblacion!$C$8:$CP$93,$A12)","v":3698},null,{"$f":"VLOOKUP(P$8,Poblacion!$C$8:$CP$93,$A12)","v":2424},{"$f":"VLOOKUP(Q$8,Poblacion!$C$8:$CP$93,$A12)","v":5017},{"$f":"VLOOKUP(R$8,Poblacion!$C$8:$CP$93,$A12)","v":2097},{"$f":"VLOOKUP(S$8,Poblacion!$C$8:$CP$93,$A12)","v":1861},{"$f":"VLOOKUP(T$8,Poblacion!$C$8:$CP$93,$A12)","v":1244},12643]
[83,"Niño (0-11años)",{"$f":"VLOOKUP(C$8,Poblacion!$C$8:$CP$93,$A13)","v":55},{"$f":"VLOOKUP(D$8,Poblacion!$C$8:$CP$93,$A13)","v":120},{"$f":"VLOOKUP(E$8,Poblacion!$C$8:$CP$93,$A13)","v":145},{"$f":"VLOOKUP(F$8,Poblacion!$C$8:$CP$93,$A13)","v":193},{"$f":"VLOOKUP(G$8,Poblacion!$C$8:$CP$93,$A13)","v":2119},{"$f":"VLOOKUP(H$8,Poblacion!$C$8:$CP$93,$A13)","v":255},{"$f":"VLOOKUP(I$8,Poblacion!$C$8:$CP$93,$A13)","v":389},{"$f":"VLOOKUP(J$8,Poblacion!$C$8:$CP$93,$A13)","v":211},3487,20.862749790594712,null,{"$f":"VLOOKUP(N$8,Poblacion!$C$8:$CP$93,$A13)","v":10706},null,{"$f":"VLOOKUP(P$8,Poblacion!$C$8:$CP$93,$A13)","v":7608},{"$f":"VLOOKUP(Q$8,Poblacion!$C$8:$CP$93,$A13)","v":16370},{"$f":"VLOOKUP(R$8,Poblacion!$C$8:$CP$93,$A13)","v":6333},{"$f":"VLOOKUP(S$8,Poblacion!$C$8:$CP$93,$A13)","v":5418},{"$f":"VLOOKUP(T$8,Poblacion!$C$8:$CP$93,$A13)","v":4465},40194]
[84,"Escolar  (05-17años)",{"$f":"VLOOKUP(C$8,Poblacion!$C$8:$CP$93,$A14)","v":87},{"$f":"VLOOKUP(D$8,Poblacion!$C$8:$CP$93,$A14)","v":134},{"$f":"VLOOKUP(E$8,Poblacion!$C$8:$CP$93,$A14)","v":227},{"$f":"VLOOKUP(F$8,Poblacion!$C$8:$CP$93,$A14)","v":221},{"$f":"VLOOKUP(G$8,Poblacion!$C$8:$CP$93,$A14)","v":2460},{"$f":"VLOOKUP(H$8,Poblacion!$C$8:$CP$93,$A14)","v":305},{"$f":"VLOOKUP(I$8,Poblacion!$C$8:$CP$93,$A14)","v":435},{"$f":"VLOOKUP(J$8,Poblacion!$C$8:$CP$93,$A14)","v":252},4121,24.655977025248294,null,{"$f":"VLOOKUP(N$8,Poblacion!$C$8:$CP$93,$A14)","v":9743},null,{"$f":"VLOOKUP(P$8,Poblacion!$C$8:$CP$93,$A14)","v":8224},{"$f":"VLOOKUP(Q$8,Poblacion!$C$8:$CP$93,$A14)","v":17957},{"$f":"VLOOKUP(R$8,Poblacion!$C$8:$CP$93,$A14)","v":6923},{"$f":"VLOOKUP(S$8,Poblacion!$C$8:$CP$93,$A14)","v":5334},{"$f":"VLOOKUP(T$8,Poblacion!$C$8:$CP$93,$A14)","v":5251},43689]
[85,"Adolescente (12-17años)",{"$f":"VLOOKUP(C$8,Poblacion!$C$8:$CP$93,$A15)","v":38},{"$f":"VLOOKUP(D$8,Poblacion!$C$8:$CP$93,$A15)","v":63},{"$f":"VLOOKUP(E$8,Poblacion!$C$8:$CP$93,$A15)","v":98},{"$f":"VLOOKUP(F$8,Poblacion!$C$8:$CP$93,$A15)","v":103},{"$f":"VLOOKUP(G$8,Poblacion!$C$8:$CP$93,$A15)","v":1017},{"$f":"VLOOKUP(H$8,Poblacion!$C$8:$CP$93,$A15)","v":152},{"$f":"VLOOKUP(I$8,Poblacion!$C$8:$CP$93,$A15)","v":193},{"$f":"VLOOKUP(J$8,Poblacion!$C$8:$CP$93,$A15)","v":111},1775,10.619839655378724,null,{"$f":"VLOOKUP(N$8,Poblacion!$C$8:$CP$93,$A15)","v":4172},null,{"$f":"VLOOKUP(P$8,Poblacion!$C$8:$CP$93,$A15)","v":3637},{"$f":"VLOOKUP(Q$8,Poblacion!$C$8:$CP$93,$A15)","v":7919},{"$f":"VLOOKUP(R$8,Poblacion!$C$8:$CP$93,$A15)","v":3122},{"$f":"VLOOKUP(S$8,Poblacion!$C$8:$CP$93,$A15)","v":2185},{"$f":"VLOOKUP(T$8,Poblacion!$C$8:$CP$93,$A15)","v":2253},19116]
[86,"Adulto Joven (18-29años)",{"$f":"VLOOKUP(C$8,Poblacion!$C$8:$CP$93,$A16)","v":41},{"$f":"VLOOKUP(D$8,Poblacion!$C$8:$CP$93,$A16)","v":103},{"$f":"VLOOKUP(E$8,Poblacion!$C$8:$CP$93,$A16)","v":134},{"$f":"VLOOKUP(F$8,Poblacion!$C$8:$CP$93,$A16)","v":130},{"$f":"VLOOKUP(G$8,Poblacion!$C$8:$CP$93,$A16)","v":1797},{"$f":"VLOOKUP(H$8,Poblacion!$C$8:$CP$93,$A16)","v":212},{"$f":"VLOOKUP(I$8,Poblacion!$C$8:$CP$93,$A16)","v":364},{"$f":"VLOOKUP(J$8,Poblacion!$C$8:$CP$93,$A16)","v":251},3032,18.140481033863825,null,{"$f":"VLOOKUP(N$8,Poblacion!$C$8:$CP$93,$A16)","v":9483},null,{"$f":"VLOOKUP(P$8,Poblacion!$C$8:$CP$93,$A16)","v":8547},{"$f":"VLOOKUP(Q$8,Poblacion!$C$8:$CP$93,$A16)","v":18148},{"$f":"VLOOKUP(R$8,Poblacion!$C$8:$CP$93,$A16)","v":6356},{"$f":"VLOOKUP(S$8,Poblacion!$C$8:$CP$93,$A16)","v":5113},{"$f":"VLOOKUP(T$8,Poblacion!$C$8:$CP$93,$A16)","v":3894},42058]
[87,"Adulto    (30-59años)",{"$f":"VLOOKUP(C$8,Poblacion!$C$8:$CP$93,$A17)","v":223},{"$f":"VLOOKUP(D$8,Poblacion!$C$8:$CP$93,$A17)","v":219},{"$f":"VLOOKUP(E$8,Poblacion!$C$8:$CP$93,$A17)","v":317},{"$f":"VLOOKUP(F$8,Poblacion!$C$8:$CP$93,$A17)","v":436},{"$f":"VLOOKUP(G$8,Poblacion!$C$8:$CP$93,$A17)","v":2680},{"$f":"VLOOKUP(H$8,Poblacion!$C$8:$CP$93,$A17)","v":558},{"$f":"VLOOKUP(I$8,Poblacion!$C$8:$CP$93,$A17)","v":711},{"$f":"VLOOKUP(J$8,Poblacion!$C$8:$CP$93,$A17)","v":472},5616,33.600574368792628,null,{"$f":"VLOOKUP(N$8,Poblacion!$C$8:$CP$93,$A17)","v":19765},null,{"$f":"VLOOKUP(P$8,Poblacion!$C$8:$CP$93,$A17)","v":14371},{"$f":"VLOOKUP(Q$8,Poblacion!$C$8:$CP$93,$A17)","v":32550},{"$f":"VLOOKUP(R$8,Poblacion!$C$8:$CP$93,$A17)","v":10627},{"$f":"VLOOKUP(S$8,Poblacion!$C$8:$CP$93,$A17)","v":8251},{"$f":"VLOOKUP(T$8,Poblacion!$C$8:$CP$93,$A17)","v":7004},72803]
[88,"Adu.Mayor (60 a MAS)",{"$f":"VLOOKUP(C$8,Poblacion!$C$8:$CP$93,$A18)","v":247},{"$f":"VLOOKUP(D$8,Poblacion!$C$8:$CP$93,$A18)","v":128},{"$f":"VLOOKUP(E$8,Poblacion!$C$8:$CP$93,$A18)","v":324},{"$f":"VLOOKUP(F$8,Poblacion!$C$8:$CP$93,$A18)","v":198},{"$f":"VLOOKUP(G$8,Poblacion!$C$8:$CP$93,$A18)","v":832},{"$f":"VLOOKUP(H$8,Poblacion!$C$8:$CP$93,$A18)","v":444},{"$f":"VLOOKUP(I$8,Poblacion!$C$8:$CP$93,$A18)","v":353},{"$f":"VLOOKUP(J$8,Poblacion!$C$8:$CP$93,$A18)","v":278},2804,16.776355151370108,null,{"$f":"VLOOKUP(N$8,Poblacion!$C$8:$CP$93,$A18)","v":8047},null,{"$f":"VLOOKUP(P$8,Poblacion!$C$8:$CP$93,$A18)","v":4371},{"$f":"VLOOKUP(Q$8,Poblacion!$C$8:$CP$93,$A18)","v":11952},{"$f":"VLOOKUP(R$8,Poblacion!$C$8:$CP$93,$A18)","v":3485},{"$f":"VLOOKUP(S$8,Poblacion!$C$8:$CP$93,$A18)","v":2582},{"$f":"VLOOKUP(T$8,Poblacion!$C$8:$CP$93,$A18)","v":3297},25687]
[79,"Gestantes",{"$f":"VLOOKUP(C$8,Poblacion!$C$8:$CP$93,$A19)","v":14},{"$f":"VLOOKUP(D$8,Poblacion!$C$8:$CP$93,$A19)","v":27},{"$f":"VLOOKUP(E$8,Poblacion!$C$8:$CP$93,$A19)","v":47},{"$f":"VLOOKUP(F$8,Poblacion!$C$8:$CP$93,$A19)","v":58},{"$f":"VLOOKUP(G$8,Poblacion!$C$8:$CP$93,$A19)","v":342},{"$f":"VLOOKUP(H$8,Poblacion!$C$8:$CP$93,$A19)","v":47},{"$f":"VLOOKUP(I$8,Poblacion!$C$8:$CP$93,$A19)","v":86},{"$f":"VLOOKUP(J$8,Poblacion!$C$8:$CP$93,$A19)","v":36},657,3.9308364245542662,null,{"$f":"VLOOKUP(N$8,Poblacion!$C$8:$CP$93,$A19)","v":937},null,{"$f":"VLOOKUP(P$8,Poblacion!$C$8:$CP$93,$A19)","v":919},{"$f":"VLOOKUP(Q$8,Poblacion!$C$8:$CP$93,$A19)","v":1943},{"$f":"VLOOKUP(R$8,Poblacion!$C$8:$CP$93,$A19)","v":723},{"$f":"VLOOKUP(S$8,Poblacion!$C$8:$CP$93,$A19)","v":627},{"$f":"VLOOKUP(T$8,Poblacion!$C$8:$CP$93,$A19)","v":798},5010]
[null," TOTAL",{"$f":"C13+C15+C16+C17+C18","v":604},{"$f":"D13+D15+D16+D17+D18","v":633},1018,1060,8445,1621,2010,1323,{"$f":"K13+K15+K16+K17+K18","v":16714},{"$f":"IFERROR((K20/$K$20)*100,0)","v":100},null,{"$f":"N13+N15+N16+N17+N18","v":52173},null,{"$f":"P13+P15+P16+P17+P18","v":38534},86939,29923,23549,20913,199858]
[null,{"$f":"Interfaz!$A$22","v":"Elaboración: Área de Estadística - RIS Huaura Oyón."}]
[]
[]
[]
[null,null,null,null,null,null,1,{"$f":"VLOOKUP($G$25,Poblacion!$C$8:$E$93,3,FALSE)","v":"HUAURA - OYON"}]
[null,"POBLACION POR\nETAPAS DE VIDA","TOTAL",null,"PORC. (%)",null,null,{"$f":"+\"POBLACION POR ETAPAS DE VIDA DEL \"&$H$25","v":"POBLACION POR ETAPAS DE VIDA DEL HUAURA - OYON"}]
[null,null,null,null,null,null,null,{"$f":"B30","v":"Niño (0-11años)"},{"$f":"C30","v":50900}]
[81,"Infantil (Men.1año)",{"$f":"VLOOKUP($G$25,Poblacion!$C$8:$CP$93,$A28)","v":4415},null,{"$f":"IFERROR(($C28/$C$37)*100,0)","v":1.7517686316365844},null,null,{"$f":"B32","v":"Adolescente (12-17años)"},23288]
[82,"Pre-escolar (01-04años)",{"$f":"VLOOKUP($G$25,Poblacion!$C$8:$CP$93,$A29)","v":16341},null,6.483726208283902,null,null,"Adulto Joven (18-29años)",51541]
[83,"Niño (0-11años)",{"$f":"VLOOKUP($G$25,Poblacion!$C$8:$CP$93,$A30)","v":50900},null,20.195928278664134,null,null,"Adulto    (30-59años)",92568]
[84,"Escolar  (05-17años)",{"$f":"VLOOKUP($G$25,Poblacion!$C$8:$CP$93,$A31)","v":53432},null,21.200566596966247,null,null,"Adu.Mayor (60 a MAS)",33734]
[85,"Adolescente (12-17años)",{"$f":"VLOOKUP($G$25,Poblacion!$C$8:$CP$93,$A32)","v":23288},null,9.2401331582225996]
[86,"Adulto Joven (18-29años)",{"$f":"VLOOKUP($G$25,Poblacion!$C$8:$CP$93,$A33)","v":51541},null,20.450262070935718]
[87,"Adulto    (30-59años)",{"$f":"VLOOKUP($G$25,Poblacion!$C$8:$CP$93,$A34)","v":92568},null,36.728815106078223]
[88,"Adu.Mayor (60 a MAS)",{"$f":"VLOOKUP($G$25,Poblacion!$C$8:$CP$93,$A35)","v":33734},null,13.384861386099328]
[79,"Gestantes",{"$f":"VLOOKUP($G$25,Poblacion!$C$8:$CP$93,$A36)","v":5947},null,2.359630362931544]
[null," TOTAL",{"$f":"C30+C32+C33+C34+C35","v":252031},null,100]
[null,{"$f":"Interfaz!$A$22","v":"Elaboración: Área de Estadística - RIS Huaura Oyón."}]

{"sheet":"Pobla_EESS","index":3,"n_rows":60,"n_cols":16,"rows_kept":60,"cut":false,"hidden":false,"merged":[[39,4,45,4],[39,11,41,11],[42,11,46,11],[46,4,49,4],[9,4,13,4],[9,11,11,11],[12,11,16,11],[16,3,16,5],[19,10,19,12],[32,3,32,5],[37,3,37,8],[37,10,37,15],[1,3,4,10],[7,3,7,8],[7,10,7,15],[15,3,15,4],[25,4,29,4],[25,11,30,11],[30,4,31,4],[23,3,23,8],[23,10,23,15],[31,10,31,12],[50,4,52,4],[51,11,54,11],[54,3,54,5],[55,11,57,11],[58,10,58,12]]}
[]
[null,null,null,"POBLACIÓN SEGÚN DISTRITOS Y EE.SS - 2012"]
[]
[]
[]
[]
[]
[null,null,null,"SIN MICRORED",null,null,null,null,null,null,"MICRORED HUALMAY"]
[null,null,null,"DISTRITO","POBLACIÓN","EE.SS","POBLACIÓN","MASCULINO","FEMENINO",null,"DISTRITO","POBLACIÓN","EE.SS","POBLACIÓN","MASCULINO","FEMENINO"]
[null,null,null,"HUACHO",{"$f":"G10","v":52173},"HOSPITAL HUACHO",{"$f":"VLOOKUP($F10,Poblacion!$E$8:$I$87,2,FALSE)","v":52173},{"$f":"VLOOKUP($F10,Poblacion!$E$8:$I$87,4,FALSE)","v":25663},{"$f":"VLOOKUP($F10,Poblacion!$E$8:$I$87,5,FALSE)","v":26510},null,"HUALMAY",{"$f":"SUM(N10:N12)","v":27960},"C.S. HUALMAY",{"$f":"VLOOKUP($M10,Poblacion!$E$8:$I$87,2,FALSE)","v":13980},{"$f":"VLOOKUP($M10,Poblacion!$E$8:$I$87,4,FALSE)","v":6949},{"$f":"VLOOKUP($M10,Poblacion!$E$8:$I$87,5,FALSE)","v":7031}]
[null,null,null,"HUACHO",null,"CLINICA SAN PEDRO",0,null,null,null,"HUALMAY",null,"P.S. DGO. MANDAMIENTO",{"$f":"VLOOKUP($M11,Poblacion!$E$8:$I$87,2,FALSE)","v":9786},{"$f":"VLOOKUP($M11,Poblacion!$E$8:$I$87,4,FALSE)","v":4864},{"$f":"VLOOKUP($M11,Poblacion!$E$8:$I$87,5,FALSE)","v":4922}]
[null,null,null,"HUACHO",null,"ESSALUD GUSTAVO LA NATA",0,null,null,null,"HUALMAY",null,"P.S. CAMPO ALEGRE",{"$f":"VLOOKUP($M12,Poblacion!$E$8:$I$87,2,FALSE)","v":4194},{"$f":"VLOOKUP($M12,Poblacion!$E$8:$I$87,4,FALSE)","v":2085},{"$f":"VLOOKUP($M12,Poblacion!$E$8:$I$87,5,FALSE)","v":2109}]
[null,null,null,"HUACHO",null,"CLINICA SAN BARTOLOME",0,null,null,null,"S.MARIA",{"$f":"SUM(N13:N17)","v":35208},"C.S. SANTA MARIA",{"$f":"VLOOKUP($M13,Poblacion!$E$8:$I$87,2,FALSE)","v":9858},{"$f":"VLOOKUP($M13,Poblacion!$E$8:$I$87,4,FALSE)","v":4971},{"$f":"VLOOKUP($M13,Poblacion!$E$8:$I$87,5,FALSE)","v":4887}]
[null,null,null,"HUACHO",null,"GOLD ESTANDAR EIRL.",0,null,null,null,"S.MARIA",null,"P.S. CHONTA",{"$f":"VLOOKUP($M14,Poblacion!$E$8:$I$87,2,FALSE)","v":5281},{"$f":"VLOOKUP($M14,Poblacion!$E$8:$I$87,4,FALSE)","v":2663},{"$f":"VLOOKUP($M14,Poblacion!$E$8:$I$87,5,FALSE)","v":2618}]
[null,null,null,"CARQUIN",null,"INSITUTO NACIONAL PENITENCIARIO CARQUIN",0,null,null,null,"S.MARIA",null,"P.S. ZAPATA",{"$f":"VLOOKUP($M15,Poblacion!$E$8:$I$87,2,FALSE)","v":2817},{"$f":"VLOOKUP($M15,Poblacion!$E$8:$I$87,4,FALSE)","v":1420},{"$f":"VLOOKUP($M15,Poblacion!$E$8:$I$87,5,FALSE)","v":1397}]
[null,null,null,null,null,"OTROS ESTABLECIMIENTOS",0,null,null,null,"S.MARIA",null,"P.S. AMADO VELASQUEZ",{"$f":"VLOOKUP($M16,Poblacion!$E$8:$I$87,2,FALSE)","v":9858},{"$f":"VLOOKUP($M16,Poblacion!$E$8:$I$87,4,FALSE)","v":4971},{"$f":"VLOOKUP($M16,Poblacion!$E$8:$I$87,5,FALSE)","v":4887}]
[null,null,null,"TOTAL SIN MICRORED",null,null,{"$f":"SUM(G10:G16)","v":52173},{"$f":"SUM(H10:H16)","v":25663},{"$f":"SUM(I10:I16)","v":26510},null,"S.MARIA",null,"P.S. SAN BARTOLOME",{"$f":"VLOOKUP($M17,Poblacion!$E$8:$I$87,2,FALSE)","v":7394},{"$f":"VLOOKUP($M17,Poblacion!$E$8:$I$87,4,FALSE)","v":3730},{"$f":"VLOOKUP($M17,Poblacion!$E$8:$I$87,5,FALSE)","v":3664}]
[null,null,null,{"$f":"'etapas y mredes'!B21","v":"Elaboración: Área de Estadística - RIS Huaura Oyón."},null,null,null,null,null,null,"CARQUIN",{"$f":"N18","v":6380},"P.S. CARQUIN",{"$f":"VLOOKUP($M18,Poblacion!$E$8:$I$87,2,FALSE)","v":6380},{"$f":"VLOOKUP($M18,Poblacion!$E$8:$I$87,4,FALSE)","v":3285},{"$f":"VLOOKUP($M18,Poblacion!$E$8:$I$87,5,FALSE)","v":3095}]
[null,null,null,null,null,null,null,null,null,null,"HUACHO",{"$f":"N19","v":17391},"C.S. MANZANARES",{"$f":"VLOOKUP($M19,Poblacion!$E$8:$I$87,2,FALSE)","v":17391},{"$f":"VLOOKUP($M19,Poblacion!$E$8:$I$87,4,FALSE)","v":8554},{"$f":"VLOOKUP($M19,Poblacion!$E$8:$I$87,5,FALSE)","v":8837}]
[null,null,null,null,null,null,null,null,null,null,"TOTAL MCR HUALMAY",null,"TOTAL MICRORED HUALMAY",{"$f":"SUM(N10:N19)","v":86939},{"$f":"SUM(O10:O19)","v":43492},{"$f":"SUM(P10:P19)","v":43447}]
[null,null,null,null,null,null,null,null,null,null,{"$f":"D18","v":"Elaboración: Área de Estadística - RIS Huaura Oyón."}]
[]
[]
[null,null,null,"MICRORED HUAURA",null,null,null,null,null,null,"MICRORED VEGUETA"]
[null,null,null,"DISTRITO","POBLACIÓN","EE.SS","POBLACIÓN","MASCULINO","FEMENINO",null,"DISTRITO","POBLACIÓN","EE.SS","POBLACIÓN","MASCULINO","FEMENINO"]
[null,null,null,"HUAURA",{"$f":"SUM(G26:G30)","v":36324},"C.S. HUAURA",{"$f":"VLOOKUP($F26,Poblacion!$E$8:$I$87,2,FALSE)","v":16345},{"$f":"VLOOKUP($F26,Poblacion!$E$8:$I$87,4,FALSE)","v":8277},{"$f":"VLOOKUP($F26,Poblacion!$E$8:$I$87,5,FALSE)","v":8068},null,"VEGUETA",{"$f":"SUM(N26:N31)","v":23549},"C.S. VEGUETA",{"$f":"VLOOKUP($M26,Poblacion!$E$8:$I$87,2,FALSE)","v":7064},{"$f":"VLOOKUP($M26,Poblacion!$E$8:$I$87,4,FALSE)","v":3574},{"$f":"VLOOKUP($M26,Poblacion!$E$8:$I$87,5,FALSE)","v":3490}]
[null,null,null,"HUAURA",null,"C.S. SOCORRO",{"$f":"VLOOKUP($F27,Poblacion!$E$8:$I$87,2,FALSE)","v":13803},{"$f":"VLOOKUP($F27,Poblacion!$E$8:$I$87,4,FALSE)","v":6989},{"$f":"VLOOKUP($F27,Poblacion!$E$8:$I$87,5,FALSE)","v":6814},null,"VEGUETA",null,"P.S. MAZO",{"$f":"VLOOKUP($M27,Poblacion!$E$8:$I$87,2,FALSE)","v":2355},{"$f":"VLOOKUP($M27,Poblacion!$E$8:$I$87,4,FALSE)","v":1192},{"$f":"VLOOKUP($M27,Poblacion!$E$8:$I$87,5,FALSE)","v":1163}]
[null,null,null,"HUAURA",null,"P.S. HUMAYA",{"$f":"VLOOKUP($F28,Poblacion!$E$8:$I$87,2,FALSE)","v":3633},{"$f":"VLOOKUP($F28,Poblacion!$E$8:$I$87,4,FALSE)","v":1839},{"$f":"VLOOKUP($F28,Poblacion!$E$8:$I$87,5,FALSE)","v":1794},null,"VEGUETA",null,"P.S. PRIMAVERA",{"$f":"VLOOKUP($M28,Poblacion!$E$8:$I$87,2,FALSE)","v":3297},{"$f":"VLOOKUP($M28,Poblacion!$E$8:$I$87,4,FALSE)","v":1668},{"$f":"VLOOKUP($M28,Poblacion!$E$8:$I$87,5,FALSE)","v":1629}]
[null,null,null,"HUAURA",null,"P.S. VILCAHUAURA",{"$f":"VLOOKUP($F29,Poblacion!$E$8:$I$87,2,FALSE)","v":2179},{"$f":"VLOOKUP($F29,Poblacion!$E$8:$I$87,4,FALSE)","v":1104},{"$f":"VLOOKUP($F29,Poblacion!$E$8:$I$87,5,FALSE)","v":1075},null,"VEGUETA",null,"P.S. MARIATEGUI",{"$f":"VLOOKUP($M29,Poblacion!$E$8:$I$87,2,FALSE)","v":5652},{"$f":"VLOOKUP($M29,Poblacion!$E$8:$I$87,4,FALSE)","v":2859},{"$f":"VLOOKUP($M29,Poblacion!$E$8:$I$87,5,FALSE)","v":2793}]
[null,null,null,"HUAURA",null,"P.S. PEÑICO",{"$f":"VLOOKUP($F30,Poblacion!$E$8:$I$87,2,FALSE)","v":364},{"$f":"VLOOKUP($F30,Poblacion!$E$8:$I$87,4,FALSE)","v":184},{"$f":"VLOOKUP($F30,Poblacion!$E$8:$I$87,5,FALSE)","v":180},null,"VEGUETA",null,"P.S. MEDIO MUNDO",{"$f":"VLOOKUP($M30,Poblacion!$E$8:$I$87,2,FALSE)","v":4239},{"$f":"VLOOKUP($M30,Poblacion!$E$8:$I$87,4,FALSE)","v":2145},{"$f":"VLOOKUP($M30,Poblacion!$E$8:$I$87,5,FALSE)","v":2094}]
[null,null,null,"AMBAR",{"$f":"SUM(G31:G32)","v":2210},"C.S. AMBAR",{"$f":"VLOOKUP($F31,Poblacion!$E$8:$I$87,2,FALSE)","v":1323},{"$f":"VLOOKUP($F31,Poblacion!$E$8:$I$87,4,FALSE)","v":718},{"$f":"VLOOKUP($F31,Poblacion!$E$8:$I$87,5,FALSE)","v":605},null,"VEGUETA",null,"P.S. TIROLER",{"$f":"VLOOKUP($M31,Poblacion!$E$8:$I$87,2,FALSE)","v":942},{"$f":"VLOOKUP($M31,Poblacion!$E$8:$I$87,4,FALSE)","v":477},{"$f":"VLOOKUP($M31,Poblacion!$E$8:$I$87,5,FALSE)","v":465}]
[null,null,null,"AMBAR",null,"P.S. AYNACA",{"$f":"VLOOKUP($F32,Poblacion!$E$8:$I$87,2,FALSE)","v":887},{"$f":"VLOOKUP($F32,Poblacion!$E$8:$I$87,4,FALSE)","v":479},{"$f":"VLOOKUP($F32,Poblacion!$E$8:$I$87,5,FALSE)","v":408},null,"TOTAL MCR VEGUETA",null,null,{"$f":"SUM(N26:N31)","v":23549},{"$f":"SUM(O26:O31)","v":11915},{"$f":"SUM(P26:P31)","v":11634}]
[null,null,null,"TOTAL MCR HUAURA",null,"TOTAL MICRORED HUAURA ",{"$f":"SUM(G26:G32)","v":38534},{"$f":"SUM(H26:H32)","v":19590},18944,null,{"$f":"K21","v":"Elaboración: Área de Estadística - RIS Huaura Oyón."}]
[null,null,null,{"$f":"K21","v":"Elaboración: Área de Estadística - RIS Huaura Oyón."}]
[]
[]
[]
[null,null,null,"MICRORED SAYAN",null,null,null,null,null,null,"MICRORED CHURIN OYÓN"]
[null,null,null,"DISTRITO","POBLACIÓN","EE.SS","POBLACIÓN","MASCULINO","FEMENINO",null,"DISTRITO","POBLACIÓN","EE.SS","POBLACIÓN","MASCULINO","FEMENINO"]
[null,null,null,"SAYAN",{"$f":"SUM(G40:G46)","v":24187},"C.S. SAYAN",{"$f":"VLOOKUP($F40,Poblacion!$E$8:$I$87,2,FALSE)","v":9674},{"$f":"VLOOKUP($F40,Poblacion!$E$8:$I$87,4,FALSE)","v":4943},{"$f":"VLOOKUP($F40,Poblacion!$E$8:$I$87,5,FALSE)","v":4731},null,"PACHANGARA",{"$f":"SUM(N40:N42)","v":3242},"C.S. CHURIN",{"$f":"VLOOKUP(M40,Poblacion!$E$5:$I$88,2,FALSE)","v":2010},{"$f":"VLOOKUP(M40,Poblacion!$E$5:$I$88,4,FALSE)","v":1026},{"$f":"VLOOKUP(M40,Poblacion!$E$5:$I$88,5,FALSE)","v":984}]
[null,null,null,"SAYAN",null,"C.S. 9 DE OCTUBRE",{"$f":"VLOOKUP($F41,Poblacion!$E$8:$I$87,2,FALSE)","v":5563},{"$f":"VLOOKUP($F41,Poblacion!$E$8:$I$87,4,FALSE)","v":2843},{"$f":"VLOOKUP($F41,Poblacion!$E$8:$I$87,5,FALSE)","v":2720},null,"PACHANGARA",null,"P.S. PACHANGARA",{"$f":"VLOOKUP(M41,Poblacion!$E$5:$I$88,2,FALSE)","v":584},{"$f":"VLOOKUP(M41,Poblacion!$E$5:$I$88,4,FALSE)","v":298},{"$f":"VLOOKUP(M41,Poblacion!$E$5:$I$88,5,FALSE)","v":286}]
[null,null,null,"SAYAN",null,"P.S. CHAMBARA",{"$f":"VLOOKUP($F42,Poblacion!$E$8:$I$87,2,FALSE)","v":726},{"$f":"VLOOKUP($F42,Poblacion!$E$8:$I$87,4,FALSE)","v":371},{"$f":"VLOOKUP($F42,Poblacion!$E$8:$I$87,5,FALSE)","v":355},null,"PACHANGARA",null,"P.S. HUANCAHUASI",{"$f":"VLOOKUP(M42,Poblacion!$E$5:$I$88,2,FALSE)","v":648},{"$f":"VLOOKUP(M42,Poblacion!$E$5:$I$88,4,FALSE)","v":331},{"$f":"VLOOKUP(M42,Poblacion!$E$5:$I$88,5,FALSE)","v":317}]
[null,null,null,"SAYAN",null,"P.S. LA MERCED",{"$f":"VLOOKUP($F43,Poblacion!$E$8:$I$87,2,FALSE)","v":1209},{"$f":"VLOOKUP($F43,Poblacion!$E$8:$I$87,4,FALSE)","v":618},{"$f":"VLOOKUP($F43,Poblacion!$E$8:$I$87,5,FALSE)","v":591},null,"OYON",{"$f":"SUM(N43:N47)","v":11412},"C.S. OYON",{"$f":"VLOOKUP(M43,Poblacion!$E$5:$I$88,2,FALSE)","v":8445},{"$f":"VLOOKUP(M43,Poblacion!$E$5:$I$88,4,FALSE)","v":4179},{"$f":"VLOOKUP(M43,Poblacion!$E$5:$I$88,5,FALSE)","v":4266}]
[null,null,null,"SAYAN",null,"P.S. LA VILLA",{"$f":"VLOOKUP($F44,Poblacion!$E$8:$I$87,2,FALSE)","v":6047},{"$f":"VLOOKUP($F44,Poblacion!$E$8:$I$87,4,FALSE)","v":3090},{"$f":"VLOOKUP($F44,Poblacion!$E$8:$I$87,5,FALSE)","v":2957},null,"OYON",null,"P.S. MALLAY",{"$f":"VLOOKUP(M44,Poblacion!$E$5:$I$88,2,FALSE)","v":913},{"$f":"VLOOKUP(M44,Poblacion!$E$5:$I$88,4,FALSE)","v":452},{"$f":"VLOOKUP(M44,Poblacion!$E$5:$I$88,5,FALSE)","v":461}]
[null,null,null,"SAYAN",null,"P.S. EL AHORCADO",{"$f":"VLOOKUP($F45,Poblacion!$E$8:$I$87,2,FALSE)","v":484},{"$f":"VLOOKUP($F45,Poblacion!$E$8:$I$87,4,FALSE)","v":247},{"$f":"VLOOKUP($F45,Poblacion!$E$8:$I$87,5,FALSE)","v":237},null,"OYON",null,"P.S. NAVA",{"$f":"VLOOKUP(M45,Poblacion!$E$5:$I$88,2,FALSE)","v":114},{"$f":"VLOOKUP(M45,Poblacion!$E$5:$I$88,4,FALSE)","v":56},{"$f":"VLOOKUP(M45,Poblacion!$E$5:$I$88,5,FALSE)","v":58}]
[null,null,null,"SAYAN",null,"P.S. LA UNION",{"$f":"VLOOKUP($F46,Poblacion!$E$8:$I$87,2,FALSE)","v":484},{"$f":"VLOOKUP($F46,Poblacion!$E$8:$I$87,4,FALSE)","v":247},{"$f":"VLOOKUP($F46,Poblacion!$E$8:$I$87,5,FALSE)","v":237},null,"OYON",null,"P.S. TINTA",{"$f":"VLOOKUP(M46,Poblacion!$E$5:$I$88,2,FALSE)","v":799},{"$f":"VLOOKUP(M46,Poblacion!$E$5:$I$88,4,FALSE)","v":395},{"$f":"VLOOKUP(M46,Poblacion!$E$5:$I$88,5,FALSE)","v":404}]
[null,null,null,"L.PRADO",{"$f":"SUM(G47:G50)","v":2397},"P.S. AUQUIMARCA",{"$f":"VLOOKUP($F47,Poblacion!$E$8:$I$87,2,FALSE)","v":120},{"$f":"VLOOKUP($F47,Poblacion!$E$8:$I$87,4,FALSE)","v":66},{"$f":"VLOOKUP($F47,Poblacion!$E$8:$I$87,5,FALSE)","v":54},null,"OYON",null,"P.S. RAPAZ",{"$f":"VLOOKUP(M47,Poblacion!$E$5:$I$88,2,FALSE)","v":1141},{"$f":"VLOOKUP(M47,Poblacion!$E$5:$I$88,4,FALSE)","v":565},{"$f":"VLOOKUP(M47,Poblacion!$E$5:$I$88,5,FALSE)","v":576}]
[null,null,null,"L.PRADO",null,"P.S. PARAN",{"$f":"VLOOKUP($F48,Poblacion!$E$8:$I$87,2,FALSE)","v":1199},{"$f":"VLOOKUP($F48,Poblacion!$E$8:$I$87,4,FALSE)","v":660},{"$f":"VLOOKUP($F48,Poblacion!$E$8:$I$87,5,FALSE)","v":539},null,"ANDAJES",{"$f":"N48","v":604},"P.S. ANDAJES",{"$f":"VLOOKUP(M48,Poblacion!$E$5:$I$88,2,FALSE)","v":604},{"$f":"VLOOKUP(M48,Poblacion!$E$5:$I$88,4,FALSE)","v":286},{"$f":"VLOOKUP(M48,Poblacion!$E$5:$I$88,5,FALSE)","v":318}]
[null,null,null,"L.PRADO",null,"P.S. SANTA CRUZ",{"$f":"VLOOKUP($F49,Poblacion!$E$8:$I$87,2,FALSE)","v":479},{"$f":"VLOOKUP($F49,Poblacion!$E$8:$I$87,4,FALSE)","v":264},{"$f":"VLOOKUP($F49,Poblacion!$E$8:$I$87,5,FALSE)","v":215},null,"CAUJUL",{"$f":"N49","v":633},"P.S. CAUJUL",{"$f":"VLOOKUP(M49,Poblacion!$E$5:$I$88,2,FALSE)","v":633},{"$f":"VLOOKUP(M49,Poblacion!$E$5:$I$88,4,FALSE)","v":314},{"$f":"VLOOKUP(M49,Poblacion!$E$5:$I$88,5,FALSE)","v":319}]
[null,null,null,"L.PRADO",null,"P.S. HUANANGUI",{"$f":"VLOOKUP($F50,Poblacion!$E$8:$I$87,2,FALSE)","v":599},{"$f":"VLOOKUP($F50,Poblacion!$E$8:$I$87,4,FALSE)","v":330},{"$f":"VLOOKUP($F50,Poblacion!$E$8:$I$87,5,FALSE)","v":269},null,"NAVAN",1060,"P.S. NAVAN",{"$f":"VLOOKUP(M50,Poblacion!$E$5:$I$88,2,FALSE)","v":1060},{"$f":"VLOOKUP(M50,Poblacion!$E$5:$I$88,4,FALSE)","v":528},{"$f":"VLOOKUP(M50,Poblacion!$E$5:$I$88,5,FALSE)","v":532}]
[null,null,null,"COCHAMARCA",{"$f":"SUM(G51:G53)","v":1874},"P.S. COCHAMARCA",{"$f":"VLOOKUP($F51,Poblacion!$E$8:$I$87,2,FALSE)","v":750},{"$f":"VLOOKUP($F51,Poblacion!$E$8:$I$87,4,FALSE)","v":388},{"$f":"VLOOKUP($F51,Poblacion!$E$8:$I$87,5,FALSE)","v":362},null,"CHECRAS",1018,"P.S. PUÑUN",{"$f":"VLOOKUP(M51,Poblacion!$E$5:$I$88,2,FALSE)","v":1018},{"$f":"VLOOKUP(M51,Poblacion!$E$5:$I$88,4,FALSE)","v":501},{"$f":"VLOOKUP(M51,Poblacion!$E$5:$I$88,5,FALSE)","v":517}]
[null,null,null,"COCHAMARCA",null,"P.S. COLCAPAMPA",{"$f":"VLOOKUP($F52,Poblacion!$E$8:$I$87,2,FALSE)","v":862},{"$f":"VLOOKUP($F52,Poblacion!$E$8:$I$87,4,FALSE)","v":446},{"$f":"VLOOKUP($F52,Poblacion!$E$8:$I$87,5,FALSE)","v":416},null,"PACCHO",{"$f":"SUM(N52:N55)","v":1621},"P.S. PACCHO",{"$f":"VLOOKUP(M52,Poblacion!$E$5:$I$88,2,FALSE)","v":649},{"$f":"VLOOKUP(M52,Poblacion!$E$5:$I$88,4,FALSE)","v":330},{"$f":"VLOOKUP(M52,Poblacion!$E$5:$I$88,5,FALSE)","v":319}]
[null,null,null,"COCHAMARCA",null,"P.S. YARUCAYA",{"$f":"VLOOKUP($F53,Poblacion!$E$8:$I$87,2,FALSE)","v":262},{"$f":"VLOOKUP($F53,Poblacion!$E$8:$I$87,4,FALSE)","v":136},{"$f":"VLOOKUP($F53,Poblacion!$E$8:$I$87,5,FALSE)","v":126},null,"PACCHO",null,"P.S. LACSANGA",{"$f":"VLOOKUP(M53,Poblacion!$E$5:$I$88,2,FALSE)","v":486},{"$f":"VLOOKUP(M53,Poblacion!$E$5:$I$88,4,FALSE)","v":248},{"$f":"VLOOKUP(M53,Poblacion!$E$5:$I$88,5,FALSE)","v":238}]
[null,null,null,"IHUARI - ACOTAMA",{"$f":"SUM(G54)","v":1465},"IHUARI - ACOTAMA",{"$f":"VLOOKUP($F54,Poblacion!$E$8:$I$87,2,FALSE)","v":1465},{"$f":"VLOOKUP($F54,Poblacion!$E$8:$I$87,4,FALSE)","v":788},{"$f":"VLOOKUP($F54,Poblacion!$E$8:$I$87,5,FALSE)","v":677},null,"PACCHO",null,"P.S. AYARANGA",{"$f":"VLOOKUP(M54,Poblacion!$E$5:$I$88,2,FALSE)","v":243},{"$f":"VLOOKUP(M54,Poblacion!$E$5:$I$88,4,FALSE)","v":124},{"$f":"VLOOKUP(M54,Poblacion!$E$5:$I$88,5,FALSE)","v":119}]
[null,null,null,"TOTAL MICRORED SAYAN",null,null,{"$f":"SUM(G40:G54)","v":29923},{"$f":"SUM(H40:H54)","v":15437},14486,null,"PACCHO",null,"P.S. MUZGA",{"$f":"VLOOKUP(M55,Poblacion!$E$5:$I$88,2,FALSE)","v":243},{"$f":"VLOOKUP(M55,Poblacion!$E$5:$I$88,4,FALSE)","v":124},{"$f":"VLOOKUP(M55,Poblacion!$E$5:$I$88,5,FALSE)","v":119}]
[null,null,null,{"$f":"K33","v":"Elaboración: Área de Estadística - RIS Huaura Oyón."},null,null,null,null,null,null,"S.LEONOR",{"$f":"SUM(N56:N58)","v":1323},"P.S. CHIUCHIN",{"$f":"VLOOKUP(M56,Poblacion!$E$5:$I$88,2,FALSE)","v":821},{"$f":"VLOOKUP(M56,Poblacion!$E$5:$I$88,4,FALSE)","v":442},{"$f":"VLOOKUP(M56,Poblacion!$E$5:$I$88,5,FALSE)","v":379}]
[null,null,null,null,null,null,null,null,null,null,"S.LEONOR",null,"P.S. PARQUIN",{"$f":"VLOOKUP(M57,Poblacion!$E$5:$I$88,2,FALSE)","v":370},{"$f":"VLOOKUP(M57,Poblacion!$E$5:$I$88,4,FALSE)","v":199},{"$f":"VLOOKUP(M57,Poblacion!$E$5:$I$88,5,FALSE)","v":171}]
[null,null,null,null,null,null,null,null,null,null,"S.LEONOR",null,"P.S. JUCUL",{"$f":"VLOOKUP(M58,Poblacion!$E$5:$I$88,2,FALSE)","v":132},{"$f":"VLOOKUP(M58,Poblacion!$E$5:$I$88,4,FALSE)","v":71},{"$f":"VLOOKUP(M58,Poblacion!$E$5:$I$88,5,FALSE)","v":61}]
[null,null,null,null,null,null,null,null,null,null,"TOTAL MICRORED CHURIN - OYON",null,null,{"$f":"SUM(N40:N58)","v":20913},{"$f":"SUM(O40:O58)","v":10469},10444]
[null,null,null,null,null,null,null,null,null,null,{"$f":"K33","v":"Elaboración: Área de Estadística - RIS Huaura Oyón."}]