{"text_format":"1","workbook":"xlsx","n_sheets":3,"sheets":["Interfaz","Poblacion","Pobla_EESS"],"not_rendered":{"charts":0,"images":10,"macros":1,"external_links":1,"defined_names":4,"comments":0,"pivot_tables":0},"unopened":[],"bounds":{"document_bytes":16777216,"sheet_cells":100000,"rows_first":2000,"rows_last":500,"rows_between":2000,"halvings":0,"cell_chars":16384,"cell_head_chars":4096},"cells_cut":0,"cells_raw":0,"read":"whole","date_system":"1900"}

{"sheet":"Interfaz","index":0,"n_rows":27,"n_cols":18,"rows_kept":27,"cut":false,"hidden":false,"merged":[[4,2,7,11],[9,2,11,11]]}
[]
[]
[]
[]
[null,null,"POBLACIÓN ASIGNADA SEGÚN CENSOS INEI - RENIEC - PN - CNV - 2016"]
[]
[]
[]
[]
[null,null,"RED INTEGRADA DE SALUD HUAURA OYÓN "]
[]
[]
[]
[]
[]
[]
[]
[]
[]
[]
[]
["Elaboración: Área de Estadística - RIS Huaura Oyón."]
["NOTA: LA POBLACION ESTIMADA DE EDADES  SIMPLES Y GRUPOS DE EDAD DE DISTRITOS, CORRESPONDEN A CIFRAS REFERENCIALES HASTA OBTENER LAS CIFRAS DE LAS PROYECCIONES DEL INEI"]
[]
[]
["OFICINA DE GESTION DE LA INFORMACIÓN - MINISTERIO DE SALUD"]
[null,null,null,null,null,null,null,null,null,null,null,null,null,null,null,null,null,"Versión1.030"]

{"sheet":"Poblacion","index":1,"n_rows":93,"n_cols":104,"rows_kept":93,"cut":false,"hidden":false,"merged":[[5,40,5,41],[4,42,4,43],[4,44,4,45],[5,42,5,43],[5,44,5,45],[4,5,6,5],[5,12,5,13],[4,14,4,15],[5,14,5,15],[5,36,5,37],[4,28,4,29],[5,32,5,33],[5,34,5,35],[5,28,5,29],[5,30,5,31],[5,24,5,25],[5,26,5,27],[4,16,4,17],[5,16,5,17],[4,7,6,7],[4,8,6,8],[5,50,5,51],[4,10,4,11],[5,10,5,11],[4,12,4,13],[4,18,4,19],[4,20,4,21],[4,22,4,23],[4,24,4,25],[4,26,4,27],[5,18,5,19],[5,20,5,21],[5,22,5,23],[4,38,4,39],[5,38,5,39],[5,48,5,49],[5,46,5,47],[1,30,1,51],[2,30,2,51],[4,48,4,49],[3,30,3,51],[4,36,4,37],[4,30,4,31],[4,32,4,33],[4,34,4,35],[4,50,4,51],[4,40,4,41],[4,46,4,47],[4,52,6,52],[4,53,6,53],[4,54,6,54],[4,61,6,61],[4,60,6,60],[4,55,4,58],[5,55,6,55],[5,56,6,56],[5,57,6,57],[5,58,6,58],[4,62,6,62],[4,71,6,71],[2,65,2,72],[4,70,6,70],[4,69,6,69],[4,63,6,63],[4,64,6,64],[4,65,6,65],[4,67,6,67],[4,66,6,66]]}
[null,null,1,2,3,4,5,6,7,8,9,10,11,12,13,14,15,16,17,18,19,20,21,22,23,24,25,26,27,28,29,30,31,32,33,34,35,36,37,38,39,40,41,42,43,44,45,46,47,48,49,50,51,52,53,54,55,56,57,58,59,60,61,62,63,64,65,66,67,68,69,70,null,null,null,77,78,79,80,81,82,83,84,85,86,87,88,89,90,91,92,93,94,95,96,97,98,99,106,107,108,109,110,111]
[null,null,null,null,null,null,null,null,null,null,null,null,null,null,null,null,null,null,null,null,null,null,null,null,null,null,null,null,null,null,"POBLACIÓN ESTIMADA POR GRUPOS DE EDAD, SEGÚN PROVINCIAS DISTRITOS Y ESTABLECIMIENTOS DE SALUD"]
[null,null,null,null,null,null,null,null,null,null,null,null,null,null,null,null,null,null,null,null,null,null,null,null,null,null,null,null,null,null,"RED INTEGRADA DE SALUD HUAURA OYON   -   AÑO  2016",null,null,null,null,null,null,null,null,null,null,null,null,null,null,null,null,null,null,null,null,null,null,null,null,null,null,null,null,null,null,null,null,null,null,"MAS GRUPOS DE EDAD"]
[null,null,null,null,null,null,null,null,null,null,null,null,null,null,null,null,null,null,null,null,null,null,null,null,null,null,null,null,null,null,"EDADES PUNTUALES Y GRUPOS DE EDAD"]
[null,null,"N°",null,"DIRECCION DE SALUD","TOTAL GENERAL",null,"TOTAL MASCULINO","TOTAL FEMENINO",null,"EDAD",null,"EDAD",null,"EDAD",null,"EDAD",null,"EDAD",null,"EDAD",null,"EDAD",null,"EDAD",null,"EDAD",null,"EDAD",null,"EDAD",null,"EDAD",null,"EDAD",null,"EDAD",null,"EDAD",null,"EDAD",null,"EDAD",null,"EDAD",null,"EDAD",null,"EDAD",null,"EDAD",null,"NACIMIENTOS","28 DIAS","POBLACION FEMENINA TOTAL","POBLACION FEMENINA",null,null,null,null,"menor de 1 Año","Pre escolar         (1-4)","Niño             (0 - 11)","Escolar               (05 - 17)","Adolescente (12 - 17)","Adulto Joven (18 - 29)","Adulto            (30-59)","Adu.Mayor (60 a MAS)",null,"Escolar               (05 - 09)","Adolescente (10 - 19)","Adulto            (20-59)"]
["UBIGEO",null,null,null,"PROVINCIA",null,null,null,null,null,0,null,1,null,2,null,3,null,4,null,"5 - 9","5 - 9","10 - 14","10 - 14","15 - 19","20 - 24","20- 24","20 - 24","25 - 29",null,"30 - 34",null,"35 - 39",null,"40 - 44",null,"45 - 49",null,"50 - 54",null,"55 - 59",null,"60 - 64",null,"65-69",null,"70-74",null,"75-79",null,"80 - +",null,null,null,null,"10-14","15-19","20-49","GESTANTE"]
[null,"Microredes",null,"RENAES","DISTRITO",null,null,null,null,null,"M","F","M","F","M","F","M","F","M","F","M","F","M","F","M","F","M","F","M","F","M","F","M","F","M","F","M","F","M","F","M","F","M","F","M","F","M","F","M","F","M","F"]
[150000,null,1,null,"HUAURA - OYON",246685,null,122146,124539,null,2161,2203,2060,2100,1994,2033,1960,1999,1953,1992,10284,10485,11508,11734,10934,11148,10681,10890,9265,9447,8637,8807,8764,8935,7588,7737,6873,7008,6196,6318,5372,5477,4485,4572,3731,3804,3129,3191,2225,2268,2346,2391,4479,335,64764,11648,11139,53624,5657,null,{"$f":"SUM(K8:L8)","v":4364},{"$f":"SUM(M8:T8)","v":16091},{"$f":"SUM(K8:AH8)","v":161974},{"$f":"SUM(U8:AT8)","v":210680},{"$f":"SUM(AI8:AT8)","v":69161},{"$f":"SUM(AU8:AZ8)","v":15550},{"$f":"SUM(#REF!)","v":{"$error":"#REF!"}},{"$f":"SUM(#REF!)","v":{"$error":"#REF!"}},null,{"$f":"SUM(U8:AD8)","v":106376},{"$f":"SUM(AE8:AX8)","v":115117},{"$f":"SUM(AY8:AZ8)","v":4737}]
[150800,null,2,150800,"PROVINCIA HUAURA",222422,null,110132,112290,null,1905,1943,1814,1849,1754,1789,1724,1757,1717,1750,9067,9244,10262,10464,9981,10176,9764,9956,8346,8510,7772,7925,7830,7983,6896,7031,6226,6348,5669,5780,4926,5022,4129,4209,3369,3435,2837,2893,1992,2031,2152,2195,3949,296,58920,10334,10124,48796,4974,null,3848,14154,145282,190320,63040,14100,{"$f":"SUM(#REF!)","v":{"$error":"#REF!"}},{"$f":"SUM(#REF!)","v":{"$error":"#REF!"}},null,95770,104303,4347]
[150801,null,3,150802,"DISTRITO HUACHO",59431,null,29426,30005,null,462,472,434,443,415,424,405,413,401,409,2133,2175,2484,2532,2463,2511,2516,2565,2158,2201,2022,2062,2114,2155,1935,1973,1798,1834,1756,1791,1500,1529,1230,1254,1021,1041,863,879,630,643,686,699,958,72,15542,2496,2436,13106,1201,null,934,3344,36369,50753,18662,4400,{"$f":"SUM(#REF!)","v":{"$error":"#REF!"}},{"$f":"SUM(#REF!)","v":{"$error":"#REF!"}},null,23738,30030,1385]
[null,"00",4,7639,"HOSPITAL HUACHO",44573,null,22070,22503,null,347,353,326,332,311,318,304,309,301,306,1600,1632,1862,1899,1846,1883,1888,1924,1619,1651,1517,1547,1585,1617,1451,1480,1349,1375,1317,1343,1125,1147,922,941,766,780,647,659,473,482,514,525,718,54,11656,1872,1827,9829,901,null,700,2507,27277,38066,13996,3300,{"$f":"SUM(#REF!)","v":{"$error":"#REF!"}},{"$f":"SUM(#REF!)","v":{"$error":"#REF!"}},null,17804,22523,1039]
[null,"02",5,5679,"C.S. MANZANARES",14858,null,7355,7503,null,116,118,108,111,104,106,102,103,101,102,533,543,621,634,616,629,628,641,539,550,505,515,528,539,484,493,450,458,439,448,375,382,307,314,255,261,216,220,157,161,171,175,240,18,3886,624,609,3277,300,null,234,837,9092,12687,4666,1100,{"$f":"SUM(#REF!)","v":{"$error":"#REF!"}},{"$f":"SUM(#REF!)","v":{"$error":"#REF!"}},null,5934,7507,346]
[150802,null,6,150802,"DISTRITO AMBAR",2779,null,1377,1402,null,20,20,24,24,27,28,30,30,32,32,170,173,150,152,103,105,109,112,84,86,83,85,82,83,68,70,77,79,69,71,58,59,54,55,49,49,36,36,24,24,28,29,41,3,638,148,107,531,54,null,40,227,1844,2335,758,177,{"$f":"SUM(#REF!)","v":{"$error":"#REF!"}},{"$f":"SUM(#REF!)","v":{"$error":"#REF!"}},null,1244,1211,57]
[null,"01",7,5680,"C.S. AMBAR",1667,null,826,841,null,12,12,14,15,16,17,18,18,19,19,102,103,90,91,61,63,66,68,51,51,50,51,49,50,41,42,47,47,42,42,35,35,32,33,29,30,21,22,14,15,17,17,25,2,383,89,64,319,32,null,24,136,1106,1401,455,106,{"$f":"SUM(#REF!)","v":{"$error":"#REF!"}},{"$f":"SUM(#REF!)","v":{"$error":"#REF!"}},null,746,727,34]
[null,"01",8,5681,"P.S. AYNACA",1112,null,550,562,null,8,8,9,10,11,11,12,12,13,13,68,70,60,61,42,42,43,44,34,34,33,34,33,33,27,28,31,31,28,28,23,24,22,22,19,20,14,15,9,10,11,12,16,1,255,59,43,212,22,null,16,91,738,934,303,71,{"$f":"SUM(#REF!)","v":{"$error":"#REF!"}},{"$f":"SUM(#REF!)","v":{"$error":"#REF!"}},null,498,484,23]
[150803,null,9,150803,"DISTRITO CARQUIN",6905,null,3418,3487,null,62,63,59,61,58,59,56,58,55,56,270,276,276,282,281,287,329,335,304,310,290,296,251,256,242,246,183,186,177,181,144,147,113,116,104,107,72,73,43,43,49,49,128,10,1834,296,322,1512,164,null,125,462,4630,5989,1946,329,{"$f":"SUM(#REF!)","v":{"$error":"#REF!"}},{"$f":"SUM(#REF!)","v":{"$error":"#REF!"}},null,2950,3270,98]
[null,"02",10,5664,"P.S. CARQUIN",6905,null,3418,3487,null,62,63,59,61,58,59,56,58,55,56,270,276,276,282,281,287,329,335,304,310,290,296,251,256,242,246,183,186,177,181,144,147,113,116,104,107,72,73,43,43,49,49,128,10,1834,296,322,1512,164,null,125,462,4630,5989,1946,329,{"$f":"SUM(#REF!)","v":{"$error":"#REF!"}},{"$f":"SUM(#REF!)","v":{"$error":"#REF!"}},null,2950,3270,98]
[150804,null,11,150804,"DISTRITO CHECRAS",1808,null,894,914,null,14,15,13,13,12,12,12,12,12,12,67,68,81,82,52,54,35,36,44,45,40,41,61,62,56,57,52,54,70,71,52,54,54,56,45,45,59,61,33,34,30,30,30,2,343,76,43,300,40,null,29,98,895,1434,666,247,{"$f":"SUM(#REF!)","v":{"$error":"#REF!"}},{"$f":"SUM(#REF!)","v":{"$error":"#REF!"}},null,564,1057,60]
[null,"05",12,5663,"P.S. PUÑUN",1808,null,894,914,null,14,15,13,13,12,12,12,12,12,12,67,68,81,82,52,54,35,36,44,45,40,41,61,62,56,57,52,54,70,71,52,54,54,56,45,45,59,61,33,34,30,30,30,2,343,76,43,300,40,null,29,98,895,1434,666,247,{"$f":"SUM(#REF!)","v":{"$error":"#REF!"}},{"$f":"SUM(#REF!)","v":{"$error":"#REF!"}},null,564,1057,60]
[150805,null,13,150805,"DISTRITO HUALMAY",29028,null,14374,14654,null,249,254,234,238,224,228,218,223,217,221,1162,1185,1348,1374,1274,1299,1272,1296,1089,1110,1021,1040,1049,1070,946,964,780,796,736,751,669,683,539,550,459,467,338,345,260,265,290,295,516,39,7689,1337,1297,6392,647,null,503,1803,18895,24929,8340,1793,{"$f":"SUM(#REF!)","v":{"$error":"#REF!"}},{"$f":"SUM(#REF!)","v":{"$error":"#REF!"}},null,12409,13728,585]
[null,"02",14,5665,"C.S. HUALMAY",14514,null,7185,7329,null,125,127,117,119,112,114,109,112,108,111,582,593,674,688,637,650,635,648,544,554,510,520,524,535,472,482,390,398,368,376,335,341,270,275,229,234,169,173,130,132,145,147,258,19,3845,668,648,3196,324,null,252,902,9448,12464,4170,896,{"$f":"SUM(#REF!)","v":{"$error":"#REF!"}},{"$f":"SUM(#REF!)","v":{"$error":"#REF!"}},null,6205,6863,292]
[null,"02",15,5666,"P.S. DGO. MANDAMIENTO",10160,null,5029,5131,null,87,89,82,83,78,80,76,78,76,77,407,414,471,481,446,454,446,454,381,389,357,365,367,375,331,338,273,279,257,263,234,239,189,192,160,164,118,121,91,93,102,103,181,14,2691,468,454,2237,226,null,176,630,6613,8726,2919,628,{"$f":"SUM(#REF!)","v":{"$error":"#REF!"}},{"$f":"SUM(#REF!)","v":{"$error":"#REF!"}},null,4343,4806,205]
[null,"02",16,5667,"P.S. CAMPO ALEGRE",4354,null,2158,2196,null,37,38,35,36,34,34,33,33,33,33,174,177,202,206,191,195,191,194,164,167,153,156,157,161,142,145,117,119,110,113,101,102,81,82,69,70,51,51,39,40,44,44,77,6,1153,201,195,959,97,null,75,271,2834,3739,1251,269,{"$f":"SUM(#REF!)","v":{"$error":"#REF!"}},{"$f":"SUM(#REF!)","v":{"$error":"#REF!"}},null,1861,2059,88]
[150806,null,17,150806,"DISTRITO HUAURA                   ",35916,null,17785,18131,null,316,323,300,305,289,295,284,290,285,290,1531,1560,1815,1850,1877,1913,1671,1703,1399,1427,1285,1310,1243,1267,1094,1116,977,996,835,852,679,693,549,559,455,464,404,411,249,254,248,253,656,49,10022,1797,1876,8146,823,null,639,2338,24828,31120,9269,1819,{"$f":"SUM(#REF!)","v":{"$error":"#REF!"}},{"$f":"SUM(#REF!)","v":{"$error":"#REF!"}},null,16746,15692,501]
[null,"01",18,5682,"C.S. HUAURA",16162,null,8004,8158,null,143,145,135,137,130,133,128,131,128,130,688,701,817,832,843,860,753,767,630,642,578,590,560,570,492,502,440,448,376,383,306,312,247,252,205,209,181,185,112,115,112,114,295,22,4511,808,843,3666,371,null,288,1052,11171,14003,4172,819,{"$f":"SUM(#REF!)","v":{"$error":"#REF!"}},{"$f":"SUM(#REF!)","v":{"$error":"#REF!"}},null,7533,7063,226]
[null,"01",19,5686,"C.S. SOCORRO",13648,null,6757,6891,null,120,123,114,116,110,112,108,110,108,110,582,593,689,703,714,727,635,647,532,542,488,498,472,482,416,424,371,379,317,324,258,263,208,213,173,176,153,157,95,96,94,96,249,19,3808,683,713,3095,313,null,243,888,9435,11826,3522,691,{"$f":"SUM(#REF!)","v":{"$error":"#REF!"}},{"$f":"SUM(#REF!)","v":{"$error":"#REF!"}},null,6364,5963,190]
[null,"01",20,5683,"P.S. HUMAYA",3592,null,1780,1812,null,32,32,30,31,29,29,28,29,29,29,153,157,182,185,188,192,166,170,140,143,128,131,124,126,109,112,98,99,84,85,68,69,55,56,46,46,41,41,25,25,25,25,66,5,1002,180,188,815,82,null,64,234,2483,3112,927,182,{"$f":"SUM(#REF!)","v":{"$error":"#REF!"}},{"$f":"SUM(#REF!)","v":{"$error":"#REF!"}},null,1676,1568,50]
[null,"01",21,5684,"P.S. VILCAHUAURA",2155,null,1066,1089,null,19,19,18,18,17,18,17,17,17,18,92,94,109,111,112,115,100,102,84,86,77,79,75,76,66,68,58,60,50,51,41,41,33,33,27,28,24,25,15,15,15,15,39,3,601,108,113,489,49,null,38,140,1490,1868,556,109,{"$f":"SUM(#REF!)","v":{"$error":"#REF!"}},{"$f":"SUM(#REF!)","v":{"$error":"#REF!"}},null,1005,942,30]
[null,"01",22,5685,"P.S. PEÑICO",359,null,174,185,null,3,3,3,3,3,3,3,3,3,3,15,16,18,19,19,20,17,17,13,14,13,13,12,13,10,11,10,10,8,9,7,7,5,6,4,5,4,4,2,3,2,3,7,0,100,18,19,81,8,null,6,24,249,311,92,18,{"$f":"SUM(#REF!)","v":{"$error":"#REF!"}},{"$f":"SUM(#REF!)","v":{"$error":"#REF!"}},null,168,156,5]
[150807,null,23,150807,"DISTRITO LEONCIO PRADO",2010,null,995,1015,null,15,15,18,19,21,21,22,23,23,23,109,112,79,80,74,75,84,86,74,76,60,62,62,64,53,55,59,60,58,59,38,38,38,38,32,32,30,30,21,22,25,25,31,2,469,90,70,399,42,null,30,170,1297,1657,560,153,{"$f":"SUM(#REF!)","v":{"$error":"#REF!"}},{"$f":"SUM(#REF!)","v":{"$error":"#REF!"}},null,849,911,50]
[null,"03",24,5778,"P.S. AUQUIMARCA",101,null,47,54,null,1,1,1,1,1,1,1,1,1,1,5,5,4,5,3,4,4,5,4,4,3,3,3,3,2,3,3,3,3,3,2,2,2,2,1,2,1,2,1,1,1,2,2,0,23,5,4,20,2,null,2,8,65,83,28,8,{"$f":"SUM(#REF!)","v":{"$error":"#REF!"}},{"$f":"SUM(#REF!)","v":{"$error":"#REF!"}},null,43,45,3]
[null,"03",25,5779,"P.S. PARAN",1005,null,498,507,null,7,7,9,9,10,11,11,12,11,12,55,57,38,39,37,38,43,43,37,38,31,31,31,32,27,27,30,30,29,29,19,19,19,19,16,16,15,15,11,11,12,12,15,2,235,44,35,199,21,null,14,85,649,830,280,76,{"$f":"SUM(#REF!)","v":{"$error":"#REF!"}},{"$f":"SUM(#REF!)","v":{"$error":"#REF!"}},null,425,457,24]
[null,"03",26,6725,"P.S. SANTA CRUZ",442,null,215,227,null,3,4,4,4,4,5,5,5,5,5,24,24,17,18,16,16,18,19,16,17,13,14,14,15,12,12,13,13,13,13,8,9,8,9,7,7,6,7,4,5,5,6,7,0,103,20,15,88,9,null,7,37,285,365,124,33,{"$f":"SUM(#REF!)","v":{"$error":"#REF!"}},{"$f":"SUM(#REF!)","v":{"$error":"#REF!"}},null,185,202,11]
[null,"03",27,7757,"P.S. HUANANGUI",462,null,225,237,null,3,4,4,5,5,5,5,5,5,6,25,26,19,19,17,18,19,19,17,17,13,14,14,14,12,13,13,14,13,14,8,9,8,9,7,8,7,7,5,5,6,6,7,0,108,21,16,92,10,null,7,40,298,379,128,36,{"$f":"SUM(#REF!)","v":{"$error":"#REF!"}},{"$f":"SUM(#REF!)","v":{"$error":"#REF!"}},null,196,207,12]
[150808,null,28,150808,"DISTRITO PACCHO",2223,null,1099,1124,null,15,15,15,15,15,16,16,16,16,16,90,91,92,94,59,61,64,65,59,61,65,66,71,72,71,73,61,63,61,62,60,61,73,75,67,69,56,58,38,39,35,36,31,2,432,100,46,386,42,null,30,125,1165,1806,796,262,{"$f":"SUM(#REF!)","v":{"$error":"#REF!"}},{"$f":"SUM(#REF!)","v":{"$error":"#REF!"}},null,736,1261,71]
[null,"05",29,5650,"P.S. PACCHO",778,null,384,394,null,5,5,5,5,5,6,5,6,5,6,31,32,32,32,21,21,23,23,21,22,23,23,25,25,25,25,21,22,21,22,21,22,26,26,24,24,20,20,13,14,12,13,11,1,151,35,16,135,15,null,10,43,407,633,279,92,{"$f":"SUM(#REF!)","v":{"$error":"#REF!"}},{"$f":"SUM(#REF!)","v":{"$error":"#REF!"}},null,258,442,25]
[null,"05",30,5651,"P.S. LACSANGA",667,null,326,341,null,4,5,4,5,4,5,5,5,5,5,27,28,28,29,18,19,19,19,17,18,19,20,21,22,21,22,18,19,18,19,18,18,22,22,20,21,17,17,11,12,10,11,9,1,130,30,14,116,13,null,9,38,351,542,238,78,{"$f":"SUM(#REF!)","v":{"$error":"#REF!"}},{"$f":"SUM(#REF!)","v":{"$error":"#REF!"}},null,222,377,21]
[null,"05",31,5653,"P.S. AYARANGA",333,null,161,172,null,2,3,2,3,2,3,2,3,2,3,13,14,14,14,8,9,9,9,9,9,10,10,10,11,11,11,9,10,9,9,9,9,11,11,10,10,8,9,6,6,5,6,5,0,65,15,7,58,6,null,5,20,174,268,119,40,{"$f":"SUM(#REF!)","v":{"$error":"#REF!"}},{"$f":"SUM(#REF!)","v":{"$error":"#REF!"}},null,108,189,11]
[null,"05",32,5652,"P.S. MUZGA",445,null,218,227,null,3,3,3,3,3,3,3,3,3,3,18,18,18,19,12,12,13,14,12,12,13,13,14,15,14,15,12,13,12,13,12,12,15,15,13,14,11,12,7,8,7,7,6,0,86,20,9,77,8,null,6,24,233,363,160,52,{"$f":"SUM(#REF!)","v":{"$error":"#REF!"}},{"$f":"SUM(#REF!)","v":{"$error":"#REF!"}},null,148,253,14]
[150809,null,33,150809,"DISTRITO SANTA LEONOR",1477,null,732,745,null,11,11,10,11,10,10,10,10,11,11,67,68,84,86,52,54,46,46,34,34,35,36,45,46,44,45,45,46,51,52,36,37,41,41,29,30,29,29,23,23,19,19,23,2,323,78,59,264,32,null,{"$f":"SUM(K40:L40)","v":22},{"$f":"SUM(M40:T40)","v":83},{"$f":"SUM(K40:AH40)","v":838},{"$f":"SUM(U40:AT40)","v":1230},{"$f":"SUM(AI40:AT40)","v":497},{"$f":"SUM(AU40:AZ40)","v":142},{"$f":"SUM(#REF!)","v":{"$error":"#REF!"}},{"$f":"SUM(#REF!)","v":{"$error":"#REF!"}},null,{"$f":"SUM(U40:AD40)","v":571},{"$f":"SUM(AE40:AX40)","v":763},{"$f":"SUM(AY40:AZ40)","v":38}]
[null,"05",34,5645,"P.S. CHIUCHIN",886,null,437,449,null,6,7,6,7,6,6,6,6,6,7,40,40,51,51,31,31,28,28,21,21,21,22,27,28,26,27,27,28,31,31,22,22,24,25,17,18,17,18,13,14,11,12,14,1,194,47,35,159,19,null,13,50,503,738,298,85,{"$f":"SUM(#REF!)","v":{"$error":"#REF!"}},{"$f":"SUM(#REF!)","v":{"$error":"#REF!"}},null,342,458,23]
[null,"05",35,5646,"P.S. PARQUIN",443,null,214,229,null,3,4,3,3,3,3,3,3,3,4,20,21,25,26,16,17,13,14,9,10,10,11,13,14,13,14,13,14,15,16,11,11,12,13,9,9,8,9,7,7,5,6,7,1,97,23,18,79,10,null,7,25,251,369,150,42,{"$f":"SUM(#REF!)","v":{"$error":"#REF!"}},{"$f":"SUM(#REF!)","v":{"$error":"#REF!"}},null,171,229,11]
[null,"05",36,5647,"P.S. JUCUL",148,null,69,79,null,1,1,1,1,1,1,1,1,1,1,7,7,8,9,5,6,4,5,3,4,3,4,4,5,4,5,4,5,5,5,3,4,4,4,3,3,3,3,2,3,2,2,2,0,32,8,6,26,3,null,2,8,84,123,49,15,{"$f":"SUM(#REF!)","v":{"$error":"#REF!"}},{"$f":"SUM(#REF!)","v":{"$error":"#REF!"}},null,58,76,4]
[150810,null,37,150810,"DISTRITO SANTA MARIA",34011,null,16840,17171,null,289,294,277,283,270,275,267,272,268,273,1426,1454,1606,1638,1518,1547,1440,1469,1245,1270,1205,1229,1247,1271,1025,1046,902,920,796,811,766,781,661,673,499,508,436,445,311,318,386,394,598,45,8967,1609,1501,7466,750,null,583,2185,22333,28953,9388,2290,{"$f":"SUM(#REF!)","v":{"$error":"#REF!"}},{"$f":"SUM(#REF!)","v":{"$error":"#REF!"}},null,14613,15850,780]
[null,"02",38,5668,"C.S. SANTA MARIA",9523,null,4716,4807,null,81,83,78,79,75,77,74,76,75,77,399,406,449,457,425,433,404,412,350,356,338,344,350,356,287,293,253,257,222,227,214,219,185,189,139,142,122,125,88,89,108,110,167,12,2511,451,421,2090,209,null,164,611,6254,8106,2627,642,{"$f":"SUM(#REF!)","v":{"$error":"#REF!"}},{"$f":"SUM(#REF!)","v":{"$error":"#REF!"}},null,4091,4439,218]
[null,"02",39,5669,"P.S. CHONTA",5102,null,2527,2575,null,43,44,42,42,41,41,40,41,40,41,214,218,241,246,227,232,216,220,187,190,181,185,187,191,154,157,136,138,119,122,115,117,99,101,75,76,65,67,47,47,58,59,90,7,1345,241,225,1120,113,null,87,328,3350,4344,1409,343,{"$f":"SUM(#REF!)","v":{"$error":"#REF!"}},{"$f":"SUM(#REF!)","v":{"$error":"#REF!"}},null,2191,2379,117]
[null,"02",40,5671,"P.S. ZAPATA",2721,null,1346,1375,null,23,24,22,23,22,22,21,22,21,22,114,117,129,131,122,124,115,118,99,101,96,98,99,101,82,84,72,74,64,65,61,63,53,54,40,41,35,35,25,25,31,31,48,4,717,129,120,597,60,null,47,175,1786,2317,753,182,{"$f":"SUM(#REF!)","v":{"$error":"#REF!"}},{"$f":"SUM(#REF!)","v":{"$error":"#REF!"}},null,1170,1267,62]
[null,"02",41,5670,"P.S. AMADO VELASQUEZ",9183,null,4546,4637,null,78,79,75,76,73,74,72,74,72,74,385,393,434,443,410,418,389,396,336,343,325,332,337,343,276,282,243,248,215,219,207,211,178,182,135,137,118,120,84,86,104,107,161,12,2421,434,405,2016,203,null,157,590,6031,7817,2533,619,{"$f":"SUM(#REF!)","v":{"$error":"#REF!"}},{"$f":"SUM(#REF!)","v":{"$error":"#REF!"}},null,3947,4278,211]
[null,"02",42,5672,"P.S. SAN BARTOLOME",7482,null,3704,3778,null,63,65,61,62,59,61,59,60,59,60,314,320,354,360,334,340,316,323,274,279,265,270,274,280,226,230,199,202,175,179,168,172,145,148,110,112,96,98,68,70,85,87,132,10,1973,354,330,1643,165,null,128,481,4912,6369,2066,504,{"$f":"SUM(#REF!)","v":{"$error":"#REF!"}},{"$f":"SUM(#REF!)","v":{"$error":"#REF!"}},null,3214,3487,172]
[150811,null,43,150811,"DISTRITO SAYAN",24465,null,12112,12353,null,221,225,218,222,216,220,216,220,216,221,1118,1140,1182,1206,1151,1173,1154,1176,1007,1027,913,931,874,891,705,719,674,688,535,546,463,473,390,398,299,305,250,255,163,167,147,150,458,34,6654,1239,1243,5411,576,null,446,1749,17138,21138,6195,1132,{"$f":"SUM(#REF!)","v":{"$error":"#REF!"}},{"$f":"SUM(#REF!)","v":{"$error":"#REF!"}},null,11334,10639,297]
[null,"03",44,5780,"C.S. SAYAN",10031,null,4967,5064,null,91,92,90,91,88,90,88,90,88,90,458,467,484,494,473,482,473,482,413,421,375,382,358,366,290,295,277,282,219,224,190,193,160,163,123,125,103,105,66,68,60,62,188,13,2728,508,510,2219,235,null,183,715,7026,8669,2541,464,{"$f":"SUM(#REF!)","v":{"$error":"#REF!"}},{"$f":"SUM(#REF!)","v":{"$error":"#REF!"}},null,4647,4364,122]
[null,"03",45,5774,"C.S. 9 DE OCTUBRE",5138,null,2548,2590,null,47,47,46,46,46,46,46,46,46,46,235,239,248,253,242,246,242,247,212,216,192,195,184,187,148,151,142,144,112,115,98,99,82,83,63,64,52,54,34,35,31,31,96,7,1397,260,261,1136,121,null,94,368,3600,4439,1301,237,{"$f":"SUM(#REF!)","v":{"$error":"#REF!"}},{"$f":"SUM(#REF!)","v":{"$error":"#REF!"}},null,2380,2234,62]
[null,"03",46,5781,"P.S. CHAMBARA",734,null,361,373,null,6,7,6,7,6,7,6,7,6,7,34,34,35,35,35,35,35,35,30,31,28,29,26,27,21,22,20,21,16,16,14,14,12,12,9,9,7,8,5,5,4,5,14,1,200,37,37,162,17,null,13,52,514,635,186,34,{"$f":"SUM(#REF!)","v":{"$error":"#REF!"}},{"$f":"SUM(#REF!)","v":{"$error":"#REF!"}},null,339,321,9]
[null,"03",47,5775,"P.S. LA MERCED",1223,null,605,618,null,11,11,11,11,11,11,11,11,11,11,56,57,59,61,57,59,57,59,51,51,46,46,44,44,35,36,34,34,27,27,23,24,19,20,15,15,12,13,8,9,7,8,23,2,333,62,62,271,29,null,22,88,857,1056,309,57,{"$f":"SUM(#REF!)","v":{"$error":"#REF!"}},{"$f":"SUM(#REF!)","v":{"$error":"#REF!"}},null,567,531,15]
[null,"03",48,5776,"P.S. LA VILLA",6361,null,3148,3213,null,57,59,56,58,56,57,56,57,56,58,291,297,307,314,300,305,300,306,262,267,237,242,227,232,183,187,175,179,139,142,120,123,102,103,78,79,65,66,43,43,38,39,119,9,1730,322,323,1407,150,null,116,454,4457,5497,1610,294,{"$f":"SUM(#REF!)","v":{"$error":"#REF!"}},{"$f":"SUM(#REF!)","v":{"$error":"#REF!"}},null,2949,2765,77]
[null,"03",49,5777,"P.S. EL AHORCADO",489,null,238,251,null,4,5,4,5,4,5,4,5,4,5,22,23,24,25,22,23,23,24,20,20,18,18,17,18,14,14,13,14,11,11,9,10,8,8,6,6,5,5,3,4,3,3,9,1,133,25,25,108,12,null,9,36,342,421,124,23,{"$f":"SUM(#REF!)","v":{"$error":"#REF!"}},{"$f":"SUM(#REF!)","v":{"$error":"#REF!"}},null,226,212,6]
[null,"03",50,6726,"P.S. LA UNION",489,null,238,251,null,4,5,4,5,4,5,4,5,4,5,22,23,24,25,22,23,23,24,20,20,18,18,17,18,14,14,13,14,11,11,9,10,8,8,6,6,5,5,3,4,3,3,9,1,133,25,25,108,12,null,9,36,342,421,124,23,{"$f":"SUM(#REF!)","v":{"$error":"#REF!"}},{"$f":"SUM(#REF!)","v":{"$error":"#REF!"}},null,226,212,6]
[150812,null,51,150812,"DISTRITO VEGUETA",22369,null,11075,11294,null,231,236,211,216,197,201,187,191,182,185,924,942,1066,1087,1076,1098,1045,1066,848,864,753,767,731,746,656,668,616,628,524,534,459,469,387,394,311,317,265,270,196,200,210,215,479,36,6007,1068,1124,4883,603,null,467,1570,15050,18976,5963,1356,{"$f":"SUM(#REF!)","v":{"$error":"#REF!"}},{"$f":"SUM(#REF!)","v":{"$error":"#REF!"}},null,10016,9891,425]
[null,"04",52,5673,"C.S. VEGUETA",6710,null,3321,3389,null,69,71,63,65,58,60,56,57,54,56,277,282,319,326,324,330,314,320,255,259,225,230,219,224,197,201,185,188,157,161,138,140,116,119,93,95,80,81,59,60,63,64,144,11,1802,320,338,1465,181,null,140,469,4513,5694,1790,407,{"$f":"SUM(#REF!)","v":{"$error":"#REF!"}},{"$f":"SUM(#REF!)","v":{"$error":"#REF!"}},null,3006,2968,127]
[null,"04",53,5674,"P.S. MAZO",2237,null,1105,1132,null,23,24,21,22,20,20,19,19,18,19,92,94,107,109,107,110,104,106,84,86,75,77,73,75,65,67,61,63,52,54,46,47,39,39,31,32,27,27,20,20,21,22,48,4,601,107,112,488,60,null,47,158,1504,1895,596,137,{"$f":"SUM(#REF!)","v":{"$error":"#REF!"}},{"$f":"SUM(#REF!)","v":{"$error":"#REF!"}},null,999,990,43]
[null,"04",54,5675,"P.S. PRIMAVERA",3132,null,1550,1582,null,32,33,30,30,28,28,26,27,25,26,130,132,149,152,151,154,146,149,119,121,105,108,102,105,92,93,86,88,73,75,64,66,54,55,44,44,37,38,27,28,30,30,67,5,841,150,157,684,84,null,65,220,2108,2657,834,190,{"$f":"SUM(#REF!)","v":{"$error":"#REF!"}},{"$f":"SUM(#REF!)","v":{"$error":"#REF!"}},null,1403,1384,60]
[null,"04",55,5676,"P.S. MARIATEGUI",5369,null,2659,2710,null,55,57,51,51,48,48,45,46,44,44,222,226,255,261,258,263,252,256,204,208,181,184,175,179,157,161,148,151,126,128,110,113,93,94,75,76,63,65,47,48,50,51,115,9,1442,256,270,1172,145,null,112,377,3613,4556,1432,324,{"$f":"SUM(#REF!)","v":{"$error":"#REF!"}},{"$f":"SUM(#REF!)","v":{"$error":"#REF!"}},null,2405,2374,101]
[null,"04",56,5677,"P.S. MEDIO MUNDO",4026,null,1996,2030,null,42,42,38,39,36,36,34,34,33,33,166,170,192,196,194,197,188,192,153,155,135,138,132,134,118,120,111,113,94,96,83,84,70,71,56,57,48,48,35,36,38,39,86,6,1081,192,202,879,109,null,84,283,2709,3415,1073,244,{"$f":"SUM(#REF!)","v":{"$error":"#REF!"}},{"$f":"SUM(#REF!)","v":{"$error":"#REF!"}},null,1803,1779,77]
[null,"04",57,5678,"P.S. TIROLER",895,null,441,454,null,9,10,8,9,8,8,7,8,7,8,37,38,43,44,43,43,42,42,34,34,31,31,29,30,26,27,25,25,21,21,18,19,15,16,12,13,10,11,8,8,8,9,19,1,240,43,45,195,24,null,19,63,603,759,238,54,{"$f":"SUM(#REF!)","v":{"$error":"#REF!"}},{"$f":"SUM(#REF!)","v":{"$error":"#REF!"}},null,400,396,17]
[150900,null,58,150900,"PROVINCIA OYON",23132,null,11455,11677,null,248,252,236,241,229,233,225,230,224,229,1159,1181,1202,1226,915,932,871,889,880,897,832,848,900,918,660,672,612,624,499,508,424,432,337,344,333,340,273,278,219,223,177,180,513,38,5574,1271,982,4592,661,null,500,1847,15997,19435,5785,1350,{"$f":"SUM(#REF!)","v":{"$error":"#REF!"}},{"$f":"SUM(#REF!)","v":{"$error":"#REF!"}},null,10152,10276,357]
[150901,null,59,150901,"DISTRITO OYON",14701,null,7280,7421,null,168,171,160,164,156,159,153,156,153,155,785,800,807,822,605,616,580,591,617,630,577,589,611,623,418,427,374,381,302,307,223,228,152,155,155,158,113,115,93,95,78,79,348,26,3703,874,697,3006,440,null,339,1256,10848,12533,3280,573,{"$f":"SUM(#REF!)","v":{"$error":"#REF!"}},{"$f":"SUM(#REF!)","v":{"$error":"#REF!"}},null,6853,6096,157]
[null,"05",60,5659,"C.S. OYON",9997,null,4948,5049,null,114,117,109,112,106,108,104,106,103,106,534,544,549,559,410,419,395,402,420,429,393,400,416,425,284,290,254,259,205,209,152,154,103,105,105,108,77,78,63,65,52,54,237,18,2519,594,473,2044,300,null,231,854,7380,8523,2228,389,{"$f":"SUM(#REF!)","v":{"$error":"#REF!"}},{"$f":"SUM(#REF!)","v":{"$error":"#REF!"}},null,4661,4145,106]
[null,"05",61,5660,"P.S. MALLAY",1470,null,725,745,null,17,17,16,16,16,16,15,16,15,16,79,80,81,82,61,62,57,59,61,63,57,59,60,62,42,43,38,38,30,31,22,23,15,16,15,16,11,12,9,10,8,8,35,3,370,87,70,301,44,null,34,126,1083,1252,329,58,{"$f":"SUM(#REF!)","v":{"$error":"#REF!"}},{"$f":"SUM(#REF!)","v":{"$error":"#REF!"}},null,685,609,16]
[null,"05",62,5661,"P.S. NAVA",147,null,67,80,null,1,2,1,2,1,2,1,2,1,2,7,8,7,8,6,6,6,7,6,7,6,7,6,6,4,4,4,4,3,3,2,3,1,2,1,2,1,1,1,1,1,1,3,0,37,9,7,30,4,null,3,12,108,126,33,6,{"$f":"SUM(#REF!)","v":{"$error":"#REF!"}},{"$f":"SUM(#REF!)","v":{"$error":"#REF!"}},null,68,62,2]
[null,"05",63,5662,"P.S. TINTA",1176,null,581,595,null,13,14,13,13,12,13,12,13,12,13,63,64,65,66,48,49,47,47,49,50,46,46,49,50,34,34,30,30,24,25,18,18,12,13,12,13,9,9,7,8,6,7,28,2,296,70,56,240,35,null,27,101,867,1002,263,46,{"$f":"SUM(#REF!)","v":{"$error":"#REF!"}},{"$f":"SUM(#REF!)","v":{"$error":"#REF!"}},null,548,487,13]
[null,"05",64,5648,"P.S. RAPAZ",1911,null,946,965,null,22,22,21,21,20,21,20,20,20,20,102,104,105,107,79,81,75,76,80,82,75,77,79,81,54,56,49,49,39,40,29,30,20,20,20,21,15,15,12,12,10,10,45,3,481,114,91,391,57,null,44,163,1410,1630,427,74,{"$f":"SUM(#REF!)","v":{"$error":"#REF!"}},{"$f":"SUM(#REF!)","v":{"$error":"#REF!"}},null,891,793,20]
[150902,null,65,150902,"DISTRITO ANDAJES",1061,null,526,535,null,3,3,3,4,4,4,4,5,4,5,29,29,32,33,30,30,27,28,33,33,23,24,37,37,29,29,38,38,25,26,34,34,31,32,48,48,27,27,40,40,25,26,6,0,216,27,30,186,10,null,{"$f":"SUM(K72:L72)","v":6},{"$f":"SUM(M72:T72)","v":33},{"$f":"SUM(K72:AH72)","v":464},{"$f":"SUM(U72:AT72)","v":837},{"$f":"SUM(AI72:AT72)","v":412},{"$f":"SUM(AU72:AZ72)","v":185},{"$f":"SUM(#REF!)","v":{"$error":"#REF!"}},{"$f":"SUM(#REF!)","v":{"$error":"#REF!"}},null,{"$f":"SUM(U72:AD72)","v":304},{"$f":"SUM(AE72:AX72)","v":667},{"$f":"SUM(AY72:AZ72)","v":51}]
[null,"05",66,5654,"P.S. ANDAJES",1061,null,526,535,null,3,3,3,4,4,4,4,5,4,5,29,29,32,33,30,30,27,28,33,33,23,24,37,37,29,29,38,38,25,26,34,34,31,32,48,48,27,27,40,40,25,26,6,0,216,27,30,186,10,null,6,33,464,837,412,185,{"$f":"SUM(#REF!)","v":{"$error":"#REF!"}},{"$f":"SUM(#REF!)","v":{"$error":"#REF!"}},null,304,667,51]
[150903,null,67,150903,"DISTRITO CAUJUL",1052,null,521,531,null,8,8,9,9,10,10,11,11,11,12,54,56,44,44,38,38,39,39,32,32,35,35,36,37,28,29,34,34,25,26,21,22,21,21,26,27,14,15,13,13,12,13,16,1,242,44,30,212,23,null,16,83,658,873,314,80,{"$f":"SUM(#REF!)","v":{"$error":"#REF!"}},{"$f":"SUM(#REF!)","v":{"$error":"#REF!"}},null,416,512,25]
[null,"05",68,5655,"P.S. CAUJUL",1052,null,521,531,null,8,8,9,9,10,10,11,11,11,12,54,56,44,44,38,38,39,39,32,32,35,35,36,37,28,29,34,34,25,26,21,22,21,21,26,27,14,15,13,13,12,13,16,1,242,44,30,212,23,null,16,83,658,873,314,80,{"$f":"SUM(#REF!)","v":{"$error":"#REF!"}},{"$f":"SUM(#REF!)","v":{"$error":"#REF!"}},null,416,512,25]
[150904,null,69,150904,"DISTRITO COCHAMARCA",1632,null,806,826,null,14,15,15,16,16,17,17,18,18,18,98,100,98,100,71,73,58,60,39,40,54,55,56,57,49,50,39,39,31,31,32,33,26,27,20,21,21,21,18,18,16,17,30,2,357,97,62,295,40,null,29,135,1123,1357,398,111,{"$f":"SUM(#REF!)","v":{"$error":"#REF!"}},{"$f":"SUM(#REF!)","v":{"$error":"#REF!"}},null,737,698,33]
[null,"03",70,5783,"P.S. COCHAMARCA",653,null,321,332,null,6,6,6,6,6,7,7,7,7,7,39,40,39,39,28,29,23,24,16,17,22,23,23,23,20,20,15,16,12,13,13,13,10,11,8,8,8,9,7,7,6,7,12,1,143,39,25,118,16,null,12,53,450,544,159,44,{"$f":"SUM(#REF!)","v":{"$error":"#REF!"}},{"$f":"SUM(#REF!)","v":{"$error":"#REF!"}},null,294,281,13]
[null,"03",71,5784,"P.S. COLCAPAMPA",734,null,361,373,null,6,7,7,7,7,8,8,8,8,9,44,45,45,46,32,33,26,26,17,17,24,24,25,25,22,22,17,18,14,14,14,15,12,12,9,10,9,10,8,9,7,8,13,1,160,43,28,133,18,null,13,62,504,608,179,51,{"$f":"SUM(#REF!)","v":{"$error":"#REF!"}},{"$f":"SUM(#REF!)","v":{"$error":"#REF!"}},null,331,313,15]
[null,"03",72,5785,"P.S. YARUCAYA",245,null,117,128,null,2,2,2,3,2,3,2,3,2,3,15,15,14,15,11,11,9,10,6,6,8,8,8,9,7,8,6,6,4,5,5,5,4,4,3,3,3,3,2,3,2,3,5,0,54,15,9,44,6,null,4,20,169,205,60,16,{"$f":"SUM(#REF!)","v":{"$error":"#REF!"}},{"$f":"SUM(#REF!)","v":{"$error":"#REF!"}},null,112,104,5]
[150905,null,73,150905,"DISTRITO NAVAN",1210,null,600,610,null,18,18,15,15,12,13,11,11,10,10,44,44,49,50,33,33,51,51,43,44,39,39,43,43,40,41,35,35,29,30,22,23,32,33,14,15,32,32,15,16,13,14,37,3,266,50,28,238,51,null,36,97,739,955,349,122,{"$f":"SUM(#REF!)","v":{"$error":"#REF!"}},{"$f":"SUM(#REF!)","v":{"$error":"#REF!"}},null,442,608,27]
[null,"05",74,5656,"P.S. NAVAN",1210,null,600,610,null,18,18,15,15,12,13,11,11,10,10,44,44,49,50,33,33,51,51,43,44,39,39,43,43,40,41,35,35,29,30,22,23,32,33,14,15,32,32,15,16,13,14,37,3,266,50,28,238,51,null,36,97,739,955,349,122,{"$f":"SUM(#REF!)","v":{"$error":"#REF!"}},{"$f":"SUM(#REF!)","v":{"$error":"#REF!"}},null,442,608,27]
[150906,null,75,150906,"DISTRITO PACHANGARA",3476,null,1723,1753,null,37,37,33,34,30,31,29,29,28,29,149,152,173,176,139,141,117,119,116,118,104,106,118,120,95,97,94,95,87,88,91,93,75,76,70,71,66,68,40,41,32,32,76,6,790,179,135,655,97,null,74,243,2165,2880,1032,279,{"$f":"SUM(#REF!)","v":{"$error":"#REF!"}},{"$f":"SUM(#REF!)","v":{"$error":"#REF!"}},null,1400,1695,64]
[null,"05",76,5657,"C.S. CHURIN",2155,null,1069,1086,null,23,23,21,21,19,19,18,18,18,18,93,94,107,109,86,87,73,74,72,73,64,66,73,74,59,60,58,59,53,55,56,58,47,47,44,44,41,42,25,25,19,20,47,4,490,111,84,406,60,null,46,152,1343,1785,640,172,{"$f":"SUM(#REF!)","v":{"$error":"#REF!"}},{"$f":"SUM(#REF!)","v":{"$error":"#REF!"}},null,868,1050,39]
[null,"05",77,5658,"P.S. PACHANGARA",626,null,308,318,null,6,7,6,6,5,6,5,5,5,5,27,27,31,32,25,25,21,22,21,21,19,19,21,22,17,18,17,17,16,16,16,17,13,14,12,13,12,12,7,8,6,6,14,1,142,32,24,118,18,null,13,43,389,519,186,51,{"$f":"SUM(#REF!)","v":{"$error":"#REF!"}},{"$f":"SUM(#REF!)","v":{"$error":"#REF!"}},null,252,306,12]
[null,"05",78,5649,"P.S. HUANCAHUASI",695,null,343,352,null,7,8,6,7,6,6,6,6,5,6,30,30,35,35,28,29,23,23,23,24,21,21,24,24,19,19,19,19,17,18,18,19,15,15,14,14,13,14,8,8,6,7,15,1,158,36,27,131,19,null,15,48,433,576,206,56,{"$f":"SUM(#REF!)","v":{"$error":"#REF!"}},{"$f":"SUM(#REF!)","v":{"$error":"#REF!"}},null,280,339,13]
[null,null,79,null,"PROVINCIA HUARAL",1131,null,560,571,null,8,8,10,10,11,11,11,12,12,13,58,60,44,44,39,39,45,46,39,40,33,34,34,34,33,33,35,36,29,29,22,23,19,19,29,29,19,20,14,14,16,17,17,1,270,43,33,236,22,null,16,90,695,925,336,100,{"$f":"SUM(#REF!)","v":{"$error":"#REF!"}},{"$f":"SUM(#REF!)","v":{"$error":"#REF!"}},null,454,538,33]
[null,null,80,150600,"IHUARI - ACOTAMA",1131,null,560,571,null,8,8,10,10,11,11,11,12,12,13,58,60,44,44,39,39,45,46,39,40,33,34,34,34,33,33,35,36,29,29,22,23,19,19,29,29,19,20,14,14,16,17,17,1,270,43,33,236,22,null,16,90,695,925,336,100,{"$f":"SUM(#REF!)","v":{"$error":"#REF!"}},{"$f":"SUM(#REF!)","v":{"$error":"#REF!"}},null,454,538,33]
[150606,"03",81]
[null,null,82,null,"MICRORED HUAURA",{"$f":"SUM(H89:I89)","v":{"$error":"#REF!"}},null,{"$f":"K89+M89+O89+Q89+S89+U89+W89+Y89+AA89+AC89+AE89+AG89+AI89+AK89+AM89+AO89+AQ89+AS89+AU89+AW89+AY89+#REF!+#REF!+#REF!+#REF!+#REF!+#REF!+#REF!+#REF!+#REF!+#REF!+#REF!+#REF!","v":{"$error":"#REF!"}},{"$f":"L89+N89+P89+R89+T89+V89+X89+Z89+AB89+AD89+AF89+AH89+AJ89+AL89+AN89+AP89+AR89+AT89+AV89+AX89+AZ89+#REF!+#REF!+#REF!+#REF!+#REF!+#REF!+#REF!+#REF!+#REF!+#REF!+#REF!+#REF!","v":{"$error":"#REF!"}},null,{"$f":"K13+K24","v":336},{"$f":"L13+L24","v":343},324,329,316,323,314,320,317,322,1701,1733,1965,2002,1980,2018,1780,1815,1483,1513,1368,1395,1325,1350,1162,1186,1054,1075,904,923,737,752,603,614,504,513,440,447,273,278,276,282,{"$f":"BA13+BA24","v":697},52,10660,1945,1983,8677,877,null,{"$f":"BI13+BI24","v":679},2565,26672,33455,10027,1996,{"$error":"#REF!"},{"$error":"#REF!"},null,{"$f":"BR13+BR24","v":17990},16903,558]
[null,1,83,null,"MICRORED HUALMAY",{"$f":"SUM(H90:I90)","v":{"$error":"#REF!"}},null,{"$f":"K90+M90+O90+Q90+S90+U90+W90+Y90+AA90+AC90+AE90+AG90+AI90+AK90+AM90+AO90+AQ90+AS90+AU90+AW90+AY90+#REF!+#REF!+#REF!+#REF!+#REF!+#REF!+#REF!+#REF!+#REF!+#REF!+#REF!+#REF!","v":{"$error":"#REF!"}},{"$f":"L90+N90+P90+R90+T90+V90+X90+Z90+AB90+AD90+AF90+AH90+AJ90+AL90+AN90+AP90+AR90+AT90+AV90+AX90+AZ90+#REF!+#REF!+#REF!+#REF!+#REF!+#REF!+#REF!+#REF!+#REF!+#REF!+#REF!+#REF!","v":{"$error":"#REF!"}},null,{"$f":"K44+K20+K16+K12","v":716},{"$f":"L44+L20+L16+L12","v":729},678,693,656,668,643,656,641,652,3391,3458,3851,3928,3689,3762,3669,3741,3177,3240,3021,3080,3075,3136,2697,2749,2315,2360,2148,2191,1954,1993,1620,1653,1317,1343,1062,1083,771,787,896,913,{"$f":"BA44+BA20+BA16+BA12","v":1482},112,22376,3866,3729,18647,1861,null,{"$f":"BI44+BI20+BI16+BI12","v":1445},5287,54950,72558,24340,5512,{"$error":"#REF!"},{"$error":"#REF!"},null,{"$f":"BR44+BR20+BR16+BR12","v":35906},40355,1809]
[null,2,84,null,"MICRORED SAYAN",{"$error":"#REF!"},null,{"$f":"K91+M91+O91+Q91+S91+U91+W91+Y91+AA91+AC91+AE91+AG91+AI91+AK91+AM91+AO91+AQ91+AS91+AU91+AW91+AY91+#REF!+#REF!+#REF!+#REF!+#REF!+#REF!+#REF!+#REF!+#REF!+#REF!+#REF!+#REF!","v":{"$error":"#REF!"}},{"$f":"L91+N91+P91+R91+T91+V91+X91+Z91+AB91+AD91+AF91+AH91+AJ91+AL91+AN91+AP91+AR91+AT91+AV91+AX91+AZ91+#REF!+#REF!+#REF!+#REF!+#REF!+#REF!+#REF!+#REF!+#REF!+#REF!+#REF!+#REF!","v":{"$error":"#REF!"}},null,{"$f":"K50+K30+K76++K87","v":258},{"$f":"L50+L30+L76++L87","v":263},261,267,264,269,266,273,269,275,1383,1412,1403,1430,1335,1360,1341,1368,1159,1183,1060,1082,1026,1046,840,857,807,823,653,665,555,567,473,482,380,387,320,326,216,221,204,209,{"$f":"BA50+BA30+BA76++BA87","v":536},39,7750,1469,1408,6341,680,null,{"$f":"BI50+BI30+BI76++BI87","v":521},2144,20253,25077,7489,1496,{"$error":"#REF!"},{"$error":"#REF!"},null,{"$f":"BR50+BR30+BR76++BR87","v":13374},12786,413]
[null,3,85,null,"MICRORED VEGUETA",{"$error":"#REF!"},null,{"$f":"K92+M92+O92+Q92+S92+U92+W92+Y92+AA92+AC92+AE92+AG92+AI92+AK92+AM92+AO92+AQ92+AS92+AU92+AW92+AY92+#REF!+#REF!+#REF!+#REF!+#REF!+#REF!+#REF!+#REF!+#REF!+#REF!+#REF!+#REF!","v":{"$error":"#REF!"}},{"$f":"L92+N92+P92+R92+T92+V92+X92+Z92+AB92+AD92+AF92+AH92+AJ92+AL92+AN92+AP92+AR92+AT92+AV92+AX92+AZ92+#REF!+#REF!+#REF!+#REF!+#REF!+#REF!+#REF!+#REF!+#REF!+#REF!+#REF!+#REF!","v":{"$error":"#REF!"}},null,{"$f":"K58","v":231},{"$f":"L58","v":236},211,216,197,201,187,191,182,185,924,942,1066,1087,1076,1098,1045,1066,848,864,753,767,731,746,656,668,616,628,524,534,459,469,387,394,311,317,265,270,196,200,210,215,{"$f":"BA58","v":479},36,6007,1068,1124,4883,603,null,{"$f":"BI58","v":467},1570,15050,18976,5963,1356,{"$error":"#REF!"},{"$error":"#REF!"},null,{"$f":"BR58","v":10016},9891,425]
[null,4,86,null,"MICRORED CHURIN - OYON",{"$error":"#REF!"},null,{"$f":"K93+M93+O93+Q93+S93+U93+W93+Y93+AA93+AC93+AE93+AG93+AI93+AK93+AM93+AO93+AQ93+AS93+AU93+AW93+AY93+#REF!+#REF!+#REF!+#REF!+#REF!+#REF!+#REF!+#REF!+#REF!+#REF!+#REF!+#REF!","v":{"$error":"#REF!"}},{"$f":"L93+N93+P93+R93+T93+V93+X93+Z93+AB93+AD93+AF93+AH93+AJ93+AL93+AN93+AP93+AR93+AT93+AV93+AX93+AZ93+#REF!+#REF!+#REF!+#REF!+#REF!+#REF!+#REF!+#REF!+#REF!+#REF!+#REF!+#REF!","v":{"$error":"#REF!"}},null,{"$f":"K82+K66+K72+K74+K80+K35+K40","v":260},{"$f":"L82+L66+L72+L74+L80+L35+L40","v":263},245,252,237,243,234,238,233,238,1218,1240,1281,1305,956,973,924,939,934,952,878,895,961,978,725,741,681,692,580,591,487,498,425,433,409,418,337,344,262,267,214,219,{"$f":"BA82+BA66+BA72+BA74+BA80+BA35+BA40","v":537},40,5972,1352,1025,4947,695,null,{"$f":"BI82+BI66+BI72+BI74+BI80+BI35+BI40","v":523},1920,16877,21114,6680,1643,{"$error":"#REF!"},{"$error":"#REF!"},null,{"$f":"BR82+BR66+BR72+BR74+BR80+BR35+BR40","v":10722},11602,433]

{"sheet":"Pobla_EESS","index":2,"n_rows":60,"n_cols":16,"rows_kept":60,"cut":false,"hidden":false,"merged":[[50,4,52,4],[51,11,54,11],[54,3,54,5],[55,11,57,11],[58,10,58,12],[1,3,4,10],[7,3,7,8],[7,10,7,15],[15,3,15,4],[25,4,29,4],[25,11,30,11],[30,4,31,4],[23,3,23,8],[23,10,23,15],[31,10,31,12],[39,4,45,4],[39,11,41,11],[42,11,46,11],[46,4,49,4],[9,4,13,4],[9,11,11,11],[12,11,16,11],[16,3,16,5],[19,10,19,12],[32,3,32,5],[37,3,37,8],[37,10,37,15]]}
[]
[null,null,null,"POBLACIÓN SEGÚN DISTRITOS Y EE.SS - 2016"]
[]
[]
[]
[]
[]
[null,null,null,"SIN MICRORED",null,null,null,null,null,null,"MICRORED HUALMAY"]
[null,null,null,"DISTRITO","POBLACIÓN","EE.SS","POBLACIÓN","MASCULINO","FEMENINO",null,"DISTRITO","POBLACIÓN","EE.SS","POBLACIÓN","MASCULINO","FEMENINO"]
[null,null,null,"HUACHO",{"$f":"G10","v":44573},"HOSPITAL HUACHO",{"$f":"VLOOKUP($F10,Poblacion!$E$8:$I$87,2,FALSE)","v":44573},{"$f":"VLOOKUP($F10,Poblacion!$E$8:$I$87,4,FALSE)","v":22070},{"$f":"VLOOKUP($F10,Poblacion!$E$8:$I$87,5,FALSE)","v":22503},null,"HUALMAY",{"$f":"SUM(N10:N12)","v":29028},"C.S. HUALMAY",{"$f":"VLOOKUP($M10,Poblacion!$E$8:$I$87,2,FALSE)","v":14514},{"$f":"VLOOKUP($M10,Poblacion!$E$8:$I$87,4,FALSE)","v":7185},{"$f":"VLOOKUP($M10,Poblacion!$E$8:$I$87,5,FALSE)","v":7329}]
[null,null,null,"HUACHO",null,"CLINICA SAN PEDRO",0,null,null,null,"HUALMAY",null,"P.S. DGO. MANDAMIENTO",{"$f":"VLOOKUP($M11,Poblacion!$E$8:$I$87,2,FALSE)","v":10160},{"$f":"VLOOKUP($M11,Poblacion!$E$8:$I$87,4,FALSE)","v":5029},{"$f":"VLOOKUP($M11,Poblacion!$E$8:$I$87,5,FALSE)","v":5131}]
[null,null,null,"HUACHO",null,"ESSALUD GUSTAVO LA NATA",0,null,null,null,"HUALMAY",null,"P.S. CAMPO ALEGRE",{"$f":"VLOOKUP($M12,Poblacion!$E$8:$I$87,2,FALSE)","v":4354},{"$f":"VLOOKUP($M12,Poblacion!$E$8:$I$87,4,FALSE)","v":2158},{"$f":"VLOOKUP($M12,Poblacion!$E$8:$I$87,5,FALSE)","v":2196}]
[null,null,null,"HUACHO",null,"CLINICA SAN BARTOLOME",0,null,null,null,"S.MARIA",{"$f":"SUM(N13:N17)","v":34011},"C.S. SANTA MARIA",{"$f":"VLOOKUP($M13,Poblacion!$E$8:$I$87,2,FALSE)","v":9523},{"$f":"VLOOKUP($M13,Poblacion!$E$8:$I$87,4,FALSE)","v":4716},{"$f":"VLOOKUP($M13,Poblacion!$E$8:$I$87,5,FALSE)","v":4807}]
[null,null,null,"HUACHO",null,"GOLD ESTANDAR EIRL.",0,null,null,null,"S.MARIA",null,"P.S. CHONTA",{"$f":"VLOOKUP($M14,Poblacion!$E$8:$I$87,2,FALSE)","v":5102},{"$f":"VLOOKUP($M14,Poblacion!$E$8:$I$87,4,FALSE)","v":2527},{"$f":"VLOOKUP($M14,Poblacion!$E$8:$I$87,5,FALSE)","v":2575}]
[null,null,null,"CARQUIN",null,"INSITUTO NACIONAL PENITENCIARIO CARQUIN",0,null,null,null,"S.MARIA",null,"P.S. ZAPATA",{"$f":"VLOOKUP($M15,Poblacion!$E$8:$I$87,2,FALSE)","v":2721},{"$f":"VLOOKUP($M15,Poblacion!$E$8:$I$87,4,FALSE)","v":1346},{"$f":"VLOOKUP($M15,Poblacion!$E$8:$I$87,5,FALSE)","v":1375}]
[null,null,null,null,null,"OTROS ESTABLECIMIENTOS",0,null,null,null,"S.MARIA",null,"P.S. AMADO VELASQUEZ",{"$f":"VLOOKUP($M16,Poblacion!$E$8:$I$87,2,FALSE)","v":9183},{"$f":"VLOOKUP($M16,Poblacion!$E$8:$I$87,4,FALSE)","v":4546},{"$f":"VLOOKUP($M16,Poblacion!$E$8:$I$87,5,FALSE)","v":4637}]
[null,null,null,"TOTAL SIN MICRORED",null,null,{"$f":"SUM(G10:G16)","v":44573},{"$f":"SUM(H10:H16)","v":22070},{"$f":"SUM(I10:I16)","v":22503},null,"S.MARIA",null,"P.S. SAN BARTOLOME",{"$f":"VLOOKUP($M17,Poblacion!$E$8:$I$87,2,FALSE)","v":7482},{"$f":"VLOOKUP($M17,Poblacion!$E$8:$I$87,4,FALSE)","v":3704},{"$f":"VLOOKUP($M17,Poblacion!$E$8:$I$87,5,FALSE)","v":3778}]
[null,null,null,"Elaboración: Área de Estadística - RIS Huaura Oyón.",null,null,null,null,null,null,"CARQUIN",{"$f":"N18","v":6905},"P.S. CARQUIN",{"$f":"VLOOKUP($M18,Poblacion!$E$8:$I$87,2,FALSE)","v":6905},{"$f":"VLOOKUP($M18,Poblacion!$E$8:$I$87,4,FALSE)","v":3418},{"$f":"VLOOKUP($M18,Poblacion!$E$8:$I$87,5,FALSE)","v":3487}]
[null,null,null,null,null,null,null,null,null,null,"HUACHO",{"$f":"N19","v":14858},"C.S. MANZANARES",{"$f":"VLOOKUP($M19,Poblacion!$E$8:$I$87,2,FALSE)","v":14858},{"$f":"VLOOKUP($M19,Poblacion!$E$8:$I$87,4,FALSE)","v":7355},{"$f":"VLOOKUP($M19,Poblacion!$E$8:$I$87,5,FALSE)","v":7503}]
[null,null,null,null,null,null,null,null,null,null,"TOTAL MCR HUALMAY",null,"TOTAL MICRORED HUALMAY",{"$f":"SUM(N10:N19)","v":84802},{"$f":"SUM(O10:O19)","v":41984},{"$f":"SUM(P10:P19)","v":42818}]
[null,null,null,null,null,null,null,null,null,null,{"$f":"D18","v":"Elaboración: Área de Estadística - RIS Huaura Oyón."}]
[]
[]
[null,null,null,"MICRORED HUAURA",null,null,null,null,null,null,"MICRORED VEGUETA"]
[null,null,null,"DISTRITO","POBLACIÓN","EE.SS","POBLACIÓN","MASCULINO","FEMENINO",null,"DISTRITO","POBLACIÓN","EE.SS","POBLACIÓN","MASCULINO","FEMENINO"]
[null,null,null,"HUAURA",{"$f":"SUM(G26:G30)","v":35916},"C.S. HUAURA",{"$f":"VLOOKUP($F26,Poblacion!$E$8:$I$87,2,FALSE)","v":16162},{"$f":"VLOOKUP($F26,Poblacion!$E$8:$I$87,4,FALSE)","v":8004},{"$f":"VLOOKUP($F26,Poblacion!$E$8:$I$87,5,FALSE)","v":8158},null,"VEGUETA",{"$f":"SUM(N26:N31)","v":22369},"C.S. VEGUETA",{"$f":"VLOOKUP($M26,Poblacion!$E$8:$I$87,2,FALSE)","v":6710},{"$f":"VLOOKUP($M26,Poblacion!$E$8:$I$87,4,FALSE)","v":3321},{"$f":"VLOOKUP($M26,Poblacion!$E$8:$I$87,5,FALSE)","v":3389}]
[null,null,null,"HUAURA",null,"C.S. SOCORRO",{"$f":"VLOOKUP($F27,Poblacion!$E$8:$I$87,2,FALSE)","v":13648},{"$f":"VLOOKUP($F27,Poblacion!$E$8:$I$87,4,FALSE)","v":6757},{"$f":"VLOOKUP($F27,Poblacion!$E$8:$I$87,5,FALSE)","v":6891},null,"VEGUETA",null,"P.S. MAZO",{"$f":"VLOOKUP($M27,Poblacion!$E$8:$I$87,2,FALSE)","v":2237},{"$f":"VLOOKUP($M27,Poblacion!$E$8:$I$87,4,FALSE)","v":1105},{"$f":"VLOOKUP($M27,Poblacion!$E$8:$I$87,5,FALSE)","v":1132}]
[null,null,null,"HUAURA",null,"P.S. HUMAYA",{"$f":"VLOOKUP($F28,Poblacion!$E$8:$I$87,2,FALSE)","v":3592},{"$f":"VLOOKUP($F28,Poblacion!$E$8:$I$87,4,FALSE)","v":1780},{"$f":"VLOOKUP($F28,Poblacion!$E$8:$I$87,5,FALSE)","v":1812},null,"VEGUETA",null,"P.S. PRIMAVERA",{"$f":"VLOOKUP($M28,Poblacion!$E$8:$I$87,2,FALSE)","v":3132},{"$f":"VLOOKUP($M28,Poblacion!$E$8:$I$87,4,FALSE)","v":1550},{"$f":"VLOOKUP($M28,Poblacion!$E$8:$I$87,5,FALSE)","v":1582}]
[null,null,null,"HUAURA",null,"P.S. VILCAHUAURA",{"$f":"VLOOKUP($F29,Poblacion!$E$8:$I$87,2,FALSE)","v":2155},{"$f":"VLOOKUP($F29,Poblacion!$E$8:$I$87,4,FALSE)","v":1066},{"$f":"VLOOKUP($F29,Poblacion!$E$8:$I$87,5,FALSE)","v":1089},null,"VEGUETA",null,"P.S. MARIATEGUI",{"$f":"VLOOKUP($M29,Poblacion!$E$8:$I$87,2,FALSE)","v":5369},{"$f":"VLOOKUP($M29,Poblacion!$E$8:$I$87,4,FALSE)","v":2659},{"$f":"VLOOKUP($M29,Poblacion!$E$8:$I$87,5,FALSE)","v":2710}]
[null,null,null,"HUAURA",null,"P.S. PEÑICO",{"$f":"VLOOKUP($F30,Poblacion!$E$8:$I$87,2,FALSE)","v":359},{"$f":"VLOOKUP($F30,Poblacion!$E$8:$I$87,4,FALSE)","v":174},{"$f":"VLOOKUP($F30,Poblacion!$E$8:$I$87,5,FALSE)","v":185},null,"VEGUETA",null,"P.S. MEDIO MUNDO",{"$f":"VLOOKUP($M30,Poblacion!$E$8:$I$87,2,FALSE)","v":4026},{"$f":"VLOOKUP($M30,Poblacion!$E$8:$I$87,4,FALSE)","v":1996},{"$f":"VLOOKUP($M30,Poblacion!$E$8:$I$87,5,FALSE)","v":2030}]
[null,null,null,"AMBAR",{"$f":"SUM(G31:G32)","v":2779},"C.S. AMBAR",{"$f":"VLOOKUP($F31,Poblacion!$E$8:$I$87,2,FALSE)","v":1667},{"$f":"VLOOKUP($F31,Poblacion!$E$8:$I$87,4,FALSE)","v":826},{"$f":"VLOOKUP($F31,Poblacion!$E$8:$I$87,5,FALSE)","v":841},null,"VEGUETA",null,"P.S. TIROLER",{"$f":"VLOOKUP($M31,Poblacion!$E$8:$I$87,2,FALSE)","v":895},{"$f":"VLOOKUP($M31,Poblacion!$E$8:$I$87,4,FALSE)","v":441},{"$f":"VLOOKUP($M31,Poblacion!$E$8:$I$87,5,FALSE)","v":454}]
[null,null,null,"AMBAR",null,"P.S. AYNACA",{"$f":"VLOOKUP($F32,Poblacion!$E$8:$I$87,2,FALSE)","v":1112},{"$f":"VLOOKUP($F32,Poblacion!$E$8:$I$87,4,FALSE)","v":550},{"$f":"VLOOKUP($F32,Poblacion!$E$8:$I$87,5,FALSE)","v":562},null,"TOTAL MCR VEGUETA",null,null,{"$f":"SUM(N26:N31)","v":22369},{"$f":"SUM(O26:O31)","v":11072},{"$f":"SUM(P26:P31)","v":11297}]
[null,null,null,"TOTAL MCR HUAURA",null,"TOTAL MICRORED HUAURA ",{"$f":"SUM(G26:G32)","v":38695},{"$f":"SUM(H26:H32)","v":19157},19538,null,{"$f":"K21","v":"Elaboración: Área de Estadística - RIS Huaura Oyón."}]
[null,null,null,{"$f":"K21","v":"Elaboración: Área de Estadística - RIS Huaura Oyón."}]
[]
[]
[]
[null,null,null,"MICRORED SAYAN",null,null,null,null,null,null,"MICRORED CHURIN OYÓN"]
[null,null,null,"DISTRITO","POBLACIÓN","EE.SS","POBLACIÓN","MASCULINO","FEMENINO",null,"DISTRITO","POBLACIÓN","EE.SS","POBLACIÓN","MASCULINO","FEMENINO"]
[null,null,null,"SAYAN",{"$f":"SUM(G40:G46)","v":24465},"C.S. SAYAN",{"$f":"VLOOKUP($F40,Poblacion!$E$8:$I$87,2,FALSE)","v":10031},{"$f":"VLOOKUP($F40,Poblacion!$E$8:$I$87,4,FALSE)","v":4967},{"$f":"VLOOKUP($F40,Poblacion!$E$8:$I$87,5,FALSE)","v":5064},null,"PACHANGARA",{"$f":"SUM(M40:M42)","v":0},"C.S. CHURIN",{"$f":"VLOOKUP(M40,Poblacion!$E$5:$I$88,2,FALSE)","v":2155},{"$f":"VLOOKUP(M40,Poblacion!$E$5:$I$88,4,FALSE)","v":1069},{"$f":"VLOOKUP(M40,Poblacion!$E$5:$I$88,5,FALSE)","v":1086}]
[null,null,null,"SAYAN",null,"C.S. 9 DE OCTUBRE",{"$f":"VLOOKUP($F41,Poblacion!$E$8:$I$87,2,FALSE)","v":5138},{"$f":"VLOOKUP($F41,Poblacion!$E$8:$I$87,4,FALSE)","v":2548},{"$f":"VLOOKUP($F41,Poblacion!$E$8:$I$87,5,FALSE)","v":2590},null,"PACHANGARA",null,"P.S. PACHANGARA",{"$f":"VLOOKUP(M41,Poblacion!$E$5:$I$88,2,FALSE)","v":626},{"$f":"VLOOKUP(M41,Poblacion!$E$5:$I$88,4,FALSE)","v":308},{"$f":"VLOOKUP(M41,Poblacion!$E$5:$I$88,5,FALSE)","v":318}]
[null,null,null,"SAYAN",null,"P.S. CHAMBARA",{"$f":"VLOOKUP($F42,Poblacion!$E$8:$I$87,2,FALSE)","v":734},{"$f":"VLOOKUP($F42,Poblacion!$E$8:$I$87,4,FALSE)","v":361},{"$f":"VLOOKUP($F42,Poblacion!$E$8:$I$87,5,FALSE)","v":373},null,"PACHANGARA",null,"P.S. HUANCAHUASI",{"$f":"VLOOKUP(M42,Poblacion!$E$5:$I$88,2,FALSE)","v":695},{"$f":"VLOOKUP(M42,Poblacion!$E$5:$I$88,4,FALSE)","v":343},{"$f":"VLOOKUP(M42,Poblacion!$E$5:$I$88,5,FALSE)","v":352}]
[null,null,null,"SAYAN",null,"P.S. LA MERCED",{"$f":"VLOOKUP($F43,Poblacion!$E$8:$I$87,2,FALSE)","v":1223},{"$f":"VLOOKUP($F43,Poblacion!$E$8:$I$87,4,FALSE)","v":605},{"$f":"VLOOKUP($F43,Poblacion!$E$8:$I$87,5,FALSE)","v":618},null,"OYON",{"$f":"SUM(M43:M47)","v":0},"C.S. OYON",{"$f":"VLOOKUP(M43,Poblacion!$E$5:$I$88,2,FALSE)","v":9997},{"$f":"VLOOKUP(M43,Poblacion!$E$5:$I$88,4,FALSE)","v":4948},{"$f":"VLOOKUP(M43,Poblacion!$E$5:$I$88,5,FALSE)","v":5049}]
[null,null,null,"SAYAN",null,"P.S. LA VILLA",{"$f":"VLOOKUP($F44,Poblacion!$E$8:$I$87,2,FALSE)","v":6361},{"$f":"VLOOKUP($F44,Poblacion!$E$8:$I$87,4,FALSE)","v":3148},{"$f":"VLOOKUP($F44,Poblacion!$E$8:$I$87,5,FALSE)","v":3213},null,"OYON",null,"P.S. MALLAY",{"$f":"VLOOKUP(M44,Poblacion!$E$5:$I$88,2,FALSE)","v":1470},{"$f":"VLOOKUP(M44,Poblacion!$E$5:$I$88,4,FALSE)","v":725},{"$f":"VLOOKUP(M44,Poblacion!$E$5:$I$88,5,FALSE)","v":745}]
[null,null,null,"SAYAN",null,"P.S. EL AHORCADO",{"$f":"VLOOKUP($F45,Poblacion!$E$8:$I$87,2,FALSE)","v":489},{"$f":"VLOOKUP($F45,Poblacion!$E$8:$I$87,4,FALSE)","v":238},{"$f":"VLOOKUP($F45,Poblacion!$E$8:$I$87,5,FALSE)","v":251},null,"OYON",null,"P.S. NAVA",{"$f":"VLOOKUP(M45,Poblacion!$E$5:$I$88,2,FALSE)","v":147},{"$f":"VLOOKUP(M45,Poblacion!$E$5:$I$88,4,FALSE)","v":67},{"$f":"VLOOKUP(M45,Poblacion!$E$5:$I$88,5,FALSE)","v":80}]
[null,null,null,"SAYAN",null,"P.S. LA UNION",{"$f":"VLOOKUP($F46,Poblacion!$E$8:$I$87,2,FALSE)","v":489},{"$f":"VLOOKUP($F46,Poblacion!$E$8:$I$87,4,FALSE)","v":238},{"$f":"VLOOKUP($F46,Poblacion!$E$8:$I$87,5,FALSE)","v":251},null,"OYON",null,"P.S. TINTA",{"$f":"VLOOKUP(M46,Poblacion!$E$5:$I$88,2,FALSE)","v":1176},{"$f":"VLOOKUP(M46,Poblacion!$E$5:$I$88,4,FALSE)","v":581},{"$f":"VLOOKUP(M46,Poblacion!$E$5:$I$88,5,FALSE)","v":595}]
[null,null,null,"L.PRADO",{"$f":"SUM(G47:G50)","v":2010},"P.S. AUQUIMARCA",{"$f":"VLOOKUP($F47,Poblacion!$E$8:$I$87,2,FALSE)","v":101},{"$f":"VLOOKUP($F47,Poblacion!$E$8:$I$87,4,FALSE)","v":47},{"$f":"VLOOKUP($F47,Poblacion!$E$8:$I$87,5,FALSE)","v":54},null,"OYON",null,"P.S. RAPAZ",{"$f":"VLOOKUP(M47,Poblacion!$E$5:$I$88,2,FALSE)","v":1911},{"$f":"VLOOKUP(M47,Poblacion!$E$5:$I$88,4,FALSE)","v":946},{"$f":"VLOOKUP(M47,Poblacion!$E$5:$I$88,5,FALSE)","v":965}]
[null,null,null,"L.PRADO",null,"P.S. PARAN",{"$f":"VLOOKUP($F48,Poblacion!$E$8:$I$87,2,FALSE)","v":1005},{"$f":"VLOOKUP($F48,Poblacion!$E$8:$I$87,4,FALSE)","v":498},{"$f":"VLOOKUP($F48,Poblacion!$E$8:$I$87,5,FALSE)","v":507},null,"ANDAJES",{"$f":"N48","v":1061},"P.S. ANDAJES",{"$f":"VLOOKUP(M48,Poblacion!$E$5:$I$88,2,FALSE)","v":1061},{"$f":"VLOOKUP(M48,Poblacion!$E$5:$I$88,4,FALSE)","v":526},{"$f":"VLOOKUP(M48,Poblacion!$E$5:$I$88,5,FALSE)","v":535}]
[null,null,null,"L.PRADO",null,"P.S. SANTA CRUZ",{"$f":"VLOOKUP($F49,Poblacion!$E$8:$I$87,2,FALSE)","v":442},{"$f":"VLOOKUP($F49,Poblacion!$E$8:$I$87,4,FALSE)","v":215},{"$f":"VLOOKUP($F49,Poblacion!$E$8:$I$87,5,FALSE)","v":227},null,"CAUJUL",{"$f":"N49","v":1052},"P.S. CAUJUL",{"$f":"VLOOKUP(M49,Poblacion!$E$5:$I$88,2,FALSE)","v":1052},{"$f":"VLOOKUP(M49,Poblacion!$E$5:$I$88,4,FALSE)","v":521},{"$f":"VLOOKUP(M49,Poblacion!$E$5:$I$88,5,FALSE)","v":531}]
[null,null,null,"L.PRADO",null,"P.S. HUANANGUI",{"$f":"VLOOKUP($F50,Poblacion!$E$8:$I$87,2,FALSE)","v":462},{"$f":"VLOOKUP($F50,Poblacion!$E$8:$I$87,4,FALSE)","v":225},{"$f":"VLOOKUP($F50,Poblacion!$E$8:$I$87,5,FALSE)","v":237},null,"NAVAN",1210,"P.S. NAVAN",{"$f":"VLOOKUP(M50,Poblacion!$E$5:$I$88,2,FALSE)","v":1210},{"$f":"VLOOKUP(M50,Poblacion!$E$5:$I$88,4,FALSE)","v":600},{"$f":"VLOOKUP(M50,Poblacion!$E$5:$I$88,5,FALSE)","v":610}]
[null,null,null,"COCHAMARCA",{"$f":"SUM(G51:G53)","v":1632},"P.S. COCHAMARCA",{"$f":"VLOOKUP($F51,Poblacion!$E$8:$I$87,2,FALSE)","v":653},{"$f":"VLOOKUP($F51,Poblacion!$E$8:$I$87,4,FALSE)","v":321},{"$f":"VLOOKUP($F51,Poblacion!$E$8:$I$87,5,FALSE)","v":332},null,"CHECRAS",1808,"P.S. PUÑUN",{"$f":"VLOOKUP(M51,Poblacion!$E$5:$I$88,2,FALSE)","v":1808},{"$f":"VLOOKUP(M51,Poblacion!$E$5:$I$88,4,FALSE)","v":894},{"$f":"VLOOKUP(M51,Poblacion!$E$5:$I$88,5,FALSE)","v":914}]
[null,null,null,"COCHAMARCA",null,"P.S. COLCAPAMPA",{"$f":"VLOOKUP($F52,Poblacion!$E$8:$I$87,2,FALSE)","v":734},{"$f":"VLOOKUP($F52,Poblacion!$E$8:$I$87,4,FALSE)","v":361},{"$f":"VLOOKUP($F52,Poblacion!$E$8:$I$87,5,FALSE)","v":373},null,"PACCHO",{"$f":"SUM(N52:N55)","v":2223},"P.S. PACCHO",{"$f":"VLOOKUP(M52,Poblacion!$E$5:$I$88,2,FALSE)","v":778},{"$f":"VLOOKUP(M52,Poblacion!$E$5:$I$88,4,FALSE)","v":384},{"$f":"VLOOKUP(M52,Poblacion!$E$5:$I$88,5,FALSE)","v":394}]
[null,null,null,"COCHAMARCA",null,"P.S. YARUCAYA",{"$f":"VLOOKUP($F53,Poblacion!$E$8:$I$87,2,FALSE)","v":245},{"$f":"VLOOKUP($F53,Poblacion!$E$8:$I$87,4,FALSE)","v":117},{"$f":"VLOOKUP($F53,Poblacion!$E$8:$I$87,5,FALSE)","v":128},null,"PACCHO",null,"P.S. LACSANGA",{"$f":"VLOOKUP(M53,Poblacion!$E$5:$I$88,2,FALSE)","v":667},{"$f":"VLOOKUP(M53,Poblacion!$E$5:$I$88,4,FALSE)","v":326},{"$f":"VLOOKUP(M53,Poblacion!$E$5:$I$88,5,FALSE)","v":341}]
[null,null,null,"IHUARI - ACOTAMA",{"$f":"G54","v":1131},"IHUARI - ACOTAMA",{"$f":"VLOOKUP($F54,Poblacion!$E$8:$I$87,2,FALSE)","v":1131},{"$f":"VLOOKUP($F54,Poblacion!$E$8:$I$87,4,FALSE)","v":560},{"$f":"VLOOKUP($F54,Poblacion!$E$8:$I$87,5,FALSE)","v":571},null,"PACCHO",null,"P.S. AYARANGA",{"$f":"VLOOKUP(M54,Poblacion!$E$5:$I$88,2,FALSE)","v":333},{"$f":"VLOOKUP(M54,Poblacion!$E$5:$I$88,4,FALSE)","v":161},{"$f":"VLOOKUP(M54,Poblacion!$E$5:$I$88,5,FALSE)","v":172}]
[null,null,null,"TOTAL MICRORED SAYAN",null,null,{"$f":"SUM(G40:G54)","v":29238},{"$f":"SUM(H40:H54)","v":14449},14789,null,"PACCHO",null,"P.S. MUZGA",{"$f":"VLOOKUP(M55,Poblacion!$E$5:$I$88,2,FALSE)","v":445},{"$f":"VLOOKUP(M55,Poblacion!$E$5:$I$88,4,FALSE)","v":218},{"$f":"VLOOKUP(M55,Poblacion!$E$5:$I$88,5,FALSE)","v":227}]
[null,null,null,{"$f":"K33","v":"Elaboración: Área de Estadística - RIS Huaura Oyón."},null,null,null,null,null,null,"S.LEONOR",{"$f":"SUM(N56:N58)","v":1477},"P.S. CHIUCHIN",{"$f":"VLOOKUP(M56,Poblacion!$E$5:$I$88,2,FALSE)","v":886},{"$f":"VLOOKUP(M56,Poblacion!$E$5:$I$88,4,FALSE)","v":437},{"$f":"VLOOKUP(M56,Poblacion!$E$5:$I$88,5,FALSE)","v":449}]
[null,null,null,null,null,null,null,null,null,null,"S.LEONOR",null,"P.S. PARQUIN",{"$f":"VLOOKUP(M57,Poblacion!$E$5:$I$88,2,FALSE)","v":443},{"$f":"VLOOKUP(M57,Poblacion!$E$5:$I$88,4,FALSE)","v":214},{"$f":"VLOOKUP(M57,Poblacion!$E$5:$I$88,5,FALSE)","v":229}]
[null,null,null,null,null,null,null,null,null,null,"S.LEONOR",null,"P.S. JUCUL",{"$f":"VLOOKUP(M58,Poblacion!$E$5:$I$88,2,FALSE)","v":148},{"$f":"VLOOKUP(M58,Poblacion!$E$5:$I$88,4,FALSE)","v":69},{"$f":"VLOOKUP(M58,Poblacion!$E$5:$I$88,5,FALSE)","v":79}]
[null,null,null,null,null,null,null,null,null,null,"TOTAL MICRORED CHURIN - OYON",null,null,{"$f":"SUM(N40:N58)","v":27008},{"$f":"SUM(O40:O58)","v":13337},13671]
[null,null,null,null,null,null,null,null,null,null,{"$f":"K33","v":"Elaboración: Área de Estadística - RIS Huaura Oyón."}]