{"text_format":"1","workbook":"xlsx","n_sheets":3,"sheets":["Interfaz","Poblacion","Pobla_EESS"],"not_rendered":{"charts":0,"images":10,"macros":1,"external_links":1,"defined_names":4,"comments":0,"pivot_tables":0},"unopened":[],"bounds":{"document_bytes":16777216,"sheet_cells":100000,"rows_first":2000,"rows_last":500,"rows_between":2000,"halvings":0,"cell_chars":16384,"cell_head_chars":4096},"cells_cut":0,"cells_raw":0,"read":"whole","date_system":"1900"}

{"sheet":"Interfaz","index":0,"n_rows":27,"n_cols":18,"rows_kept":27,"cut":false,"hidden":false,"merged":[[4,2,7,11],[9,2,11,11]]}
[]
[]
[]
[]
[null,null,"POBLACIÓN ASIGNADA SEGÚN CENSOS INEI - RENIEC - PN - CNV - 2014"]
[]
[]
[]
[]
[null,null,"RED INTEGRADA DE SALUD HUAURA OYÓN "]
[]
[]
[]
[]
[]
[]
[]
[]
[]
[]
[]
["Elaboración: Área de Estadística - RIS Huaura Oyón."]
["NOTA: LA POBLACION ESTIMADA DE EDADES  SIMPLES Y GRUPOS DE EDAD DE DISTRITOS, CORRESPONDEN A CIFRAS REFERENCIALES HASTA OBTENER LAS CIFRAS DE LAS PROYECCIONES DEL INEI"]
[]
[]
["OFICINA DE GESTION DE LA INFORMACIÓN - MINISTERIO DE SALUD"]
[null,null,null,null,null,null,null,null,null,null,null,null,null,null,null,null,null,"Versión1.030"]

{"sheet":"Poblacion","index":1,"n_rows":93,"n_cols":93,"rows_kept":93,"cut":false,"hidden":false,"merged":[[5,50,5,51],[4,50,4,51],[4,48,4,49],[4,46,4,47],[4,57,4,60],[5,58,6,58],[5,59,6,59],[5,57,6,57],[5,60,6,60],[4,54,6,54],[4,55,6,55],[4,56,6,56],[4,52,4,53],[5,52,5,53],[5,46,5,47],[5,48,5,49],[1,20,1,43],[2,20,2,43],[4,36,4,37],[4,26,4,27],[3,20,3,43],[4,34,4,35],[4,28,4,29],[4,32,4,33],[4,42,4,43],[4,24,4,25],[4,7,6,7],[4,8,6,8],[5,28,5,29],[4,30,4,31],[5,30,5,31],[5,16,5,17],[5,18,5,19],[4,20,4,21],[4,22,4,23],[5,22,5,23],[5,20,5,21],[4,5,6,5],[4,44,4,45],[5,36,5,37],[5,32,5,33],[4,38,4,39],[5,38,5,39],[4,40,4,41],[5,24,5,25],[4,10,4,11],[4,12,4,13],[4,14,4,15],[4,16,4,17],[4,18,4,19],[5,10,5,11],[5,12,5,13],[5,14,5,15],[5,42,5,43],[5,26,5,27],[5,34,5,35],[5,44,5,45],[5,40,5,41]]}
[null,null,1,2,3,4,5,6,7,8,9,10,11,12,13,14,15,16,17,18,19,20,21,22,23,24,25,26,27,28,29,30,31,32,33,34,35,36,37,38,39,40,41,42,43,44,45,46,47,48,49,50,51,52,53,54,55,56,57,58,59,null,null,null,77,78,79,80,81,82,83,84,85,86,87,88,89,90,91,92,93,94,95,96,97,98,99,106,107,108,109,110,111]
[]
[]
[]
[null,null,"N°",null,"DIRECCION DE SALUD","TOTAL GENERAL",null,"TOTAL MASCULINO","TOTAL FEMENINO",null,"EDAD",null,"EDAD",null,"EDAD",null,"EDAD",null,"EDAD",null,"EDAD",null,"EDAD",null,"EDAD",null,"EDAD",null,"EDAD",null,"EDAD",null,"EDAD",null,"EDAD",null,"EDAD",null,"EDAD",null,"EDAD",null,"EDAD",null,"EDAD",null,"EDAD",null,"EDAD",null,"EDAD",null,"EDAD",null,"NACIMIENTOS","28 DIAS","POBLACION FEMENINA TOTAL","POBLACION FEMENINA"]
["UBIGEO",null,null,null,"PROVINCIA",null,null,null,null,null,0,null,1,null,2,null,3,null,4,null,"<5",null,"5 - 9",null,"10 - 14",null,"15 - 19",null,"20 - 24",null,"25 - 29",null,"30 - 34",null,"35 - 39",null,"40 - 44 ",null,"45 - 49",null,"50 - 54 ",null,"55 - 59 ",null,"60 - 64",null,"65 - 69 ",null,"70- 74 ",null,"75 - 79 ",null,"80 - +",null,null,null,null,"10-14","15-19","20-49","GESTANTES  ESPERADAS"]
[null,"Microredes",null,"RENAES","DISTRITO",null,null,null,null,null,"M","F","M","F","M","F","M","F","M","F","M","F","M","F","M","F","M","F","M","F","M","F","M","F","M","F","M","F","M","F","M","F","M","F","M","F","M","F","M","F","M","F","M","F"]
[150000,null,1,null,"RED HUAURA OYON",240832,null,119247,121585,null,2161,2203,2063,2104,2001,2040,1969,2007,1964,2003,10327,10531,4542,4631,13679,13948,4341,4425,10454,10659,8987,9163,8650,8820,8505,8671,7256,7398,6711,6843,5887,6002,4997,5095,4175,4257,3452,3519,2927,2985,2081,2122,2118,2159,4472,333,119060,11295,10847,50494,5537]
[150800,null,2,150800,"PROVINCIA HUAURA",217102,null,107496,109606,null,1905,1943,1817,1852,1760,1795,1731,1765,1727,1761,9109,9286,4029,4109,12343,12588,3979,4056,9557,9745,8095,8254,7786,7938,7601,7749,6597,6726,6078,6197,5385,5491,4581,4671,3842,3918,3115,3176,2652,2704,1863,1899,1944,1983,3925,294,108048,10101,9921,46239,4861]
[150801,null,3,150802,"DISTRITO HUACHO",58397,null,28914,29483,null,466,475,439,447,420,429,410,419,407,415,2163,2207,977,997,3042,3103,1003,1022,2486,2535,2114,2155,2045,2086,2071,2111,1868,1904,1772,1806,1683,1716,1407,1435,1156,1178,952,971,813,828,595,606,625,638,953,72,29962,2544,2491,12927,1180]
[null,"00",4,7639,"HOSPITAL G. HUACHO",44966,null,22263,22703,null,359,366,338,344,324,330,316,322,313,320,1665,1699,752,768,2343,2390,772,787,1914,1952,1628,1659,1575,1606,1594,1626,1438,1466,1364,1391,1296,1321,1083,1105,890,907,733,748,626,638,458,467,482,491,734,55,23071,1959,1918,9954,909]
[null,"02",5,5679,"C. S. MANZANARES",13431,null,6652,6779,null,107,109,101,103,97,98,95,96,94,95,498,508,225,229,698,714,231,235,572,583,486,496,470,480,476,486,430,438,408,415,387,395,324,330,266,271,219,223,187,190,137,139,144,146,219,17,6891,585,573,2973,271]
[150802,null,6,150802,"DISTRITO AMBAR",2761,null,1367,1394,null,20,20,24,25,28,28,31,31,33,33,173,178,66,67,152,154,40,41,108,111,83,84,85,87,81,82,66,68,76,78,67,68,54,55,51,52,46,47,34,35,23,23,26,27,44,3,1289,138,100,479,54]
[null,"01",7,5680,"C.S. AMBAR        ",1651,null,816,835,null,12,12,14,15,16,17,18,19,19,20,103,105,39,41,90,93,24,25,65,66,50,51,51,52,48,49,40,40,46,46,40,41,32,33,31,31,28,28,20,21,14,14,16,16,26,2,771,83,60,286,32]
[null,"01",8,5681,"P.S. AYNACA     ",1110,null,548,562,null,8,8,10,10,11,12,12,13,13,14,70,73,26,27,60,63,16,16,44,44,33,33,34,35,33,33,27,27,31,31,27,27,22,22,20,21,18,19,14,14,9,9,10,11,18,1,518,55,40,193,22]
[150803,null,9,150803,"DISTRITO  CARQUIN",6736,null,3332,3404,null,62,64,60,61,58,59,56,58,55,57,270,277,109,113,332,341,117,120,321,328,294,300,291,296,244,248,231,235,178,182,168,172,134,136,105,107,96,98,67,68,40,40,44,44,131,10,2912,252,275,1241,162]
[null,"02",10,5664,"P.S. CARQUIN",6736,null,3332,3404,null,62,64,60,61,58,59,56,58,55,57,270,277,109,113,332,341,117,120,321,328,294,300,291,296,244,248,231,235,178,182,168,172,134,136,105,107,96,98,67,68,40,40,44,44,131,10,2912,252,275,1241,162]
[150804,null,11,150804,"DISTRITO CHECRAS",1748,null,863,885,null,15,15,13,14,12,13,12,12,12,12,67,69,33,33,82,87,17,18,35,35,43,44,40,41,59,61,53,55,51,52,66,68,49,49,51,51,41,42,55,57,30,30,27,27,33,2,866,75,41,286,41]
[null,"05",12,5663,"P.S. PUÑUN",1748,null,863,885,null,15,15,13,14,12,13,12,12,12,12,67,69,33,33,82,87,17,18,35,35,43,44,40,41,59,61,53,55,51,52,66,68,49,49,51,51,41,42,55,57,30,30,27,27,33,2,866,75,41,286,41]
[150805,null,13,150805,"DISTRITO HUALMAY",28486,null,14105,14381,null,250,255,235,240,225,230,220,225,220,224,1176,1196,532,543,1610,1642,511,520,1252,1277,1063,1084,1028,1049,1024,1045,909,927,766,780,703,717,626,638,504,514,426,435,318,324,245,249,262,267,513,39,14653,1361,1324,6296,636]
[null,"02",14,5665,"C.S. HUALMAY      ",14243,null,7052,7191,null,125,127,118,120,113,115,110,112,110,112,587,599,266,272,806,821,255,260,626,639,531,542,513,524,512,522,455,463,383,390,352,358,313,319,252,257,213,218,159,162,122,125,131,134,256,19,7326,681,662,3148,318]
[null,"02",15,5666,"P.S. DGO. MANDAMIENTO  ",9970,null,4938,5032,null,88,89,82,84,79,80,77,79,77,78,412,418,186,190,564,574,179,182,438,447,372,379,360,368,359,366,318,325,268,273,246,251,219,223,176,180,149,152,111,114,86,87,92,93,180,14,5129,476,463,2204,223]
[null,"02",16,5667,"P.S. CAMPO ALEGRE       ",4273,null,2117,2156,null,38,38,35,36,34,34,33,34,33,34,176,180,80,81,242,245,77,78,188,191,160,163,154,158,153,157,136,139,115,117,105,108,94,96,76,77,64,65,48,48,37,37,39,40,77,6,2198,204,199,944,95]
[150806,null,17,150806,"DISTRITO  HUAURA",34967,null,17311,17656,null,315,322,299,305,289,295,284,290,284,290,1530,1559,696,709,2261,2307,737,753,1627,1659,1350,1377,1280,1306,1199,1223,1041,1062,948,967,788,804,628,640,508,517,418,426,375,382,231,235,223,228,647,49,17359,1744,1827,7655,802]
[null,"01",18,5682,"C.S. HUAURA ",16084,null,7965,8119,null,145,148,138,140,133,136,131,133,131,133,705,716,319,326,1042,1061,339,346,748,763,621,633,589,601,552,563,479,489,436,445,362,370,289,294,233,238,192,195,172,176,106,108,103,105,298,22,7985,803,840,3522,370]
[null,"01",19,5686,"C.MAT.INF.EL SOCORRO ",12658,null,6268,6390,null,114,117,108,111,104,107,103,105,103,105,553,565,252,257,819,834,268,272,589,601,489,498,463,473,434,442,377,384,343,350,285,291,227,232,184,187,152,154,136,138,84,85,81,82,234,18,6284,631,661,2771,290]
[null,"01",20,5683,"P.S. HUMAYA  ",3637,null,1804,1833,null,33,33,31,32,30,31,30,30,30,30,160,161,73,74,236,238,77,78,169,173,140,143,133,135,125,127,108,111,99,100,82,84,65,67,53,54,44,44,39,40,24,24,23,24,67,5,1805,181,190,796,83]
[null,"01",21,5684,"P.S. VILCAHUAURA ",2098,null,1040,1058,null,19,19,18,18,17,18,17,17,17,17,92,94,41,43,136,137,44,45,98,99,82,83,77,79,72,73,62,64,57,58,48,48,38,38,31,31,25,26,22,23,14,14,13,14,39,3,1042,105,110,459,48]
[null,"01",22,5685,"P.S. PEÑICO  ",490,null,238,252,null,4,5,4,4,4,4,4,4,4,4,20,23,10,10,30,35,10,11,23,23,19,19,18,18,17,17,14,15,13,14,11,11,9,9,7,7,6,6,5,6,3,4,3,3,9,1,243,24,26,107,11]
[150807,null,23,150807,"DISTRITO LEONCIO PRADO",1994,null,985,1009,null,15,15,18,19,21,22,23,23,24,24,111,114,34,36,90,91,30,32,84,86,73,74,61,63,62,63,52,53,58,60,55,57,36,36,36,37,30,30,29,29,20,21,23,24,33,2,906,82,64,351,41]
[null,"03",24,5778,"P.S. AUQUIMARCA",100,null,48,52,null,1,1,1,1,1,1,1,1,1,1,5,5,2,2,6,6,2,2,4,4,3,3,2,3,3,3,2,3,3,3,3,3,2,2,2,2,1,2,1,2,1,1,1,1,2,0,45,4,3,18,2]
[null,"03",25,5779,"P.S. PARAN",997,null,491,506,null,7,8,9,9,11,11,11,12,12,12,56,58,17,17,43,48,16,16,42,42,37,37,31,31,31,31,26,27,29,30,27,28,17,18,18,18,15,15,14,15,10,11,12,12,16,1,454,41,32,175,21]
[null,"03",26,6725,"P.S. SANTA CRUZ",438,null,213,225,null,3,3,4,4,4,5,5,5,5,6,23,26,7,8,18,18,6,6,19,20,17,17,15,15,14,14,11,12,13,13,12,13,8,8,8,8,6,7,6,7,4,5,5,5,7,0,199,18,14,77,9]
[null,"03",27,7757,"P.S. HUANANGUI",459,null,216,243,null,3,4,4,5,5,5,5,6,5,6,24,28,8,9,18,24,6,8,19,20,16,17,13,14,14,15,12,12,13,14,13,13,8,9,8,9,7,7,6,7,4,5,5,6,8,1,208,19,15,81,9]
[150808,null,28,150808,"DISTRITO  PACCHO",2188,null,1080,1108,null,15,16,15,16,16,16,16,16,17,17,90,93,39,40,91,96,23,23,64,65,58,59,66,67,69,71,69,71,61,62,58,60,57,58,69,71,63,65,54,55,37,37,33,34,34,2,1051,97,45,361,42]
[null,"05",29,5650,"C.S. PACCHO ",875,null,428,447,null,6,6,6,6,6,7,6,7,6,7,35,38,15,16,36,39,8,10,26,27,23,24,27,27,28,29,28,28,24,25,23,23,23,23,28,28,25,26,22,22,14,15,13,14,13,1,420,39,18,145,17]
[null,"05",30,5651,"P.S. LACSANGA  ",548,null,266,282,null,4,4,4,4,4,4,4,4,4,5,21,25,10,10,22,24,6,6,16,16,14,15,16,17,17,17,17,18,15,16,15,15,14,15,17,18,16,16,13,14,9,10,8,9,9,1,263,24,11,90,11]
[null,"05",31,5653,"P.S. AYARANGA  ",328,null,156,172,null,2,3,2,3,2,3,2,3,2,3,13,15,6,6,13,15,3,4,9,9,9,9,10,10,10,11,10,11,9,9,9,9,8,9,10,11,9,10,8,8,5,6,5,5,5,0,158,15,7,54,6]
[null,"05",32,5652,"P.S. MUZGA ",437,null,211,226,null,3,3,3,3,3,3,3,3,3,4,16,20,8,8,17,21,4,5,13,13,11,12,13,13,14,14,14,14,12,13,12,12,11,12,14,14,13,13,11,11,7,8,6,7,7,0,210,19,9,72,8]
[150809,null,33,150809,"DISTRITO  SANTA LEONOR",1471,null,725,746,null,11,12,10,11,10,11,10,11,11,12,70,70,35,36,84,89,19,20,45,46,34,34,36,37,45,46,43,44,45,46,50,50,34,35,38,39,28,29,27,28,23,23,17,17,26,2,690,74,56,241,32]
[null,"05",34,5645,"C.S. CHIUCHIN ",956,null,469,487,null,7,8,7,7,7,7,7,7,7,8,44,47,23,23,55,57,12,13,29,30,22,23,23,24,29,30,28,29,29,30,32,33,22,23,25,25,18,19,17,18,15,15,11,11,17,1,448,48,36,157,20]
[null,"05",35,5646,"P.C. JUCUL ",74,null,27,47,null,0,1,0,1,0,1,0,1,0,1,2,5,2,2,3,6,0,2,2,2,1,2,2,2,2,3,2,2,2,3,2,3,1,2,2,2,1,2,1,2,1,1,1,1,1,0,35,4,3,12,2]
[null,"05",36,5647,"P.S. PARQUIN ",441,null,213,228,null,3,4,3,3,3,3,3,3,3,4,20,22,10,11,24,28,6,6,14,14,10,10,11,11,13,14,13,13,13,14,15,15,10,11,11,12,8,9,8,9,7,7,5,5,8,1,207,22,17,72,10]
[150810,null,37,150810,"DISTRITO  SANTA MARIA",32831,null,16258,16573,null,286,291,274,280,268,273,265,271,266,272,1417,1445,627,640,1889,1924,593,603,1395,1422,1195,1218,1194,1217,1197,1221,970,989,871,888,747,762,705,718,608,619,455,464,403,411,288,294,345,351,586,44,16332,1557,1456,6991,726]
[null,"02",38,5668,"C.S. SANTA MARIA ",9521,null,4716,4805,null,83,85,79,81,77,79,77,78,77,79,411,419,182,185,548,558,172,175,405,413,347,353,346,352,347,354,282,287,253,258,217,221,204,208,176,180,132,134,117,119,84,85,100,102,170,13,4737,451,422,2027,210]
[null,"02",39,5669,"P.S. CHONTA  ",4596,null,2279,2317,null,40,41,39,39,38,38,37,38,37,38,200,201,88,89,266,268,83,84,195,199,167,171,167,171,168,171,136,138,122,124,104,107,99,100,85,87,64,65,56,58,40,41,48,49,82,6,2286,218,204,979,102]
[null,"02",40,5671,"P.S. ZAPATA ",2299,null,1140,1159,null,20,20,19,20,19,19,19,19,19,19,99,101,44,45,132,135,42,42,98,99,83,85,84,85,84,85,68,69,61,62,52,54,50,50,43,43,32,32,28,29,20,21,24,25,41,3,1143,109,102,489,51]
[null,"02",41,5670,"P.S. AMADO VELASQUEZ  ",8536,null,4226,4310,null,74,76,71,73,70,71,69,70,69,71,369,375,163,166,491,500,154,157,363,370,311,317,310,317,311,318,252,257,226,231,194,198,183,187,158,161,118,121,105,107,75,76,90,91,152,11,4246,405,379,1818,189]
[null,"02",42,5672,"P.S. SAN BARTOLOME  ",7879,null,3902,3977,null,68,70,66,67,64,66,64,65,64,65,341,346,151,154,453,462,142,145,334,341,287,292,287,292,287,293,233,237,209,213,179,183,169,173,146,148,109,112,97,98,69,71,83,84,141,11,3920,374,349,1678,174]
[150811,null,43,150811,"DISTRITO SAYAN",23919,null,11843,12076,null,221,225,218,222,216,221,216,221,217,222,1121,1145,471,480,1412,1439,461,471,1128,1150,976,995,914,931,847,863,674,687,658,670,507,517,430,439,362,369,276,281,233,238,153,155,132,135,454,34,11475,1165,1173,4928,562]
[null,"03",44,5780,"C.S. SAYAN",9568,null,4741,4827,null,88,90,87,89,86,88,86,88,87,88,450,457,189,191,567,575,185,188,451,459,390,397,365,373,339,345,269,275,263,268,204,207,173,176,144,147,110,113,94,95,61,63,53,55,182,13,4589,466,469,1971,226]
[null,"03",45,5774,"C.S. 9 DE OCTUBRE",5023,null,2494,2529,null,47,47,46,46,46,46,46,46,46,46,237,239,99,101,298,300,98,98,237,241,205,209,192,195,178,181,142,144,138,141,106,109,90,92,76,78,58,59,49,50,32,33,28,28,95,7,2410,245,246,1035,118]
[null,"03",46,5781,"P.S. CHAMBARA",957,null,468,489,null,9,9,9,9,8,9,8,9,9,9,45,46,18,20,54,60,18,20,45,46,39,40,37,37,34,34,27,27,26,27,20,21,17,18,14,15,11,11,9,10,6,6,5,6,18,1,459,47,47,197,22]
[null,"03",47,5775,"P.S. LA MERCED",1196,null,591,605,null,11,11,11,11,11,11,11,11,11,11,55,58,24,24,70,72,22,24,56,58,50,50,46,46,43,43,34,34,33,33,25,26,21,22,18,19,14,14,12,12,7,8,6,7,23,2,574,58,59,246,28]
[null,"03",48,5776,"P.S. LA VILLA",6219,null,3076,3143,null,57,59,56,58,56,58,56,58,56,58,291,298,122,125,366,375,120,123,293,298,254,259,238,242,220,225,176,179,171,174,132,134,112,114,94,96,72,73,60,62,40,40,34,35,118,9,2983,303,306,1281,146]
[null,"03",49,5777,"P.S. EL AHORCADO",478,null,226,252,null,4,5,4,5,4,5,4,5,4,5,20,25,9,10,27,30,8,10,23,24,19,20,18,19,17,17,13,14,13,14,10,10,8,9,7,8,5,6,4,5,3,3,2,3,9,1,230,23,23,99,11]
[null,"03",50,6726,"P.S. LA UNION",478,null,226,252,null,4,5,4,5,4,5,4,5,4,5,20,25,9,10,27,30,8,10,23,24,19,20,18,19,17,17,13,14,13,14,10,10,8,9,7,8,5,6,4,5,3,3,2,3,9,1,230,23,23,99,11]
[150812,null,51,150812,"DISTRITO VEGUETA",21604,null,10697,10907,null,229,233,210,214,196,199,186,190,180,184,919,935,408,417,1293,1320,426,435,1012,1031,813,829,745,759,702,716,620,632,594,606,492,501,422,431,356,362,283,289,244,249,180,184,187,191,471,35,10553,1012,1069,4483,583]
[null,"04",52,5673,"C.S. VEGUETA ",6481,null,3207,3274,null,69,70,63,64,59,60,56,57,54,55,273,281,122,125,388,396,128,131,304,309,244,249,223,228,211,215,186,190,178,182,148,150,127,129,106,109,85,87,73,75,54,55,56,57,141,11,3166,304,321,1345,175]
[null,"04",53,5674,"P.S. MAZO ",2160,null,1069,1091,null,23,23,21,21,20,20,19,19,18,19,92,94,41,41,130,132,42,44,101,103,81,83,74,76,70,72,62,63,59,61,49,50,42,43,36,36,28,29,24,25,18,18,19,19,47,4,1055,101,107,448,58]
[null,"04",54,5675,"P.S. PRIMAVERA ",2809,null,1389,1420,null,30,30,27,28,25,26,24,25,23,24,119,123,53,55,168,172,56,56,132,134,105,108,97,99,91,93,81,82,77,79,64,65,55,56,46,47,37,37,32,32,23,24,24,25,61,5,1372,132,139,583,76]
[null,"04",55,5676,"P.S.  JOSE C.MARIATEGUI ",5185,null,2570,2615,null,55,56,51,51,47,48,45,45,43,44,221,224,98,100,310,318,102,104,243,247,195,199,179,182,168,172,149,151,143,145,118,120,102,103,86,87,68,69,58,60,44,44,45,46,114,7,2533,243,256,1076,140]
[null,"04",56,5677,"P.S. MEDIO MUNDO ",4105,null,2036,2069,null,44,44,40,41,37,37,35,36,34,35,176,177,78,79,246,250,82,82,192,196,154,158,142,144,133,136,118,120,113,115,94,95,80,82,67,69,54,55,47,47,34,35,36,36,89,7,2005,192,203,852,111]
[null,"04",57,5678,"P.S. TIROLER  ",864,null,423,441,null,9,9,8,9,8,8,7,8,7,8,36,38,16,17,49,54,16,18,41,41,33,33,30,30,28,29,25,25,24,24,20,20,17,17,14,15,11,12,10,10,7,8,7,8,19,1,422,40,43,179,23]
[150900,null,58,150900,"PROVINCIA OYON",22593,null,11184,11409,null,247,252,236,241,229,234,226,230,225,229,1160,1183,493,502,1285,1311,346,353,851,868,853,869,830,847,870,888,627,640,598,609,473,483,394,402,314,321,309,315,256,262,205,209,157,161,528,38,10478,1152,894,4036,653]
[150901,null,59,150901,"DISTRITO OYÓN",14310,null,7085,7225,null,167,170,160,163,155,158,153,155,152,155,782,797,330,337,851,868,226,231,563,575,595,606,574,585,588,600,396,404,361,369,284,289,206,210,141,143,142,144,104,107,86,88,69,71,347,26,6532,777,622,2589,430]
[null,"05",60,5659,"C.S. OYON  ",11219,null,5553,5666,null,131,133,126,128,121,124,119,122,119,121,612,626,259,263,667,680,178,181,442,451,467,476,450,459,461,471,310,317,283,289,222,227,162,165,110,112,111,113,82,84,67,69,54,55,273,21,5121,609,487,2029,336]
[null,"05",61,5660,"P.S. MALLAY ",1216,null,599,617,null,14,15,13,14,13,14,13,13,13,13,66,68,28,29,71,75,18,20,48,49,51,51,49,50,50,51,34,34,31,31,24,25,17,18,12,12,12,12,9,9,7,8,6,6,29,2,555,66,53,220,37]
[null,"05",62,5661,"P.S. NAVA  ",86,null,37,49,null,1,1,1,1,1,1,1,1,1,1,5,5,2,2,5,6,0,2,3,4,3,4,3,4,3,4,2,3,2,2,1,2,1,1,1,1,1,1,0,1,0,1,0,1,2,0,39,5,4,16,3]
[null,"05",63,5662,"P.S. TINTA ",501,null,242,259,null,6,6,5,6,5,6,5,6,5,6,25,30,12,12,29,31,8,8,19,20,20,21,20,21,21,21,14,14,13,13,10,10,7,8,5,5,5,5,3,4,3,3,2,3,12,1,229,27,22,91,15]
[null,"05",64,5648,"P.S.RAPAZ ",1288,null,635,653,null,15,15,14,15,14,14,14,14,14,14,70,72,30,30,75,80,20,22,51,51,53,55,51,52,52,54,36,36,33,33,26,26,18,19,13,13,13,13,9,10,8,8,6,7,31,2,588,70,56,233,39]
[150902,null,65,150902,"DISTRITO  ANDAJES",1049,null,516,533,null,3,3,3,4,4,4,4,5,5,6,28,31,12,14,38,42,12,12,27,28,33,33,24,25,37,37,28,29,38,38,25,25,32,33,30,30,45,46,26,26,38,38,24,24,9,0,485,25,29,168,11]
[null,"05",66,5654,"P.S. ANDAJES",1049,null,516,533,null,3,3,3,4,4,4,4,5,5,6,28,31,12,14,38,42,12,12,27,28,33,33,24,25,37,37,28,29,38,38,25,25,32,33,30,30,45,46,26,26,38,38,24,24,9,0,485,25,29,168,11]
[150903,null,67,150903,"DISTRITO  CAUJUL",1024,null,504,520,null,8,8,9,9,10,10,11,11,11,11,54,56,19,20,46,50,15,16,38,38,31,32,35,35,35,35,26,27,33,34,24,25,19,20,18,19,25,26,14,14,12,13,11,11,19,1,485,42,28,190,23]
[null,"05",68,5655,"P.S. CAUJUL",1024,null,504,520,null,8,8,9,9,10,10,11,11,11,11,54,56,19,20,46,50,15,16,38,38,31,32,35,35,35,35,26,27,33,34,24,25,19,20,18,19,25,26,14,14,12,13,11,11,19,1,485,42,28,190,23]
[150904,null,69,150904,"DISTRITO COCHAMARCA",1600,null,787,813,null,14,15,15,16,16,17,17,18,18,18,98,101,40,42,103,106,26,27,57,59,38,39,54,55,54,56,47,47,38,39,29,30,31,32,25,26,18,19,19,20,16,17,14,14,33,2,784,94,60,271,41]
[null,"03",70,5783,"P.S. COCHAMARCA",640,null,313,327,null,6,6,6,6,6,7,7,7,7,7,38,40,16,16,40,42,10,11,23,24,16,16,22,23,22,23,19,20,16,16,12,12,12,13,10,10,7,7,7,8,6,7,5,6,13,1,313,38,24,108,16]
[null,"03",71,5784,"P.S. COLCAPAMPA",720,null,350,370,null,6,7,7,7,7,8,8,8,8,9,44,47,18,20,46,50,12,12,26,26,16,17,24,24,24,24,20,21,16,17,13,13,14,15,11,12,8,9,9,9,7,8,6,7,15,1,353,42,27,122,19]
[null,"03",72,5785,"P.S. YARUCAYA",240,null,114,126,null,2,2,2,3,2,3,2,3,2,3,15,15,6,6,14,17,4,4,8,9,6,6,8,8,8,9,7,7,6,6,4,5,4,5,4,4,3,3,3,3,2,3,2,2,5,0,118,14,9,41,6]
[150905,null,73,150905,"DISTRITO NAVAN",1181,null,581,600,null,18,19,15,16,13,13,11,11,10,10,42,46,19,21,47,50,14,14,50,50,42,43,39,39,41,42,38,39,35,35,28,29,20,21,30,30,13,14,31,31,14,15,11,12,41,3,572,46,27,219,51]
[null,"05",74,5656,"P.S. NAVAN",1181,null,581,600,null,18,19,15,16,13,13,11,11,10,10,42,46,19,21,47,50,14,14,50,50,42,43,39,39,41,42,38,39,35,35,28,29,20,21,30,30,13,14,31,31,14,15,11,12,41,3,572,46,27,219,51]
[150906,null,75,150906,"DISTRITO PACHANGARA",3429,null,1699,1730,null,37,37,33,34,31,32,30,30,29,29,152,156,70,71,197,198,53,53,116,118,114,116,105,107,115,118,92,94,93,94,83,85,85,87,71,72,65,67,62,64,38,39,28,29,79,6,1620,168,128,599,97]
[null,"05",76,5657,"C.S. CHURIN ",2675,null,1325,1350,null,29,29,26,26,24,25,23,24,22,23,119,121,55,55,153,155,41,43,91,92,88,90,82,84,90,92,72,73,72,74,65,66,66,68,55,57,51,52,49,49,30,30,22,22,62,4,1264,131,100,467,75]
[null,"05",77,5658,"P.S. PACHANGARA ",343,null,162,181,null,3,4,3,4,3,3,3,3,3,3,15,16,6,8,18,21,4,6,11,12,12,12,10,11,11,12,9,10,9,10,8,9,8,9,7,7,6,7,6,7,4,4,3,3,8,1,162,17,13,60,10]
[null,"05",78,5649,"P.S. HUANCAHUASI  ",411,null,197,214,null,4,5,4,4,4,4,3,4,3,4,17,20,8,9,22,26,6,6,14,14,14,14,12,13,14,14,11,11,11,11,10,10,10,11,8,9,8,8,7,8,4,5,3,4,9,1,194,20,15,72,12]
[null,null,79,null,"DISTRITO IHUARI",1137,null,560,577,null,8,9,10,11,11,12,12,12,12,13,58,62,19,21,49,51,16,16,46,46,39,40,34,35,34,34,32,32,36,36,28,29,22,22,18,19,28,28,19,19,13,14,16,16,19,1,534,42,32,219,23]
[null,null,80,150600,"P.S. ACOTAMA (IHUARI)",1137,null,560,577,null,8,9,10,11,11,12,12,12,12,13,58,62,19,21,49,51,16,16,46,46,39,40,34,35,34,34,32,32,36,36,28,29,22,22,18,19,28,28,19,19,13,14,16,16,19,1,534,42,32,219,23]
[150606,"03",81]
[null,null,82,null,"MICRORED HUAURA",{"$f":"SUM(H89:I89)","v":37728},null,{"$f":"AA89+AC89+AE89+AG89+AI89+AK89+AM89+AO89+AQ89+AS89+AU89+AW89+AY89+BA89+K89+M89+O89+Q89+S89+U89+W89+Y89","v":18678},{"$f":"AB89+AD89+AF89+AH89+AJ89+AL89+AN89+AP89+AR89+AT89+AV89+AX89+AZ89+BB89+L89+N89+P89+R89+T89+V89+X89+Z89","v":19050},null,{"$f":"K13+K24","v":335},342,323,330,317,323,315,321,317,323,{"$f":"U13+U24","v":1703},{"$f":"V13+V24","v":1737},762,776,2413,2461,777,794,1735,1770,1433,1461,1365,1393,1280,1305,1107,1130,1024,1045,855,872,682,695,559,569,464,473,409,417,254,258,249,255,691,52,18648,1882,1927,8134,856]
[null,1,83,null,"MICRORED HUALMAY",{"$f":"SUM(H90:I90)","v":81484},null,{"$f":"AA90+AC90+AE90+AG90+AI90+AK90+AM90+AO90+AQ90+AS90+AU90+AW90+AY90+BA90+K90+M90+O90+Q90+S90+U90+W90+Y90","v":40347},{"$f":"AB90+AD90+AF90+AH90+AJ90+AL90+AN90+AP90+AR90+AT90+AV90+AX90+AZ90+BB90+L90+N90+P90+R90+T90+V90+X90+Z90","v":41137},null,{"$f":"K12+K16+K20+K44","v":705},719,670,684,648,660,636,650,635,648,{"$f":"U12+U16+U20+U44","v":3361},{"$f":"V12+V16+V20+V44","v":3426},1493,1525,4529,4621,1452,1478,3540,3610,3038,3098,2983,3042,2941,3000,2540,2589,2223,2265,2005,2046,1789,1822,1483,1511,1196,1220,975,993,710,722,795,808,1449,110,40788,3755,3628,17501,1795]
[null,2,84,null,"MICRORED SAYAN",{"$f":"SUM(H91:I91)","v":49146},null,24325,24821,null,{"$f":"K30+K50+K77+K65","v":489},498,478,488,472,484,472,481,473,482,{"$f":"U30+U50+U77+U65","v":2430},{"$f":"V30+V50+V77+V65","v":2482},1014,1034,2827,2883,847,867,2086,2128,1918,1954,1827,1864,1801,1837,1372,1400,1330,1355,1047,1069,872,890,722,737,622,633,525,537,384,392,317,326,1028,75,23172,2437,2155,9423,1272]
[null,3,85,null,"MICRORED VEGUETA",{"$f":"SUM(H92:I92)","v":21604},null,10697,10907,null,{"$f":"K58","v":229},233,210,214,196,199,186,190,180,184,{"$f":"U58","v":919},{"$f":"V58","v":935},408,417,1293,1320,426,435,1012,1031,813,829,745,759,702,716,620,632,594,606,492,501,422,431,356,362,283,289,244,249,180,184,187,191,471,35,10553,1012,1069,4483,583]
[null,4,86,null,"MICRORED CHURIN - OYON",22555,null,11147,11408,null,{"$f":"K18+K35+K40+K67+K73+K75+K81+K83","v":230},235,217,224,210,216,206,212,207,212,{"$f":"U18+U35+U40+U67+U73+U75+U81+U83","v":1082},{"$f":"V18+V35+V40+V67+V73+V75+V81+V83","v":1112},471,482,1208,1249,319,327,792,805,796,811,772,787,837,855,639,655,618,630,538,550,439,449,401,409,377,387,338,344,251,255,199,202,497,35,10534,1099,813,3961,611]

{"sheet":"Pobla_EESS","index":2,"n_rows":60,"n_cols":16,"rows_kept":60,"cut":false,"hidden":false,"merged":[[39,4,45,4],[39,11,41,11],[42,11,46,11],[46,4,49,4],[9,4,13,4],[9,11,11,11],[12,11,16,11],[16,3,16,5],[19,10,19,12],[32,3,32,5],[37,3,37,8],[37,10,37,15],[1,3,4,10],[7,3,7,8],[7,10,7,15],[15,3,15,4],[25,4,29,4],[25,11,30,11],[30,4,31,4],[23,3,23,8],[23,10,23,15],[31,10,31,12],[50,4,52,4],[51,11,54,11],[54,3,54,5],[55,11,57,11],[58,10,58,12]]}
[]
[null,null,null,"POBLACIÓN SEGÚN DISTRITOS Y EE.SS - 2014"]
[]
[]
[]
[]
[]
[null,null,null,"SIN MICRORED",null,null,null,null,null,null,"MICRORED HUALMAY"]
[null,null,null,"DISTRITO","POBLACIÓN","EE.SS","POBLACIÓN","MASCULINO","FEMENINO",null,"DISTRITO","POBLACIÓN","EE.SS","POBLACIÓN","MASCULINO","FEMENINO"]
[null,null,null,"HUACHO",{"$f":"G10","v":44966},"HOSPITAL G. HUACHO",{"$f":"VLOOKUP($F10,Poblacion!$E$8:$I$87,2,FALSE)","v":44966},{"$f":"VLOOKUP($F10,Poblacion!$E$8:$I$87,4,FALSE)","v":22263},{"$f":"VLOOKUP($F10,Poblacion!$E$8:$I$87,5,FALSE)","v":22703},null,"HUALMAY",{"$f":"SUM(N10:N12)","v":28486},"C.S. HUALMAY      ",{"$f":"VLOOKUP($M10,Poblacion!$E$8:$I$87,2,FALSE)","v":14243},{"$f":"VLOOKUP($M10,Poblacion!$E$8:$I$87,4,FALSE)","v":7052},{"$f":"VLOOKUP($M10,Poblacion!$E$8:$I$87,5,FALSE)","v":7191}]
[null,null,null,"HUACHO",null,"CLINICA SAN PEDRO",0,null,null,null,"HUALMAY",null,"P.S. DGO. MANDAMIENTO  ",{"$f":"VLOOKUP($M11,Poblacion!$E$8:$I$87,2,FALSE)","v":9970},{"$f":"VLOOKUP($M11,Poblacion!$E$8:$I$87,4,FALSE)","v":4938},{"$f":"VLOOKUP($M11,Poblacion!$E$8:$I$87,5,FALSE)","v":5032}]
[null,null,null,"HUACHO",null,"ESSALUD GUSTAVO LA NATA",0,null,null,null,"HUALMAY",null,"P.S. CAMPO ALEGRE       ",{"$f":"VLOOKUP($M12,Poblacion!$E$8:$I$87,2,FALSE)","v":4273},{"$f":"VLOOKUP($M12,Poblacion!$E$8:$I$87,4,FALSE)","v":2117},{"$f":"VLOOKUP($M12,Poblacion!$E$8:$I$87,5,FALSE)","v":2156}]
[null,null,null,"HUACHO",null,"CLINICA SAN BARTOLOME",0,null,null,null,"S.MARIA",{"$f":"SUM(N13:N17)","v":32831},"C.S. SANTA MARIA ",{"$f":"VLOOKUP($M13,Poblacion!$E$8:$I$87,2,FALSE)","v":9521},{"$f":"VLOOKUP($M13,Poblacion!$E$8:$I$87,4,FALSE)","v":4716},{"$f":"VLOOKUP($M13,Poblacion!$E$8:$I$87,5,FALSE)","v":4805}]
[null,null,null,"HUACHO",null,"GOLD ESTANDAR EIRL.",0,null,null,null,"S.MARIA",null,"P.S. CHONTA  ",{"$f":"VLOOKUP($M14,Poblacion!$E$8:$I$87,2,FALSE)","v":4596},{"$f":"VLOOKUP($M14,Poblacion!$E$8:$I$87,4,FALSE)","v":2279},{"$f":"VLOOKUP($M14,Poblacion!$E$8:$I$87,5,FALSE)","v":2317}]
[null,null,null,"CARQUIN",null,"INSITUTO NACIONAL PENITENCIARIO CARQUIN",0,null,null,null,"S.MARIA",null,"P.S. ZAPATA ",{"$f":"VLOOKUP($M15,Poblacion!$E$8:$I$87,2,FALSE)","v":2299},{"$f":"VLOOKUP($M15,Poblacion!$E$8:$I$87,4,FALSE)","v":1140},{"$f":"VLOOKUP($M15,Poblacion!$E$8:$I$87,5,FALSE)","v":1159}]
[null,null,null,null,null,"OTROS ESTABLECIMIENTOS",0,null,null,null,"S.MARIA",null,"P.S. AMADO VELASQUEZ  ",{"$f":"VLOOKUP($M16,Poblacion!$E$8:$I$87,2,FALSE)","v":8536},{"$f":"VLOOKUP($M16,Poblacion!$E$8:$I$87,4,FALSE)","v":4226},{"$f":"VLOOKUP($M16,Poblacion!$E$8:$I$87,5,FALSE)","v":4310}]
[null,null,null,"TOTAL SIN MICRORED",null,null,{"$f":"SUM(G10:G16)","v":44966},{"$f":"SUM(H10:H16)","v":22263},{"$f":"SUM(I10:I16)","v":22703},null,"S.MARIA",null,"P.S. SAN BARTOLOME  ",{"$f":"VLOOKUP($M17,Poblacion!$E$8:$I$87,2,FALSE)","v":7879},{"$f":"VLOOKUP($M17,Poblacion!$E$8:$I$87,4,FALSE)","v":3902},{"$f":"VLOOKUP($M17,Poblacion!$E$8:$I$87,5,FALSE)","v":3977}]
[null,null,null,"Elaboración: Área de Estadística - RIS Huaura Oyón.",null,null,null,null,null,null,"CARQUIN",{"$f":"SUM(N18)","v":6736},"P.S. CARQUIN",{"$f":"VLOOKUP($M18,Poblacion!$E$8:$I$87,2,FALSE)","v":6736},{"$f":"VLOOKUP($M18,Poblacion!$E$8:$I$87,4,FALSE)","v":3332},{"$f":"VLOOKUP($M18,Poblacion!$E$8:$I$87,5,FALSE)","v":3404}]
[null,null,null,null,null,null,null,null,null,null,"HUACHO",{"$f":"SUM(N19)","v":13431},"C. S. MANZANARES",{"$f":"VLOOKUP($M19,Poblacion!$E$8:$I$87,2,FALSE)","v":13431},{"$f":"VLOOKUP($M19,Poblacion!$E$8:$I$87,4,FALSE)","v":6652},{"$f":"VLOOKUP($M19,Poblacion!$E$8:$I$87,5,FALSE)","v":6779}]
[null,null,null,null,null,null,null,null,null,null,"TOTAL MCR HUALMAY",null,"TOTAL MICRORED HUALMAY",{"$f":"SUM(N10:N19)","v":81484},{"$f":"SUM(O10:O19)","v":40354},{"$f":"SUM(P10:P19)","v":41130}]
[null,null,null,null,null,null,null,null,null,null,{"$f":"D18","v":"Elaboración: Área de Estadística - RIS Huaura Oyón."}]
[]
[]
[null,null,null,"MICRORED HUAURA",null,null,null,null,null,null,"MICRORED VEGUETA"]
[null,null,null,"DISTRITO","POBLACIÓN","EE.SS","POBLACIÓN","MASCULINO","FEMENINO",null,"DISTRITO","POBLACIÓN","EE.SS","POBLACIÓN","MASCULINO","FEMENINO"]
[null,null,null,"HUAURA",{"$f":"SUM(G26:G30)","v":34967},"C.S. HUAURA ",{"$f":"VLOOKUP($F26,Poblacion!$E$8:$I$87,2,FALSE)","v":16084},{"$f":"VLOOKUP($F26,Poblacion!$E$8:$I$87,4,FALSE)","v":7965},{"$f":"VLOOKUP($F26,Poblacion!$E$8:$I$87,5,FALSE)","v":8119},null,"VEGUETA",{"$f":"SUM(N26:N31)","v":21604},"C.S. VEGUETA ",{"$f":"VLOOKUP($M26,Poblacion!$E$8:$I$87,2,FALSE)","v":6481},{"$f":"VLOOKUP($M26,Poblacion!$E$8:$I$87,4,FALSE)","v":3207},{"$f":"VLOOKUP($M26,Poblacion!$E$8:$I$87,5,FALSE)","v":3274}]
[null,null,null,"HUAURA",null,"C.MAT.INF.EL SOCORRO ",{"$f":"VLOOKUP($F27,Poblacion!$E$8:$I$87,2,FALSE)","v":12658},{"$f":"VLOOKUP($F27,Poblacion!$E$8:$I$87,4,FALSE)","v":6268},{"$f":"VLOOKUP($F27,Poblacion!$E$8:$I$87,5,FALSE)","v":6390},null,"VEGUETA",null,"P.S. MAZO ",{"$f":"VLOOKUP($M27,Poblacion!$E$8:$I$87,2,FALSE)","v":2160},{"$f":"VLOOKUP($M27,Poblacion!$E$8:$I$87,4,FALSE)","v":1069},{"$f":"VLOOKUP($M27,Poblacion!$E$8:$I$87,5,FALSE)","v":1091}]
[null,null,null,"HUAURA",null,"P.S. HUMAYA  ",{"$f":"VLOOKUP($F28,Poblacion!$E$8:$I$87,2,FALSE)","v":3637},{"$f":"VLOOKUP($F28,Poblacion!$E$8:$I$87,4,FALSE)","v":1804},{"$f":"VLOOKUP($F28,Poblacion!$E$8:$I$87,5,FALSE)","v":1833},null,"VEGUETA",null,"P.S. PRIMAVERA ",{"$f":"VLOOKUP($M28,Poblacion!$E$8:$I$87,2,FALSE)","v":2809},{"$f":"VLOOKUP($M28,Poblacion!$E$8:$I$87,4,FALSE)","v":1389},{"$f":"VLOOKUP($M28,Poblacion!$E$8:$I$87,5,FALSE)","v":1420}]
[null,null,null,"HUAURA",null,"P.S. VILCAHUAURA ",{"$f":"VLOOKUP($F29,Poblacion!$E$8:$I$87,2,FALSE)","v":2098},{"$f":"VLOOKUP($F29,Poblacion!$E$8:$I$87,4,FALSE)","v":1040},{"$f":"VLOOKUP($F29,Poblacion!$E$8:$I$87,5,FALSE)","v":1058},null,"VEGUETA",null,"P.S.  JOSE C.MARIATEGUI ",{"$f":"VLOOKUP($M29,Poblacion!$E$8:$I$87,2,FALSE)","v":5185},{"$f":"VLOOKUP($M29,Poblacion!$E$8:$I$87,4,FALSE)","v":2570},{"$f":"VLOOKUP($M29,Poblacion!$E$8:$I$87,5,FALSE)","v":2615}]
[null,null,null,"HUAURA",null,"P.S. PEÑICO  ",{"$f":"VLOOKUP($F30,Poblacion!$E$8:$I$87,2,FALSE)","v":490},{"$f":"VLOOKUP($F30,Poblacion!$E$8:$I$87,4,FALSE)","v":238},{"$f":"VLOOKUP($F30,Poblacion!$E$8:$I$87,5,FALSE)","v":252},null,"VEGUETA",null,"P.S. MEDIO MUNDO ",{"$f":"VLOOKUP($M30,Poblacion!$E$8:$I$87,2,FALSE)","v":4105},{"$f":"VLOOKUP($M30,Poblacion!$E$8:$I$87,4,FALSE)","v":2036},{"$f":"VLOOKUP($M30,Poblacion!$E$8:$I$87,5,FALSE)","v":2069}]
[null,null,null,"AMBAR",{"$f":"SUM(G31:G32)","v":2761},"C.S. AMBAR        ",{"$f":"VLOOKUP($F31,Poblacion!$E$8:$I$87,2,FALSE)","v":1651},{"$f":"VLOOKUP($F31,Poblacion!$E$8:$I$87,4,FALSE)","v":816},{"$f":"VLOOKUP($F31,Poblacion!$E$8:$I$87,5,FALSE)","v":835},null,"VEGUETA",null,"P.S. TIROLER  ",{"$f":"VLOOKUP($M31,Poblacion!$E$8:$I$87,2,FALSE)","v":864},{"$f":"VLOOKUP($M31,Poblacion!$E$8:$I$87,4,FALSE)","v":423},{"$f":"VLOOKUP($M31,Poblacion!$E$8:$I$87,5,FALSE)","v":441}]
[null,null,null,"AMBAR",null,"P.S. AYNACA     ",{"$f":"VLOOKUP($F32,Poblacion!$E$8:$I$87,2,FALSE)","v":1110},{"$f":"VLOOKUP($F32,Poblacion!$E$8:$I$87,4,FALSE)","v":548},{"$f":"VLOOKUP($F32,Poblacion!$E$8:$I$87,5,FALSE)","v":562},null,"TOTAL MCR VEGUETA",null,null,{"$f":"SUM(N26:N31)","v":21604},{"$f":"SUM(O26:O31)","v":10694},{"$f":"SUM(P26:P31)","v":10910}]
[null,null,null,"TOTAL MCR HUAURA",null,"TOTAL MICRORED HUAURA ",{"$f":"SUM(G26:G32)","v":37728},18679,{"$f":"SUM(I26:I32)","v":19049},null,{"$f":"K21","v":"Elaboración: Área de Estadística - RIS Huaura Oyón."}]
[null,null,null,{"$f":"K21","v":"Elaboración: Área de Estadística - RIS Huaura Oyón."}]
[]
[]
[]
[null,null,null,"MICRORED SAYAN",null,null,null,null,null,null,"MICRORED CHURIN OYÓN"]
[null,null,null,"DISTRITO","POBLACIÓN","EE.SS","POBLACIÓN","MASCULINO","FEMENINO",null,"DISTRITO","POBLACIÓN","EE.SS","POBLACIÓN","MASCULINO","FEMENINO"]
[null,null,null,"SAYAN",{"$f":"SUM(G40:G46)","v":23919},"C.S. SAYAN",{"$f":"VLOOKUP($F40,Poblacion!$E$8:$I$87,2,FALSE)","v":9568},{"$f":"VLOOKUP($F40,Poblacion!$E$8:$I$87,4,FALSE)","v":4741},{"$f":"VLOOKUP($F40,Poblacion!$E$8:$I$87,5,FALSE)","v":4827},null,"PACHANGARA",{"$f":"SUM(N40:N42)","v":3429},"C.S. CHURIN ",{"$f":"VLOOKUP(M40,Poblacion!$E$5:$I$88,2,FALSE)","v":2675},{"$f":"VLOOKUP(M40,Poblacion!$E$5:$I$88,4,FALSE)","v":1325},{"$f":"VLOOKUP(M40,Poblacion!$E$5:$I$88,5,FALSE)","v":1350}]
[null,null,null,"SAYAN",null,"C.S. 9 DE OCTUBRE",{"$f":"VLOOKUP($F41,Poblacion!$E$8:$I$87,2,FALSE)","v":5023},{"$f":"VLOOKUP($F41,Poblacion!$E$8:$I$87,4,FALSE)","v":2494},{"$f":"VLOOKUP($F41,Poblacion!$E$8:$I$87,5,FALSE)","v":2529},null,"PACHANGARA",null,"P.S. PACHANGARA ",{"$f":"VLOOKUP(M41,Poblacion!$E$5:$I$88,2,FALSE)","v":343},{"$f":"VLOOKUP(M41,Poblacion!$E$5:$I$88,4,FALSE)","v":162},{"$f":"VLOOKUP(M41,Poblacion!$E$5:$I$88,5,FALSE)","v":181}]
[null,null,null,"SAYAN",null,"P.S. CHAMBARA",{"$f":"VLOOKUP($F42,Poblacion!$E$8:$I$87,2,FALSE)","v":957},{"$f":"VLOOKUP($F42,Poblacion!$E$8:$I$87,4,FALSE)","v":468},{"$f":"VLOOKUP($F42,Poblacion!$E$8:$I$87,5,FALSE)","v":489},null,"PACHANGARA",null,"P.S. HUANCAHUASI  ",{"$f":"VLOOKUP(M42,Poblacion!$E$5:$I$88,2,FALSE)","v":411},{"$f":"VLOOKUP(M42,Poblacion!$E$5:$I$88,4,FALSE)","v":197},{"$f":"VLOOKUP(M42,Poblacion!$E$5:$I$88,5,FALSE)","v":214}]
[null,null,null,"SAYAN",null,"P.S. LA MERCED",{"$f":"VLOOKUP($F43,Poblacion!$E$8:$I$87,2,FALSE)","v":1196},{"$f":"VLOOKUP($F43,Poblacion!$E$8:$I$87,4,FALSE)","v":591},{"$f":"VLOOKUP($F43,Poblacion!$E$8:$I$87,5,FALSE)","v":605},null,"OYON",{"$f":"SUM(N43:N47)","v":14310},"C.S. OYON  ",{"$f":"VLOOKUP(M43,Poblacion!$E$5:$I$88,2,FALSE)","v":11219},{"$f":"VLOOKUP(M43,Poblacion!$E$5:$I$88,4,FALSE)","v":5553},{"$f":"VLOOKUP(M43,Poblacion!$E$5:$I$88,5,FALSE)","v":5666}]
[null,null,null,"SAYAN",null,"P.S. LA VILLA",{"$f":"VLOOKUP($F44,Poblacion!$E$8:$I$87,2,FALSE)","v":6219},{"$f":"VLOOKUP($F44,Poblacion!$E$8:$I$87,4,FALSE)","v":3076},{"$f":"VLOOKUP($F44,Poblacion!$E$8:$I$87,5,FALSE)","v":3143},null,"OYON",null,"P.S. MALLAY ",{"$f":"VLOOKUP(M44,Poblacion!$E$5:$I$88,2,FALSE)","v":1216},{"$f":"VLOOKUP(M44,Poblacion!$E$5:$I$88,4,FALSE)","v":599},{"$f":"VLOOKUP(M44,Poblacion!$E$5:$I$88,5,FALSE)","v":617}]
[null,null,null,"SAYAN",null,"P.S. EL AHORCADO",{"$f":"VLOOKUP($F45,Poblacion!$E$8:$I$87,2,FALSE)","v":478},{"$f":"VLOOKUP($F45,Poblacion!$E$8:$I$87,4,FALSE)","v":226},{"$f":"VLOOKUP($F45,Poblacion!$E$8:$I$87,5,FALSE)","v":252},null,"OYON",null,"P.S. NAVA  ",{"$f":"VLOOKUP(M45,Poblacion!$E$5:$I$88,2,FALSE)","v":86},{"$f":"VLOOKUP(M45,Poblacion!$E$5:$I$88,4,FALSE)","v":37},{"$f":"VLOOKUP(M45,Poblacion!$E$5:$I$88,5,FALSE)","v":49}]
[null,null,null,"SAYAN",null,"P.S. LA UNION",{"$f":"VLOOKUP($F46,Poblacion!$E$8:$I$87,2,FALSE)","v":478},{"$f":"VLOOKUP($F46,Poblacion!$E$8:$I$87,4,FALSE)","v":226},{"$f":"VLOOKUP($F46,Poblacion!$E$8:$I$87,5,FALSE)","v":252},null,"OYON",null,"P.S. TINTA ",{"$f":"VLOOKUP(M46,Poblacion!$E$5:$I$88,2,FALSE)","v":501},{"$f":"VLOOKUP(M46,Poblacion!$E$5:$I$88,4,FALSE)","v":242},{"$f":"VLOOKUP(M46,Poblacion!$E$5:$I$88,5,FALSE)","v":259}]
[null,null,null,"L.PRADO",{"$f":"SUM(G47:G50)","v":1994},"P.S. AUQUIMARCA",{"$f":"VLOOKUP($F47,Poblacion!$E$8:$I$87,2,FALSE)","v":100},{"$f":"VLOOKUP($F47,Poblacion!$E$8:$I$87,4,FALSE)","v":48},{"$f":"VLOOKUP($F47,Poblacion!$E$8:$I$87,5,FALSE)","v":52},null,"OYON",null,"P.S.RAPAZ ",{"$f":"VLOOKUP(M47,Poblacion!$E$5:$I$88,2,FALSE)","v":1288},{"$f":"VLOOKUP(M47,Poblacion!$E$5:$I$88,4,FALSE)","v":635},{"$f":"VLOOKUP(M47,Poblacion!$E$5:$I$88,5,FALSE)","v":653}]
[null,null,null,"L.PRADO",null,"P.S. PARAN",{"$f":"VLOOKUP($F48,Poblacion!$E$8:$I$87,2,FALSE)","v":997},{"$f":"VLOOKUP($F48,Poblacion!$E$8:$I$87,4,FALSE)","v":491},{"$f":"VLOOKUP($F48,Poblacion!$E$8:$I$87,5,FALSE)","v":506},null,"ANDAJES",{"$f":"N48","v":1049},"P.S. ANDAJES",{"$f":"VLOOKUP(M48,Poblacion!$E$5:$I$88,2,FALSE)","v":1049},{"$f":"VLOOKUP(M48,Poblacion!$E$5:$I$88,4,FALSE)","v":516},{"$f":"VLOOKUP(M48,Poblacion!$E$5:$I$88,5,FALSE)","v":533}]
[null,null,null,"L.PRADO",null,"P.S. SANTA CRUZ",{"$f":"VLOOKUP($F49,Poblacion!$E$8:$I$87,2,FALSE)","v":438},{"$f":"VLOOKUP($F49,Poblacion!$E$8:$I$87,4,FALSE)","v":213},{"$f":"VLOOKUP($F49,Poblacion!$E$8:$I$87,5,FALSE)","v":225},null,"CAUJUL",{"$f":"N49","v":1024},"P.S. CAUJUL",{"$f":"VLOOKUP(M49,Poblacion!$E$5:$I$88,2,FALSE)","v":1024},{"$f":"VLOOKUP(M49,Poblacion!$E$5:$I$88,4,FALSE)","v":504},{"$f":"VLOOKUP(M49,Poblacion!$E$5:$I$88,5,FALSE)","v":520}]
[null,null,null,"L.PRADO",null,"P.S. HUANANGUI",{"$f":"VLOOKUP($F50,Poblacion!$E$8:$I$87,2,FALSE)","v":459},{"$f":"VLOOKUP($F50,Poblacion!$E$8:$I$87,4,FALSE)","v":216},{"$f":"VLOOKUP($F50,Poblacion!$E$8:$I$87,5,FALSE)","v":243},null,"NAVAN",1181,"P.S. NAVAN",{"$f":"VLOOKUP(M50,Poblacion!$E$5:$I$88,2,FALSE)","v":1181},{"$f":"VLOOKUP(M50,Poblacion!$E$5:$I$88,4,FALSE)","v":581},{"$f":"VLOOKUP(M50,Poblacion!$E$5:$I$88,5,FALSE)","v":600}]
[null,null,null,"COCHAMARCA",{"$f":"SUM(G51:G53)","v":1600},"P.S. COCHAMARCA",{"$f":"VLOOKUP($F51,Poblacion!$E$8:$I$87,2,FALSE)","v":640},{"$f":"VLOOKUP($F51,Poblacion!$E$8:$I$87,4,FALSE)","v":313},{"$f":"VLOOKUP($F51,Poblacion!$E$8:$I$87,5,FALSE)","v":327},null,"CHECRAS",1748,"P.S. PUÑUN",{"$f":"VLOOKUP(M51,Poblacion!$E$5:$I$88,2,FALSE)","v":1748},{"$f":"VLOOKUP(M51,Poblacion!$E$5:$I$88,4,FALSE)","v":863},{"$f":"VLOOKUP(M51,Poblacion!$E$5:$I$88,5,FALSE)","v":885}]
[null,null,null,"COCHAMARCA",null,"P.S. COLCAPAMPA",{"$f":"VLOOKUP($F52,Poblacion!$E$8:$I$87,2,FALSE)","v":720},{"$f":"VLOOKUP($F52,Poblacion!$E$8:$I$87,4,FALSE)","v":350},{"$f":"VLOOKUP($F52,Poblacion!$E$8:$I$87,5,FALSE)","v":370},null,"PACCHO",{"$f":"SUM(N52:N55)","v":2188},"C.S. PACCHO ",{"$f":"VLOOKUP(M52,Poblacion!$E$5:$I$88,2,FALSE)","v":875},{"$f":"VLOOKUP(M52,Poblacion!$E$5:$I$88,4,FALSE)","v":428},{"$f":"VLOOKUP(M52,Poblacion!$E$5:$I$88,5,FALSE)","v":447}]
[null,null,null,"COCHAMARCA",null,"P.S. YARUCAYA",{"$f":"VLOOKUP($F53,Poblacion!$E$8:$I$87,2,FALSE)","v":240},{"$f":"VLOOKUP($F53,Poblacion!$E$8:$I$87,4,FALSE)","v":114},{"$f":"VLOOKUP($F53,Poblacion!$E$8:$I$87,5,FALSE)","v":126},null,"PACCHO",null,"P.S. LACSANGA  ",{"$f":"VLOOKUP(M53,Poblacion!$E$5:$I$88,2,FALSE)","v":548},{"$f":"VLOOKUP(M53,Poblacion!$E$5:$I$88,4,FALSE)","v":266},{"$f":"VLOOKUP(M53,Poblacion!$E$5:$I$88,5,FALSE)","v":282}]
[null,null,null,"IHUARI - ACOTAMA",{"$f":"SUM(G54)","v":1137},"P.S. ACOTAMA (IHUARI)",{"$f":"VLOOKUP($F54,Poblacion!$E$8:$I$87,2,FALSE)","v":1137},{"$f":"VLOOKUP($F54,Poblacion!$E$8:$I$87,4,FALSE)","v":560},{"$f":"VLOOKUP($F54,Poblacion!$E$8:$I$87,5,FALSE)","v":577},null,"PACCHO",null,"P.S. AYARANGA  ",{"$f":"VLOOKUP(M54,Poblacion!$E$5:$I$88,2,FALSE)","v":328},{"$f":"VLOOKUP(M54,Poblacion!$E$5:$I$88,4,FALSE)","v":156},{"$f":"VLOOKUP(M54,Poblacion!$E$5:$I$88,5,FALSE)","v":172}]
[null,null,null,"TOTAL MICRORED SAYAN",null,null,{"$f":"SUM(G40:G54)","v":28650},14127,{"$f":"SUM(I40:I54)","v":14523},null,"PACCHO",null,"P.S. MUZGA ",{"$f":"VLOOKUP(M55,Poblacion!$E$5:$I$88,2,FALSE)","v":437},{"$f":"VLOOKUP(M55,Poblacion!$E$5:$I$88,4,FALSE)","v":211},{"$f":"VLOOKUP(M55,Poblacion!$E$5:$I$88,5,FALSE)","v":226}]
[null,null,null,{"$f":"K33","v":"Elaboración: Área de Estadística - RIS Huaura Oyón."},null,null,null,null,null,null,"S.LEONOR",{"$f":"SUM(N56:N58)","v":1471},"C.S. CHIUCHIN ",{"$f":"VLOOKUP(M56,Poblacion!$E$5:$I$88,2,FALSE)","v":956},{"$f":"VLOOKUP(M56,Poblacion!$E$5:$I$88,4,FALSE)","v":469},{"$f":"VLOOKUP(M56,Poblacion!$E$5:$I$88,5,FALSE)","v":487}]
[null,null,null,null,null,null,null,null,null,null,"S.LEONOR",null,"P.C. JUCUL ",{"$f":"VLOOKUP(M57,Poblacion!$E$5:$I$88,2,FALSE)","v":74},{"$f":"VLOOKUP(M57,Poblacion!$E$5:$I$88,4,FALSE)","v":27},{"$f":"VLOOKUP(M57,Poblacion!$E$5:$I$88,5,FALSE)","v":47}]
[null,null,null,null,null,null,null,null,null,null,"S.LEONOR",null,"P.S. PARQUIN ",{"$f":"VLOOKUP(M58,Poblacion!$E$5:$I$88,2,FALSE)","v":441},{"$f":"VLOOKUP(M58,Poblacion!$E$5:$I$88,4,FALSE)","v":213},{"$f":"VLOOKUP(M58,Poblacion!$E$5:$I$88,5,FALSE)","v":228}]
[null,null,null,null,null,null,null,null,null,null,"TOTAL MICRORED CHURIN - OYON",null,null,{"$f":"SUM(N40:N58)","v":26400},{"$f":"SUM(O40:O58)","v":12984},{"$f":"SUM(P40:P58)","v":13416}]
[null,null,null,null,null,null,null,null,null,null,{"$f":"K33","v":"Elaboración: Área de Estadística - RIS Huaura Oyón."}]