{"text_format":"1","workbook":"xlsx","n_sheets":4,"sheets":["Interfaz","Poblacion","etapas y mredes","Pobla_EESS"],"not_rendered":{"charts":1,"images":13,"macros":1,"external_links":1,"defined_names":4,"comments":0,"pivot_tables":0},"unopened":[],"bounds":{"document_bytes":16777216,"sheet_cells":100000,"rows_first":2000,"rows_last":500,"rows_between":2000,"halvings":0,"cell_chars":16384,"cell_head_chars":4096},"cells_cut":0,"cells_raw":0,"read":"whole","date_system":"1900"}

{"sheet":"Interfaz","index":0,"n_rows":27,"n_cols":18,"rows_kept":27,"cut":false,"hidden":false,"merged":[[4,2,7,11],[9,2,11,11]]}
[]
[]
[]
[]
[null,null,"POBLACIÓN ASIGNADA SEGÚN CENSOS INEI - RENIEC - PN - CNV - 2011"]
[]
[]
[]
[]
[null,null,"RED INTEGRADA DE SALUD HUAURA OYÓN "]
[]
[]
[]
[]
[]
[]
[]
[]
[]
[]
[]
["Elaboración: Área de Estadística - RIS Huaura Oyón."]
["NOTA: LA POBLACION ESTIMADA DE EDADES  SIMPLES Y GRUPOS DE EDAD DE DISTRITOS, CORRESPONDEN A CIFRAS REFERENCIALES HASTA OBTENER LAS CIFRAS DE LAS PROYECCIONES DEL INEI"]
[]
[]
["OFICINA DE GESTION DE LA INFORMACIÓN - MINISTERIO DE SALUD"]
[null,null,null,null,null,null,null,null,null,null,null,null,null,null,null,null,null,"Versión1.030"]

{"sheet":"Poblacion","index":1,"n_rows":93,"n_cols":127,"rows_kept":93,"cut":false,"hidden":false,"merged":[[5,46,5,47],[4,76,6,76],[4,77,6,77],[5,40,5,41],[4,42,4,43],[4,44,4,45],[5,42,5,43],[5,44,5,45],[5,64,5,65],[5,48,5,49],[5,56,5,57],[5,66,5,67],[5,62,5,63],[4,74,4,75],[5,74,5,75],[5,24,5,25],[5,26,5,27],[4,16,4,17],[5,16,5,17],[4,38,4,39],[5,38,5,39],[4,5,6,5],[4,66,4,67],[5,12,5,13],[4,14,4,15],[5,14,5,15],[5,58,5,59],[5,36,5,37],[4,28,4,29],[5,32,5,33],[5,34,5,35],[5,28,5,29],[5,30,5,31],[5,54,5,55],[4,60,4,61],[5,60,5,61],[4,62,4,63],[4,7,6,7],[4,8,6,8],[5,50,5,51],[4,52,4,53],[5,52,5,53],[4,10,4,11],[5,10,5,11],[4,12,4,13],[4,18,4,19],[4,20,4,21],[4,22,4,23],[4,24,4,25],[4,26,4,27],[5,18,5,19],[5,20,5,21],[5,22,5,23],[1,30,1,65],[2,30,2,65],[4,58,4,59],[4,48,4,49],[3,30,3,65],[4,36,4,37],[4,56,4,57],[4,30,4,31],[4,32,4,33],[4,34,4,35],[4,50,4,51],[4,54,4,55],[4,64,4,65],[4,40,4,41],[4,46,4,47],[5,81,6,81],[5,68,5,69],[5,70,5,71],[5,72,5,73],[4,72,4,73],[4,70,4,71],[4,68,4,69],[4,84,6,84],[4,78,4,81],[5,79,6,79],[5,80,6,80],[2,88,2,95],[4,93,6,93],[4,92,6,92],[4,86,6,86],[4,87,6,87],[4,88,6,88],[4,90,6,90],[4,89,6,89],[4,83,6,83],[4,85,6,85],[4,94,6,94],[5,78,6,78]]}
[null,null,1,2,3,4,5,6,7,8,9,10,11,12,13,14,15,16,17,18,19,20,21,22,23,24,25,26,27,28,29,30,31,32,33,34,35,36,37,38,39,40,41,42,43,44,45,46,47,48,49,50,51,52,53,54,55,56,57,58,59,60,61,62,63,64,65,66,67,68,69,70,71,72,73,74,75,76,77,78,79,80,81,82,83,84,85,86,87,88,89,90,91,92,93,null,null,null,77,78,79,80,81,82,83,84,85,86,87,88,89,90,91,92,93,94,95,96,97,98,99,106,107,108,109,110,111]
[null,null,null,null,null,null,null,null,null,null,null,null,null,null,null,null,null,null,null,null,null,null,null,null,null,null,null,null,null,null,"POBLACIÓN ESTIMADA POR GRUPOS DE EDAD, SEGÚN PROVINCIAS DISTRITOS Y ESTABLECIMIENTOS DE SALUD"]
[null,null,null,null,null,null,null,null,null,null,null,null,null,null,null,null,null,null,null,null,null,null,null,null,null,null,null,null,null,null,"RED INTEGRADA DE SALUD HUAURA OYON   -   AÑO  2011",null,null,null,null,null,null,null,null,null,null,null,null,null,null,null,null,null,null,null,null,null,null,null,null,null,null,null,null,null,null,null,null,null,null,null,null,null,null,null,null,null,null,null,null,null,null,null,null,null,null,null,null,null,null,null,null,null,"MAS GRUPOS DE EDAD"]
[null,null,null,null,null,null,null,null,null,null,null,null,null,null,null,null,null,null,null,null,null,null,null,null,null,null,null,null,null,null,"EDADES PUNTUALES Y GRUPOS DE EDAD"]
[null,null,"N°",null,"DIRECCION DE SALUD","TOTAL GENERAL",null,"TOTAL MASCULINO","TOTAL FEMENINO",null,"EDAD",null,"EDAD",null,"EDAD",null,"EDAD",null,"EDAD",null,"EDAD",null,"EDAD",null,"EDAD",null,"EDAD",null,"EDAD",null,"EDAD",null,"EDAD",null,"EDAD",null,"EDAD",null,"EDAD",null,"EDAD",null,"EDAD",null,"EDAD",null,"EDAD",null,"EDAD",null,"EDAD",null,"EDAD",null,"EDAD",null,"EDAD",null,"EDAD",null,"EDAD",null,"EDAD",null,"EDAD",null,"EDAD",null,"EDAD",null,"EDAD",null,"EDAD",null,"EDAD",null,"NACIMIENTOS","28 DIAS","POBLACION FEMENINA",null,null,null,null,"menor de 1 Año","Pre escolar         (1-4)","Niño             (0 - 11)","Escolar               (05 - 17)","Adolescente (12 - 17)","Adulto Joven (18 - 29)","Adulto            (30-59)","Adu.Mayor (60 a MAS)",null,"Escolar               (05 - 09)","Adolescente (10 - 19)","Adulto            (20-59)"]
["UBIGEO",null,null,null,"PROVINCIA",null,null,null,null,null,0,null,1,null,2,null,3,null,4,null,5,null,6,null,7,null,8,null,9,null,10,null,11,null,12,null,13,null,14,null,15,null,16,null,17,null,18,null,19,null,"20 - 24",null,"25 - 29",null,"30 - 34",null,"35 - 39",null,"40 - 44 ",null,"45 - 49",null,"50 - 54 ",null,"55 - 59 ",null,"60 - 64",null,"65 - 69 ",null,"70- 74 ",null,"75 - 79 ",null,"80 - +",null,null,null,"10-14","15-19","20-49","GESTANTES  ESPERADAS"]
[null,"Microredes",null,"RENAES","DISTRITO",null,null,null,null,null,"M","F","M","F","M","F","M","F","M","F","M","F","M","F","M","F","M","F","M","F","M","F","M","F","M","F","M","F","M","F","M","F","M","F","M","F","M","F","M","F","M","F","M","F","M","F","M","F","M","F","M","F","M","F","M","F","M","F","M","F","M","F","M","F","M","F"]
[150000,null,1,null,"HUAURA - OYON",234514,null,116119,118395,null,2195,2239,2102,2143,2042,2082,2011,2051,2006,2046,2021,2060,2051,2091,2096,2137,2149,2191,2205,2248,2266,2310,2332,2378,2376,2422,2387,2434,2373,2419,2359,2405,2344,2390,2308,2354,2241,2285,2154,2197,9682,9871,9157,9336,8760,8932,7814,7968,7137,7277,6499,6626,5283,5386,4585,4675,3722,3794,3112,3173,2687,2740,1868,1904,1795,1831,4453,340,11519,11260,49041,5499,null,4434,16483,51452,59106,28571,46923,80942,26626,null,{"$f":"SUM(U8:AD8)","v":21249},{"$f":"SUM(AE8:AX8)","v":46734},{"$f":"SUM(AY8:BN8)","v":118988}]
[150800,null,2,150800,"PROVINCIA HUAURA",211276,null,104612,106664,null,1936,1974,1851,1888,1797,1832,1769,1803,1763,1798,1777,1812,1806,1841,1847,1883,1897,1935,1949,1988,2008,2048,2070,2111,2115,2156,2135,2177,2136,2177,2135,2177,2136,2178,2112,2153,2054,2094,1974,2012,8850,9024,8249,8410,7886,8040,6983,7120,6487,6614,5884,6000,4832,4927,4201,4284,3422,3489,2805,2860,2432,2479,1669,1702,1645,1678,3925,301,10289,10287,44856,4845,null,3910,14501,45383,52759,25787,42667,73258,24181,null,18735,42158,107791]
[150801,null,3,150802,"DISTRITO HUACHO",57954,null,28696,29258,null,486,496,459,467,440,449,430,438,427,436,430,438,437,446,449,458,463,473,479,488,497,507,516,527,531,542,538,549,539,549,541,551,542,553,538,549,528,538,512,523,2360,2406,2207,2251,2123,2164,1949,1987,1881,1917,1755,1789,1543,1574,1320,1345,1052,1072,876,893,762,777,545,555,541,551,986,75,2663,2655,12866,1207,null,982,3546,11136,13130,6522,11325,21347,7624,null,4561,10670,30571]
[null,"00",4,7639,"HOSPITAL HUACHO",45202,null,22379,22823,null,379,387,357,365,343,350,335,342,333,340,335,342,341,348,350,357,361,369,373,381,388,395,403,411,414,423,420,428,420,429,422,430,423,431,420,428,411,420,400,407,1840,1877,1722,1755,1656,1688,1520,1550,1467,1495,1369,1395,1204,1227,1029,1050,820,837,683,697,594,606,425,433,422,430,769,58,2077,2071,10035,941,null,766,2765,8685,10242,5088,8832,16650,5947,null,3557,8323,23844]
[null,"02",5,5679,"C.S. MANZANARES",12752,null,6313,6439,null,107,109,101,103,97,99,95,96,94,96,95,96,96,98,99,101,102,104,105,108,109,112,113,116,117,119,118,121,118,121,119,121,119,122,118,121,116,119,113,115,519,530,486,495,467,476,429,437,414,422,386,394,340,346,290,296,231,236,193,196,168,171,120,122,119,121,217,17,586,584,2831,266,null,216,781,2451,2888,1434,2493,4697,1677,null,1004,2347,6727]
[150802,null,6,150802,"DISTRITO AMBAR",2834,null,1406,1428,null,21,22,26,27,30,30,33,33,35,36,37,37,38,38,38,38,38,38,37,37,36,36,35,35,33,33,31,31,29,30,26,27,24,24,22,23,21,22,22,22,106,108,89,90,91,92,78,80,69,70,78,79,63,64,52,54,48,49,43,44,33,33,21,22,23,24,43,3,148,109,490,53,null,43,250,811,851,333,480,870,340,null,376,562,1263]
[null,"01",7,5680,"C.S. AMBAR",1700,null,843,857,null,13,13,16,16,18,18,20,20,21,22,22,22,23,23,23,23,23,23,22,22,21,22,21,21,20,20,18,19,17,18,16,16,14,15,13,14,13,13,13,13,63,65,53,54,54,56,47,48,41,42,47,47,38,38,32,32,29,29,26,26,20,20,13,13,13,14,26,2,89,65,294,32,null,26,151,488,511,200,287,522,203,null,226,337,757]
[null,"01",8,5681,"P.S. AYNACA",1134,null,560,574,null,8,9,10,11,12,12,13,13,14,14,15,15,15,15,15,15,15,15,15,15,14,15,14,14,13,13,12,13,12,12,10,11,9,10,9,9,8,9,9,9,43,43,36,36,36,37,31,32,28,28,31,32,25,26,21,21,19,20,17,18,13,13,8,9,10,10,17,1,59,44,196,21,null,17,99,323,340,133,193,348,137,null,150,225,506]
[150803,null,9,150803,"DISTRITO CARQUIN",6540,null,3235,3305,null,63,65,61,62,59,60,57,59,56,58,55,57,55,56,55,56,55,56,55,56,55,57,55,57,56,57,56,58,57,59,57,59,58,59,58,60,59,60,59,61,297,302,299,305,293,299,223,227,226,230,172,175,150,153,122,124,93,95,86,88,61,62,35,36,37,37,128,10,258,287,1215,158,null,128,472,1380,1474,694,1442,2394,630,null,556,1157,3597]
[null,"02",10,5664,"P.S. CARQUIN",6540,null,3235,3305,null,63,65,61,62,59,60,57,59,56,58,55,57,55,56,55,56,55,56,55,56,55,57,55,57,56,57,56,58,57,59,57,59,58,59,58,60,59,60,59,61,297,302,299,305,293,299,223,227,226,230,172,175,150,153,122,124,93,95,86,88,61,62,35,36,37,37,128,10,258,287,1215,158,null,128,472,1380,1474,694,1442,2394,630,null,556,1157,3597]
[150804,null,11,150804,"DISTRITO CHECRAS",1654,null,818,836,null,14,15,13,13,12,13,12,12,12,12,12,12,13,13,13,14,14,15,15,15,16,16,17,17,17,18,16,17,15,15,13,14,12,12,10,11,9,10,9,9,32,32,43,44,40,41,53,55,52,53,49,50,59,60,44,45,45,45,37,37,51,51,27,27,22,23,29,2,76,44,274,36,null,29,99,330,372,170,188,601,365,null,136,273,752]
[null,"05",12,5663,"P.S. PUÑUN",1654,null,818,836,null,14,15,13,13,12,13,12,12,12,12,12,12,13,13,13,14,14,15,15,15,16,16,17,17,17,18,16,17,15,15,13,14,12,12,10,11,9,10,9,9,32,32,43,44,40,41,53,55,52,53,49,50,59,60,44,45,45,45,37,37,51,51,27,27,22,23,29,2,76,44,274,36,null,29,99,330,372,170,188,601,365,null,136,273,752]
[150805,null,13,150805,"DISTRITO HUALMAY",28163,null,13943,14220,null,259,264,244,249,234,239,229,234,228,233,230,235,235,240,242,247,250,255,259,264,268,274,279,285,286,292,288,293,285,290,282,287,279,285,274,280,267,273,258,264,1179,1202,1101,1123,1059,1079,957,975,908,926,753,767,640,652,582,594,456,464,389,397,296,301,222,227,225,230,525,40,1411,1398,6207,646,null,523,1890,5976,6984,3421,5667,9892,3207,null,2457,5589,14497]
[null,"02",14,5665,"C.S. HUALMAY",14884,null,7370,7514,null,134,137,131,133,124,127,121,124,121,123,122,125,125,127,129,131,132,135,137,140,142,145,148,151,152,154,153,155,151,153,150,152,148,151,146,148,142,144,137,140,625,637,584,595,561,572,507,517,481,491,399,407,339,346,308,315,241,246,208,212,151,154,110,113,111,114,278,22,783,780,3714,334,null,271,1004,3164,3702,1813,3004,5243,1660,null,1303,2962,7684]
[null,"02",15,5666,"P.S. DGO. MANDAMIENTO",9294,null,4603,4691,null,86,88,80,82,77,79,76,77,75,77,76,77,77,79,80,81,83,84,86,87,89,90,92,94,95,96,95,97,94,96,93,94,92,94,90,92,88,90,85,87,389,397,363,371,350,356,316,322,300,305,248,253,211,215,192,196,150,153,128,131,98,99,74,75,75,77,175,13,436,430,2190,215,null,174,623,1972,2303,1128,1870,3264,1060,null,810,1843,4784]
[null,"02",16,5667,"P.S. CAMPO ALEGRE",3985,null,1974,2011,null,39,39,33,34,33,33,32,33,32,33,32,33,33,34,34,34,35,36,36,37,38,38,39,40,40,41,40,41,40,41,40,40,39,40,39,39,38,38,36,37,165,168,154,157,148,151,134,136,127,130,105,108,90,91,82,83,64,66,53,54,47,48,38,39,39,39,72,5,192,188,303,97,null,78,263,840,979,480,793,1385,487,null,344,784,2029]
[150806,null,17,150806,"DISTRITO HUAURA                   ",33759,null,16716,17043,null,316,323,301,307,292,297,287,293,287,293,291,296,297,303,306,312,317,323,329,335,342,348,354,361,365,373,376,383,383,391,391,399,399,407,398,405,382,390,357,365,1489,1518,1359,1386,1281,1307,1089,1110,1011,1030,906,923,697,711,568,579,446,454,371,378,339,345,204,208,186,190,641,49,1752,1870,7318,795,null,639,2357,7510,9184,4670,7246,11212,3121,null,3109,7569,16964]
[null,"01",18,5682,"C.S. HUAURA",15192,null,7526,7666,null,143,145,136,138,131,134,129,131,129,132,131,133,134,136,138,140,143,145,148,151,154,157,159,163,164,168,169,173,172,176,176,180,180,183,179,182,172,175,161,164,670,683,612,623,577,588,490,500,455,463,408,415,314,320,255,261,201,204,167,170,153,155,92,93,84,85,289,22,789,841,3293,361,null,288,1060,3380,4134,2102,3260,5046,1404,null,1399,3407,7634]
[null,"01",19,5686,"C.S. SOCORRO",11816,null,5853,5963,null,111,113,105,108,102,104,101,102,101,102,102,104,104,106,107,109,111,113,115,117,120,122,124,126,128,130,132,134,134,137,137,140,140,142,139,142,134,136,125,128,521,531,476,485,449,457,381,389,354,360,317,323,244,249,199,202,156,159,130,132,118,121,71,73,65,67,224,17,613,655,2561,282,null,224,825,2629,3215,1635,2536,3924,1092,null,1088,2650,5937]
[null,"01",20,5683,"P.S. HUMAYA",4220,null,2093,2127,null,40,40,38,38,37,37,36,37,36,36,36,37,37,38,38,39,40,40,41,42,43,43,44,45,46,46,47,48,48,49,49,50,50,51,50,50,48,49,45,45,186,190,170,173,160,164,136,138,126,129,113,116,87,89,71,72,56,57,47,47,43,43,26,26,23,23,80,6,219,234,915,79,null,80,295,938,1147,584,906,1401,391,null,388,946,2120]
[null,"01",21,5684,"P.S. VILCAHUAURA",2025,null,1001,1024,null,19,19,18,18,17,18,17,18,17,18,17,18,18,18,19,19,19,19,20,20,20,21,21,22,22,23,22,23,23,23,23,23,24,24,24,25,23,23,21,22,90,91,82,83,76,78,65,67,61,62,54,56,42,42,35,35,27,27,22,23,20,21,12,13,11,12,38,3,105,112,439,54,null,38,141,450,550,279,435,673,188,null,187,452,1019]
[null,"01",22,5685,"P.S. PEÑICO",506,null,242,264,null,4,5,4,5,4,5,4,5,4,5,4,5,4,5,4,5,5,5,5,5,5,5,5,6,5,6,5,6,6,6,6,6,6,6,6,6,6,6,5,6,22,23,20,21,19,20,16,17,15,16,13,14,10,11,8,9,6,7,5,6,5,5,3,3,3,3,10,1,26,28,110,19,null,9,36,113,138,70,109,168,46,null,47,114,254]
[150807,null,23,150807,"DISTRITO LEONCIO PRADO",2034,null,1003,1031,null,16,17,20,20,23,23,24,25,25,26,25,26,25,25,24,25,23,23,22,22,20,20,18,18,16,17,16,16,16,16,16,17,16,17,16,17,16,17,17,17,82,83,78,80,65,67,59,61,53,55,59,61,52,54,34,35,33,34,28,29,27,28,19,19,20,21,33,3,88,70,360,38,null,33,186,535,512,196,390,655,258,null,240,339,978]
[null,"03",24,5778,"P.S. AUQUIMARCA",366,null,177,189,null,3,3,3,4,4,4,4,5,4,5,4,5,4,5,4,5,4,5,4,4,3,4,3,3,3,3,3,3,3,3,3,3,3,3,3,3,3,3,3,3,15,15,14,14,12,12,11,11,9,10,11,11,9,10,6,6,6,6,5,5,5,5,3,4,3,4,6,0,16,13,65,7,null,6,33,96,93,36,70,118,46,null,44,61,176]
[null,"03",25,5779,"P.S. PARAN",814,null,398,416,null,6,7,8,8,9,10,9,10,10,11,10,11,10,10,10,10,9,9,9,9,8,8,7,7,6,7,6,7,6,7,6,7,6,7,6,7,6,7,7,7,33,33,31,32,26,27,24,24,21,22,24,24,21,21,14,14,13,14,11,12,11,11,7,8,8,8,13,1,35,28,144,15,null,13,75,215,205,78,156,262,103,null,97,135,391]
[null,"03",26,6725,"P.S. SANTA CRUZ",447,null,212,235,null,3,4,4,5,5,5,5,6,5,6,5,6,5,6,5,6,5,5,4,5,4,5,4,5,3,4,3,4,3,4,3,4,3,4,3,4,3,4,3,4,18,18,17,18,14,15,13,13,12,12,13,13,12,12,7,8,7,8,6,7,6,6,4,4,5,5,7,1,19,15,79,8,null,7,41,118,112,42,85,144,58,null,52,74,215]
[null,"03",27,7757,"P.S. HUANANGUI",407,null,195,212,null,3,4,4,4,4,5,5,5,5,5,5,5,5,5,4,5,4,5,4,5,4,4,3,4,3,4,3,3,3,3,3,4,3,4,3,4,3,4,3,4,16,17,16,16,13,13,12,12,11,11,12,12,10,11,7,7,6,7,5,6,5,6,4,4,4,4,7,1,18,14,72,8,null,7,37,106,102,40,79,131,51,null,47,69,196]
[150808,null,28,150808,"DISTRITO PACCHO",2185,null,1079,1106,null,16,17,16,17,17,17,17,18,17,18,18,19,19,19,19,20,20,20,20,21,21,21,21,22,21,21,19,20,17,18,16,16,14,14,12,13,12,12,11,12,61,63,62,63,70,71,66,68,71,72,61,63,54,56,54,55,64,65,59,60,51,52,34,34,29,29,33,3,103,48,368,40,null,33,137,450,481,201,296,761,477,null,195,333,1010]
[null,"05",29,5650,"P.S. PACCHO",830,null,404,426,null,6,7,6,7,6,7,6,7,6,7,7,7,7,7,7,8,7,8,8,8,8,8,8,8,8,8,7,8,6,7,6,6,5,6,4,5,4,5,4,5,23,24,23,24,26,27,26,26,27,28,23,24,21,21,20,21,24,25,22,23,19,20,13,13,11,11,13,1,38,18,140,15,null,13,52,171,182,76,112,290,181,null,74,126,384]
[null,"05",30,5651,"P.S. LACSANGA",459,null,221,238,null,3,4,3,4,3,4,3,4,3,4,4,4,4,4,4,4,4,4,4,5,4,5,5,5,4,5,4,4,3,4,3,4,3,3,2,3,2,3,2,3,13,13,13,13,15,15,14,14,15,15,13,13,11,12,11,12,13,14,12,13,11,11,7,7,6,6,7,1,22,10,77,8,null,7,28,95,102,42,62,160,100,null,41,71,212]
[null,"05",31,5653,"P.S. AYARANGA",415,null,197,219,null,3,3,3,3,3,4,3,4,3,4,3,4,3,4,3,4,4,4,3,4,4,4,4,4,4,4,3,4,3,4,3,3,2,3,2,3,2,3,2,2,12,12,12,12,13,14,12,13,13,14,12,12,10,11,10,11,12,13,11,12,9,10,6,7,5,6,6,0,20,9,70,8,null,6,27,85,90,38,57,145,91,null,36,63,193]
[null,"05",32,5652,"P.S. MUZGA",481,null,229,251,null,3,4,3,4,3,4,4,4,4,4,4,4,4,5,4,5,4,5,4,5,4,5,4,5,4,5,4,5,4,4,3,4,3,3,3,3,2,3,2,3,13,14,14,14,15,16,14,15,15,16,13,14,12,12,12,12,14,14,13,13,11,12,7,8,6,7,7,1,23,11,81,9,null,7,30,99,107,45,65,166,105,null,44,73,221]
[150809,null,33,150809,"DISTRITO SANTA LEONOR",1517,null,751,766,null,12,12,11,12,11,11,11,12,12,12,13,13,14,14,15,15,16,17,17,18,18,19,20,20,20,20,19,19,17,17,15,15,13,13,11,12,10,11,10,11,45,46,37,37,39,40,44,45,46,46,47,47,47,48,34,34,37,37,27,27,27,28,21,22,15,16,24,2,80,62,250,28,null,24,92,345,420,191,207,517,257,null,{"$f":"SUM(U40:AD40)","v":152},{"$f":"SUM(AE40:AX40)","v":310},{"$f":"SUM(AY40:BN40)","v":682}]
[null,"05",34,5645,"P.S. CHIUCHIN",925,null,455,470,null,7,7,7,7,7,7,7,7,7,7,8,8,8,9,9,10,10,10,10,11,11,12,12,12,12,12,11,12,10,11,9,10,8,8,7,7,6,7,6,7,28,28,22,23,24,24,27,27,28,28,28,29,29,29,20,21,22,23,16,17,17,17,13,13,9,10,14,1,49,38,152,17,null,14,56,210,257,117,127,314,157,null,93,190,415]
[null,"05",35,5646,"P.S. PARQUIN",425,null,204,221,null,3,4,3,3,3,3,3,3,3,4,3,4,4,4,4,4,4,5,5,5,5,5,6,6,6,6,5,6,4,5,4,4,3,4,3,3,3,3,3,3,12,13,10,11,11,11,12,13,13,13,13,14,13,14,9,10,10,11,7,8,7,8,6,6,4,5,7,1,22,17,70,8,null,7,25,96,117,53,58,146,72,null,42,87,192]
[null,"05",36,5647,"P.S. JUCUL",167,null,77,90,null,1,2,1,2,1,1,1,2,1,2,1,2,1,2,1,2,2,2,2,2,2,2,2,2,2,2,2,2,2,2,1,2,1,2,1,2,1,1,1,1,5,5,4,4,4,5,5,5,5,5,5,5,5,5,4,4,4,4,3,3,3,3,2,3,1,2,3,0,9,7,28,3,null,3,11,39,46,21,22,57,28,null,17,33,75]
[150810,null,37,150810,"DISTRITO SANTA MARIA",30893,null,15295,15598,null,281,287,271,276,265,270,262,268,262,268,266,272,271,277,278,284,286,292,294,300,303,308,311,318,317,324,319,325,318,324,315,322,313,320,308,314,297,303,283,289,1250,1274,1178,1201,1170,1193,1064,1084,921,940,815,830,647,659,624,636,522,533,396,403,357,363,249,254,282,287,571,44,1535,1463,6558,711,null,568,2142,6770,7879,3819,6075,10583,3646,null,2820,6231,15486]
[null,"02",38,5668,"C.S. SANTA MARIA",8650,null,4284,4366,null,79,80,76,77,74,76,73,75,73,75,75,76,76,78,78,79,80,82,82,84,85,86,87,89,89,90,89,91,89,91,88,90,88,89,86,88,83,85,79,81,350,357,330,336,328,334,298,303,258,263,228,233,181,185,175,178,147,149,111,113,100,102,70,71,79,80,160,12,430,411,1836,198,null,159,599,1895,2205,1068,1701,2964,1022,null,790,1743,4337]
[null,"02",39,5669,"P.S. CHONTA",4634,null,2298,2336,null,42,43,41,41,40,40,40,40,40,40,40,41,41,41,42,42,43,44,44,45,46,46,47,47,48,48,48,49,48,48,48,48,47,48,46,47,45,45,43,43,188,191,177,180,175,179,159,163,138,141,122,125,97,99,94,95,78,80,59,61,53,55,37,38,42,43,86,7,230,219,984,106,null,85,322,1016,1182,573,912,1587,546,null,423,935,2323]
[null,"02",40,5671,"P.S. ZAPATA",2471,null,1224,1247,null,22,23,22,22,21,22,21,21,21,21,21,22,22,22,22,23,23,23,24,24,24,25,25,25,25,26,26,26,25,26,25,26,25,26,25,25,24,24,23,23,100,102,94,96,94,95,85,87,74,75,65,67,51,53,50,51,42,42,32,32,28,29,20,20,23,23,46,4,123,117,525,57,null,45,171,541,631,306,486,847,291,null,226,499,1239]
[null,"02",41,5670,"P.S. AMADO VELASQUEZ",8032,null,3975,4057,null,73,75,70,72,69,70,68,70,68,70,69,71,70,72,72,74,74,76,76,78,79,80,81,83,83,84,83,84,83,84,82,84,82,83,80,82,77,79,74,75,325,331,306,313,304,310,276,282,240,244,212,216,168,172,162,165,136,138,102,105,93,94,65,66,73,75,148,11,399,380,1705,187,null,148,557,1760,2049,994,1580,2751,947,null,732,1622,4026]
[null,"02",42,5672,"P.S. SAN BARTOLOME",7106,null,3516,3590,null,65,66,62,64,61,62,60,62,60,62,61,62,62,64,64,66,66,67,68,69,69,71,72,73,73,75,73,75,73,75,72,74,72,73,71,72,68,70,65,66,287,293,271,276,269,275,245,250,212,216,187,190,149,151,144,146,120,123,91,93,82,84,57,59,65,66,131,10,353,336,1508,163,null,131,493,1558,1812,878,1396,2434,840,null,649,1432,3561]
[150811,null,43,150811,"DISTRITO SAYAN",23386,null,11583,11803,null,225,229,223,227,221,226,221,226,222,227,224,228,226,230,228,233,231,236,234,238,237,241,240,244,242,246,243,248,244,249,245,249,246,250,244,248,238,242,229,233,1045,1065,995,1014,925,944,778,793,662,674,636,648,454,463,394,401,322,328,248,252,213,218,136,139,112,114,456,35,1180,1210,4756,562,null,454,1793,5517,6224,2954,5061,7772,2082,null,2308,4858,11891]
[null,"03",44,5780,"C.S. SAYAN",9588,null,4752,4836,null,92,94,91,93,91,92,91,92,91,93,92,93,93,94,94,95,95,96,96,98,97,99,99,100,99,101,100,101,100,102,101,102,101,102,100,102,98,99,94,95,428,437,408,416,380,387,319,325,271,277,260,266,186,190,161,164,132,135,102,103,88,89,56,57,46,47,187,14,484,496,1949,237,null,186,734,2261,2552,1211,2075,3186,855,null,946,1992,4875]
[null,"03",45,5774,"C.S. 9 DE OCTUBRE",4911,null,2433,2478,null,47,48,47,48,47,47,47,47,47,47,47,48,47,48,48,49,49,49,49,50,50,51,51,51,51,51,51,52,51,53,51,53,51,53,51,52,50,51,48,49,219,224,209,213,194,198,163,167,139,142,134,136,95,97,83,84,68,69,52,53,45,45,29,29,23,24,96,7,248,254,999,112,null,95,377,1159,1307,620,1063,1632,437,null,484,1021,2497]
[null,"03",46,5781,"P.S. CHAMBARA",1169,null,575,594,null,11,12,11,11,11,11,11,11,11,12,11,12,11,12,11,12,11,12,11,12,12,12,12,12,12,12,12,13,12,13,12,13,12,13,12,13,12,12,11,12,52,54,50,50,46,47,39,40,33,33,32,32,23,23,20,20,16,16,12,13,11,11,7,7,5,6,23,2,59,61,238,28,null,23,89,275,312,149,253,388,104,null,115,244,594]
[null,"03",47,5775,"P.S. LA MERCED",2339,null,1155,1184,null,22,23,22,23,22,23,22,23,22,23,22,23,23,23,23,23,23,24,23,24,24,24,24,24,24,25,24,25,24,25,24,25,25,25,24,25,24,24,23,24,104,107,100,101,93,94,78,79,66,68,63,65,45,46,40,40,32,33,25,25,21,22,13,14,11,12,46,4,118,121,476,56,null,45,180,552,622,295,507,777,208,null,231,486,1189]
[null,"03",48,5776,"P.S. LA VILLA",3742,null,1856,1886,null,36,37,36,36,36,36,36,36,36,36,36,36,36,37,37,37,37,38,38,38,38,38,38,39,39,39,39,39,39,39,39,40,39,40,39,40,38,39,37,37,167,171,159,162,148,151,124,127,106,108,102,104,73,74,63,64,51,53,40,40,34,35,22,22,18,18,73,6,189,194,761,90,null,73,288,884,994,471,810,1244,333,null,370,775,1903]
[null,"03",49,5777,"P.S. EL AHORCADO",935,null,460,475,null,9,9,9,9,9,9,9,9,9,9,9,9,9,9,9,9,9,10,9,10,9,10,9,10,10,10,10,10,10,10,10,10,10,10,9,10,9,10,9,9,42,42,40,41,37,38,31,32,26,27,25,26,18,19,16,16,13,13,10,10,8,9,5,6,4,5,18,1,47,48,190,22,null,18,72,220,249,119,202,311,83,null,92,194,476]
[null,"03",50,6726,"P.S. LA UNION",702,null,343,359,null,7,7,7,7,6,7,6,7,6,7,7,7,7,7,7,7,7,7,7,7,7,7,7,8,7,8,7,8,7,8,7,7,7,8,7,8,7,7,7,7,31,32,30,30,28,28,23,24,20,20,19,20,14,14,12,12,9,10,7,8,6,7,4,4,3,4,14,1,35,36,143,17,null,14,53,166,188,89,151,234,62,null,70,146,357]
[150812,null,51,150812,"DISTRITO VEGUETA",20357,null,10080,10277,null,225,229,206,211,193,197,184,187,178,181,176,179,176,180,179,182,184,187,189,193,196,200,204,207,210,214,214,218,215,220,217,222,220,224,219,223,213,218,204,209,906,923,801,816,729,744,623,635,588,600,555,566,425,434,374,381,306,311,246,251,216,220,156,159,153,156,456,35,995,1071,4194,571,null,454,1537,4623,5248,2616,4290,6654,2174,null,1825,4267,10100]
[null,"04",52,5673,"C.S. VEGUETA",6100,null,3017,3083,null,67,69,61,63,57,59,55,56,53,55,53,54,53,54,53,55,55,56,57,58,58,60,60,62,63,64,64,66,65,66,65,67,66,67,65,67,64,66,61,63,272,277,240,244,219,223,187,191,176,179,166,170,128,130,112,114,91,93,74,75,64,66,47,47,46,47,137,11,298,321,1257,173,null,136,459,1383,1573,785,1287,1995,650,null,548,1279,3028]
[null,"04",53,5674,"P.S. MAZO",2036,null,1009,1027,null,22,23,21,21,19,20,18,19,18,18,17,18,18,18,18,18,18,19,19,19,20,20,20,21,21,21,21,21,22,22,22,22,22,22,22,22,21,22,20,21,91,92,80,82,73,74,62,64,59,60,55,57,43,43,38,38,31,31,25,25,22,22,16,16,15,16,46,4,99,107,419,60,null,45,154,462,523,260,429,666,219,null,182,425,1011]
[null,"04",54,5675,"P.S. PRIMAVERA",2242,null,1109,1133,null,25,25,23,23,21,22,20,21,20,20,19,20,19,20,20,20,20,21,21,21,22,22,22,23,23,24,24,24,24,24,24,24,24,25,24,25,23,24,22,23,100,101,88,90,80,82,68,70,65,66,61,62,47,48,41,42,34,34,27,28,24,24,17,18,17,17,50,4,110,118,462,65,null,50,170,510,579,289,471,732,240,null,201,470,1111]
[null,"04",55,5676,"P.S. MARIATEGUI",4888,null,2421,2467,null,54,56,50,50,47,47,44,45,43,43,42,43,42,43,43,44,44,45,46,46,47,48,49,50,51,51,51,53,51,53,52,53,53,54,52,54,51,52,49,50,217,222,192,196,175,179,150,152,141,144,134,136,102,104,90,91,73,75,59,60,52,53,38,38,37,37,109,8,239,257,1007,140,null,110,369,1111,1260,628,1029,1598,522,null,438,1024,2425]
[null,"04",56,5677,"P.S. MEDIO MUNDO",4275,null,2119,2156,null,47,48,44,44,41,41,39,39,37,38,37,38,37,38,38,38,39,39,40,40,41,42,43,43,44,45,45,45,45,46,46,46,46,47,46,47,45,46,43,44,190,194,168,172,153,156,131,133,124,126,116,119,89,91,79,80,64,66,51,53,46,46,33,33,32,33,96,7,209,225,881,122,null,95,323,971,1101,548,902,1397,457,null,384,895,2121]
[null,"04",57,5678,"P.S. TIROLER",816,null,401,415,null,9,9,8,9,8,8,7,8,7,7,7,7,7,7,7,7,7,8,7,8,8,8,9,9,8,9,9,9,8,9,9,9,9,9,9,9,8,9,8,9,36,37,32,33,29,30,25,25,24,24,22,23,17,17,15,15,12,13,10,10,8,9,6,6,6,6,18,1,40,43,168,11,null,18,62,186,212,106,172,266,86,null,72,174,404]
[150900,null,58,150900,"PROVINCIA OYON",22033,null,10911,11122,null,250,255,239,244,233,237,229,234,229,234,229,234,231,236,235,240,239,243,243,248,246,251,252,256,251,256,243,247,228,232,214,219,199,203,188,191,178,182,172,175,785,801,865,881,836,853,798,813,616,628,577,588,423,431,362,369,282,287,280,286,237,241,186,189,136,138,509,38,1184,936,3952,632,null,505,1879,5767,6054,2671,4039,7294,2262,null,2378,4383,10626]
[150901,null,59,150901,"DISTRITO OYON",13811,null,6836,6975,null,167,170,160,163,155,159,153,156,153,156,153,156,154,158,156,160,158,162,161,164,163,166,166,170,165,169,159,162,149,152,140,142,130,132,121,124,115,118,110,113,513,523,596,607,571,583,531,542,383,390,344,350,250,254,185,189,123,125,125,128,94,96,76,77,57,59,340,26,788,643,2497,423,null,337,1255,3839,3992,1745,2695,4572,960,null,1582,2866,6811]
[null,"05",60,5659,"C.S. OYON",11463,null,5678,5785,null,139,141,133,135,129,132,127,129,127,129,127,129,128,131,130,132,132,134,134,136,135,138,138,141,137,140,132,134,124,126,116,118,107,110,101,102,96,97,92,93,426,434,495,504,474,484,441,450,318,324,285,291,207,211,153,157,102,104,104,106,78,80,63,64,48,49,283,22,654,535,2072,351,null,280,1041,3186,3312,1447,2237,3795,798,null,1313,2377,5654]
[null,"05",61,5660,"P.S. MALLAY",691,null,338,353,null,8,9,8,8,8,8,7,8,7,8,7,8,8,8,8,8,8,8,8,8,8,9,8,9,8,9,8,8,7,8,7,7,6,7,6,6,6,6,5,6,26,26,30,30,29,29,27,27,19,20,17,17,12,13,9,10,6,6,6,7,5,5,3,4,3,3,17,1,39,32,125,21,null,17,62,192,200,87,135,229,48,null,79,144,341]
[null,"05",62,5661,"P.S. NAVA",138,null,60,78,null,1,2,1,2,1,2,1,2,2,2,2,2,1,2,1,2,1,2,1,2,1,2,1,2,1,2,1,2,1,2,1,2,1,2,1,1,1,1,1,1,5,5,6,6,6,6,5,6,4,4,3,4,3,3,2,2,1,1,1,1,1,1,1,1,0,1,3,0,8,6,25,4,null,3,13,38,39,17,26,48,9,null,16,27,70]
[null,"05",63,5662,"P.S. TINTA",414,null,198,216,null,5,5,5,5,4,5,4,5,4,5,4,5,4,5,4,5,5,5,5,5,5,5,5,5,5,5,5,5,4,5,4,4,4,4,4,4,3,4,3,4,15,16,18,18,17,18,16,16,11,12,10,11,7,8,5,6,4,4,4,4,2,3,2,3,1,2,10,1,24,19,75,13,null,10,37,114,120,53,81,137,29,null,47,87,204]
[null,"05",64,5648,"P.S. RAPAZ",1105,null,544,561,null,13,14,13,13,12,13,13,13,12,13,12,13,12,13,13,13,12,13,13,13,13,13,13,14,13,14,13,13,12,12,11,12,10,11,10,10,9,10,9,9,41,42,48,48,45,46,42,43,30,31,28,28,20,20,15,15,10,10,10,10,7,8,6,6,4,5,27,2,63,51,200,34,null,27,102,309,321,141,216,363,76,null,127,231,542]
[150902,null,65,150902,"DISTRITO ANDAJES",1060,null,520,540,null,2,3,3,4,4,4,5,5,5,6,6,6,6,6,6,7,7,7,7,7,7,7,7,8,7,8,7,8,7,7,7,8,7,7,7,7,6,7,6,7,27,28,36,36,26,26,36,37,30,30,39,40,23,24,31,32,28,29,43,44,25,26,36,37,21,22,5,0,28,32,180,8,null,5,36,135,181,87,153,374,311,null,{"$f":"SUM(U72:AD72)","v":65},{"$f":"SUM(AE72:AX72)","v":142},{"$f":"SUM(AY72:BN72)","v":501}]
[null,"05",66,5654,"P.S. ANDAJES",1060,null,520,540,null,2,3,3,4,4,4,5,5,5,6,6,6,6,6,6,7,7,7,7,7,7,7,7,8,7,8,7,8,7,7,7,8,7,7,7,7,6,7,6,7,27,28,36,36,26,26,36,37,30,30,39,40,23,24,31,32,28,29,43,44,25,26,36,37,21,22,5,0,28,32,180,8,null,5,36,135,181,87,153,374,311,null,65,142,501]
[150903,null,67,150903,"DISTRITO CAUJUL",990,null,487,503,null,8,8,9,10,10,11,11,11,12,12,11,12,11,12,11,12,11,11,10,11,10,10,9,9,8,9,8,9,8,9,8,8,8,8,8,8,7,8,8,8,35,35,31,32,35,35,32,32,26,27,32,32,21,22,18,18,17,17,22,23,12,13,11,11,9,10,16,1,42,29,184,18,null,16,86,252,249,99,164,330,145,null,112,168,463]
[null,"05",68,5655,"P.S. CAUJUL",990,null,487,503,null,8,8,9,10,10,11,11,11,12,12,11,12,11,12,11,12,11,11,10,11,10,10,9,9,8,9,8,9,8,9,8,8,8,8,8,8,7,8,8,8,35,35,31,32,35,35,32,32,26,27,32,32,21,22,18,18,17,17,22,23,12,13,11,11,9,10,16,1,42,29,184,18,null,16,86,252,249,99,164,330,145,null,112,168,463]
[150904,null,69,150904,"DISTRITO COCHAMARCA",1578,null,782,796,null,15,15,16,16,17,17,18,18,19,19,19,20,20,20,20,21,21,21,21,22,21,21,21,21,21,21,20,20,19,19,17,18,16,16,15,15,14,14,13,14,53,55,39,40,55,56,51,51,46,47,37,37,26,27,28,29,22,23,17,17,18,18,15,15,12,13,30,2,97,63,269,38,null,30,140,459,506,217,242,490,170,null,205,356,677]
[null,"03",70,5783,"P.S. COCHAMARCA",568,null,274,294,null,5,6,6,6,6,6,6,7,7,7,7,7,7,7,7,8,7,8,7,8,7,8,7,8,7,8,7,7,7,7,6,7,6,6,5,6,5,5,4,5,19,20,14,14,20,20,18,19,16,17,13,14,9,10,10,11,8,8,6,6,6,7,5,6,4,5,11,1,35,23,97,14,null,11,51,165,182,79,86,177,61,null,73,128,244]
[null,"03",71,5784,"P.S. COLCAPAMPA",742,null,364,378,null,7,7,7,8,8,8,8,9,9,9,9,9,9,10,9,10,10,10,10,11,10,10,10,10,10,10,9,10,9,9,8,8,7,8,7,7,6,7,6,7,25,26,18,19,26,26,24,24,22,22,17,17,12,13,13,13,10,11,8,8,8,9,7,7,6,6,14,1,46,29,126,18,null,14,66,217,239,102,114,229,80,null,97,168,317]
[null,"03",72,5785,"P.S. YARUCAYA",268,null,124,144,null,2,3,2,3,3,3,3,3,3,3,3,4,3,4,3,4,3,4,3,4,3,4,3,4,3,4,3,4,3,3,3,3,2,3,2,3,2,3,2,3,9,9,7,7,9,10,8,9,8,8,6,7,4,5,5,5,4,4,3,3,3,3,2,3,2,2,5,0,16,11,46,6,null,5,23,77,85,36,42,84,29,null,35,60,116]
[150905,null,73,150905,"DISTRITO NAVAN",1149,null,567,582,null,19,19,15,16,13,14,11,12,10,10,9,10,9,9,9,9,9,9,9,9,10,10,10,11,11,11,10,11,9,9,8,8,6,7,6,6,6,7,7,8,46,47,43,44,39,40,38,39,38,38,33,34,25,26,19,19,27,27,12,12,28,28,13,13,10,10,38,3,49,29,215,48,null,38,101,271,234,102,208,388,180,null,91,171,568]
[null,"05",74,5656,"P.S. NAVAN",1149,null,567,582,null,19,19,15,16,13,14,11,12,10,10,9,10,9,9,9,9,9,9,9,9,10,10,10,11,11,11,10,11,9,9,8,8,6,7,6,6,6,7,7,8,46,47,43,44,39,40,38,39,38,38,33,34,25,26,19,19,27,27,12,12,28,28,13,13,10,10,38,3,49,29,215,48,null,38,101,271,234,102,208,388,180,null,91,171,568]
[150906,null,75,150906,"DISTRITO PACHANGARA",3445,null,1708,1737,null,39,40,35,36,33,33,31,32,30,31,30,31,31,31,32,32,33,33,35,35,36,36,38,38,38,39,38,38,36,36,34,35,32,33,31,31,29,29,26,27,111,113,120,122,110,113,110,112,94,95,93,94,77,79,81,82,65,66,61,62,59,61,35,36,25,26,80,6,180,140,607,97,null,79,261,811,892,421,577,1140,496,null,323,680,1606]
[null,"05",76,5657,"C.S. CHURIN",2722,null,1349,1373,null,31,31,28,28,26,26,25,25,24,24,24,24,24,25,25,26,26,26,27,28,28,29,30,30,30,31,30,30,28,29,27,28,25,26,24,25,23,23,21,21,88,89,95,96,87,89,87,89,74,75,73,75,61,62,64,65,51,53,48,49,47,48,28,28,20,20,63,4,142,111,479,78,null,62,206,640,705,333,456,901,392,null,255,538,1269]
[null,"05",77,5658,"P.S. PACHANGARA",344,null,165,179,null,4,4,3,4,3,4,3,3,3,3,3,3,3,3,3,4,3,4,3,4,3,4,4,4,4,4,4,4,3,4,3,3,3,4,3,3,3,3,2,3,11,11,12,12,11,11,11,11,9,10,9,10,8,8,8,8,6,7,6,6,6,6,3,4,2,3,8,1,18,14,61,9,null,8,26,82,90,42,57,114,49,null,33,68,160]
[null,"05",78,5649,"P.S. HUANCAHUASI",379,null,182,197,null,4,5,4,4,3,4,3,4,3,4,3,4,3,4,3,3,3,4,4,4,4,4,4,4,4,4,4,4,4,4,4,4,3,4,3,4,3,3,3,3,12,13,13,14,12,13,12,12,10,11,10,10,8,9,9,9,7,7,7,7,6,7,4,4,3,3,9,1,20,15,67,10,null,9,29,89,97,46,64,125,55,null,35,74,177]
[null,null,79,null,"PROVINCIA HUARAL",1205,null,595,610,null,9,10,11,12,12,13,13,14,14,14,14,15,14,14,14,14,13,13,12,13,11,12,10,11,10,10,9,10,9,10,9,10,9,9,9,9,9,9,9,9,46,47,44,44,38,39,34,34,34,35,38,38,28,28,22,22,18,18,27,27,19,19,13,13,14,15,19,1,46,37,233,22,null,19,103,302,293,113,217,390,183,null,136,193,571]
[null,null,80,150600,"IHUARI - ACOTAMA",1205,null,595,610,null,9,10,11,12,12,13,13,14,14,14,14,15,14,14,14,14,13,13,12,13,11,12,10,11,10,10,9,10,9,10,9,10,9,9,9,9,9,9,9,9,46,47,44,44,38,39,34,34,34,35,38,38,28,28,22,22,18,18,27,27,19,19,13,13,14,15,19,1,46,37,233,22,null,19,103,302,293,113,217,390,183,null,136,193,571]
[150606,"03",81]
[null,null,82,null,"MICRORED HUAURA",{"$f":"SUM(H89:I89)","v":36593},null,{"$f":"K89+M89+O89+Q89+S89+U89+W89+Y89+AA89+AC89+AE89+AG89+AI89+AK89+AM89+AO89+AQ89+AS89+AU89+AW89+AY89+BA89+BC89+BE89+BG89+BI89+BK89+BM89+BO89+BQ89+BS89+BU89+BW89","v":18122},{"$f":"L89+N89+P89+R89+T89+V89+X89+Z89+AB89+AD89+AF89+AH89+AJ89+AL89+AN89+AP89+AR89+AT89+AV89+AX89+AZ89+BB89+BD89+BF89+BH89+BJ89+BL89+BN89+BP89+BR89+BT89+BV89+BX89","v":18471},null,{"$f":"K13+K24","v":337},345,327,334,322,327,320,326,322,329,328,333,335,341,344,350,355,361,366,372,378,384,389,396,398,406,407,414,412,421,417,426,423,431,420,428,403,412,379,387,1595,1626,1448,1476,1372,1399,1167,1190,1080,1100,984,1002,760,775,620,633,494,503,414,422,372,378,225,230,{"$f":"BW13+BW24","v":209},214,{"$f":"BY14+BY25","v":315},24,878,906,3587,{"$f":"CD14+CD25","v":393},null,{"$f":"CF13+CF24","v":682},{"$f":"CG13+CG24","v":2607},{"$f":"CH13+CH24","v":8321},10035,5003,7726,12082,3461,null,{"$f":"CO14+CO25","v":1625},3744,8391]
[null,1,83,null,"MICRORED HUALMAY",{"$f":"SUM(H90:I90)","v":78348},null,38786,39562,null,{"$f":"K12+K16+K20+K44","v":710},725,677,690,655,668,643,657,640,655,646,660,657,671,674,688,693,707,713,728,735,751,758,776,776,792,781,797,778,794,773,789,769,786,758,775,739,755,713,729,3245,3308,3064,3124,2989,3047,2673,2723,2469,2518,2126,2166,1777,1810,1618,1650,1302,1328,1064,1084,882,897,626,639,{"$f":"BW12+BW16+BW20+BW44","v":663},675,{"$f":"BY13+BY17+BY21+BY45","v":609},47,1619,1587,7255,743,null,1435,5285,16577,19225,9368,15677,27566,9160,null,{"$f":"CO13+CO17+CO21+CO45","v":3025},6424,16881]
[null,2,84,null,"MICRORED SAYAN",{"$f":"SUM(H91:I91)","v":28203},null,13963,14240,null,{"$f":"K50+K30+K76+K87","v":265},271,270,275,273,279,276,283,280,286,282,289,285,289,286,293,288,293,289,295,289,294,289,294,289,294,288,294,288,294,287,294,287,292,284,289,277,282,268,273,1226,1250,1156,1178,1083,1106,922,939,795,811,770,784,560,572,478,487,395,403,320,325,277,283,183,186,{"$f":"BW50+BW30+BW76+BW87","v":158},163,{"$f":"BY31+BY51+BY78+BY66+BY87","v":566},42,1380,1218,4870,707,null,536,2222,6813,7535,3480,5910,9307,2693,null,{"$f":"CO31+CO51+CO78+CO66+CO87","v":2805},5280,12750]
[null,3,85,null,"MICRORED VEGUETA",{"$f":"SUM(H92:I92)","v":20357},null,10080,10277,null,{"$f":"K58","v":225},229,206,211,193,197,184,187,178,181,176,179,176,180,179,182,184,187,189,193,196,200,204,207,210,214,214,218,215,220,217,222,220,224,219,223,213,218,204,209,906,923,801,816,729,744,623,635,588,600,555,566,425,434,374,381,306,311,246,251,216,220,156,159,{"$f":"BW58","v":153},156,{"$f":"BY59","v":137},11,298,321,1257,173,null,454,1537,4623,5248,2616,4290,6654,2174,null,{"$f":"CO59","v":548},1279,3028]
[null,4,86,null,"MICRORED CHURIN - OYON",{"$f":"SUM(H93:I93)","v":25811},null,12766,13045,null,{"$f":"K82+K66+K72+K74+K80+K18+K35+K40","v":277},284,262,271,255,262,251,258,251,257,252,259,257,262,261,269,268,274,274,280,281,285,288,295,287,295,276,284,258,263,241,246,222,226,206,212,194,202,187,195,870,887,968,985,930,949,910,930,740,751,698,710,556,569,466,474,406,411,386,393,347,355,253,257,{"$f":"BW82+BW66+BW72+BW74+BW80+BW18+BW35+BW40","v":188},195,{"$f":"BY19+BY36+BY41+BY68+BY74+BY76+BY82+BY84","v":207},15,539,378,1812,251,null,561,2067,6433,6821,3016,4488,8683,3191,null,{"$f":"CO19+CO36+CO41+CO68+CO74+CO76+CO82+CO84","v":1055},2005,4798]

{"sheet":"etapas y mredes","index":2,"n_rows":38,"n_cols":21,"rows_kept":38,"cut":false,"hidden":false,"merged":[[6,15,6,20],[6,2,6,11],[1,2,5,12],[36,2,36,3],[35,2,35,3],[34,2,34,3],[33,2,33,3],[32,2,32,3],[31,2,31,3],[30,2,30,3],[29,2,29,3],[28,2,28,3],[27,2,27,3],[26,2,26,3],[25,2,25,3],[36,4,36,5],[35,4,35,5],[34,4,34,5],[33,4,33,5],[32,4,32,5],[31,4,31,5],[25,4,25,5],[30,4,30,5],[29,4,29,5],[28,4,28,5],[27,4,27,5],[26,4,26,5]]}
[]
[null,null,"POBLACION ASIGNADA POR DISTRITO SIERRA, HOSPITAL, MICROREDES Y POR ETAPAS DE VIDA 2011"]
[]
[]
[]
[]
[null,null,"DISTRITO",null,null,null,null,null,null,null,null,null,null,null,null,"MICROREDES"]
[null,null,66,68,11,74,60,28,76,33,null,null,null,4,null,82,83,84,85,86]
[null,"POBLACION POR\nETAPAS DE VIDA","Andajes","Caujul","Checras","Naván","Oyón","Paccho","Pachangara","Santa Leonor","TOTAL","PORC. (%)",null,"HOSPITAL HUACHO",null,"HUAURA","HUALMAY","SAYAN","VEGUETA","CHURIN OYON","Total Microredes"]
[76,"Neonatal (0-28dias)",{"$f":"VLOOKUP(C8,Poblacion!$C$8:$CQ$93,A10)","v":0},{"$f":"VLOOKUP($D$8,Poblacion!$C$8:$CQ$93,A10)","v":1},{"$f":"VLOOKUP($E$8,Poblacion!$C$8:$CQ$93,A10)","v":2},{"$f":"VLOOKUP($F$8,Poblacion!$C$8:$CQ$93,A10)","v":3},{"$f":"VLOOKUP($G$8,Poblacion!$C$8:$CQ$93,A10)","v":22},{"$f":"VLOOKUP($H$8,Poblacion!$C$8:$CQ$93,A10)","v":3},{"$f":"VLOOKUP($I$8,Poblacion!$C$8:$CQ$93,A10)","v":4},{"$f":"VLOOKUP($J$8,Poblacion!$C$8:$CQ$93,A10)","v":2},{"$f":"SUM(C10:J10)","v":37},{"$f":"IFERROR((K10/$K$20)*100,0)","v":0.16270888302550574},null,{"$f":"VLOOKUP(N$8,Poblacion!$C$8:$CQ$93,A10)","v":58},null,{"$f":"VLOOKUP(P$8,Poblacion!$C$8:$CQ$93,A10)","v":24},{"$f":"VLOOKUP(Q$8,Poblacion!$C$8:$CQ$93,A10)","v":47},{"$f":"VLOOKUP(R$8,Poblacion!$C$8:$CQ$93,A10)","v":42},{"$f":"VLOOKUP(S$8,Poblacion!$C$8:$CQ$93,A10)","v":11},{"$f":"VLOOKUP(T$8,Poblacion!$C$8:$CQ$93,A10)","v":15},{"$f":"SUM(P10:T10)","v":139}]
[82,"Infantil (Men.1año)",{"$f":"VLOOKUP($C$8,Poblacion!$C$8:$CQ$93,A11)","v":5},{"$f":"VLOOKUP($D$8,Poblacion!$C$8:$CQ$93,A11)","v":16},{"$f":"VLOOKUP($E$8,Poblacion!$C$8:$CQ$93,A11)","v":29},{"$f":"VLOOKUP($F$8,Poblacion!$C$8:$CQ$93,A11)","v":38},{"$f":"VLOOKUP($G$8,Poblacion!$C$8:$CQ$93,A11)","v":280},{"$f":"VLOOKUP($H$8,Poblacion!$C$8:$CQ$93,A11)","v":33},{"$f":"VLOOKUP($I$8,Poblacion!$C$8:$CQ$93,A11)","v":62},{"$f":"VLOOKUP($J$8,Poblacion!$C$8:$CQ$93,A11)","v":24},{"$f":"SUM(C11:J11)","v":487},{"$f":"IFERROR((K11/$K$20)*100,0)","v":2.1416007036059805},null,{"$f":"VLOOKUP(N$8,Poblacion!$C$8:$CQ$93,A11)","v":766},null,{"$f":"VLOOKUP(P$8,Poblacion!$C$8:$CQ$93,A11)","v":682},{"$f":"VLOOKUP(Q$8,Poblacion!$C$8:$CQ$93,A11)","v":1435},{"$f":"VLOOKUP(R$8,Poblacion!$C$8:$CQ$93,A11)","v":536},{"$f":"VLOOKUP(S$8,Poblacion!$C$8:$CQ$93,A11)","v":454},{"$f":"VLOOKUP(T$8,Poblacion!$C$8:$CQ$93,A11)","v":561},{"$f":"SUM(P11:T11)","v":3668}]
[83,"Pre-escolar (01-04años)",{"$f":"VLOOKUP($C$8,Poblacion!$C$8:$CQ$93,A12)","v":36},{"$f":"VLOOKUP($D$8,Poblacion!$C$8:$CQ$93,A12)","v":86},{"$f":"VLOOKUP($E$8,Poblacion!$C$8:$CQ$93,A12)","v":99},{"$f":"VLOOKUP($F$8,Poblacion!$C$8:$CQ$93,A12)","v":101},{"$f":"VLOOKUP($G$8,Poblacion!$C$8:$CQ$93,A12)","v":1041},{"$f":"VLOOKUP($H$8,Poblacion!$C$8:$CQ$93,A12)","v":137},{"$f":"VLOOKUP($I$8,Poblacion!$C$8:$CQ$93,A12)","v":206},{"$f":"VLOOKUP($J$8,Poblacion!$C$8:$CQ$93,A12)","v":92},1798,7.9067722075637645,null,{"$f":"VLOOKUP(N$8,Poblacion!$C$8:$CQ$93,A12)","v":2765},null,{"$f":"VLOOKUP(P$8,Poblacion!$C$8:$CQ$93,A12)","v":2607},{"$f":"VLOOKUP(Q$8,Poblacion!$C$8:$CQ$93,A12)","v":5285},{"$f":"VLOOKUP(R$8,Poblacion!$C$8:$CQ$93,A12)","v":2222},{"$f":"VLOOKUP(S$8,Poblacion!$C$8:$CQ$93,A12)","v":1537},{"$f":"VLOOKUP(T$8,Poblacion!$C$8:$CQ$93,A12)","v":2067},13718]
[84,"Niño (0-11años)",{"$f":"VLOOKUP($C$8,Poblacion!$C$8:$CQ$93,A13)","v":135},{"$f":"VLOOKUP($D$8,Poblacion!$C$8:$CQ$93,A13)","v":252},{"$f":"VLOOKUP($E$8,Poblacion!$C$8:$CQ$93,A13)","v":330},{"$f":"VLOOKUP($F$8,Poblacion!$C$8:$CQ$93,A13)","v":271},{"$f":"VLOOKUP($G$8,Poblacion!$C$8:$CQ$93,A13)","v":3186},{"$f":"VLOOKUP($H$8,Poblacion!$C$8:$CQ$93,A13)","v":450},{"$f":"VLOOKUP($I$8,Poblacion!$C$8:$CQ$93,A13)","v":640},{"$f":"VLOOKUP($J$8,Poblacion!$C$8:$CQ$93,A13)","v":345},5609,24.665787159190852,null,{"$f":"VLOOKUP(N$8,Poblacion!$C$8:$CQ$93,A13)","v":8685},null,{"$f":"VLOOKUP(P$8,Poblacion!$C$8:$CQ$93,A13)","v":8321},{"$f":"VLOOKUP(Q$8,Poblacion!$C$8:$CQ$93,A13)","v":16577},{"$f":"VLOOKUP(R$8,Poblacion!$C$8:$CQ$93,A13)","v":6813},{"$f":"VLOOKUP(S$8,Poblacion!$C$8:$CQ$93,A13)","v":4623},{"$f":"VLOOKUP(T$8,Poblacion!$C$8:$CQ$93,A13)","v":6433},42767]
[85,"Escolar  (05-17años)",{"$f":"VLOOKUP($C$8,Poblacion!$C$8:$CQ$93,A14)","v":181},{"$f":"VLOOKUP($D$8,Poblacion!$C$8:$CQ$93,A14)","v":249},{"$f":"VLOOKUP($E$8,Poblacion!$C$8:$CQ$93,A14)","v":372},{"$f":"VLOOKUP($F$8,Poblacion!$C$8:$CQ$93,A14)","v":234},{"$f":"VLOOKUP($G$8,Poblacion!$C$8:$CQ$93,A14)","v":3312},{"$f":"VLOOKUP($H$8,Poblacion!$C$8:$CQ$93,A14)","v":481},{"$f":"VLOOKUP($I$8,Poblacion!$C$8:$CQ$93,A14)","v":705},{"$f":"VLOOKUP($J$8,Poblacion!$C$8:$CQ$93,A14)","v":420},5954,26.182937554969214,null,{"$f":"VLOOKUP(N$8,Poblacion!$C$8:$CQ$93,A14)","v":10242},null,{"$f":"VLOOKUP(P$8,Poblacion!$C$8:$CQ$93,A14)","v":10035},{"$f":"VLOOKUP(Q$8,Poblacion!$C$8:$CQ$93,A14)","v":19225},{"$f":"VLOOKUP(R$8,Poblacion!$C$8:$CQ$93,A14)","v":7535},{"$f":"VLOOKUP(S$8,Poblacion!$C$8:$CQ$93,A14)","v":5248},{"$f":"VLOOKUP(T$8,Poblacion!$C$8:$CQ$93,A14)","v":6821},48864]
[86,"Adolescente (12-17años)",{"$f":"VLOOKUP($C$8,Poblacion!$C$8:$CQ$93,A15)","v":87},{"$f":"VLOOKUP($D$8,Poblacion!$C$8:$CQ$93,A15)","v":99},{"$f":"VLOOKUP($E$8,Poblacion!$C$8:$CQ$93,A15)","v":170},{"$f":"VLOOKUP($F$8,Poblacion!$C$8:$CQ$93,A15)","v":102},{"$f":"VLOOKUP($G$8,Poblacion!$C$8:$CQ$93,A15)","v":1447},{"$f":"VLOOKUP($H$8,Poblacion!$C$8:$CQ$93,A15)","v":201},{"$f":"VLOOKUP($I$8,Poblacion!$C$8:$CQ$93,A15)","v":333},{"$f":"VLOOKUP($J$8,Poblacion!$C$8:$CQ$93,A15)","v":191},2630,11.565523306948108,null,{"$f":"VLOOKUP(N$8,Poblacion!$C$8:$CQ$93,A15)","v":5088},null,{"$f":"VLOOKUP(P$8,Poblacion!$C$8:$CQ$93,A15)","v":5003},{"$f":"VLOOKUP(Q$8,Poblacion!$C$8:$CQ$93,A15)","v":9368},{"$f":"VLOOKUP(R$8,Poblacion!$C$8:$CQ$93,A15)","v":3480},{"$f":"VLOOKUP(S$8,Poblacion!$C$8:$CQ$93,A15)","v":2616},{"$f":"VLOOKUP(T$8,Poblacion!$C$8:$CQ$93,A15)","v":3016},23483]
[87,"Adulto Joven (18-29años)",{"$f":"VLOOKUP($C$8,Poblacion!$C$8:$CQ$93,A16)","v":153},{"$f":"VLOOKUP($D$8,Poblacion!$C$8:$CQ$93,A16)","v":164},{"$f":"VLOOKUP($E$8,Poblacion!$C$8:$CQ$93,A16)","v":188},{"$f":"VLOOKUP($F$8,Poblacion!$C$8:$CQ$93,A16)","v":208},{"$f":"VLOOKUP($G$8,Poblacion!$C$8:$CQ$93,A16)","v":2237},{"$f":"VLOOKUP($H$8,Poblacion!$C$8:$CQ$93,A16)","v":296},{"$f":"VLOOKUP($I$8,Poblacion!$C$8:$CQ$93,A16)","v":456},{"$f":"VLOOKUP($J$8,Poblacion!$C$8:$CQ$93,A16)","v":207},3909,17.189973614775724,null,{"$f":"VLOOKUP(N$8,Poblacion!$C$8:$CQ$93,A16)","v":8832},null,{"$f":"VLOOKUP(P$8,Poblacion!$C$8:$CQ$93,A16)","v":7726},{"$f":"VLOOKUP(Q$8,Poblacion!$C$8:$CQ$93,A16)","v":15677},{"$f":"VLOOKUP(R$8,Poblacion!$C$8:$CQ$93,A16)","v":5910},{"$f":"VLOOKUP(S$8,Poblacion!$C$8:$CQ$93,A16)","v":4290},{"$f":"VLOOKUP(T$8,Poblacion!$C$8:$CQ$93,A16)","v":4488},38091]
[88,"Adulto    (30-59años)",{"$f":"VLOOKUP($C$8,Poblacion!$C$8:$CQ$93,A17)","v":374},{"$f":"VLOOKUP($D$8,Poblacion!$C$8:$CQ$93,A17)","v":330},{"$f":"VLOOKUP($E$8,Poblacion!$C$8:$CQ$93,A17)","v":601},{"$f":"VLOOKUP($F$8,Poblacion!$C$8:$CQ$93,A17)","v":388},{"$f":"VLOOKUP($G$8,Poblacion!$C$8:$CQ$93,A17)","v":3795},{"$f":"VLOOKUP($H$8,Poblacion!$C$8:$CQ$93,A17)","v":761},{"$f":"VLOOKUP($I$8,Poblacion!$C$8:$CQ$93,A17)","v":901},{"$f":"VLOOKUP($J$8,Poblacion!$C$8:$CQ$93,A17)","v":517},7667,33.715919085312223,null,{"$f":"VLOOKUP(N$8,Poblacion!$C$8:$CQ$93,A17)","v":16650},null,{"$f":"VLOOKUP(P$8,Poblacion!$C$8:$CQ$93,A17)","v":12082},{"$f":"VLOOKUP(Q$8,Poblacion!$C$8:$CQ$93,A17)","v":27566},{"$f":"VLOOKUP(R$8,Poblacion!$C$8:$CQ$93,A17)","v":9307},{"$f":"VLOOKUP(S$8,Poblacion!$C$8:$CQ$93,A17)","v":6654},{"$f":"VLOOKUP(T$8,Poblacion!$C$8:$CQ$93,A17)","v":8683},64292]
[89,"Adu.Mayor (60 a MAS)",{"$f":"VLOOKUP($C$8,Poblacion!$C$8:$CQ$93,A18)","v":311},{"$f":"VLOOKUP($D$8,Poblacion!$C$8:$CQ$93,A18)","v":145},{"$f":"VLOOKUP($E$8,Poblacion!$C$8:$CQ$93,A18)","v":365},{"$f":"VLOOKUP($F$8,Poblacion!$C$8:$CQ$93,A18)","v":180},{"$f":"VLOOKUP($G$8,Poblacion!$C$8:$CQ$93,A18)","v":798},{"$f":"VLOOKUP($H$8,Poblacion!$C$8:$CQ$93,A18)","v":477},{"$f":"VLOOKUP($I$8,Poblacion!$C$8:$CQ$93,A18)","v":392},{"$f":"VLOOKUP($J$8,Poblacion!$C$8:$CQ$93,A18)","v":257},2925,12.862796833773087,null,{"$f":"VLOOKUP(N$8,Poblacion!$C$8:$CQ$93,A18)","v":5947},null,{"$f":"VLOOKUP(P$8,Poblacion!$C$8:$CQ$93,A18)","v":3461},{"$f":"VLOOKUP(Q$8,Poblacion!$C$8:$CQ$93,A18)","v":9160},{"$f":"VLOOKUP(R$8,Poblacion!$C$8:$CQ$93,A18)","v":2693},{"$f":"VLOOKUP(S$8,Poblacion!$C$8:$CQ$93,A18)","v":2174},{"$f":"VLOOKUP(T$8,Poblacion!$C$8:$CQ$93,A18)","v":3191},20679]
[80,"Gestantes",{"$f":"VLOOKUP($C$8,Poblacion!$C$8:$CQ$93,A19)","v":8},{"$f":"VLOOKUP($D$8,Poblacion!$C$8:$CQ$93,A19)","v":18},{"$f":"VLOOKUP($E$8,Poblacion!$C$8:$CQ$93,A19)","v":36},{"$f":"VLOOKUP($F$8,Poblacion!$C$8:$CQ$93,A19)","v":48},{"$f":"VLOOKUP($G$8,Poblacion!$C$8:$CQ$93,A19)","v":351},{"$f":"VLOOKUP($H$8,Poblacion!$C$8:$CQ$93,A19)","v":40},{"$f":"VLOOKUP($I$8,Poblacion!$C$8:$CQ$93,A19)","v":78},{"$f":"VLOOKUP($J$8,Poblacion!$C$8:$CQ$93,A19)","v":28},607,2.6693051890941075,null,{"$f":"VLOOKUP(N$8,Poblacion!$C$8:$CQ$93,A19)","v":941},null,{"$f":"VLOOKUP(P$8,Poblacion!$C$8:$CQ$93,A19)","v":393},{"$f":"VLOOKUP(Q$8,Poblacion!$C$8:$CQ$93,A19)","v":743},{"$f":"VLOOKUP(R$8,Poblacion!$C$8:$CQ$93,A19)","v":707},{"$f":"VLOOKUP(S$8,Poblacion!$C$8:$CQ$93,A19)","v":173},{"$f":"VLOOKUP(T$8,Poblacion!$C$8:$CQ$93,A19)","v":251},2267]
[null," TOTAL",{"$f":"C13+C15+C16+C17+C18","v":1060},{"$f":"D13+D15+D16+D17+D18","v":990},1654,1149,11463,2185,2722,1517,{"$f":"K13+K15+K16+K17+K18","v":22740},{"$f":"IFERROR((K20/$K$20)*100,0)","v":100},null,{"$f":"N13+N15+N16+N17+N18","v":45202},null,{"$f":"P13+P15+P16+P17+P18","v":36593},{"$f":"Q13+Q15+Q16+Q17+Q18","v":78348},28203,20357,{"$f":"T13+T15+T16+T17+T18","v":25811},{"$f":"U13+U15+U16+U17+U18","v":189312}]
[null,{"$f":"Interfaz!$A$22","v":"Elaboración: Área de Estadística - RIS Huaura Oyón."}]
[]
[]
[]
[null,null,null,null,null,null,1,{"$f":"VLOOKUP($G$25,Poblacion!$C$8:$E$93,3,FALSE)","v":"HUAURA - OYON"}]
[null,"POBLACION POR\nETAPAS DE VIDA","TOTAL",null,"PORC. (%)",null,null,{"$f":"+\"POBLACION POR ETAPAS DE VIDA DEL \"&$H$25","v":"POBLACION POR ETAPAS DE VIDA DEL HUAURA - OYON"}]
[76,"Neonatal (0-28dias)",{"$f":"VLOOKUP($G$25,Poblacion!$C$8:$CQ$93,$A27)","v":340},null,{"$f":"IFERROR(($C27/$C$37)*100,0)","v":0.14498068345599838},null,null,{"$f":"B30","v":"Niño (0-11años)"},{"$f":"C30","v":51452}]
[82,"Infantil (Men.1año)",{"$f":"VLOOKUP($G$25,Poblacion!$C$8:$CQ$93,$A28)","v":4434},null,{"$f":"IFERROR(($C28/$C$37)*100,0)","v":1.8907186777761671},null,null,{"$f":"B32","v":"Adolescente (12-17años)"},28571]
[83,"Pre-escolar (01-04años)",{"$f":"VLOOKUP($G$25,Poblacion!$C$8:$CQ$93,$A29)","v":16483},null,7.028578251191826,null,null,"Adulto Joven (18-29años)",46923]
[84,"Niño (0-11años)",{"$f":"VLOOKUP($G$25,Poblacion!$C$8:$CQ$93,$A30)","v":51452},null,21.939841544641258,null,null,"Adulto    (30-59años)",80942]
[85,"Escolar  (05-17años)",{"$f":"VLOOKUP($G$25,Poblacion!$C$8:$CQ$93,$A31)","v":59106},null,25.203612577500706,null,null,"Adu.Mayor (60 a MAS)",26626]
[86,"Adolescente (12-17años)",{"$f":"VLOOKUP($G$25,Poblacion!$C$8:$CQ$93,$A32)","v":28571},null,12.183067961827438]
[87,"Adulto Joven (18-29años)",{"$f":"VLOOKUP($G$25,Poblacion!$C$8:$CQ$93,$A33)","v":46923},null,20.008613558252385]
[88,"Adulto    (30-59años)",{"$f":"VLOOKUP($G$25,Poblacion!$C$8:$CQ$93,$A34)","v":80942},null,34.514783765574762]
[89,"Adu.Mayor (60 a MAS)",{"$f":"VLOOKUP($G$25,Poblacion!$C$8:$CQ$93,$A35)","v":26626},null,11.353693169704155]
[80,"Gestantes",{"$f":"VLOOKUP($G$25,Poblacion!$C$8:$CQ$93,$A36)","v":5499},null,2.3448493480133381]
[null," TOTAL",{"$f":"C30+C32+C33+C34+C35","v":234514},null,100]
[null,{"$f":"Interfaz!$A$22","v":"Elaboración: Área de Estadística - RIS Huaura Oyón."}]

{"sheet":"Pobla_EESS","index":3,"n_rows":60,"n_cols":16,"rows_kept":60,"cut":false,"hidden":false,"merged":[[50,4,52,4],[51,11,54,11],[54,3,54,5],[55,11,57,11],[58,10,58,12],[1,3,4,10],[7,3,7,8],[7,10,7,15],[15,3,15,4],[25,4,29,4],[25,11,30,11],[30,4,31,4],[23,3,23,8],[23,10,23,15],[31,10,31,12],[39,4,45,4],[39,11,41,11],[42,11,46,11],[46,4,49,4],[9,4,13,4],[9,11,11,11],[12,11,16,11],[16,3,16,5],[19,10,19,12],[32,3,32,5],[37,3,37,8],[37,10,37,15]]}
[]
[null,null,null,"POBLACIÓN SEGÚN DISTRITOS Y EE.SS - 2011"]
[]
[]
[]
[]
[]
[null,null,null,"SIN MICRORED",null,null,null,null,null,null,"MICRORED HUALMAY"]
[null,null,null,"DISTRITO","POBLACIÓN","EE.SS","POBLACIÓN","MASCULINO","FEMENINO",null,"DISTRITO","POBLACIÓN","EE.SS","POBLACIÓN","MASCULINO","FEMENINO"]
[null,null,null,"HUACHO",{"$f":"G10","v":45202},"HOSPITAL HUACHO",{"$f":"VLOOKUP($F10,Poblacion!$E$8:$I$87,2,FALSE)","v":45202},{"$f":"VLOOKUP($F10,Poblacion!$E$8:$I$87,4,FALSE)","v":22379},{"$f":"VLOOKUP($F10,Poblacion!$E$8:$I$87,5,FALSE)","v":22823},null,"HUALMAY",{"$f":"SUM(N10:N12)","v":28163},"C.S. HUALMAY",{"$f":"VLOOKUP($M10,Poblacion!$E$8:$I$87,2,FALSE)","v":14884},{"$f":"VLOOKUP($M10,Poblacion!$E$8:$I$87,4,FALSE)","v":7370},{"$f":"VLOOKUP($M10,Poblacion!$E$8:$I$87,5,FALSE)","v":7514}]
[null,null,null,"HUACHO",null,"CLINICA SAN PEDRO",0,null,null,null,"HUALMAY",null,"P.S. DGO. MANDAMIENTO",{"$f":"VLOOKUP($M11,Poblacion!$E$8:$I$87,2,FALSE)","v":9294},{"$f":"VLOOKUP($M11,Poblacion!$E$8:$I$87,4,FALSE)","v":4603},{"$f":"VLOOKUP($M11,Poblacion!$E$8:$I$87,5,FALSE)","v":4691}]
[null,null,null,"HUACHO",null,"ESSALUD GUSTAVO LA NATA",0,null,null,null,"HUALMAY",null,"P.S. CAMPO ALEGRE",{"$f":"VLOOKUP($M12,Poblacion!$E$8:$I$87,2,FALSE)","v":3985},{"$f":"VLOOKUP($M12,Poblacion!$E$8:$I$87,4,FALSE)","v":1974},{"$f":"VLOOKUP($M12,Poblacion!$E$8:$I$87,5,FALSE)","v":2011}]
[null,null,null,"HUACHO",null,"CLINICA SAN BARTOLOME",0,null,null,null,"S.MARIA",{"$f":"SUM(N13:N17)","v":30893},"C.S. SANTA MARIA",{"$f":"VLOOKUP($M13,Poblacion!$E$8:$I$87,2,FALSE)","v":8650},{"$f":"VLOOKUP($M13,Poblacion!$E$8:$I$87,4,FALSE)","v":4284},{"$f":"VLOOKUP($M13,Poblacion!$E$8:$I$87,5,FALSE)","v":4366}]
[null,null,null,"HUACHO",null,"GOLD ESTANDAR EIRL.",0,null,null,null,"S.MARIA",null,"P.S. CHONTA",{"$f":"VLOOKUP($M14,Poblacion!$E$8:$I$87,2,FALSE)","v":4634},{"$f":"VLOOKUP($M14,Poblacion!$E$8:$I$87,4,FALSE)","v":2298},{"$f":"VLOOKUP($M14,Poblacion!$E$8:$I$87,5,FALSE)","v":2336}]
[null,null,null,"CARQUIN",null,"INSITUTO NACIONAL PENITENCIARIO CARQUIN",0,null,null,null,"S.MARIA",null,"P.S. ZAPATA",{"$f":"VLOOKUP($M15,Poblacion!$E$8:$I$87,2,FALSE)","v":2471},{"$f":"VLOOKUP($M15,Poblacion!$E$8:$I$87,4,FALSE)","v":1224},{"$f":"VLOOKUP($M15,Poblacion!$E$8:$I$87,5,FALSE)","v":1247}]
[null,null,null,null,null,"OTROS ESTABLECIMIENTOS",0,null,null,null,"S.MARIA",null,"P.S. AMADO VELASQUEZ",{"$f":"VLOOKUP($M16,Poblacion!$E$8:$I$87,2,FALSE)","v":8032},{"$f":"VLOOKUP($M16,Poblacion!$E$8:$I$87,4,FALSE)","v":3975},{"$f":"VLOOKUP($M16,Poblacion!$E$8:$I$87,5,FALSE)","v":4057}]
[null,null,null,"TOTAL SIN MICRORED",null,null,{"$f":"SUM(G10:G16)","v":45202},{"$f":"SUM(H10:H16)","v":22379},{"$f":"SUM(I10:I16)","v":22823},null,"S.MARIA",null,"P.S. SAN BARTOLOME",{"$f":"VLOOKUP($M17,Poblacion!$E$8:$I$87,2,FALSE)","v":7106},{"$f":"VLOOKUP($M17,Poblacion!$E$8:$I$87,4,FALSE)","v":3516},{"$f":"VLOOKUP($M17,Poblacion!$E$8:$I$87,5,FALSE)","v":3590}]
[null,null,null,{"$f":"'etapas y mredes'!B21","v":"Elaboración: Área de Estadística - RIS Huaura Oyón."},null,null,null,null,null,null,"CARQUIN",{"$f":"N18","v":6540},"P.S. CARQUIN",{"$f":"VLOOKUP($M18,Poblacion!$E$8:$I$87,2,FALSE)","v":6540},{"$f":"VLOOKUP($M18,Poblacion!$E$8:$I$87,4,FALSE)","v":3235},{"$f":"VLOOKUP($M18,Poblacion!$E$8:$I$87,5,FALSE)","v":3305}]
[null,null,null,null,null,null,null,null,null,null,"HUACHO",{"$f":"N19","v":12752},"C.S. MANZANARES",{"$f":"VLOOKUP($M19,Poblacion!$E$8:$I$87,2,FALSE)","v":12752},{"$f":"VLOOKUP($M19,Poblacion!$E$8:$I$87,4,FALSE)","v":6313},{"$f":"VLOOKUP($M19,Poblacion!$E$8:$I$87,5,FALSE)","v":6439}]
[null,null,null,null,null,null,null,null,null,null,"TOTAL MCR HUALMAY",null,"TOTAL MICRORED HUALMAY",{"$f":"SUM(N10:N19)","v":78348},{"$f":"SUM(O10:O19)","v":38792},{"$f":"SUM(P10:P19)","v":39556}]
[null,null,null,null,null,null,null,null,null,null,{"$f":"D18","v":"Elaboración: Área de Estadística - RIS Huaura Oyón."}]
[]
[]
[null,null,null,"MICRORED HUAURA",null,null,null,null,null,null,"MICRORED VEGUETA"]
[null,null,null,"DISTRITO","POBLACIÓN","EE.SS","POBLACIÓN","MASCULINO","FEMENINO",null,"DISTRITO","POBLACIÓN","EE.SS","POBLACIÓN","MASCULINO","FEMENINO"]
[null,null,null,"HUAURA",{"$f":"SUM(G26:G30)","v":33759},"C.S. HUAURA",{"$f":"VLOOKUP($F26,Poblacion!$E$8:$I$87,2,FALSE)","v":15192},{"$f":"VLOOKUP($F26,Poblacion!$E$8:$I$87,4,FALSE)","v":7526},{"$f":"VLOOKUP($F26,Poblacion!$E$8:$I$87,5,FALSE)","v":7666},null,"VEGUETA",{"$f":"SUM(N26:N31)","v":20357},"C.S. VEGUETA",{"$f":"VLOOKUP($M26,Poblacion!$E$8:$I$87,2,FALSE)","v":6100},{"$f":"VLOOKUP($M26,Poblacion!$E$8:$I$87,4,FALSE)","v":3017},{"$f":"VLOOKUP($M26,Poblacion!$E$8:$I$87,5,FALSE)","v":3083}]
[null,null,null,"HUAURA",null,"C.S. SOCORRO",{"$f":"VLOOKUP($F27,Poblacion!$E$8:$I$87,2,FALSE)","v":11816},{"$f":"VLOOKUP($F27,Poblacion!$E$8:$I$87,4,FALSE)","v":5853},{"$f":"VLOOKUP($F27,Poblacion!$E$8:$I$87,5,FALSE)","v":5963},null,"VEGUETA",null,"P.S. MAZO",{"$f":"VLOOKUP($M27,Poblacion!$E$8:$I$87,2,FALSE)","v":2036},{"$f":"VLOOKUP($M27,Poblacion!$E$8:$I$87,4,FALSE)","v":1009},{"$f":"VLOOKUP($M27,Poblacion!$E$8:$I$87,5,FALSE)","v":1027}]
[null,null,null,"HUAURA",null,"P.S. HUMAYA",{"$f":"VLOOKUP($F28,Poblacion!$E$8:$I$87,2,FALSE)","v":4220},{"$f":"VLOOKUP($F28,Poblacion!$E$8:$I$87,4,FALSE)","v":2093},{"$f":"VLOOKUP($F28,Poblacion!$E$8:$I$87,5,FALSE)","v":2127},null,"VEGUETA",null,"P.S. PRIMAVERA",{"$f":"VLOOKUP($M28,Poblacion!$E$8:$I$87,2,FALSE)","v":2242},{"$f":"VLOOKUP($M28,Poblacion!$E$8:$I$87,4,FALSE)","v":1109},{"$f":"VLOOKUP($M28,Poblacion!$E$8:$I$87,5,FALSE)","v":1133}]
[null,null,null,"HUAURA",null,"P.S. VILCAHUAURA",{"$f":"VLOOKUP($F29,Poblacion!$E$8:$I$87,2,FALSE)","v":2025},{"$f":"VLOOKUP($F29,Poblacion!$E$8:$I$87,4,FALSE)","v":1001},{"$f":"VLOOKUP($F29,Poblacion!$E$8:$I$87,5,FALSE)","v":1024},null,"VEGUETA",null,"P.S. MARIATEGUI",{"$f":"VLOOKUP($M29,Poblacion!$E$8:$I$87,2,FALSE)","v":4888},{"$f":"VLOOKUP($M29,Poblacion!$E$8:$I$87,4,FALSE)","v":2421},{"$f":"VLOOKUP($M29,Poblacion!$E$8:$I$87,5,FALSE)","v":2467}]
[null,null,null,"HUAURA",null,"P.S. PEÑICO",{"$f":"VLOOKUP($F30,Poblacion!$E$8:$I$87,2,FALSE)","v":506},{"$f":"VLOOKUP($F30,Poblacion!$E$8:$I$87,4,FALSE)","v":242},{"$f":"VLOOKUP($F30,Poblacion!$E$8:$I$87,5,FALSE)","v":264},null,"VEGUETA",null,"P.S. MEDIO MUNDO",{"$f":"VLOOKUP($M30,Poblacion!$E$8:$I$87,2,FALSE)","v":4275},{"$f":"VLOOKUP($M30,Poblacion!$E$8:$I$87,4,FALSE)","v":2119},{"$f":"VLOOKUP($M30,Poblacion!$E$8:$I$87,5,FALSE)","v":2156}]
[null,null,null,"AMBAR",{"$f":"SUM(G31:G32)","v":2834},"C.S. AMBAR",{"$f":"VLOOKUP($F31,Poblacion!$E$8:$I$87,2,FALSE)","v":1700},{"$f":"VLOOKUP($F31,Poblacion!$E$8:$I$87,4,FALSE)","v":843},{"$f":"VLOOKUP($F31,Poblacion!$E$8:$I$87,5,FALSE)","v":857},null,"VEGUETA",null,"P.S. TIROLER",{"$f":"VLOOKUP($M31,Poblacion!$E$8:$I$87,2,FALSE)","v":816},{"$f":"VLOOKUP($M31,Poblacion!$E$8:$I$87,4,FALSE)","v":401},{"$f":"VLOOKUP($M31,Poblacion!$E$8:$I$87,5,FALSE)","v":415}]
[null,null,null,"AMBAR",null,"P.S. AYNACA",{"$f":"VLOOKUP($F32,Poblacion!$E$8:$I$87,2,FALSE)","v":1134},{"$f":"VLOOKUP($F32,Poblacion!$E$8:$I$87,4,FALSE)","v":560},{"$f":"VLOOKUP($F32,Poblacion!$E$8:$I$87,5,FALSE)","v":574},null,"TOTAL MCR VEGUETA",null,null,{"$f":"SUM(N26:N31)","v":20357},{"$f":"SUM(O26:O31)","v":10076},{"$f":"SUM(P26:P31)","v":10281}]
[null,null,null,"TOTAL MCR HUAURA",null,"TOTAL MICRORED HUAURA ",{"$f":"SUM(G26:G32)","v":36593},{"$f":"SUM(H26:H32)","v":18118},18475,null,{"$f":"K21","v":"Elaboración: Área de Estadística - RIS Huaura Oyón."}]
[null,null,null,{"$f":"K21","v":"Elaboración: Área de Estadística - RIS Huaura Oyón."}]
[]
[]
[]
[null,null,null,"MICRORED SAYAN",null,null,null,null,null,null,"MICRORED CHURIN OYÓN"]
[null,null,null,"DISTRITO","POBLACIÓN","EE.SS","POBLACIÓN","MASCULINO","FEMENINO",null,"DISTRITO","POBLACIÓN","EE.SS","POBLACIÓN","MASCULINO","FEMENINO"]
[null,null,null,"SAYAN",{"$f":"SUM(G40:G46)","v":23386},"C.S. SAYAN",{"$f":"VLOOKUP($F40,Poblacion!$E$8:$I$87,2,FALSE)","v":9588},{"$f":"VLOOKUP($F40,Poblacion!$E$8:$I$87,4,FALSE)","v":4752},{"$f":"VLOOKUP($F40,Poblacion!$E$8:$I$87,5,FALSE)","v":4836},null,"PACHANGARA",{"$f":"SUM(N40:N42)","v":3445},"C.S. CHURIN",{"$f":"VLOOKUP(M40,Poblacion!$E$5:$I$88,2,FALSE)","v":2722},{"$f":"VLOOKUP(M40,Poblacion!$E$5:$I$88,4,FALSE)","v":1349},{"$f":"VLOOKUP(M40,Poblacion!$E$5:$I$88,5,FALSE)","v":1373}]
[null,null,null,"SAYAN",null,"C.S. 9 DE OCTUBRE",{"$f":"VLOOKUP($F41,Poblacion!$E$8:$I$87,2,FALSE)","v":4911},{"$f":"VLOOKUP($F41,Poblacion!$E$8:$I$87,4,FALSE)","v":2433},{"$f":"VLOOKUP($F41,Poblacion!$E$8:$I$87,5,FALSE)","v":2478},null,"PACHANGARA",null,"P.S. PACHANGARA",{"$f":"VLOOKUP(M41,Poblacion!$E$5:$I$88,2,FALSE)","v":344},{"$f":"VLOOKUP(M41,Poblacion!$E$5:$I$88,4,FALSE)","v":165},{"$f":"VLOOKUP(M41,Poblacion!$E$5:$I$88,5,FALSE)","v":179}]
[null,null,null,"SAYAN",null,"P.S. CHAMBARA",{"$f":"VLOOKUP($F42,Poblacion!$E$8:$I$87,2,FALSE)","v":1169},{"$f":"VLOOKUP($F42,Poblacion!$E$8:$I$87,4,FALSE)","v":575},{"$f":"VLOOKUP($F42,Poblacion!$E$8:$I$87,5,FALSE)","v":594},null,"PACHANGARA",null,"P.S. HUANCAHUASI",{"$f":"VLOOKUP(M42,Poblacion!$E$5:$I$88,2,FALSE)","v":379},{"$f":"VLOOKUP(M42,Poblacion!$E$5:$I$88,4,FALSE)","v":182},{"$f":"VLOOKUP(M42,Poblacion!$E$5:$I$88,5,FALSE)","v":197}]
[null,null,null,"SAYAN",null,"P.S. LA MERCED",{"$f":"VLOOKUP($F43,Poblacion!$E$8:$I$87,2,FALSE)","v":2339},{"$f":"VLOOKUP($F43,Poblacion!$E$8:$I$87,4,FALSE)","v":1155},{"$f":"VLOOKUP($F43,Poblacion!$E$8:$I$87,5,FALSE)","v":1184},null,"OYON",{"$f":"SUM(N43:N47)","v":13811},"C.S. OYON",{"$f":"VLOOKUP(M43,Poblacion!$E$5:$I$88,2,FALSE)","v":11463},{"$f":"VLOOKUP(M43,Poblacion!$E$5:$I$88,4,FALSE)","v":5678},{"$f":"VLOOKUP(M43,Poblacion!$E$5:$I$88,5,FALSE)","v":5785}]
[null,null,null,"SAYAN",null,"P.S. LA VILLA",{"$f":"VLOOKUP($F44,Poblacion!$E$8:$I$87,2,FALSE)","v":3742},{"$f":"VLOOKUP($F44,Poblacion!$E$8:$I$87,4,FALSE)","v":1856},{"$f":"VLOOKUP($F44,Poblacion!$E$8:$I$87,5,FALSE)","v":1886},null,"OYON",null,"P.S. MALLAY",{"$f":"VLOOKUP(M44,Poblacion!$E$5:$I$88,2,FALSE)","v":691},{"$f":"VLOOKUP(M44,Poblacion!$E$5:$I$88,4,FALSE)","v":338},{"$f":"VLOOKUP(M44,Poblacion!$E$5:$I$88,5,FALSE)","v":353}]
[null,null,null,"SAYAN",null,"P.S. EL AHORCADO",{"$f":"VLOOKUP($F45,Poblacion!$E$8:$I$87,2,FALSE)","v":935},{"$f":"VLOOKUP($F45,Poblacion!$E$8:$I$87,4,FALSE)","v":460},{"$f":"VLOOKUP($F45,Poblacion!$E$8:$I$87,5,FALSE)","v":475},null,"OYON",null,"P.S. NAVA",{"$f":"VLOOKUP(M45,Poblacion!$E$5:$I$88,2,FALSE)","v":138},{"$f":"VLOOKUP(M45,Poblacion!$E$5:$I$88,4,FALSE)","v":60},{"$f":"VLOOKUP(M45,Poblacion!$E$5:$I$88,5,FALSE)","v":78}]
[null,null,null,"SAYAN",null,"P.S. LA UNION",{"$f":"VLOOKUP($F46,Poblacion!$E$8:$I$87,2,FALSE)","v":702},{"$f":"VLOOKUP($F46,Poblacion!$E$8:$I$87,4,FALSE)","v":343},{"$f":"VLOOKUP($F46,Poblacion!$E$8:$I$87,5,FALSE)","v":359},null,"OYON",null,"P.S. TINTA",{"$f":"VLOOKUP(M46,Poblacion!$E$5:$I$88,2,FALSE)","v":414},{"$f":"VLOOKUP(M46,Poblacion!$E$5:$I$88,4,FALSE)","v":198},{"$f":"VLOOKUP(M46,Poblacion!$E$5:$I$88,5,FALSE)","v":216}]
[null,null,null,"L.PRADO",{"$f":"SUM(G47:G50)","v":2034},"P.S. AUQUIMARCA",{"$f":"VLOOKUP($F47,Poblacion!$E$8:$I$87,2,FALSE)","v":366},{"$f":"VLOOKUP($F47,Poblacion!$E$8:$I$87,4,FALSE)","v":177},{"$f":"VLOOKUP($F47,Poblacion!$E$8:$I$87,5,FALSE)","v":189},null,"OYON",null,"P.S. RAPAZ",{"$f":"VLOOKUP(M47,Poblacion!$E$5:$I$88,2,FALSE)","v":1105},{"$f":"VLOOKUP(M47,Poblacion!$E$5:$I$88,4,FALSE)","v":544},{"$f":"VLOOKUP(M47,Poblacion!$E$5:$I$88,5,FALSE)","v":561}]
[null,null,null,"L.PRADO",null,"P.S. PARAN",{"$f":"VLOOKUP($F48,Poblacion!$E$8:$I$87,2,FALSE)","v":814},{"$f":"VLOOKUP($F48,Poblacion!$E$8:$I$87,4,FALSE)","v":398},{"$f":"VLOOKUP($F48,Poblacion!$E$8:$I$87,5,FALSE)","v":416},null,"ANDAJES",{"$f":"N48","v":1060},"P.S. ANDAJES",{"$f":"VLOOKUP(M48,Poblacion!$E$5:$I$88,2,FALSE)","v":1060},{"$f":"VLOOKUP(M48,Poblacion!$E$5:$I$88,4,FALSE)","v":520},{"$f":"VLOOKUP(M48,Poblacion!$E$5:$I$88,5,FALSE)","v":540}]
[null,null,null,"L.PRADO",null,"P.S. SANTA CRUZ",{"$f":"VLOOKUP($F49,Poblacion!$E$8:$I$87,2,FALSE)","v":447},{"$f":"VLOOKUP($F49,Poblacion!$E$8:$I$87,4,FALSE)","v":212},{"$f":"VLOOKUP($F49,Poblacion!$E$8:$I$87,5,FALSE)","v":235},null,"CAUJUL",{"$f":"N49","v":990},"P.S. CAUJUL",{"$f":"VLOOKUP(M49,Poblacion!$E$5:$I$88,2,FALSE)","v":990},{"$f":"VLOOKUP(M49,Poblacion!$E$5:$I$88,4,FALSE)","v":487},{"$f":"VLOOKUP(M49,Poblacion!$E$5:$I$88,5,FALSE)","v":503}]
[null,null,null,"L.PRADO",null,"P.S. HUANANGUI",{"$f":"VLOOKUP($F50,Poblacion!$E$8:$I$87,2,FALSE)","v":407},{"$f":"VLOOKUP($F50,Poblacion!$E$8:$I$87,4,FALSE)","v":195},{"$f":"VLOOKUP($F50,Poblacion!$E$8:$I$87,5,FALSE)","v":212},null,"NAVAN",1149,"P.S. NAVAN",{"$f":"VLOOKUP(M50,Poblacion!$E$5:$I$88,2,FALSE)","v":1149},{"$f":"VLOOKUP(M50,Poblacion!$E$5:$I$88,4,FALSE)","v":567},{"$f":"VLOOKUP(M50,Poblacion!$E$5:$I$88,5,FALSE)","v":582}]
[null,null,null,"COCHAMARCA",{"$f":"SUM(G51:G53)","v":1578},"P.S. COCHAMARCA",{"$f":"VLOOKUP($F51,Poblacion!$E$8:$I$87,2,FALSE)","v":568},{"$f":"VLOOKUP($F51,Poblacion!$E$8:$I$87,4,FALSE)","v":274},{"$f":"VLOOKUP($F51,Poblacion!$E$8:$I$87,5,FALSE)","v":294},null,"CHECRAS",1654,"P.S. PUÑUN",{"$f":"VLOOKUP(M51,Poblacion!$E$5:$I$88,2,FALSE)","v":1654},{"$f":"VLOOKUP(M51,Poblacion!$E$5:$I$88,4,FALSE)","v":818},{"$f":"VLOOKUP(M51,Poblacion!$E$5:$I$88,5,FALSE)","v":836}]
[null,null,null,"COCHAMARCA",null,"P.S. COLCAPAMPA",{"$f":"VLOOKUP($F52,Poblacion!$E$8:$I$87,2,FALSE)","v":742},{"$f":"VLOOKUP($F52,Poblacion!$E$8:$I$87,4,FALSE)","v":364},{"$f":"VLOOKUP($F52,Poblacion!$E$8:$I$87,5,FALSE)","v":378},null,"PACCHO",{"$f":"SUM(N52:N55)","v":2185},"P.S. PACCHO",{"$f":"VLOOKUP(M52,Poblacion!$E$5:$I$88,2,FALSE)","v":830},{"$f":"VLOOKUP(M52,Poblacion!$E$5:$I$88,4,FALSE)","v":404},{"$f":"VLOOKUP(M52,Poblacion!$E$5:$I$88,5,FALSE)","v":426}]
[null,null,null,"COCHAMARCA",null,"P.S. YARUCAYA",{"$f":"VLOOKUP($F53,Poblacion!$E$8:$I$87,2,FALSE)","v":268},{"$f":"VLOOKUP($F53,Poblacion!$E$8:$I$87,4,FALSE)","v":124},{"$f":"VLOOKUP($F53,Poblacion!$E$8:$I$87,5,FALSE)","v":144},null,"PACCHO",null,"P.S. LACSANGA",{"$f":"VLOOKUP(M53,Poblacion!$E$5:$I$88,2,FALSE)","v":459},{"$f":"VLOOKUP(M53,Poblacion!$E$5:$I$88,4,FALSE)","v":221},{"$f":"VLOOKUP(M53,Poblacion!$E$5:$I$88,5,FALSE)","v":238}]
[null,null,null,"IHUARI - ACOTAMA",{"$f":"G54","v":1205},"IHUARI - ACOTAMA",{"$f":"VLOOKUP($F54,Poblacion!$E$8:$I$87,2,FALSE)","v":1205},{"$f":"VLOOKUP($F54,Poblacion!$E$8:$I$87,4,FALSE)","v":595},{"$f":"VLOOKUP($F54,Poblacion!$E$8:$I$87,5,FALSE)","v":610},null,"PACCHO",null,"P.S. AYARANGA",{"$f":"VLOOKUP(M54,Poblacion!$E$5:$I$88,2,FALSE)","v":415},{"$f":"VLOOKUP(M54,Poblacion!$E$5:$I$88,4,FALSE)","v":197},{"$f":"VLOOKUP(M54,Poblacion!$E$5:$I$88,5,FALSE)","v":219}]
[null,null,null,"TOTAL MICRORED SAYAN",null,null,{"$f":"SUM(G40:G54)","v":28203},{"$f":"SUM(H40:H54)","v":13913},14290,null,"PACCHO",null,"P.S. MUZGA",{"$f":"VLOOKUP(M55,Poblacion!$E$5:$I$88,2,FALSE)","v":481},{"$f":"VLOOKUP(M55,Poblacion!$E$5:$I$88,4,FALSE)","v":229},{"$f":"VLOOKUP(M55,Poblacion!$E$5:$I$88,5,FALSE)","v":251}]
[null,null,null,{"$f":"K33","v":"Elaboración: Área de Estadística - RIS Huaura Oyón."},null,null,null,null,null,null,"S.LEONOR",{"$f":"SUM(N56:N58)","v":1517},"P.S. CHIUCHIN",{"$f":"VLOOKUP(M56,Poblacion!$E$5:$I$88,2,FALSE)","v":925},{"$f":"VLOOKUP(M56,Poblacion!$E$5:$I$88,4,FALSE)","v":455},{"$f":"VLOOKUP(M56,Poblacion!$E$5:$I$88,5,FALSE)","v":470}]
[null,null,null,null,null,null,null,null,null,null,"S.LEONOR",null,"P.S. PARQUIN",{"$f":"VLOOKUP(M57,Poblacion!$E$5:$I$88,2,FALSE)","v":425},{"$f":"VLOOKUP(M57,Poblacion!$E$5:$I$88,4,FALSE)","v":204},{"$f":"VLOOKUP(M57,Poblacion!$E$5:$I$88,5,FALSE)","v":221}]
[null,null,null,null,null,null,null,null,null,null,"S.LEONOR",null,"P.S. JUCUL",{"$f":"VLOOKUP(M58,Poblacion!$E$5:$I$88,2,FALSE)","v":167},{"$f":"VLOOKUP(M58,Poblacion!$E$5:$I$88,4,FALSE)","v":77},{"$f":"VLOOKUP(M58,Poblacion!$E$5:$I$88,5,FALSE)","v":90}]
[null,null,null,null,null,null,null,null,null,null,"TOTAL MICRORED CHURIN - OYON",null,null,{"$f":"SUM(N40:N58)","v":25811},{"$f":"SUM(O40:O58)","v":12693},13118]
[null,null,null,null,null,null,null,null,null,null,{"$f":"K33","v":"Elaboración: Área de Estadística - RIS Huaura Oyón."}]