{"text_format":"1","workbook":"xlsx","n_sheets":4,"sheets":["Interfaz","Poblacion","etapas y mredes","Pobla_EESS"],"not_rendered":{"charts":1,"images":13,"macros":1,"external_links":1,"defined_names":4,"comments":0,"pivot_tables":0},"unopened":[],"bounds":{"document_bytes":16777216,"sheet_cells":100000,"rows_first":2000,"rows_last":500,"rows_between":2000,"halvings":0,"cell_chars":16384,"cell_head_chars":4096},"cells_cut":0,"cells_raw":0,"read":"whole","date_system":"1900"}

{"sheet":"Interfaz","index":0,"n_rows":27,"n_cols":18,"rows_kept":27,"cut":false,"hidden":false,"merged":[[4,2,7,11],[9,2,11,11]]}
[]
[]
[]
[]
[null,null,"POBLACIÓN ASIGNADA SEGÚN CENSOS INEI - RENIEC - PN - CNV - 2010"]
[]
[]
[]
[]
[null,null,"RED INTEGRADA DE SALUD HUAURA OYÓN "]
[]
[]
[]
[]
[]
[]
[]
[]
[]
[]
[]
["Elaboración: Área de Estadística - RIS Huaura Oyón."]
["NOTA: LA POBLACION ESTIMADA DE EDADES  SIMPLES Y GRUPOS DE EDAD DE DISTRITOS, CORRESPONDEN A CIFRAS REFERENCIALES HASTA OBTENER LAS CIFRAS DE LAS PROYECCIONES DEL INEI"]
[]
[]
["OFICINA DE GESTION DE LA INFORMACIÓN - MINISTERIO DE SALUD"]
[null,null,null,null,null,null,null,null,null,null,null,null,null,null,null,null,null,"Versión1.030"]

{"sheet":"Poblacion","index":1,"n_rows":92,"n_cols":107,"rows_kept":92,"cut":false,"hidden":false,"merged":[[4,63,6,63],[4,65,6,65],[4,74,6,74],[5,54,6,54],[5,55,6,55],[5,56,6,56],[5,57,6,57],[5,60,6,60],[5,61,6,61],[4,64,6,64],[2,68,2,75],[4,73,6,73],[4,72,6,72],[4,66,6,66],[4,67,6,67],[4,68,6,68],[4,70,6,70],[4,69,6,69],[4,52,4,53],[4,60,4,61],[5,52,5,53],[5,46,5,47],[5,48,5,49],[5,50,5,51],[4,50,4,51],[4,48,4,49],[4,59,6,59],[4,54,4,57],[4,58,6,58],[4,46,4,47],[1,18,1,43],[2,18,2,43],[4,36,4,37],[4,26,4,27],[3,18,3,43],[4,24,4,25],[4,34,4,35],[4,18,4,19],[4,20,4,21],[4,22,4,23],[4,28,4,29],[4,32,4,33],[4,42,4,43],[4,7,6,7],[4,8,6,8],[5,28,5,29],[4,30,4,31],[5,30,5,31],[4,10,4,11],[5,10,5,11],[4,12,4,13],[5,32,5,33],[4,38,4,39],[5,38,5,39],[4,40,4,41],[5,40,5,41],[5,42,5,43],[5,26,5,27],[5,34,5,35],[5,44,5,45],[4,5,6,5],[4,44,4,45],[5,12,5,13],[4,14,4,15],[5,14,5,15],[5,36,5,37],[5,24,5,25],[4,16,4,17],[5,20,5,21],[5,22,5,23],[5,16,5,17],[5,18,5,19]]}
[null,null,1,2,3,4,5,6,7,8,9,10,11,12,13,14,15,16,17,18,19,20,21,22,23,24,25,26,27,28,29,30,31,32,33,34,35,36,37,38,39,40,41,42,43,44,45,46,47,48,49,50,51,52,53,54,55,56,57,58,59,60,61,62,63,64,65,66,67,68,69,70,71,72,73,74,75,76,77,78,79,80,81,82,83,84,85,86,87,88,89,90,91,92,93,94,95,96,97,98,99,106,107,108,109,110,111]
[null,null,null,null,null,null,null,null,null,null,null,null,null,null,null,null,null,null,"POBLACIÓN ESTIMADA POR GRUPOS DE EDAD, SEGÚN PROVINCIAS DISTRITOS Y ESTABLECIMIENTOS DE SALUD"]
[null,null,null,null,null,null,null,null,null,null,null,null,null,null,null,null,null,null,"RED INTEGRADA DE SALUD HUAURA OYON   -   AÑO  2010",null,null,null,null,null,null,null,null,null,null,null,null,null,null,null,null,null,null,null,null,null,null,null,null,null,null,null,null,null,null,null,null,null,null,null,null,null,null,null,null,null,null,null,null,null,null,null,null,null,"MAS GRUPOS DE EDAD"]
[null,null,null,null,null,null,null,null,null,null,null,null,null,null,null,null,null,null,"EDADES PUNTUALES Y GRUPOS DE EDAD"]
[null,null,"N°",null,"DIRECCION DE SALUD","TOTAL GENERAL",null,"TOTAL MASCULINO","TOTAL FEMENINO",null,"EDAD",null,"EDAD",null,"EDAD",null,"EDAD",null,"EDAD",null,"EDAD",null,"EDAD",null,"EDAD",null,"EDAD",null,"EDAD",null,"EDAD",null,"EDAD",null,"EDAD",null,"EDAD",null,"EDAD",null,"EDAD",null,"EDAD",null,"EDAD",null,"EDAD",null,"EDAD",null,"EDAD",null,"EDAD",null,"GESTANTES",null,null,null,"NACIMIENTOS","28 DIAS DE NACIDO","POB.FEMENINA",null,null,"menor de 1 Año","Pre escolar         (1-4)","Niño             (0 - 11)","Escolar               (05 - 17)","Adolescente (12 - 17)","Adulto Joven (18 - 29)","Adulto            (30-59)","Adu.Mayor (60 a MAS)",null,"Escolar               (05 - 09)","Adolescente (10 - 19)","Adulto            (20-59)"]
["UBIGEO",null,null,null,"PROVINCIA",null,null,null,null,null,0,null,1,null,2,null,3,null,4,null,"5 - 9",null,"10 - 11",null,"12 - 17",null,"18 - 19",null,"20 - 24",null,"25 - 29",null,"30 - 34",null,"35 - 39",null,"40 - 44 ",null,"45 - 49",null,"50 - 54 ",null,"55 - 59 ",null,"60 - 64",null,"65 - 69 ",null,"70- 74 ",null,"75 - 79 ",null,"80 - +",null,"TOTAL","SECTOR PUBLICO","SECTOR PRIVADO","NO RECIBIERON\nATENCION",null,null,"10 - 19","15 - 49"]
[null,"Microredes",null,"RENAES","DISTRITO",null,null,null,null,null,"M","F","M","F","M","F","M","F","M","F","M","F","M","F","M","F","M","F","M","F","M","F","M","F","M","F","M","F","M","F","M","F","M","F","M","F","M","F","M","F","M","F","M","F"]
[150000,null,1,null,"HUAURA - OYON",242794,null,120219.4491,122574.5509,null,2092.5038999999997,2133.4961000000003,2082.6008999999999,2123.3991000000001,2085.07665,2125.92335,2084.5814999999998,2125.4185000000002,2087.0572499999998,2127.9427500000002,10373.887649999999,10577.112350000001,4116.1819500000001,4196.8180499999999,13379.44815,13641.55185,4656.8857499999995,4748.1142500000005,10826.9499,11039.0501,10719.502349999999,10929.497650000001,10284.2655,10485.7345,8598.2797499999997,8766.7202500000003,7854.5644499999999,8008.4355500000001,7044.4990499999994,7182.5009500000006,5661.5450999999994,5772.4549000000006,4632.6233999999995,4723.3766000000005,3619.5464999999999,3690.4535000000001,2822.8501499999998,2878.1498500000002,2195.4951000000001,2238.5048999999999,1566.6545999999998,1597.3454000000002,1434.44955,1462.55045,7279,5913,1243,123,4176,318,21881,68209,null,4226,16842,50332,56285,27021,52920,89015,23506,null,20951,44739,132530]
[150800,null,2,150800,"PROVINCIA HUAURA",216624,null,107261.37359999998,109362.62640000002,null,1867.21065,1903.78935,1857.8027999999999,1894.1972000000001,1860.27855,1896.72145,1860.7737,1897.2263,1861.2688499999999,1897.7311500000001,9255.8389499999994,9437.1610500000006,3672.5275499999998,3744.4724500000002,11936.581049999999,12170.418950000001,4155.2987999999996,4236.7012000000004,9659.8813499999997,9849.1186500000003,9564.3173999999999,9751.6826000000001,9175.6246499999997,9355.3753500000003,7671.3589499999998,7821.6410500000002,7008.3530999999994,7145.6469000000006,6285.4340999999995,6408.5659000000005,5051.0251499999995,5149.9748500000005,4133.0170499999995,4213.9829500000005,3229.3683000000001,3292.6316999999999,2518.8280500000001,2568.1719499999999,1958.8134,1997.1866,1397.80845,1425.19155,1279.9627499999999,1305.0372500000001,6479,5262,1107,110,3717,283,19481,60725,null,3771,15026,44907,50217,24107,47217,79420,20973,null,18693,39916,118245]
[150801,null,3,150802,"DISTRITO HUACHO",60846,null,30127.8969,30718.1031,null,522.38324999999998,532.61675000000002,521.88810000000001,532.11189999999999,522.38324999999998,532.61675000000002,522.38324999999998,532.61675000000002,522.87839999999994,533.12160000000006,2600.0326500000001,2650.9673499999999,1031.3974499999999,1051.6025500000001,3352.6606499999998,3418.3393500000002,1167.5636999999999,1190.4363000000001,2713.422,2766.578,2686.6839,2739.3161,2577.2557499999998,2627.7442500000002,2154.8928000000001,2197.1071999999999,1968.7164,2007.2836,1765.7049,1800.2951,1418.60475,1446.39525,1161.1267499999999,1183.8732500000001,907.11479999999995,924.88520000000005,707.56934999999999,721.43065000000001,550.11164999999994,560.88835000000006,392.65395000000001,400.34604999999999,360.4692,367.5308,1848,1501,316,31,1060,81,5583,17400,null,1055,4220,12609,14105,6771,13264,22309,5893,null,5251,11212,33215]
[null,"00",4,7639,"HOSPITAL HUACHO",48677,null,24102.416549999994,24574.583450000006,null,417.90659999999997,426.09340000000003,417.41145,425.58855,417.90659999999997,426.09340000000003,417.90659999999997,426.09340000000003,418.40174999999999,426.59825000000001,2080.1251499999998,2120.8748500000002,824.91989999999998,841.08010000000002,2682.2275500000001,2734.7724499999999,933.85289999999998,952.14710000000002,2170.7375999999999,2213.2624000000001,2149.4461499999998,2191.5538500000002,2061.8045999999999,2102.1954000000001,1724.1123,1757.8877,1575.07215,1605.92785,1412.6629499999999,1440.3370500000001,1134.8838000000001,1157.1161999999999,928.90139999999997,947.09860000000003,725.88990000000001,740.11009999999999,565.95645000000002,577.04354999999998,440.18834999999996,448.81165000000004,313.92509999999999,320.07490000000001,288.1773,293.8227,1479,1201,253,25,848,65,4466,13920,null,844,3376,10087,11284,5417,10611,17848,4714,null,4201,8969,26573]
[null,"02",5,5679,"P.S. MANZANARES",12169,null,6025.4803500000007,6143.5196499999993,null,104.47664999999999,106.52335000000001,104.47664999999999,106.52335000000001,104.47664999999999,106.52335000000001,104.47664999999999,106.52335000000001,104.47664999999999,106.52335000000001,519.90750000000003,530.09249999999997,206.47754999999998,210.52245000000002,670.43309999999997,683.56690000000003,233.71079999999998,238.28920000000002,542.68439999999998,553.31560000000002,537.23775000000001,547.76224999999999,515.45114999999998,525.54885000000002,430.78049999999996,439.21950000000004,393.64425,401.35575,353.04194999999999,359.95805000000001,283.72095000000002,289.27904999999998,232.22534999999999,236.77465000000001,181.22489999999999,184.77510000000001,141.6129,144.3871,109.9233,112.0767,78.728849999999994,80.271150000000006,72.291899999999998,73.708100000000002,369,300,63,6,212,16,1117,3480,null,211,844,2522,2821,1354,2653,4461,1179,null,1050,2243,6642]
[150802,null,6,150802,"DISTRITO AMBAR",3101,null,1535.4601500000001,1565.5398499999999,null,27.728400000000001,28.271599999999999,26.738099999999999,27.261900000000001,26.738099999999999,27.261900000000001,26.738099999999999,27.261900000000001,26.738099999999999,27.261900000000001,132.7002,135.2998,52.485900000000001,53.514099999999999,170.33159999999998,173.66840000000002,59.417999999999999,60.582000000000001,138.14685,140.85315,137.15654999999998,139.84345000000002,131.21474999999998,133.78525000000002,109.9233,112.0767,100.51545,102.48455,90.1173,91.8827,72.291899999999998,73.708100000000002,58.922849999999997,60.077150000000003,46.048949999999998,46.951050000000002,36.145949999999999,36.854050000000001,28.223549999999999,28.776450000000001,19.805999999999997,20.194000000000003,17.330249999999999,17.669750000000001,99,80,17,2,57,4,284,887,null,56,216,646,718,344,676,1137,298,null,268,570,1693]
[null,"01",7,5680,"C.S. AMBAR",1861,null,921.4741499999999,939.5258500000001,null,16.835100000000001,17.164899999999999,15.844799999999999,16.155200000000001,15.844799999999999,16.155200000000001,15.844799999999999,16.155200000000001,15.844799999999999,16.155200000000001,79.719149999999999,81.280850000000001,31.689599999999999,32.310400000000001,102.0009,103.9991,35.650799999999997,36.349200000000003,82.690049999999999,84.309950000000001,82.19489999999999,83.80510000000001,79.22399999999999,80.77600000000001,66.350099999999998,67.649900000000002,60.408299999999997,61.591700000000003,53.971350000000001,55.028649999999999,43.5732,44.4268,35.155650000000001,35.844349999999999,27.728400000000001,28.271599999999999,21.7866,22.2134,16.835100000000001,17.164899999999999,11.883599999999999,12.116400000000001,10.398149999999999,10.601850000000001,59,48,10,1,34,2,170,532,null,34,128,387,431,206,405,684,179,null,161,342,1017]
[null,"01",8,5681,"P.S. AYNACA",1240,null,613.98599999999999,626.01400000000001,null,10.8933,11.1067,10.8933,11.1067,10.8933,11.1067,10.8933,11.1067,10.8933,11.1067,52.981049999999996,54.018950000000004,20.796299999999999,21.203700000000001,68.330699999999993,69.669300000000007,23.767199999999999,24.232800000000001,55.456800000000001,56.543199999999999,54.961649999999999,56.038350000000001,51.990749999999998,53.009250000000002,43.5732,44.4268,40.107149999999997,40.892850000000003,36.145949999999999,36.854050000000001,28.718699999999998,29.281300000000002,23.767199999999999,24.232800000000001,18.320550000000001,18.679449999999999,14.359349999999999,14.640650000000001,11.388449999999999,11.611550000000001,7.9223999999999997,8.0776000000000003,6.9321000000000002,7.0678999999999998,40,32,7,1,23,2,114,355,null,22,88,259,287,138,271,453,119,null,107,228,676]
[150803,null,9,150803,"DISTRITO CARQUIN",6685,null,3310.0777499999999,3374.9222500000001,null,56.942249999999994,58.057750000000006,57.437399999999997,58.562600000000003,57.437399999999997,58.562600000000003,57.437399999999997,58.562600000000003,57.437399999999997,58.562600000000003,285.70155,291.29845,113.38934999999999,115.61065000000001,368.39159999999998,375.60840000000002,128.24384999999998,130.75615000000002,298.08029999999997,303.91970000000003,295.10939999999999,300.89060000000001,283.22579999999999,288.77420000000001,236.68169999999998,241.31830000000002,216.38055,220.61945,194.09879999999998,197.90120000000002,155.97225,159.02775,127.7487,130.25130000000001,99.525149999999996,101.47485,77.738550000000004,79.261449999999996,60.408299999999997,61.591700000000003,43.078049999999998,43.921950000000002,39.611999999999995,40.388000000000005,201,163,35,3,116,9,613,1912,null,115,464,1385,1550,744,1457,2452,647,null,577,1232,3650]
[null,"02",10,5664,"C.S. CARQUIN",6685,null,3310.0777499999999,3374.9222500000001,null,56.942249999999994,58.057750000000006,57.437399999999997,58.562600000000003,57.437399999999997,58.562600000000003,57.437399999999997,58.562600000000003,57.437399999999997,58.562600000000003,285.70155,291.29845,113.38934999999999,115.61065000000001,368.39159999999998,375.60840000000002,128.24384999999998,130.75615000000002,298.08029999999997,303.91970000000003,295.10939999999999,300.89060000000001,283.22579999999999,288.77420000000001,236.68169999999998,241.31830000000002,216.38055,220.61945,194.09879999999998,197.90120000000002,155.97225,159.02775,127.7487,130.25130000000001,99.525149999999996,101.47485,77.738550000000004,79.261449999999996,60.408299999999997,61.591700000000003,43.078049999999998,43.921950000000002,39.611999999999995,40.388000000000005,201,163,35,3,116,9,613,1912,null,115,464,1385,1550,744,1457,2452,647,null,577,1232,3650]
[150804,null,11,150804,"DISTRITO CHECRAS",1637,null,810.56054999999981,826.43945000000019,null,13.36905,13.63095,13.8642,14.1358,13.8642,14.1358,13.8642,14.1358,14.359349999999999,14.640650000000001,69.816149999999993,71.183850000000007,27.728400000000001,28.271599999999999,90.612449999999995,92.387550000000005,31.19445,31.80555,72.787049999999994,74.212950000000006,72.291899999999998,73.708100000000002,69.320999999999998,70.679000000000002,57.932549999999999,59.067450000000001,52.981049999999996,54.018950000000004,47.534399999999998,48.465600000000002,38.126550000000002,38.873449999999998,31.19445,31.80555,24.262349999999998,24.737650000000002,18.8157,19.1843,14.8545,15.1455,11.388449999999999,11.611550000000001,10.398149999999999,10.601850000000001,47,39,7,1,27,2,150,468,null,27,113,337,380,183,356,600,161,null,141,302,893]
[null,"05",12,5663,"P.S. PUÑUN",1637,null,810.56054999999981,826.43945000000019,null,13.36905,13.63095,13.8642,14.1358,13.8642,14.1358,13.8642,14.1358,14.359349999999999,14.640650000000001,69.816149999999993,71.183850000000007,27.728400000000001,28.271599999999999,90.612449999999995,92.387550000000005,31.19445,31.80555,72.787049999999994,74.212950000000006,72.291899999999998,73.708100000000002,69.320999999999998,70.679000000000002,57.932549999999999,59.067450000000001,52.981049999999996,54.018950000000004,47.534399999999998,48.465600000000002,38.126550000000002,38.873449999999998,31.19445,31.80555,24.262349999999998,24.737650000000002,18.8157,19.1843,14.8545,15.1455,11.388449999999999,11.611550000000001,10.398149999999999,10.601850000000001,47,39,7,1,27,2,150,468,null,27,113,337,380,183,356,600,161,null,141,302,893]
[150805,null,13,150805,"DISTRITO HUALMAY",29421,null,14567.808149999997,14853.191850000003,null,253.51679999999999,258.48320000000001,252.5265,257.4735,253.02164999999999,257.97835000000003,252.5265,257.4735,253.02164999999999,257.97835000000003,1257.1858499999998,1281.8141500000002,498.61604999999997,508.38395000000003,1621.61625,1653.38375,563.97584999999992,575.02415000000008,1312.1475,1337.8525,1298.77845,1324.22155,1246.2925499999999,1270.7074500000001,1041.7955999999999,1062.2044000000001,951.67829999999992,970.32170000000008,853.6386,870.3614,685.78274999999996,699.21725000000004,561.50009999999997,572.49990000000003,438.7029,447.2971,342.14864999999998,348.85135000000002,265.89555000000001,271.10444999999999,189.64245,193.35755,173.79765,177.20235,897,729,154,14,515,39,2699,8413,null,512,2042,6100,6821,3275,6412,10786,2848,null,2539,5421,16059]
[null,"02",14,5665,"C.S. HUALMAY",15593,null,7720.8739500000001,7872.1260499999999,null,134.18564999999998,136.81435000000002,134.18564999999998,136.81435000000002,133.69049999999999,136.30950000000001,133.69049999999999,136.30950000000001,133.69049999999999,136.30950000000001,666.47190000000001,679.52809999999999,264.4101,269.5899,859.58039999999994,876.41960000000006,299.07060000000001,304.92939999999999,695.19060000000002,708.80939999999998,688.25850000000003,701.74149999999997,660.53009999999995,673.46990000000005,552.09224999999992,562.90775000000008,504.55784999999997,514.44214999999997,452.56709999999998,461.43290000000002,363.44009999999997,370.55990000000003,297.58515,303.41485,232.72049999999999,237.27950000000001,181.22489999999999,184.77510000000001,141.11775,143.88225,100.51545,102.48455,92.097899999999996,93.902100000000004,475,386,82,7,273,21,1430,4459,null,271,1081,3232,3616,1736,3398,5717,1510,null,1346,2874,8511]
[null,"02",15,5666,"P.S.DGO. MANDAMIENTO",9709,null,4807.4113499999994,4901.5886500000006,null,83.68034999999999,85.31965000000001,83.185199999999995,84.814800000000005,83.68034999999999,85.31965000000001,83.68034999999999,85.31965000000001,83.68034999999999,85.31965000000001,414.9357,423.0643,164.38979999999998,167.61020000000002,535.25715000000002,545.74284999999998,186.1764,189.8236,432.7611,441.2389,428.79989999999998,437.20010000000002,411.46965,419.53035,343.63409999999999,350.36590000000001,313.92509999999999,320.07490000000001,281.74034999999998,287.25965000000002,226.28354999999999,230.71645000000001,185.18609999999998,188.81390000000002,144.5838,147.4162,112.8942,115.1058,87.641549999999995,89.358450000000005,62.3889,63.6111,57.437399999999997,58.562600000000003,297,241,51,5,170,13,891,2776,null,169,675,2014,2251,1081,2116,3559,939,null,838,1789,5299]
[null,"02",16,5667,"P.S. CAMPO ALEGRE",4119,null,2039.5228499999996,2079.4771500000006,null,35.650799999999997,36.349200000000003,35.155650000000001,35.844349999999999,35.650799999999997,36.349200000000003,35.155650000000001,35.844349999999999,35.650799999999997,36.349200000000003,175.77824999999999,179.22175000000001,69.816149999999993,71.183850000000007,226.77869999999999,231.22130000000001,78.728849999999994,80.271150000000006,184.19579999999999,187.80420000000001,181.72004999999999,185.27995000000001,174.2928,177.7072,146.06924999999998,148.93075000000002,133.19534999999999,135.80465000000001,119.33114999999999,121.66885000000001,96.059100000000001,97.940899999999999,78.728849999999994,80.271150000000006,61.398599999999995,62.601400000000005,48.02955,48.97045,37.136249999999997,37.863750000000003,26.738099999999999,27.261900000000001,24.262349999999998,24.737650000000002,125,102,21,2,72,5,378,1178,null,72,286,854,954,458,898,1510,399,null,355,758,2249]
[150806,null,17,150806,"DISTRITO HUAURA                   ",34254,null,16960.8681,17293.1319,null,295.10939999999999,300.89060000000001,293.62394999999998,299.37605000000002,294.1191,299.8809,294.1191,299.8809,294.61424999999997,300.38575000000003,1463.6633999999999,1492.3366000000001,580.81094999999993,592.18905000000007,1887.5118,1924.4882,657.06404999999995,669.93595000000005,1527.53775,1557.46225,1512.1880999999998,1541.8119000000002,1450.7894999999999,1479.2105000000001,1213.1174999999998,1236.8825000000002,1108.1457,1129.8543,993.76604999999995,1013.23395,798.67694999999992,814.32305000000008,653.59799999999996,666.40200000000004,510.9948,521.00520000000006,398.10059999999999,405.89940000000001,309.96389999999997,316.03610000000003,220.83689999999999,225.16310000000001,202.51634999999999,206.48365000000001,927,753,158,16,532,41,2789,8693,null,596,2376,7101,7941,3812,7466,12558,3317,null,2956,6312,18697]
[null,"01",18,5682,"C.S HUAURA",15413,null,7631.7469500000007,7781.2530499999984,null,132.7002,135.2998,132.20505,134.79495,132.20505,134.79495,132.20505,134.79495,132.7002,135.2998,658.54949999999997,671.45050000000003,261.43919999999997,266.56080000000003,849.18224999999995,865.81775000000005,295.60454999999996,301.39545000000004,687.26819999999998,700.73180000000002,680.33609999999999,693.66390000000001,653.10284999999999,665.89715000000001,545.65530000000001,556.34469999999999,498.61604999999997,508.38395000000003,447.61559999999997,456.38440000000003,359.47890000000001,366.52109999999999,294.1191,299.8809,229.74959999999999,234.25040000000001,179.24429999999998,182.75570000000002,139.63229999999999,142.36770000000001,99.03,100.97,91.107599999999991,92.892400000000009,417,339,71,7,239,18,1255,3911,null,268,1069,3195,3573,1715,3359,5652,1492,null,1330,2840,8414]
[null,"01",19,5686,"P.S. MAT. EL SOCORRO",11990,null,5936.8485000000001,6053.1514999999999,null,103.48635,105.51365,102.49605,104.50395,102.99119999999999,105.00880000000001,102.99119999999999,105.00880000000001,102.99119999999999,105.00880000000001,512.48024999999996,522.51975000000004,203.01149999999998,206.98850000000002,660.53009999999995,673.46990000000005,229.74959999999999,234.25040000000001,535.25715000000002,545.74284999999998,529.31534999999997,539.68465000000003,508.02389999999997,517.97609999999997,424.83869999999996,433.16130000000004,387.70245,395.29755,347.59530000000001,354.40469999999999,279.75975,285.24025,228.7593,233.2407,179.24429999999998,182.75570000000002,139.13714999999999,141.86285000000001,108.43785,110.56215,77.243399999999994,78.756600000000006,70.806449999999998,72.193550000000002,326,264,56,6,186,15,976,3043,null,209,831,2485,2779,1334,2614,4396,1161,null,1035,2208,6546]
[null,"01",20,5683,"P.S. HUMAYA",4282,null,2120.2322999999997,2161.7677000000003,null,36.641100000000002,37.358899999999998,36.641100000000002,37.358899999999998,36.641100000000002,37.358899999999998,36.641100000000002,37.358899999999998,36.641100000000002,37.358899999999998,183.2055,186.7945,72.787049999999994,74.212950000000006,236.18654999999998,240.81345000000002,82.19489999999999,83.80510000000001,191.12789999999998,194.87210000000002,189.1473,192.8527,181.22489999999999,184.77510000000001,151.51589999999999,154.48410000000001,138.642,141.358,124.28264999999999,126.71735000000001,99.525149999999996,101.47485,81.699749999999995,83.300250000000005,63.87435,65.125650000000007,50.010149999999996,50.989850000000004,38.621699999999997,39.378300000000003,27.728400000000001,28.271599999999999,25.252649999999999,25.747350000000001,116,94,20,2,67,5,349,1087,null,74,296,887,994,477,934,1569,415,null,370,790,2337]
[null,"01",21,5684,"P.S. VILCAHUAURA",2056,null,1018.0283999999999,1037.9716000000001,null,17.825399999999998,18.174600000000002,17.825399999999998,18.174600000000002,17.825399999999998,18.174600000000002,17.825399999999998,18.174600000000002,17.825399999999998,18.174600000000002,87.641549999999995,89.358450000000005,34.660499999999999,35.339500000000001,113.38934999999999,115.61065000000001,39.611999999999995,40.388000000000005,91.107599999999991,92.892400000000009,90.612449999999995,92.387550000000005,87.1464,88.8536,72.787049999999994,74.212950000000006,66.350099999999998,67.649900000000002,59.417999999999999,60.582000000000001,48.02955,48.97045,39.116849999999999,39.883150000000001,30.699299999999997,31.300700000000003,23.767199999999999,24.232800000000001,18.8157,19.1843,13.36905,13.63095,12.37875,12.62125,55,45,9,1,32,2,167,522,null,36,144,427,476,229,447,753,200,null,177,379,1120]
[null,"01",22,5685,"P.S. PEÑICO",513,null,254.01194999999996,258.98805000000004,null,4.4563499999999996,4.5436500000000004,4.4563499999999996,4.5436500000000004,4.4563499999999996,4.5436500000000004,4.4563499999999996,4.5436500000000004,4.4563499999999996,4.5436500000000004,21.7866,22.2134,8.9126999999999992,9.0873000000000008,28.223549999999999,28.776450000000001,9.9029999999999987,10.097000000000001,22.776899999999998,23.223100000000002,22.776899999999998,23.223100000000002,21.291449999999998,21.708550000000002,18.320550000000001,18.679449999999999,16.835100000000001,17.164899999999999,14.8545,15.1455,11.883599999999999,12.116400000000001,9.9029999999999987,10.097000000000001,7.4272499999999999,7.5727500000000001,5.9417999999999997,6.0582000000000003,4.4563499999999996,4.5436500000000004,3.4660500000000001,3.5339499999999999,2.9708999999999999,3.0291000000000001,13,11,2,0,8,1,42,130,null,9,36,107,119,57,112,188,49,null,44,95,280]
[150807,null,23,150807,"DISTRITO LEONCIO PRADO",2208,null,1093.2912000000001,1114.7087999999999,null,18.8157,19.1843,18.8157,19.1843,18.8157,19.1843,18.8157,19.1843,19.310849999999999,19.689150000000001,94.573650000000001,96.426349999999999,37.631399999999999,38.368600000000001,121.8069,124.1931,42.08775,42.91225,98.534849999999992,100.46515000000001,97.544550000000001,99.455449999999999,93.583349999999996,95.416650000000004,78.233699999999999,79.766300000000001,71.301599999999993,72.698400000000007,63.87435,65.125650000000007,51.495599999999996,52.504400000000004,42.08775,42.91225,32.679899999999996,33.320100000000004,25.747799999999998,26.252200000000002,20.30115,20.69885,14.359349999999999,14.640650000000001,12.873899999999999,13.126100000000001,55,45,9,1,31,2,164,512,null,38,153,458,513,246,481,809,214,null,191,407,1205]
[null,"03",24,5778,"P.S. AUQUIMARCA",397,null,196.57454999999999,200.42545000000001,null,3.4660500000000001,3.5339499999999999,3.4660500000000001,3.5339499999999999,3.4660500000000001,3.5339499999999999,3.4660500000000001,3.5339499999999999,3.4660500000000001,3.5339499999999999,16.835100000000001,17.164899999999999,6.9321000000000002,7.0678999999999998,22.281749999999999,22.718250000000001,7.4272499999999999,7.5727500000000001,16.835100000000001,17.164899999999999,17.825399999999998,18.174600000000002,16.835100000000001,17.164899999999999,13.8642,14.1358,12.873899999999999,13.126100000000001,11.388449999999999,11.611550000000001,9.4078499999999998,9.5921500000000002,7.4272499999999999,7.5727500000000001,5.9417999999999997,6.0582000000000003,4.9514999999999993,5.0485000000000007,3.4660500000000001,3.5339499999999999,2.4757499999999997,2.5242500000000003,2.4757499999999997,2.5242500000000003,10,8,2,0,6,0,30,92,null,7,28,83,93,45,85,145,39,null,34,74,215]
[null,"03",25,5779,"P.S. PARAN",883,null,437.21745000000004,445.78254999999996,null,7.4272499999999999,7.5727500000000001,7.4272499999999999,7.5727500000000001,7.4272499999999999,7.5727500000000001,7.4272499999999999,7.5727500000000001,7.4272499999999999,7.5727500000000001,38.126550000000002,38.873449999999998,14.8545,15.1455,48.524699999999996,49.475300000000004,16.835100000000001,17.164899999999999,39.611999999999995,40.388000000000005,39.116849999999999,39.883150000000001,37.631399999999999,38.368600000000001,31.19445,31.80555,28.718699999999998,29.281300000000002,25.747799999999998,26.252200000000002,20.30115,20.69885,16.835100000000001,17.164899999999999,12.873899999999999,13.126100000000001,10.398149999999999,10.601850000000001,8.4175500000000003,8.5824499999999997,5.9417999999999997,6.0582000000000003,4.9514999999999993,5.0485000000000007,22,18,3,1,12,1,65,205,null,15,60,182,205,98,193,324,86,null,77,162,483]
[null,"03",26,6725,"P.S. SANTA CRUZ",486,null,240.6429,245.3571,null,3.9611999999999998,4.0388000000000002,3.9611999999999998,4.0388000000000002,3.9611999999999998,4.0388000000000002,3.9611999999999998,4.0388000000000002,4.4563499999999996,4.5436500000000004,20.796299999999999,21.203700000000001,8.4175500000000003,8.5824499999999997,26.738099999999999,27.261900000000001,9.4078499999999998,9.5921500000000002,22.281749999999999,22.718250000000001,21.291449999999998,21.708550000000002,20.796299999999999,21.203700000000001,17.330249999999999,17.669750000000001,15.349649999999999,15.650350000000001,13.8642,14.1358,11.388449999999999,11.611550000000001,9.4078499999999998,9.5921500000000002,7.4272499999999999,7.5727500000000001,5.44665,5.55335,4.4563499999999996,4.5436500000000004,2.9708999999999999,3.0291000000000001,2.9708999999999999,3.0291000000000001,12,10,2,0,7,1,36,113,null,8,33,100,113,54,107,178,47,null,42,90,266]
[null,"03",27,7757,"P.S. HUANANGUI",442,null,218.85629999999998,223.14370000000002,null,3.9611999999999998,4.0388000000000002,3.9611999999999998,4.0388000000000002,3.9611999999999998,4.0388000000000002,3.9611999999999998,4.0388000000000002,3.9611999999999998,4.0388000000000002,18.8157,19.1843,7.4272499999999999,7.5727500000000001,24.262349999999998,24.737650000000002,8.4175500000000003,8.5824499999999997,19.805999999999997,20.194000000000003,19.310849999999999,19.689150000000001,18.320550000000001,18.679449999999999,15.844799999999999,16.155200000000001,14.359349999999999,14.640650000000001,12.873899999999999,13.126100000000001,10.398149999999999,10.601850000000001,8.4175500000000003,8.5824499999999997,6.4369499999999995,6.5630500000000005,4.9514999999999993,5.0485000000000007,3.9611999999999998,4.0388000000000002,2.9708999999999999,3.0291000000000001,2.4757499999999997,2.5242500000000003,11,9,2,0,6,0,33,102,null,8,32,93,102,49,96,162,42,null,38,81,241]
[150808,null,28,150808,"DISTRITO PACCHO",2255,null,1116.5632499999999,1138.4367500000001,null,20.30115,20.69885,19.310849999999999,19.689150000000001,19.310849999999999,19.689150000000001,17.825399999999998,18.174600000000002,20.30115,20.69885,96.554249999999996,98.445750000000004,38.126550000000002,38.873449999999998,124.7778,127.2222,43.078049999999998,43.921950000000002,100.51545,102.48455,99.525149999999996,101.47485,95.563949999999991,97.436050000000009,79.719149999999999,81.280850000000001,72.787049999999994,74.212950000000006,65.359799999999993,66.640200000000007,52.485900000000001,53.514099999999999,43.078049999999998,43.921950000000002,33.670200000000001,34.329799999999999,26.24295,26.75705,20.30115,20.69885,14.359349999999999,14.640650000000001,13.36905,13.63095,71,57,13,1,41,3,207,645,null,41,155,468,524,252,491,826,218,null,195,416,1230]
[null,"05",29,5650,"P.S. PACCHO",834,null,412.95510000000002,421.04489999999998,null,7.4272499999999999,7.5727500000000001,6.9321000000000002,7.0678999999999998,6.9321000000000002,7.0678999999999998,6.4369499999999995,6.5630500000000005,7.4272499999999999,7.5727500000000001,35.650799999999997,36.349200000000003,13.8642,14.1358,46.048949999999998,46.951050000000002,15.844799999999999,16.155200000000001,37.136249999999997,37.863750000000003,37.136249999999997,37.863750000000003,35.650799999999997,36.349200000000003,29.709,30.291,27.233249999999998,27.766750000000002,24.262349999999998,24.737650000000002,19.310849999999999,19.689150000000001,15.844799999999999,16.155200000000001,12.37875,12.62125,9.9029999999999987,10.097000000000001,7.4272499999999999,7.5727500000000001,5.44665,5.55335,4.9514999999999993,5.0485000000000007,26,20,5,1,15,1,76,238,null,15,56,171,193,93,182,307,81,null,72,153,457]
[null,"05",30,5651,"P.S. LACSANGA",496,null,245.59439999999998,250.40560000000002,null,4.4563499999999996,4.5436500000000004,4.4563499999999996,4.5436500000000004,4.4563499999999996,4.5436500000000004,3.9611999999999998,4.0388000000000002,4.4563499999999996,4.5436500000000004,21.291449999999998,21.708550000000002,8.4175500000000003,8.5824499999999997,27.233249999999998,27.766750000000002,9.4078499999999998,9.5921500000000002,22.281749999999999,22.718250000000001,21.7866,22.2134,20.796299999999999,21.203700000000001,17.330249999999999,17.669750000000001,15.844799999999999,16.155200000000001,14.359349999999999,14.640650000000001,11.883599999999999,12.116400000000001,9.4078499999999998,9.5921500000000002,7.4272499999999999,7.5727500000000001,5.9417999999999997,6.0582000000000003,4.4563499999999996,4.5436500000000004,2.9708999999999999,3.0291000000000001,2.9708999999999999,3.0291000000000001,16,13,3,0,9,1,46,142,null,9,35,104,115,55,108,181,48,null,43,91,270]
[null,"05",31,5653,"P.S. AYARANGA",429,null,212.41934999999998,216.58065000000002,null,3.9611999999999998,4.0388000000000002,3.4660500000000001,3.5339499999999999,3.4660500000000001,3.5339499999999999,3.4660500000000001,3.5339499999999999,3.9611999999999998,4.0388000000000002,18.320550000000001,18.679449999999999,7.4272499999999999,7.5727500000000001,23.767199999999999,24.232800000000001,8.4175500000000003,8.5824499999999997,18.8157,19.1843,18.8157,19.1843,18.320550000000001,18.679449999999999,15.349649999999999,15.650350000000001,13.8642,14.1358,12.37875,12.62125,9.9029999999999987,10.097000000000001,8.4175500000000003,8.5824499999999997,6.4369499999999995,6.5630500000000005,4.4563499999999996,4.5436500000000004,3.9611999999999998,4.0388000000000002,2.9708999999999999,3.0291000000000001,2.4757499999999997,2.5242500000000003,13,11,2,0,8,0,39,123,null,8,29,89,100,48,93,158,41,null,37,80,234]
[null,"05",32,5652,"P.S. MUZGA",496,null,245.59439999999998,250.40560000000002,null,4.4563499999999996,4.5436500000000004,4.4563499999999996,4.5436500000000004,4.4563499999999996,4.5436500000000004,3.9611999999999998,4.0388000000000002,4.4563499999999996,4.5436500000000004,21.291449999999998,21.708550000000002,8.4175500000000003,8.5824499999999997,27.728400000000001,28.271599999999999,9.4078499999999998,9.5921500000000002,22.281749999999999,22.718250000000001,21.7866,22.2134,20.796299999999999,21.203700000000001,17.330249999999999,17.669750000000001,15.844799999999999,16.155200000000001,14.359349999999999,14.640650000000001,11.388449999999999,11.611550000000001,9.4078499999999998,9.5921500000000002,7.4272499999999999,7.5727500000000001,5.9417999999999997,6.0582000000000003,4.4563499999999996,4.5436500000000004,2.9708999999999999,3.0291000000000001,2.9708999999999999,3.0291000000000001,16,13,3,0,9,1,46,142,null,9,35,104,116,56,108,180,48,null,43,92,269]
[150809,null,33,150809,"DISTRITO SANTA LEONOR",1669,null,826.40535000000011,842.59464999999989,null,14.8545,15.1455,14.359349999999999,14.640650000000001,14.359349999999999,14.640650000000001,15.844799999999999,16.155200000000001,12.873899999999999,13.126100000000001,71.301599999999993,72.698400000000007,28.718699999999998,29.281300000000002,91.60275,93.39725,32.184750000000001,32.815249999999999,74.272499999999994,75.727500000000006,73.777349999999998,75.222650000000002,70.806449999999998,72.193550000000002,58.922849999999997,60.077150000000003,53.971350000000001,55.028649999999999,48.524699999999996,49.475300000000004,39.116849999999999,39.883150000000001,31.689599999999999,32.310400000000001,24.7575,25.2425,19.310849999999999,19.689150000000001,14.8545,15.1455,10.8933,11.1067,9.4078499999999998,9.5921500000000002,53,42,10,1,30,2,153,477,null,30,116,348,387,185,364,612,160,null,144,308,911]
[null,"05",34,5645,"P.S. CHIUCHIN",1018,null,504.06270000000001,513.93730000000005,null,8.9126999999999992,9.0873000000000008,8.9126999999999992,9.0873000000000008,8.9126999999999992,9.0873000000000008,9.4078499999999998,9.5921500000000002,7.9223999999999997,8.0776000000000003,43.5732,44.4268,17.330249999999999,17.669750000000001,55.951949999999997,57.048050000000003,19.805999999999997,20.194000000000003,45.05865,45.94135,45.05865,45.94135,43.078049999999998,43.921950000000002,36.145949999999999,36.854050000000001,32.679899999999996,33.320100000000004,29.709,30.291,23.767199999999999,24.232800000000001,19.310849999999999,19.689150000000001,15.349649999999999,15.650350000000001,11.883599999999999,12.116400000000001,8.9126999999999992,9.0873000000000008,6.4369499999999995,6.5630500000000005,5.9417999999999997,6.0582000000000003,33,26,6,1,18,1,93,291,null,18,71,212,236,113,222,373,98,null,88,188,555]
[null,"05",35,5646,"P.S. PARQUIN",467,null,231.23504999999997,235.76495000000003,null,4.4563499999999996,4.5436500000000004,3.9611999999999998,4.0388000000000002,3.9611999999999998,4.0388000000000002,4.4563499999999996,4.5436500000000004,3.4660500000000001,3.5339499999999999,19.805999999999997,20.194000000000003,8.4175500000000003,8.5824499999999997,25.747799999999998,26.252200000000002,8.9126999999999992,9.0873000000000008,20.796299999999999,21.203700000000001,20.796299999999999,21.203700000000001,19.805999999999997,20.194000000000003,16.339949999999998,16.660050000000002,15.349649999999999,15.650350000000001,13.36905,13.63095,10.8933,11.1067,8.9126999999999992,9.0873000000000008,6.4369499999999995,6.5630500000000005,5.44665,5.55335,4.4563499999999996,4.5436500000000004,2.9708999999999999,3.0291000000000001,2.4757499999999997,2.5242500000000003,14,11,3,0,9,1,43,134,null,9,32,98,109,52,102,171,44,null,40,87,255]
[null,"05",36,5647,"P.S. JUCUL",184,null,91.107599999999991,92.892400000000009,null,1.4854499999999999,1.5145500000000001,1.4854499999999999,1.5145500000000001,1.4854499999999999,1.5145500000000001,1.9805999999999999,2.0194000000000001,1.4854499999999999,1.5145500000000001,7.9223999999999997,8.0776000000000003,2.9708999999999999,3.0291000000000001,9.9029999999999987,10.097000000000001,3.4660500000000001,3.5339499999999999,8.4175500000000003,8.5824499999999997,7.9223999999999997,8.0776000000000003,7.9223999999999997,8.0776000000000003,6.4369499999999995,6.5630500000000005,5.9417999999999997,6.0582000000000003,5.44665,5.55335,4.4563499999999996,4.5436500000000004,3.4660500000000001,3.5339499999999999,2.9708999999999999,3.0291000000000001,1.9805999999999999,2.0194000000000001,1.4854499999999999,1.5145500000000001,1.4854499999999999,1.5145500000000001,0.99029999999999996,1.0097,6,5,1,0,3,0,17,52,null,3,13,38,42,20,40,68,18,null,16,33,101]
[150810,null,37,150810,"DISTRITO SANTA MARIA",30399,null,15052.064849999999,15346.935150000001,null,261.93434999999999,267.06565000000001,260.94405,266.05595,260.94405,266.05595,260.94405,266.05595,261.43919999999997,266.56080000000003,1298.77845,1324.22155,515.45114999999998,525.54885000000002,1674.5972999999999,1707.4027000000001,583.2867,594.7133,1355.7206999999999,1382.2793000000001,1342.3516499999998,1368.6483500000002,1287.3899999999999,1312.6100000000001,1076.4560999999999,1097.5439000000001,983.36789999999996,1002.6321,881.86214999999993,899.13785000000007,709.0548,722.9452,579.82065,591.17935,453.06225000000001,461.93774999999999,353.53710000000001,360.46289999999999,274.80824999999999,280.19175000000001,196.07939999999999,199.92060000000001,180.2346,183.7654,927,753,158,16,532,41,2789,8693,null,529,2109,6302,7046,3382,6627,11144,2944,null,2623,5601,16593]
[null,"02",38,5668,"C.S. SANTA MARIA",8511,null,4214.2216500000004,4296.7783499999996,null,73.282200000000003,74.717799999999997,73.282200000000003,74.717799999999997,73.282200000000003,74.717799999999997,73.282200000000003,74.717799999999997,73.282200000000003,74.717799999999997,363.44009999999997,370.55990000000003,144.08865,146.91135,468.90704999999997,478.09295000000003,163.39949999999999,166.60050000000001,379.28489999999999,386.71510000000001,375.32369999999997,382.67630000000003,360.4692,367.5308,301.54634999999996,307.45365000000004,275.30340000000001,280.69659999999999,247.07984999999999,251.92015000000001,198.55515,202.44485,162.4092,165.5908,126.75839999999999,129.24160000000001,99.03,100.97,76.748249999999999,78.251750000000001,54.961649999999999,56.038350000000001,50.505299999999998,51.494700000000002,259,211,44,4,149,11,781,2434,null,148,592,1765,1972,947,1854,3121,824,null,734,1568,4645]
[null,"02",39,5669,"P.S. CHONTA",4560,null,2257.884,2302.116,null,39.116849999999999,39.883150000000001,39.116849999999999,39.883150000000001,39.116849999999999,39.883150000000001,39.116849999999999,39.883150000000001,39.611999999999995,40.388000000000005,194.59394999999998,198.40605000000002,77.243399999999994,78.756600000000006,251.04104999999998,255.95895000000002,87.641549999999995,89.358450000000005,203.50664999999998,207.49335000000002,201.52605,205.47395,193.10849999999999,196.89150000000001,161.41889999999998,164.58110000000002,147.5547,150.4453,132.20505,134.79495,106.45725,108.54275,87.1464,88.8536,67.835549999999998,69.164450000000002,52.981049999999996,54.018950000000004,41.097449999999995,41.902550000000005,29.213849999999997,29.786150000000003,27.233249999999998,27.766750000000002,139,113,24,2,80,6,418,1304,null,79,317,945,1056,507,995,1672,441,null,393,840,2490]
[null,"02",40,5671,"P.S. ZAPATA",2432,null,1204.2048000000002,1227.7951999999998,null,20.796299999999999,21.203700000000001,20.796299999999999,21.203700000000001,20.796299999999999,21.203700000000001,20.796299999999999,21.203700000000001,20.796299999999999,21.203700000000001,104.47664999999999,106.52335000000001,41.097449999999995,41.902550000000005,134.18564999999998,136.81435000000002,46.5441,47.4559,108.43785,110.56215,107.44754999999999,109.55245000000001,102.99119999999999,105.00880000000001,86.156099999999995,87.843900000000005,78.728849999999994,80.271150000000006,70.311300000000003,71.688699999999997,56.942249999999994,58.057750000000006,46.5441,47.4559,36.145949999999999,36.854050000000001,28.223549999999999,28.776450000000001,22.281749999999999,22.718250000000001,15.844799999999999,16.155200000000001,13.8642,14.1358,75,60,13,2,43,4,224,696,null,42,168,504,565,271,530,892,235,null,211,448,1328]
[null,"02",41,5670,"P.S. AMADO VELASQUEZ",7904,null,3913.6655999999998,3990.3344000000006,null,68.330699999999993,69.669300000000007,67.835549999999998,69.164450000000002,67.835549999999998,69.164450000000002,67.835549999999998,69.164450000000002,67.835549999999998,69.164450000000002,337.69229999999999,344.30770000000001,134.6808,137.3192,435.23685,443.76315,151.51589999999999,154.48410000000001,352.54679999999996,359.45320000000004,349.08074999999997,355.91925000000003,334.72139999999996,341.27860000000004,279.75975,285.24025,255.4974,260.50260000000003,229.25444999999999,233.74555000000001,184.19579999999999,187.80420000000001,150.5256,153.4744,117.84569999999999,120.15430000000001,92.097899999999996,93.902100000000004,71.301599999999993,72.698400000000007,51.000450000000001,51.999549999999999,47.039249999999996,47.960750000000004,241,196,41,4,138,11,725,2260,null,138,548,1640,1833,879,1723,2896,766,null,682,1457,4313]
[null,"02",42,5672,"P.S. SAN BARTOLOME",6992,null,3462.0887999999995,3529.9112000000005,null,60.408299999999997,61.591700000000003,59.913149999999995,61.086850000000005,59.913149999999995,61.086850000000005,59.913149999999995,61.086850000000005,59.913149999999995,61.086850000000005,298.57544999999999,304.42455000000001,118.34084999999999,120.65915000000001,385.22669999999999,392.77330000000001,134.18564999999998,136.81435000000002,311.94450000000001,318.05549999999999,308.97359999999998,315.02640000000002,296.09969999999998,301.90030000000002,247.57499999999999,252.42500000000001,226.28354999999999,230.71645000000001,203.01149999999998,206.98850000000002,162.90434999999999,166.09565000000001,133.19534999999999,135.80465000000001,104.47664999999999,106.52335000000001,81.204599999999999,82.795400000000001,63.379199999999997,64.620800000000003,45.05865,45.94135,41.592599999999997,42.407400000000003,213,173,36,4,122,9,641,1999,null,122,484,1448,1620,778,1525,2563,678,null,603,1288,3817]
[150811,null,43,150811,"DISTRITO SAYAN",24103,null,11934.600450000002,12168.399549999998,null,209.44844999999998,213.55155000000002,206.47754999999998,210.52245000000002,206.9727,211.0273,208.95329999999998,213.04670000000002,204.99209999999999,209.00790000000001,1028.9216999999999,1049.0783000000001,408.49874999999997,416.50125000000003,1327.9922999999999,1354.0077000000001,462.4701,471.5299,1074.97065,1096.02935,1064.07735,1084.92265,1020.9992999999999,1041.0007000000001,853.6386,870.3614,779.86124999999993,795.13875000000007,699.15179999999998,712.84820000000002,561.99524999999994,573.00475000000006,459.99435,469.00565,359.47890000000001,366.52109999999999,280.25489999999996,285.74510000000004,217.86599999999999,222.13400000000001,155.47710000000001,158.52289999999999,142.10804999999999,144.89195000000001,741,602,126,13,425,32,2211,6893,null,423,1671,4997,5585,2682,5254,8837,2333,null,2078,4441,13157]
[null,"03",44,5780,"C.S. SAYAN",9882,null,4893.0722999999998,4988.9277000000002,null,85.66095,87.33905,84.670649999999995,86.329350000000005,84.670649999999995,86.329350000000005,85.16579999999999,86.83420000000001,84.1755,85.8245,421.86779999999999,430.13220000000001,167.36069999999998,170.63930000000002,544.66499999999996,555.33500000000004,190.13759999999999,193.86240000000001,440.68349999999998,449.31650000000002,436.22714999999999,444.77285000000001,418.40174999999999,426.59825000000001,350.07104999999996,356.92895000000004,319.86689999999999,326.13310000000001,286.69184999999999,292.30815000000001,230.24474999999998,234.75525000000002,188.65215000000001,192.34784999999999,147.5547,150.4453,114.87479999999999,117.12520000000001,89.126999999999995,90.873000000000005,63.87435,65.125650000000007,58.427699999999994,59.572300000000006,304,247,52,5,174,13,907,2825,null,173,684,2047,2290,1100,2155,3623,957,null,852,1822,5394]
[null,"03",45,5774,"P.S. 9 DE OCTUBRE",5063,null,2506.94445,2556.05555,null,44.068349999999995,44.931650000000005,43.5732,44.4268,43.5732,44.4268,44.068349999999995,44.931650000000005,43.078049999999998,43.921950000000002,215.8854,220.1146,85.66095,87.33905,279.26459999999997,284.73540000000003,97.049399999999991,98.950600000000009,225.7884,230.2116,223.80779999999999,228.19220000000001,214.39994999999999,218.60005000000001,179.24429999999998,182.75570000000002,163.89464999999998,167.10535000000002,147.05955,149.94045,117.84569999999999,120.15430000000001,96.554249999999996,98.445750000000004,75.262799999999999,76.737200000000001,58.922849999999997,60.077150000000003,45.553799999999995,46.446200000000005,32.679899999999996,33.320100000000004,29.709,30.291,155,126,26,3,89,7,464,1448,null,89,352,1050,1173,564,1104,1856,489,null,436,933,2764]
[null,"03",46,5781,"P.S. CHAMBARA",1205,null,596.6557499999999,608.3442500000001,null,10.398149999999999,10.601850000000001,10.398149999999999,10.601850000000001,10.398149999999999,10.601850000000001,10.398149999999999,10.601850000000001,10.398149999999999,10.601850000000001,51.495599999999996,52.504400000000004,20.30115,20.69885,66.350099999999998,67.649900000000002,23.27205,23.72795,53.971350000000001,55.028649999999999,52.981049999999996,54.018950000000004,51.495599999999996,52.504400000000004,42.582899999999995,43.417100000000005,38.621699999999997,39.378300000000003,35.155650000000001,35.844349999999999,28.223549999999999,28.776450000000001,22.776899999999998,23.223100000000002,17.825399999999998,18.174600000000002,13.36905,13.63095,11.388449999999999,11.611550000000001,7.9223999999999997,8.0776000000000003,6.9321000000000002,7.0678999999999998,37,30,6,1,21,2,111,345,null,21,84,250,279,134,263,442,116,null,104,222,658]
[null,"03",47,5775,"P.S. LA MERCED",2410,null,1193.3115,1216.6885,null,20.796299999999999,21.203700000000001,20.30115,20.69885,20.30115,20.69885,20.796299999999999,21.203700000000001,20.30115,20.69885,103.48635,105.51365,41.097449999999995,41.902550000000005,132.7002,135.2998,46.048949999999998,46.951050000000002,107.44754999999999,109.55245000000001,106.45725,108.54275,102.0009,103.9991,85.16579999999999,86.83420000000001,78.233699999999999,79.766300000000001,69.816149999999993,71.183850000000007,56.447099999999999,57.552900000000001,46.048949999999998,46.951050000000002,36.145949999999999,36.854050000000001,28.223549999999999,28.776450000000001,21.7866,22.2134,15.349649999999999,15.650350000000001,14.359349999999999,14.640650000000001,74,60,13,1,43,3,221,689,null,42,165,499,560,268,525,884,234,null,209,444,1316]
[null,"03",48,5776,"P.S. LA VILLA",3856,null,1909.2983999999997,1946.7016000000003,null,33.670200000000001,34.329799999999999,32.679899999999996,33.320100000000004,33.175049999999999,33.824950000000001,33.670200000000001,34.329799999999999,32.679899999999996,33.320100000000004,164.38979999999998,167.61020000000002,65.359799999999993,66.640200000000007,212.41934999999998,216.58065000000002,73.777349999999998,75.222650000000002,171.81704999999999,175.18295000000001,170.33159999999998,173.66840000000002,163.39949999999999,166.60050000000001,136.66139999999999,139.33860000000001,124.7778,127.2222,111.90389999999999,114.09610000000001,90.1173,91.8827,73.777349999999998,75.222650000000002,57.437399999999997,58.562600000000003,45.05865,45.94135,34.660499999999999,35.339500000000001,24.7575,25.2425,22.776899999999998,23.223100000000002,118,96,20,2,68,5,354,1103,null,68,267,799,893,429,840,1415,373,null,332,710,2106]
[null,"03",49,5777,"P.S. EL AHORCADO",964,null,477.32459999999998,486.67540000000002,null,8.4175500000000003,8.5824499999999997,8.4175500000000003,8.5824499999999997,8.4175500000000003,8.5824499999999997,8.4175500000000003,8.5824499999999997,8.4175500000000003,8.5824499999999997,41.097449999999995,41.902550000000005,16.339949999999998,16.660050000000002,52.981049999999996,54.018950000000004,18.320550000000001,18.679449999999999,43.078049999999998,43.921950000000002,42.582899999999995,43.417100000000005,40.6023,41.3977,34.165349999999997,34.834650000000003,31.19445,31.80555,27.728400000000001,28.271599999999999,22.281749999999999,22.718250000000001,18.320550000000001,18.679449999999999,14.359349999999999,14.640650000000001,11.388449999999999,11.611550000000001,8.9126999999999992,9.0873000000000008,6.4369499999999995,6.5630500000000005,5.44665,5.55335,30,24,5,1,17,1,88,276,null,17,68,201,223,107,210,352,94,null,83,177,525]
[null,"03",50,6726,"P.S. LA UNION",723,null,357.99344999999994,365.00655000000006,null,6.4369499999999995,6.5630500000000005,6.4369499999999995,6.5630500000000005,6.4369499999999995,6.5630500000000005,6.4369499999999995,6.5630500000000005,5.9417999999999997,6.0582000000000003,30.699299999999997,31.300700000000003,12.37875,12.62125,39.611999999999995,40.388000000000005,13.8642,14.1358,32.184750000000001,32.815249999999999,31.689599999999999,32.310400000000001,30.699299999999997,31.300700000000003,25.747799999999998,26.252200000000002,23.27205,23.72795,20.796299999999999,21.203700000000001,16.835100000000001,17.164899999999999,13.8642,14.1358,10.8933,11.1067,8.4175500000000003,8.5824499999999997,6.4369499999999995,6.5630500000000005,4.4563499999999996,4.5436500000000004,4.4563499999999996,4.5436500000000004,23,19,4,0,13,1,66,207,null,13,51,151,167,80,157,265,70,null,62,133,394]
[150812,null,51,150812,"DISTRITO VEGUETA",20046,null,9925.7768999999989,10120.223100000001,null,172.80734999999999,176.19265000000001,171.81704999999999,175.18295000000001,172.31219999999999,175.68780000000001,171.3219,174.6781,173.30249999999998,176.69750000000002,856.60949999999991,873.39050000000009,339.67289999999997,346.32710000000003,1104.67965,1126.32035,384.73154999999997,392.26845000000003,893.74574999999993,911.25425000000007,884.83304999999996,902.16695000000004,849.18224999999995,865.81775000000005,710.04509999999993,723.95490000000007,648.64649999999995,661.35350000000005,581.80124999999998,593.19875000000002,467.42159999999996,476.57840000000004,382.25579999999997,389.74420000000003,299.07060000000001,304.92939999999999,233.21564999999998,237.78435000000002,181.22489999999999,184.77510000000001,129.23415,131.76585,117.84569999999999,120.15430000000001,613,498,104,11,351,27,1839,5732,null,349,1391,4156,4647,2231,4369,7350,1940,null,1730,3694,10942]
[null,"04",52,5673,"C.S. VEGUETA",6014,null,2977.8321000000005,3036.1678999999995,null,51.990749999999998,53.009250000000002,51.495599999999996,52.504400000000004,51.495599999999996,52.504400000000004,51.495599999999996,52.504400000000004,51.990749999999998,53.009250000000002,256.98284999999998,262.01715000000002,102.0009,103.9991,331.25534999999996,337.74465000000004,115.36994999999999,117.63005000000001,268.37129999999996,273.62870000000004,265.40039999999999,270.59960000000001,255.00224999999998,259.99775,212.9145,217.0855,194.59394999999998,198.40605000000002,174.78795,178.21205,140.12744999999998,142.87255000000002,114.87479999999999,117.12520000000001,89.622149999999991,91.377850000000009,69.816149999999993,71.183850000000007,54.466499999999996,55.533500000000004,38.621699999999997,39.378300000000003,35.155650000000001,35.844349999999999,182,148,31,3,105,8,552,1719,null,105,417,1247,1394,669,1311,2206,581,null,519,1108,3284]
[null,"04",53,5674,"P.S. MAZO",2005,null,992.7757499999999,1012.2242500000001,null,17.330249999999999,17.669750000000001,17.330249999999999,17.669750000000001,17.330249999999999,17.669750000000001,16.835100000000001,17.164899999999999,16.835100000000001,17.164899999999999,85.66095,87.33905,34.165349999999997,34.834650000000003,110.41844999999999,112.58155000000001,39.116849999999999,39.883150000000001,89.126999999999995,90.873000000000005,88.63185,90.36815,85.16579999999999,86.83420000000001,70.806449999999998,72.193550000000002,65.359799999999993,66.640200000000007,57.932549999999999,59.067450000000001,46.5441,47.4559,38.126550000000002,38.873449999999998,30.204149999999998,30.795850000000002,23.27205,23.72795,17.825399999999998,18.174600000000002,12.873899999999999,13.126100000000001,11.883599999999999,12.116400000000001,62,50,11,1,35,3,184,573,null,35,138,415,465,223,438,735,194,null,173,371,1094]
[null,"04",54,5675,"P.S. PRIMAVERA",2205,null,1091.80575,1113.19425,null,18.8157,19.1843,18.8157,19.1843,18.8157,19.1843,18.8157,19.1843,19.310849999999999,19.689150000000001,94.573650000000001,96.426349999999999,37.136249999999997,37.863750000000003,121.31174999999999,123.68825000000001,42.08775,42.91225,98.534849999999992,100.46515000000001,97.544550000000001,99.455449999999999,93.583349999999996,95.416650000000004,78.233699999999999,79.766300000000001,71.301599999999993,72.698400000000007,63.87435,65.125650000000007,51.495599999999996,52.504400000000004,42.08775,42.91225,32.679899999999996,33.320100000000004,25.747799999999998,26.252200000000002,19.805999999999997,20.194000000000003,14.359349999999999,14.640650000000001,12.873899999999999,13.126100000000001,67,55,11,1,39,3,202,631,null,38,153,457,511,245,481,809,213,null,191,405,1205]
[null,"04",55,5676,"P.S. JOSE C. MARIATEGUI",4810,null,2381.6714999999999,2428.3285000000001,null,41.592599999999997,42.407400000000003,41.097449999999995,41.902550000000005,41.592599999999997,42.407400000000003,41.097449999999995,41.902550000000005,41.592599999999997,42.407400000000003,205.48724999999999,209.51275000000001,81.699749999999995,83.300250000000005,264.90524999999997,270.09475000000003,92.097899999999996,93.902100000000004,214.39994999999999,218.60005000000001,212.41934999999998,216.58065000000002,203.50664999999998,207.49335000000002,170.33159999999998,173.66840000000002,155.47710000000001,158.52289999999999,139.63229999999999,142.36770000000001,112.39904999999999,114.60095000000001,91.60275,93.39725,71.796750000000003,73.203249999999997,55.951949999999997,57.048050000000003,43.5732,44.4268,31.19445,31.80555,28.223549999999999,28.776450000000001,148,120,25,3,84,6,441,1376,null,84,334,998,1115,535,1048,1763,466,null,415,886,2625]
[null,"04",56,5677,"P.S. MEDIO MUNDO",4210,null,2084.5814999999998,2125.4185000000002,null,36.145949999999999,36.854050000000001,36.145949999999999,36.854050000000001,36.145949999999999,36.854050000000001,36.145949999999999,36.854050000000001,36.641100000000002,37.358899999999998,179.73945000000001,183.26054999999999,71.301599999999993,72.698400000000007,232.22534999999999,236.77465000000001,80.70944999999999,82.29055000000001,187.66184999999999,191.33815000000001,185.68125000000001,189.31874999999999,177.75885,181.24115,149.53530000000001,152.46469999999999,136.16624999999999,138.83375000000001,122.30204999999999,124.69795000000001,98.039699999999996,99.960300000000004,80.214299999999994,81.785700000000006,62.884049999999995,64.115949999999998,49.019849999999998,49.980150000000002,38.126550000000002,38.873449999999998,27.233249999999998,27.766750000000002,24.7575,25.2425,129,105,22,2,74,6,386,1204,null,73,293,873,976,469,917,1543,408,null,363,776,2297]
[null,"04",57,5678,"P.S. TIROLER",802,null,397.1103,404.8897,null,6.9321000000000002,7.0678999999999998,6.9321000000000002,7.0678999999999998,6.9321000000000002,7.0678999999999998,6.9321000000000002,7.0678999999999998,6.9321000000000002,7.0678999999999998,34.165349999999997,34.834650000000003,13.36905,13.63095,44.563499999999998,45.436500000000002,15.349649999999999,15.650350000000001,35.650799999999997,36.349200000000003,35.155650000000001,35.844349999999999,34.165349999999997,34.834650000000003,28.223549999999999,28.776450000000001,25.747799999999998,26.252200000000002,23.27205,23.72795,18.8157,19.1843,15.349649999999999,15.650350000000001,11.883599999999999,12.116400000000001,9.4078499999999998,9.5921500000000002,7.4272499999999999,7.5727500000000001,4.9514999999999993,5.0485000000000007,4.9514999999999993,5.0485000000000007,25,20,4,1,14,1,74,229,null,14,56,166,186,90,174,294,78,null,69,148,437]
[150900,null,58,150900,"IHUARI - ACOTAMA",1370,null,678.35549999999989,691.64450000000011,null,11.388449999999999,11.611550000000001,11.883599999999999,12.116400000000001,11.883599999999999,12.116400000000001,10.8933,11.1067,12.873899999999999,13.126100000000001,58.427699999999994,59.572300000000006,23.27205,23.72795,75.757949999999994,77.242050000000006,26.24295,26.75705,61.398599999999995,62.601400000000005,60.408299999999997,61.591700000000003,57.932549999999999,59.067450000000001,48.524699999999996,49.475300000000004,44.068349999999995,44.931650000000005,39.611999999999995,40.388000000000005,32.184750000000001,32.815249999999999,26.24295,26.75705,20.30115,20.69885,15.844799999999999,16.155200000000001,12.37875,12.62125,8.9126999999999992,9.0873000000000008,7.9223999999999997,8.0776000000000003,41,33,7,1,23,2,125,392,null,23,96,284,318,153,299,502,132,null,118,253,748]
[150901,null,59,150901,"PROVINCIA OYON",24800,null,12279.719999999998,12520.280000000002,null,213.90479999999999,218.09520000000001,212.9145,217.0855,212.9145,217.0855,212.9145,217.0855,212.9145,217.0855,1059.6209999999999,1080.3790000000001,420.38234999999997,428.61765000000003,1367.10915,1393.89085,475.34399999999999,484.65600000000001,1105.66995,1127.33005,1094.77665,1116.22335,1050.7083,1071.2917,878.39609999999993,895.60390000000007,802.14299999999992,817.85700000000008,719.45294999999999,733.54705000000001,578.33519999999999,589.66480000000001,473.36339999999996,482.63660000000004,369.87705,377.12295,288.1773,293.8227,224.30294999999998,228.69705000000002,159.93344999999999,163.06655000000001,146.56440000000001,149.43559999999999,759,618,129,12,436,33,2275,7092,null,432,1720,5141,5750,2761,5404,9093,2401,null,2140,4570,13537]
[null,"05",60,5659,"DISTRITO OYON",15394,null,7622.3391000000011,7771.6608999999989,null,132.7002,135.2998,132.20505,134.79495,132.20505,134.79495,131.7099,134.2901,132.7002,135.2998,657.55919999999992,670.44080000000008,260.94405,266.05595,847.69679999999994,864.30320000000006,295.60454999999996,301.39545000000004,686.77305000000001,700.22694999999999,679.34579999999994,692.65420000000006,652.60770000000002,665.39229999999998,545.65530000000001,556.34469999999999,497.62574999999998,507.37425000000002,446.62529999999998,455.37470000000002,358.98374999999999,366.01625000000001,293.62394999999998,299.37605000000002,229.74959999999999,234.25040000000001,178.74914999999999,182.25085000000001,138.642,141.358,99.525149999999996,101.47485,91.107599999999991,92.892400000000009,471,383,81,7,271,21,1413,4402,null,268,1068,3191,3567,1712,3356,5645,1490,null,1328,2836,8404]
[null,"05",61,5660,"C.S. OYON",12777,null,6326.5315499999997,6450.4684500000003,null,110.41844999999999,112.58155000000001,109.9233,112.0767,109.9233,112.0767,109.42815,111.57185,110.41844999999999,112.58155000000001,545.65530000000001,556.34469999999999,216.87569999999999,221.12430000000001,703.60815000000002,717.39184999999998,245.09924999999998,249.90075000000002,569.91764999999998,581.08235000000002,562.98554999999999,574.01445000000001,541.69409999999993,552.30590000000007,453.06225000000001,461.93774999999999,413.45024999999998,421.54975000000002,370.86734999999999,378.13265000000001,298.08029999999997,303.91970000000003,243.6138,248.3862,190.63274999999999,194.36725000000001,148.04984999999999,150.95015000000001,114.87479999999999,117.12520000000001,82.690049999999999,84.309950000000001,75.262799999999999,76.737200000000001,392,318,68,6,224,17,1173,3654,null,223,888,2651,2961,1421,2783,4687,1235,null,1102,2354,6975]
[null,"05",62,5661,"P.S. MALLAY",770,null,381.26549999999986,388.73450000000014,null,6.4369499999999995,6.5630500000000005,6.4369499999999995,6.5630500000000005,6.4369499999999995,6.5630500000000005,6.4369499999999995,6.5630500000000005,6.4369499999999995,6.5630500000000005,33.175049999999999,33.824950000000001,12.873899999999999,13.126100000000001,42.582899999999995,43.417100000000005,14.8545,15.1455,34.165349999999997,34.834650000000003,34.660499999999999,35.339500000000001,32.679899999999996,33.320100000000004,27.233249999999998,27.766750000000002,24.7575,25.2425,22.281749999999999,22.718250000000001,17.825399999999998,18.174600000000002,14.8545,15.1455,11.388449999999999,11.611550000000001,8.9126999999999992,9.0873000000000008,7.4272499999999999,7.5727500000000001,4.9514999999999993,5.0485000000000007,4.4563499999999996,4.5436500000000004,23,19,4,0,14,1,71,220,null,13,52,158,179,86,169,282,75,null,67,142,421]
[null,"05",63,5662,"P.S. NAVA",154,null,76.253099999999989,77.746900000000011,null,1.4854499999999999,1.5145500000000001,1.4854499999999999,1.5145500000000001,1.4854499999999999,1.5145500000000001,1.4854499999999999,1.5145500000000001,1.4854499999999999,1.5145500000000001,6.4369499999999995,6.5630500000000005,2.4757499999999997,2.5242500000000003,8.4175500000000003,8.5824499999999997,2.9708999999999999,3.0291000000000001,6.9321000000000002,7.0678999999999998,6.4369499999999995,6.5630500000000005,6.4369499999999995,6.5630500000000005,4.9514999999999993,5.0485000000000007,4.9514999999999993,5.0485000000000007,4.4563499999999996,4.5436500000000004,3.4660500000000001,3.5339499999999999,2.9708999999999999,3.0291000000000001,2.4757499999999997,2.5242500000000003,1.9805999999999999,2.0194000000000001,1.4854499999999999,1.5145500000000001,0.99029999999999996,1.0097,0.99029999999999996,1.0097,5,4,1,0,3,0,14,44,null,3,12,33,35,17,33,55,16,null,13,28,82]
[null,"05",64,5648,"P.S. TINTA",462,null,228.7593,233.2407,null,3.9611999999999998,4.0388000000000002,3.9611999999999998,4.0388000000000002,3.9611999999999998,4.0388000000000002,3.9611999999999998,4.0388000000000002,3.9611999999999998,4.0388000000000002,19.805999999999997,20.194000000000003,7.9223999999999997,8.0776000000000003,25.252649999999999,25.747350000000001,8.9126999999999992,9.0873000000000008,20.796299999999999,21.203700000000001,20.30115,20.69885,19.805999999999997,20.194000000000003,16.339949999999998,16.660050000000002,14.8545,15.1455,12.873899999999999,13.126100000000001,10.8933,11.1067,8.9126999999999992,9.0873000000000008,6.9321000000000002,7.0678999999999998,5.44665,5.55335,3.9611999999999998,4.0388000000000002,2.9708999999999999,3.0291000000000001,2.9708999999999999,3.0291000000000001,13,11,2,0,8,1,42,132,null,8,32,96,107,51,101,169,45,null,40,85,252]
[150902,null,65,150902,"P.S. RAPAZ",1231,null,609.52964999999995,621.47035000000005,null,10.398149999999999,10.601850000000001,10.398149999999999,10.601850000000001,10.398149999999999,10.601850000000001,10.398149999999999,10.601850000000001,10.398149999999999,10.601850000000001,52.485900000000001,53.514099999999999,20.796299999999999,21.203700000000001,67.835549999999998,69.164450000000002,23.767199999999999,24.232800000000001,54.961649999999999,56.038350000000001,54.961649999999999,56.038350000000001,51.990749999999998,53.009250000000002,44.068349999999995,44.931650000000005,39.611999999999995,40.388000000000005,36.145949999999999,36.854050000000001,28.718699999999998,29.281300000000002,23.27205,23.72795,18.320550000000001,18.679449999999999,14.359349999999999,14.640650000000001,10.8933,11.1067,7.9223999999999997,8.0776000000000003,7.4272499999999999,7.5727500000000001,38,31,6,1,22,2,113,352,null,21,84,253,285,137,270,452,119,null,106,227,674]
[null,"05",66,5654,"DISTRITO ANDAJES",1234,null,611.01510000000007,622.98489999999993,null,11.388449999999999,11.611550000000001,10.398149999999999,10.601850000000001,9.9029999999999987,10.097000000000001,11.883599999999999,12.116400000000001,9.4078499999999998,9.5921500000000002,52.485900000000001,53.514099999999999,20.796299999999999,21.203700000000001,67.340400000000002,68.659599999999998,23.767199999999999,24.232800000000001,54.961649999999999,56.038350000000001,54.466499999999996,55.533500000000004,52.485900000000001,53.514099999999999,43.5732,44.4268,40.107149999999997,40.892850000000003,35.650799999999997,36.349200000000003,28.718699999999998,29.281300000000002,23.767199999999999,24.232800000000001,18.320550000000001,18.679449999999999,14.359349999999999,14.640650000000001,11.388449999999999,11.611550000000001,7.9223999999999997,8.0776000000000003,7.9223999999999997,8.0776000000000003,40,33,6,1,23,2,113,353,null,23,84,255,284,136,269,453,121,null,106,226,674]
[150903,null,67,150903,"P.S. ANDAJES",1234,null,611.01510000000007,622.98489999999993,null,11.388449999999999,11.611550000000001,10.398149999999999,10.601850000000001,9.9029999999999987,10.097000000000001,11.883599999999999,12.116400000000001,9.4078499999999998,9.5921500000000002,52.485900000000001,53.514099999999999,20.796299999999999,21.203700000000001,67.340400000000002,68.659599999999998,23.767199999999999,24.232800000000001,54.961649999999999,56.038350000000001,54.466499999999996,55.533500000000004,52.485900000000001,53.514099999999999,43.5732,44.4268,40.107149999999997,40.892850000000003,35.650799999999997,36.349200000000003,28.718699999999998,29.281300000000002,23.767199999999999,24.232800000000001,18.320550000000001,18.679449999999999,14.359349999999999,14.640650000000001,11.388449999999999,11.611550000000001,7.9223999999999997,8.0776000000000003,7.9223999999999997,8.0776000000000003,40,33,6,1,23,2,113,353,null,23,84,255,284,136,269,453,121,null,106,226,674]
[null,"05",68,5655,"DISTRITO CAUJUL",1101,null,545.16015000000004,555.83984999999996,null,7.9223999999999997,8.0776000000000003,9.4078499999999998,9.5921500000000002,9.9029999999999987,10.097000000000001,8.4175500000000003,8.5824499999999997,10.398149999999999,10.601850000000001,47.534399999999998,48.465600000000002,19.310849999999999,19.689150000000001,61.398599999999995,62.601400000000005,20.796299999999999,21.203700000000001,49.019849999999998,49.980150000000002,48.524699999999996,49.475300000000004,46.5441,47.4559,39.116849999999999,39.883150000000001,35.650799999999997,36.349200000000003,32.184750000000001,32.815249999999999,25.747799999999998,26.252200000000002,20.796299999999999,21.203700000000001,16.339949999999998,16.660050000000002,12.873899999999999,13.126100000000001,9.9029999999999987,10.097000000000001,6.9321000000000002,7.0678999999999998,6.4369499999999995,6.5630500000000005,28,23,5,0,16,1,101,315,null,16,77,228,259,124,239,404,106,null,96,205,601]
[150904,null,69,150904,"P.S. CAUJUL",1101,null,545.16015000000004,555.83984999999996,null,7.9223999999999997,8.0776000000000003,9.4078499999999998,9.5921500000000002,9.9029999999999987,10.097000000000001,8.4175500000000003,8.5824499999999997,10.398149999999999,10.601850000000001,47.534399999999998,48.465600000000002,19.310849999999999,19.689150000000001,61.398599999999995,62.601400000000005,20.796299999999999,21.203700000000001,49.019849999999998,49.980150000000002,48.524699999999996,49.475300000000004,46.5441,47.4559,39.116849999999999,39.883150000000001,35.650799999999997,36.349200000000003,32.184750000000001,32.815249999999999,25.747799999999998,26.252200000000002,20.796299999999999,21.203700000000001,16.339949999999998,16.660050000000002,12.873899999999999,13.126100000000001,9.9029999999999987,10.097000000000001,6.9321000000000002,7.0678999999999998,6.4369499999999995,6.5630500000000005,28,23,5,0,16,1,101,315,null,16,77,228,259,124,239,404,106,null,96,205,601]
[null,"03",70,5783,"DISTRITO COCHAMARCA",1791,null,886.81364999999994,904.18635000000006,null,15.349649999999999,15.650350000000001,15.844799999999999,16.155200000000001,15.349649999999999,15.650350000000001,14.359349999999999,14.640650000000001,16.339949999999998,16.660050000000002,76.748249999999999,78.251750000000001,30.204149999999998,30.795850000000002,99.03,100.97,34.165349999999997,34.834650000000003,79.719149999999999,81.280850000000001,79.22399999999999,80.77600000000001,75.757949999999994,77.242050000000006,63.379199999999997,64.620800000000003,57.932549999999999,59.067450000000001,51.990749999999998,53.009250000000002,41.592599999999997,42.407400000000003,34.165349999999997,34.834650000000003,26.738099999999999,27.261900000000001,20.796299999999999,21.203700000000001,16.339949999999998,16.660050000000002,11.388449999999999,11.611550000000001,10.398149999999999,10.601850000000001,55,45,9,1,31,2,164,512,null,31,125,372,416,200,390,656,173,null,155,330,977]
[null,"03",71,5784,"P.S. COCHAMARCA",645,null,319.37175000000008,325.62824999999992,null,5.44665,5.55335,5.9417999999999997,6.0582000000000003,5.44665,5.55335,4.9514999999999993,5.0485000000000007,5.9417999999999997,6.0582000000000003,27.728400000000001,28.271599999999999,10.8933,11.1067,35.650799999999997,36.349200000000003,12.37875,12.62125,28.718699999999998,29.281300000000002,28.718699999999998,29.281300000000002,27.233249999999998,27.766750000000002,22.776899999999998,23.223100000000002,20.796299999999999,21.203700000000001,18.8157,19.1843,15.349649999999999,15.650350000000001,12.37875,12.62125,9.9029999999999987,10.097000000000001,7.4272499999999999,7.5727500000000001,5.44665,5.55335,3.9611999999999998,4.0388000000000002,3.4660500000000001,3.5339499999999999,19,16,3,0,11,1,59,184,null,11,45,134,150,72,141,237,61,null,56,119,353]
[null,"03",72,5785,"COLCAPAMPA",842,null,416.91629999999998,425.08370000000002,null,7.4272499999999999,7.5727500000000001,7.4272499999999999,7.5727500000000001,7.4272499999999999,7.5727500000000001,6.9321000000000002,7.0678999999999998,7.4272499999999999,7.5727500000000001,36.145949999999999,36.854050000000001,14.359349999999999,14.640650000000001,46.5441,47.4559,15.844799999999999,16.155200000000001,37.631399999999999,38.368600000000001,37.136249999999997,37.863750000000003,35.650799999999997,36.349200000000003,29.709,30.291,27.233249999999998,27.766750000000002,24.262349999999998,24.737650000000002,19.310849999999999,19.689150000000001,15.844799999999999,16.155200000000001,12.37875,12.62125,9.9029999999999987,10.097000000000001,7.9223999999999997,8.0776000000000003,5.44665,5.55335,4.9514999999999993,5.0485000000000007,26,21,4,1,15,1,77,241,null,15,59,176,196,94,183,307,82,null,73,155,458]
[150905,null,73,150905,"YARUCAYA",304,null,150.5256,153.4744,null,2.4757499999999997,2.5242500000000003,2.4757499999999997,2.5242500000000003,2.4757499999999997,2.5242500000000003,2.4757499999999997,2.5242500000000003,2.9708999999999999,3.0291000000000001,12.873899999999999,13.126100000000001,4.9514999999999993,5.0485000000000007,16.835100000000001,17.164899999999999,5.9417999999999997,6.0582000000000003,13.36905,13.63095,13.36905,13.63095,12.873899999999999,13.126100000000001,10.8933,11.1067,9.9029999999999987,10.097000000000001,8.9126999999999992,9.0873000000000008,6.9321000000000002,7.0678999999999998,5.9417999999999997,6.0582000000000003,4.4563499999999996,4.5436500000000004,3.4660500000000001,3.5339499999999999,2.9708999999999999,3.0291000000000001,1.9805999999999999,2.0194000000000001,1.9805999999999999,2.0194000000000001,10,8,2,0,5,0,28,87,null,5,21,62,70,34,66,112,30,null,26,56,166]
[null,"05",74,5656,"DISTRITO NAVAN",1291,null,639.23865000000001,651.76134999999999,null,11.883599999999999,12.116400000000001,10.8933,11.1067,11.388449999999999,11.611550000000001,11.388449999999999,11.611550000000001,10.8933,11.1067,54.961649999999999,56.038350000000001,21.7866,22.2134,71.301599999999993,72.698400000000007,24.7575,25.2425,57.437399999999997,58.562600000000003,56.942249999999994,58.057750000000006,54.466499999999996,55.533500000000004,45.553799999999995,46.446200000000005,41.592599999999997,42.407400000000003,37.631399999999999,38.368600000000001,30.204149999999998,30.795850000000002,24.7575,25.2425,19.310849999999999,19.689150000000001,14.8545,15.1455,11.883599999999999,12.116400000000001,8.4175500000000003,8.5824499999999997,6.9321000000000002,7.0678999999999998,42,33,8,1,24,2,118,369,null,24,90,269,299,144,281,473,124,null,111,238,704]
[150906,null,75,150906,"P.S. NAVAN",1291,null,639.23865000000001,651.76134999999999,null,11.883599999999999,12.116400000000001,10.8933,11.1067,11.388449999999999,11.611550000000001,11.388449999999999,11.611550000000001,10.8933,11.1067,54.961649999999999,56.038350000000001,21.7866,22.2134,71.301599999999993,72.698400000000007,24.7575,25.2425,57.437399999999997,58.562600000000003,56.942249999999994,58.057750000000006,54.466499999999996,55.533500000000004,45.553799999999995,46.446200000000005,41.592599999999997,42.407400000000003,37.631399999999999,38.368600000000001,30.204149999999998,30.795850000000002,24.7575,25.2425,19.310849999999999,19.689150000000001,14.8545,15.1455,11.883599999999999,12.116400000000001,8.4175500000000003,8.5824499999999997,6.9321000000000002,7.0678999999999998,42,33,8,1,24,2,118,369,null,24,90,269,299,144,281,473,124,null,111,238,704]
[null,"05",76,5657,"DISTRITO PACHANGARA",3989,null,1975.1533500000003,2013.8466499999997,null,34.660499999999999,35.339500000000001,34.165349999999997,34.834650000000003,34.165349999999997,34.834650000000003,35.155650000000001,35.844349999999999,33.175049999999999,33.824950000000001,170.33159999999998,173.66840000000002,67.340400000000002,68.659599999999998,220.34174999999999,224.65825000000001,76.253100000000003,77.746899999999997,177.75885,181.24115,176.27339999999998,179.72660000000002,168.84614999999999,172.15385000000001,141.11775,143.88225,129.23415,131.76585,115.36994999999999,117.63005000000001,93.088200000000001,94.911799999999999,76.253100000000003,77.746899999999997,59.417999999999999,60.582000000000001,46.5441,47.4559,36.145949999999999,36.854050000000001,25.747799999999998,26.252200000000002,23.767199999999999,24.232800000000001,123,101,20,2,71,5,366,1141,null,70,276,826,925,445,869,1462,387,null,344,735,2177]
[null,"05",77,5658,"C.S. CHURIN",3151,null,1560.2176500000003,1590.7823499999997,null,27.233249999999998,27.766750000000002,26.738099999999999,27.261900000000001,27.233249999999998,27.766750000000002,27.728400000000001,28.271599999999999,26.24295,26.75705,134.6808,137.3192,52.981049999999996,54.018950000000004,173.79765,177.20235,60.408299999999997,61.591700000000003,140.62260000000001,143.37739999999999,139.13714999999999,141.86285000000001,133.19534999999999,135.80465000000001,111.40875,113.59125,102.0009,103.9991,91.107599999999991,92.892400000000009,73.282200000000003,74.717799999999997,60.408299999999997,61.591700000000003,47.039249999999996,47.960750000000004,37.136249999999997,37.863750000000003,28.718699999999998,29.281300000000002,20.30115,20.69885,18.8157,19.1843,98,80,16,2,56,3,289,901,null,55,218,652,730,351,687,1154,307,null,272,580,1719]
[null,"05",78,5649,"P.S. PACHANGARA",399,null,197.56484999999998,201.43515000000002,null,3.4660500000000001,3.5339499999999999,3.4660500000000001,3.5339499999999999,3.4660500000000001,3.5339499999999999,3.4660500000000001,3.5339499999999999,3.4660500000000001,3.5339499999999999,16.835100000000001,17.164899999999999,6.9321000000000002,7.0678999999999998,22.281749999999999,22.718250000000001,7.4272499999999999,7.5727500000000001,17.825399999999998,18.174600000000002,17.825399999999998,18.174600000000002,16.835100000000001,17.164899999999999,14.359349999999999,14.640650000000001,12.873899999999999,13.126100000000001,11.388449999999999,11.611550000000001,9.4078499999999998,9.5921500000000002,7.4272499999999999,7.5727500000000001,5.9417999999999997,6.0582000000000003,4.4563499999999996,4.5436500000000004,3.4660500000000001,3.5339499999999999,2.4757499999999997,2.5242500000000003,2.4757499999999997,2.5242500000000003,12,10,2,0,7,1,37,114,null,7,28,83,93,45,87,146,38,null,34,74,218]
[null,null,79,150600,"P.S. HUANCAHUASI",439,null,217.37084999999999,221.62915000000001,null,3.9611999999999998,4.0388000000000002,3.9611999999999998,4.0388000000000002,3.4660500000000001,3.5339499999999999,3.9611999999999998,4.0388000000000002,3.4660500000000001,3.5339499999999999,18.8157,19.1843,7.4272499999999999,7.5727500000000001,24.262349999999998,24.737650000000002,8.4175500000000003,8.5824499999999997,19.310849999999999,19.689150000000001,19.310849999999999,19.689150000000001,18.8157,19.1843,15.349649999999999,15.650350000000001,14.359349999999999,14.640650000000001,12.873899999999999,13.126100000000001,10.398149999999999,10.601850000000001,8.4175500000000003,8.5824499999999997,6.4369499999999995,6.5630500000000005,4.9514999999999993,5.0485000000000007,3.9611999999999998,4.0388000000000002,2.9708999999999999,3.0291000000000001,2.4757499999999997,2.5242500000000003,13,11,2,0,8,1,40,126,null,8,30,91,102,49,95,162,42,null,38,81,240]
[150606,"03",80]
[null,null,81,null,"MICRORED HUAURA",{"$f":"SUM(H88:I88)","v":37355},null,{"$f":"K88+M88+O88+Q88+S88+U88+W88+Y88+AA88+AC88+AE88+AG88+AI88+AK88+AM88+AO88+AQ88+AS88+AU88+AW88+AY88+BA88","v":18496.328249999999},{"$f":"L88+N88+P88+R88+T88+V88+X88+Z88+AB88+AD88+AF88+AH88+AJ88+AL88+AN88+AP88+AR88+AT88+AV88+AX88+AZ88+BB88","v":18858.671750000001},null,{"$f":"K13+K24","v":322.83780000000002},{"$f":"L13+L24","v":329.16219999999998},{"$f":"M13+M24","v":320.36204999999995},326.63795000000005,320.85719999999998,327.14280000000002,320.85719999999998,327.14280000000002,321.35234999999994,327.64765000000006,1596.3635999999999,1627.6364000000001,633.29684999999995,645.70315000000005,2057.8433999999997,2098.1566000000003,716.48204999999996,730.51795000000004,1665.6846,1698.3154,1649.3446499999998,1681.6553500000002,1582.00425,1612.99575,1323.0407999999998,1348.9592000000002,1208.6611500000001,1232.3388499999999,1083.8833500000001,1105.1166499999999,870.96884999999997,888.03115000000003,712.52085,726.47915,557.04375000000005,567.95625000000007,434.24654999999996,442.75345000000004,338.18744999999996,344.81255000000004,240.6429,245.3571,219.8466,{"$f":"BB13+BB24","v":224.1534},{"$f":"BC13+BC24","v":1026},{"$f":"BD13+BD24","v":833},175,18,589,45,3073,9580,null,{"$f":"BL13+BL24","v":652},2592,7747,8659,{"$f":"BP13+BP24","v":4156},8142,13695,3615,null,{"$f":"BU13+BU24","v":3224},6882,20390]
[null,1,82,null,"MICRORED HUALMAY",{"$f":"SUM(H89:I89)","v":78674},null,{"$f":"K89+M89+O89+Q89+S89+U89+W89+Y89+AA89+AC89+AE89+AG89+AI89+AK89+AM89+AO89+AQ89+AS89+AU89+AW89+AY89+BA89","v":38955.431100000002},{"$f":"L89+N89+P89+R89+T89+V89+X89+Z89+AB89+AD89+AF89+AH89+AJ89+AL89+AN89+AP89+AR89+AT89+AV89+AX89+AZ89+BB89","v":39718.568899999998},null,{"$f":"K12+K16+K20+K44","v":676.87004999999999},{"$f":"L12+L16+L20+L44","v":690.12995000000001},675.38459999999998,688.61540000000002,675.87975000000006,689.12025000000006,675.38459999999998,688.61540000000002,676.37490000000003,689.62510000000009,3361.5733499999997,3427.4266500000003,1333.9340999999999,1360.0659000000001,4335.0382499999996,4419.9617500000004,1509.2172,1538.7828,3508.6328999999996,3577.3671000000004,3473.4772499999999,3541.5227500000001,3332.3594999999996,3397.6405,2785.7138999999997,2840.2861000000003,2545.0709999999999,2594.9290000000001,2282.6414999999997,2327.3585000000003,1834.5307499999999,1870.4692500000001,1501.2948000000001,1530.7051999999999,1172.5152,1195.4848,915.03719999999998,932.96280000000002,711.03539999999998,724.96460000000002,507.52874999999995,517.47125000000005,465.93615,{"$f":"BB12+BB16+BB20+BB44","v":475.06385},{"$f":"BC12+BC16+BC20+BC44","v":2394},1945,410,39,1375,105,7218,22498,null,{"$f":"BL12+BL16+BL20+BL44","v":1367},5459,16309,18238,{"$f":"BP12+BP16+BP20+BP44","v":8755},17149,28843,7618,null,{"$f":"BU12+BU16+BU20+BU44","v":6789},14497,42944]
[null,2,83,null,"MICRORED SAYAN",{"$f":"SUM(H90:I90)","v":29472},null,{"$f":"K90+M90+O90+Q90+S90+U90+W90+Y90+AA90+AC90+AE90+AG90+AI90+AK90+AM90+AO90+AQ90+AS90+AU90+AW90+AY90+BA90","v":14593.060799999999},{"$f":"L90+N90+P90+R90+T90+V90+X90+Z90+AB90+AD90+AF90+AH90+AJ90+AL90+AN90+AP90+AR90+AT90+AV90+AX90+AZ90+BB90","v":14878.939200000001},null,{"$f":"K30+K50+K77+K65","v":255.00224999999998},{"$f":"L30+L50+L77+L65","v":259.99775000000005},253.02164999999997,257.97835000000003,253.02164999999999,257.97835000000003,253.02164999999999,257.97835000000003,253.51679999999996,258.48320000000001,1258.6713,1283.3287,499.60634999999996,509.39365000000004,1624.5871499999998,1656.4128500000002,564.96614999999997,576.03385000000003,1314.6232499999999,1340.3767500000001,1301.2542000000001,1326.7457999999999,1248.2731499999998,1272.7268500000002,1043.7762,1064.2238,953.16374999999994,971.83625000000006,854.62890000000004,871.37110000000007,687.26819999999987,700.73180000000013,562.49039999999991,573.50960000000009,439.19804999999997,447.80195000000003,342.64379999999994,349.35620000000006,266.88585,272.11415,190.13760000000002,193.86239999999998,173.30249999999998,176.69750000000002,892,725,151,16,510,38,2664,8309,null,{"$f":"BL30+BL50+BL77+BL65","v":515},2045,6111,6832,{"$f":"BP30+BP50+BP77+BP65","v":3281},6424,10804,2852,null,{"$f":"BU30+BU50+BU77+BU65","v":2542},5431,16087]
[null,3,84,null,"MICRORED VEGUETA",{"$f":"SUM(H91:I91)","v":20046},null,9925.7768999999989,10120.223100000001,null,{"$f":"K58","v":172.80734999999999},{"$f":"L58","v":176.19265000000001},171.81704999999999,175.18295000000001,172.31219999999999,175.68780000000001,171.3219,174.6781,173.30249999999998,176.69750000000002,856.60949999999991,873.39050000000009,339.67289999999997,346.32710000000003,1104.67965,1126.32035,384.73154999999997,392.26845000000003,893.74574999999993,911.25425000000007,884.83304999999996,902.16695000000004,849.18224999999995,865.81775000000005,710.04509999999993,723.95490000000007,648.64649999999995,661.35350000000005,581.80124999999998,593.19875000000002,467.42159999999996,476.57840000000004,382.25579999999997,389.74420000000003,299.07060000000001,304.92939999999999,233.21564999999998,237.78435000000002,181.22489999999999,184.77510000000001,129.23415,131.76585,117.84569999999999,120.15430000000001,613,498,104,11,351,27,1839,5732,null,{"$f":"BL58","v":349},1391,4156,4647,{"$f":"BP58","v":2231},4369,7350,1940,null,{"$f":"BU58","v":1730},3694,10942]
[null,4,85,null,"MICRORED CHURIN - OYON",28570,null,14146.435500000001,14423.564499999999,null,{"$f":"K18+K35+K40+K67+K73+K75+K81+K83","v":247.07985000000002},{"$f":"L18+L35+L40+L67+L73+L75+L81+L83","v":251.92014999999998},244.60409999999999,249.39590000000001,245.09924999999998,249.90075000000002,246.08955000000003,250.91044999999997,244.10894999999999,248.89105000000001,1220.54475,1244.45525,484.75184999999999,494.24815000000001,1575.07215,1605.92785,547.63589999999988,558.36410000000012,1273.5257999999999,1298.4742000000001,1261.14705,1285.85295,1210.64175,1234.35825,1011.59145,1031.4085500000001,923.94989999999996,942.05010000000004,828.88109999999995,845.11890000000005,666.47190000000001,679.52809999999999,545.16014999999993,555.83985000000007,425.82900000000001,434.17099999999999,331.75049999999999,338.24950000000001,257.97315000000003,263.02684999999997,185.18610000000001,188.81389999999999,169.34129999999999,172.65870000000001,875,711,150,14,503,38,2621,8170,null,{"$f":"BL18+BL35+BL40+BL67+BL73+BL75+BL81+BL83","v":499},1979,5922,6625,{"$f":"BP18+BP35+BP40+BP67+BP73+BP75+BP81+BP83","v":3181},6225,10475,2767,null,{"$f":"BU18+BU35+BU40+BU67+BU73+BU75+BU81+BU83","v":2465},5266,15594]

{"sheet":"etapas y mredes","index":2,"n_rows":38,"n_cols":21,"rows_kept":38,"cut":false,"hidden":false,"merged":[[25,4,25,5],[30,4,30,5],[29,4,29,5],[28,4,28,5],[27,4,27,5],[26,4,26,5],[35,4,35,5],[34,4,34,5],[33,4,33,5],[32,4,32,5],[31,4,31,5],[6,15,6,20],[6,2,6,11],[1,2,5,12],[36,2,36,3],[35,2,35,3],[34,2,34,3],[33,2,33,3],[32,2,32,3],[31,2,31,3],[30,2,30,3],[29,2,29,3],[28,2,28,3],[27,2,27,3],[26,2,26,3],[25,2,25,3],[36,4,36,5]]}
[]
[null,null,"POBLACION ASIGNADA POR DISTRITO SIERRA, HOSPITAL, MICROREDES Y POR ETAPAS DE VIDA 2010"]
[]
[]
[]
[]
[null,null,"DISTRITO",null,null,null,null,null,null,null,null,null,null,null,null,"MICROREDES"]
[null,null,66,68,11,74,60,28,76,33,null,null,null,4,null,81,82,83,84,85]
[null,"POBLACION POR\nETAPAS DE VIDA","Andajes","Caujul","Checras","Naván","Oyón","Paccho","Pachangara","Santa Leonor","TOTAL","PORC. (%)",null,"HOSPITAL HUACHO",null,"HUAURA","HUALMAY","SAYAN","VEGUETA","CHURIN OYON","Total Microredes"]
[58,"Neonatal (0-28dias)",{"$f":"VLOOKUP(C8,Poblacion!$C$8:$BW$92,A10)","v":2},{"$f":"VLOOKUP($D$8,Poblacion!$C$8:$BW$92,A10)","v":1},{"$f":"VLOOKUP($E$8,Poblacion!$C$8:$BW$92,A10)","v":2},{"$f":"VLOOKUP($F$8,Poblacion!$C$8:$BW$92,A10)","v":2},{"$f":"VLOOKUP($G$8,Poblacion!$C$8:$BW$92,A10)","v":21},{"$f":"VLOOKUP($H$8,Poblacion!$C$8:$BW$92,A10)","v":3},{"$f":"VLOOKUP($I$8,Poblacion!$C$8:$BW$92,A10)","v":5},{"$f":"VLOOKUP($J$8,Poblacion!$C$8:$BW$92,A10)","v":2},{"$f":"SUM(C10:J10)","v":38},{"$f":"IFERROR((K10/$K$20)*100,0)","v":0.13300665033251663},null,{"$f":"VLOOKUP(N$8,Poblacion!$C$8:$BW$92,A10)","v":65},null,{"$f":"VLOOKUP(P$8,Poblacion!$C$8:$BW$92,A10)","v":45},{"$f":"VLOOKUP(Q$8,Poblacion!$C$8:$BW$92,A10)","v":105},{"$f":"VLOOKUP(R$8,Poblacion!$C$8:$BW$92,A10)","v":38},{"$f":"VLOOKUP(S$8,Poblacion!$C$8:$BW$92,A10)","v":27},{"$f":"VLOOKUP(T$8,Poblacion!$C$8:$BW$92,A10)","v":38},{"$f":"SUM(P10:T10)","v":253}]
[62,"Infantil (Men.1año)",{"$f":"VLOOKUP($C$8,Poblacion!$C$8:$BW$92,A11)","v":23},{"$f":"VLOOKUP($D$8,Poblacion!$C$8:$BW$92,A11)","v":16},{"$f":"VLOOKUP($E$8,Poblacion!$C$8:$BW$92,A11)","v":27},{"$f":"VLOOKUP($F$8,Poblacion!$C$8:$BW$92,A11)","v":24},{"$f":"VLOOKUP($G$8,Poblacion!$C$8:$BW$92,A11)","v":268},{"$f":"VLOOKUP($H$8,Poblacion!$C$8:$BW$92,A11)","v":41},{"$f":"VLOOKUP($I$8,Poblacion!$C$8:$BW$92,A11)","v":70},{"$f":"VLOOKUP($J$8,Poblacion!$C$8:$BW$92,A11)","v":30},{"$f":"SUM(C11:J11)","v":499},{"$f":"IFERROR((K11/$K$20)*100,0)","v":1.7465873293664682},null,{"$f":"VLOOKUP(N$8,Poblacion!$C$8:$BW$92,A11)","v":844},null,{"$f":"VLOOKUP(P$8,Poblacion!$C$8:$BW$92,A11)","v":652},{"$f":"VLOOKUP(Q$8,Poblacion!$C$8:$BW$92,A11)","v":1367},{"$f":"VLOOKUP(R$8,Poblacion!$C$8:$BW$92,A11)","v":515},{"$f":"VLOOKUP(S$8,Poblacion!$C$8:$BW$92,A11)","v":349},{"$f":"VLOOKUP(T$8,Poblacion!$C$8:$BW$92,A11)","v":499},{"$f":"SUM(P11:T11)","v":3382}]
[63,"Pre-escolar (01-04años)",{"$f":"VLOOKUP($C$8,Poblacion!$C$8:$BW$92,A12)","v":84},{"$f":"VLOOKUP($D$8,Poblacion!$C$8:$BW$92,A12)","v":77},{"$f":"VLOOKUP($E$8,Poblacion!$C$8:$BW$92,A12)","v":113},{"$f":"VLOOKUP($F$8,Poblacion!$C$8:$BW$92,A12)","v":90},{"$f":"VLOOKUP($G$8,Poblacion!$C$8:$BW$92,A12)","v":1068},{"$f":"VLOOKUP($H$8,Poblacion!$C$8:$BW$92,A12)","v":155},{"$f":"VLOOKUP($I$8,Poblacion!$C$8:$BW$92,A12)","v":276},{"$f":"VLOOKUP($J$8,Poblacion!$C$8:$BW$92,A12)","v":116},1979,6.9268463423171154,null,{"$f":"VLOOKUP(N$8,Poblacion!$C$8:$BW$92,A12)","v":3376},null,{"$f":"VLOOKUP(P$8,Poblacion!$C$8:$BW$92,A12)","v":2592},{"$f":"VLOOKUP(Q$8,Poblacion!$C$8:$BW$92,A12)","v":5459},{"$f":"VLOOKUP(R$8,Poblacion!$C$8:$BW$92,A12)","v":2045},{"$f":"VLOOKUP(S$8,Poblacion!$C$8:$BW$92,A12)","v":1391},{"$f":"VLOOKUP(T$8,Poblacion!$C$8:$BW$92,A12)","v":1979},13466]
[64,"Niño (0-11años)",{"$f":"VLOOKUP($C$8,Poblacion!$C$8:$BW$92,A13)","v":255},{"$f":"VLOOKUP($D$8,Poblacion!$C$8:$BW$92,A13)","v":228},{"$f":"VLOOKUP($E$8,Poblacion!$C$8:$BW$92,A13)","v":337},{"$f":"VLOOKUP($F$8,Poblacion!$C$8:$BW$92,A13)","v":269},{"$f":"VLOOKUP($G$8,Poblacion!$C$8:$BW$92,A13)","v":3191},{"$f":"VLOOKUP($H$8,Poblacion!$C$8:$BW$92,A13)","v":468},{"$f":"VLOOKUP($I$8,Poblacion!$C$8:$BW$92,A13)","v":826},{"$f":"VLOOKUP($J$8,Poblacion!$C$8:$BW$92,A13)","v":348},5922,20.728036401820091,null,{"$f":"VLOOKUP(N$8,Poblacion!$C$8:$BW$92,A13)","v":10087},null,{"$f":"VLOOKUP(P$8,Poblacion!$C$8:$BW$92,A13)","v":7747},{"$f":"VLOOKUP(Q$8,Poblacion!$C$8:$BW$92,A13)","v":16309},{"$f":"VLOOKUP(R$8,Poblacion!$C$8:$BW$92,A13)","v":6111},{"$f":"VLOOKUP(S$8,Poblacion!$C$8:$BW$92,A13)","v":4156},{"$f":"VLOOKUP(T$8,Poblacion!$C$8:$BW$92,A13)","v":5922},40245]
[65,"Escolar  (05-17años)",{"$f":"VLOOKUP($C$8,Poblacion!$C$8:$BW$92,A14)","v":284},{"$f":"VLOOKUP($D$8,Poblacion!$C$8:$BW$92,A14)","v":259},{"$f":"VLOOKUP($E$8,Poblacion!$C$8:$BW$92,A14)","v":380},{"$f":"VLOOKUP($F$8,Poblacion!$C$8:$BW$92,A14)","v":299},{"$f":"VLOOKUP($G$8,Poblacion!$C$8:$BW$92,A14)","v":3567},{"$f":"VLOOKUP($H$8,Poblacion!$C$8:$BW$92,A14)","v":524},{"$f":"VLOOKUP($I$8,Poblacion!$C$8:$BW$92,A14)","v":925},{"$f":"VLOOKUP($J$8,Poblacion!$C$8:$BW$92,A14)","v":387},6625,23.188659432971647,null,{"$f":"VLOOKUP(N$8,Poblacion!$C$8:$BW$92,A14)","v":11284},null,{"$f":"VLOOKUP(P$8,Poblacion!$C$8:$BW$92,A14)","v":8659},{"$f":"VLOOKUP(Q$8,Poblacion!$C$8:$BW$92,A14)","v":18238},{"$f":"VLOOKUP(R$8,Poblacion!$C$8:$BW$92,A14)","v":6832},{"$f":"VLOOKUP(S$8,Poblacion!$C$8:$BW$92,A14)","v":4647},{"$f":"VLOOKUP(T$8,Poblacion!$C$8:$BW$92,A14)","v":6625},45001]
[66,"Adolescente (12-17años)",{"$f":"VLOOKUP($C$8,Poblacion!$C$8:$BW$92,A15)","v":136},{"$f":"VLOOKUP($D$8,Poblacion!$C$8:$BW$92,A15)","v":124},{"$f":"VLOOKUP($E$8,Poblacion!$C$8:$BW$92,A15)","v":183},{"$f":"VLOOKUP($F$8,Poblacion!$C$8:$BW$92,A15)","v":144},{"$f":"VLOOKUP($G$8,Poblacion!$C$8:$BW$92,A15)","v":1712},{"$f":"VLOOKUP($H$8,Poblacion!$C$8:$BW$92,A15)","v":252},{"$f":"VLOOKUP($I$8,Poblacion!$C$8:$BW$92,A15)","v":445},{"$f":"VLOOKUP($J$8,Poblacion!$C$8:$BW$92,A15)","v":185},3181,11.134056702835142,null,{"$f":"VLOOKUP(N$8,Poblacion!$C$8:$BW$92,A15)","v":5417},null,{"$f":"VLOOKUP(P$8,Poblacion!$C$8:$BW$92,A15)","v":4156},{"$f":"VLOOKUP(Q$8,Poblacion!$C$8:$BW$92,A15)","v":8755},{"$f":"VLOOKUP(R$8,Poblacion!$C$8:$BW$92,A15)","v":3281},{"$f":"VLOOKUP(S$8,Poblacion!$C$8:$BW$92,A15)","v":2231},{"$f":"VLOOKUP(T$8,Poblacion!$C$8:$BW$92,A15)","v":3181},21604]
[67,"Adulto Joven (18-29años)",{"$f":"VLOOKUP($C$8,Poblacion!$C$8:$BW$92,A16)","v":269},{"$f":"VLOOKUP($D$8,Poblacion!$C$8:$BW$92,A16)","v":239},{"$f":"VLOOKUP($E$8,Poblacion!$C$8:$BW$92,A16)","v":356},{"$f":"VLOOKUP($F$8,Poblacion!$C$8:$BW$92,A16)","v":281},{"$f":"VLOOKUP($G$8,Poblacion!$C$8:$BW$92,A16)","v":3356},{"$f":"VLOOKUP($H$8,Poblacion!$C$8:$BW$92,A16)","v":491},{"$f":"VLOOKUP($I$8,Poblacion!$C$8:$BW$92,A16)","v":869},{"$f":"VLOOKUP($J$8,Poblacion!$C$8:$BW$92,A16)","v":364},6225,21.788589429471475,null,{"$f":"VLOOKUP(N$8,Poblacion!$C$8:$BW$92,A16)","v":10611},null,{"$f":"VLOOKUP(P$8,Poblacion!$C$8:$BW$92,A16)","v":8142},{"$f":"VLOOKUP(Q$8,Poblacion!$C$8:$BW$92,A16)","v":17149},{"$f":"VLOOKUP(R$8,Poblacion!$C$8:$BW$92,A16)","v":6424},{"$f":"VLOOKUP(S$8,Poblacion!$C$8:$BW$92,A16)","v":4369},{"$f":"VLOOKUP(T$8,Poblacion!$C$8:$BW$92,A16)","v":6225},42309]
[68,"Adulto    (30-59años)",{"$f":"VLOOKUP($C$8,Poblacion!$C$8:$BW$92,A17)","v":453},{"$f":"VLOOKUP($D$8,Poblacion!$C$8:$BW$92,A17)","v":404},{"$f":"VLOOKUP($E$8,Poblacion!$C$8:$BW$92,A17)","v":600},{"$f":"VLOOKUP($F$8,Poblacion!$C$8:$BW$92,A17)","v":473},{"$f":"VLOOKUP($G$8,Poblacion!$C$8:$BW$92,A17)","v":5645},{"$f":"VLOOKUP($H$8,Poblacion!$C$8:$BW$92,A17)","v":826},{"$f":"VLOOKUP($I$8,Poblacion!$C$8:$BW$92,A17)","v":1462},{"$f":"VLOOKUP($J$8,Poblacion!$C$8:$BW$92,A17)","v":612},10475,36.664333216660836,null,{"$f":"VLOOKUP(N$8,Poblacion!$C$8:$BW$92,A17)","v":17848},null,{"$f":"VLOOKUP(P$8,Poblacion!$C$8:$BW$92,A17)","v":13695},{"$f":"VLOOKUP(Q$8,Poblacion!$C$8:$BW$92,A17)","v":28843},{"$f":"VLOOKUP(R$8,Poblacion!$C$8:$BW$92,A17)","v":10804},{"$f":"VLOOKUP(S$8,Poblacion!$C$8:$BW$92,A17)","v":7350},{"$f":"VLOOKUP(T$8,Poblacion!$C$8:$BW$92,A17)","v":10475},71167]
[69,"Adu.Mayor (60 a MAS)",{"$f":"VLOOKUP($C$8,Poblacion!$C$8:$BW$92,A18)","v":121},{"$f":"VLOOKUP($D$8,Poblacion!$C$8:$BW$92,A18)","v":106},{"$f":"VLOOKUP($E$8,Poblacion!$C$8:$BW$92,A18)","v":161},{"$f":"VLOOKUP($F$8,Poblacion!$C$8:$BW$92,A18)","v":124},{"$f":"VLOOKUP($G$8,Poblacion!$C$8:$BW$92,A18)","v":1490},{"$f":"VLOOKUP($H$8,Poblacion!$C$8:$BW$92,A18)","v":218},{"$f":"VLOOKUP($I$8,Poblacion!$C$8:$BW$92,A18)","v":387},{"$f":"VLOOKUP($J$8,Poblacion!$C$8:$BW$92,A18)","v":160},2767,9.6849842492124605,null,{"$f":"VLOOKUP(N$8,Poblacion!$C$8:$BW$92,A18)","v":4714},null,{"$f":"VLOOKUP(P$8,Poblacion!$C$8:$BW$92,A18)","v":3615},{"$f":"VLOOKUP(Q$8,Poblacion!$C$8:$BW$92,A18)","v":7618},{"$f":"VLOOKUP(R$8,Poblacion!$C$8:$BW$92,A18)","v":2852},{"$f":"VLOOKUP(S$8,Poblacion!$C$8:$BW$92,A18)","v":1940},{"$f":"VLOOKUP(T$8,Poblacion!$C$8:$BW$92,A18)","v":2767},18792]
[53,"Gestantes",{"$f":"VLOOKUP($C$8,Poblacion!$C$8:$BW$92,A19)","v":40},{"$f":"VLOOKUP($D$8,Poblacion!$C$8:$BW$92,A19)","v":28},{"$f":"VLOOKUP($E$8,Poblacion!$C$8:$BW$92,A19)","v":47},{"$f":"VLOOKUP($F$8,Poblacion!$C$8:$BW$92,A19)","v":42},{"$f":"VLOOKUP($G$8,Poblacion!$C$8:$BW$92,A19)","v":471},{"$f":"VLOOKUP($H$8,Poblacion!$C$8:$BW$92,A19)","v":71},{"$f":"VLOOKUP($I$8,Poblacion!$C$8:$BW$92,A19)","v":123},{"$f":"VLOOKUP($J$8,Poblacion!$C$8:$BW$92,A19)","v":53},875,3.0626531326566329,null,{"$f":"VLOOKUP(N$8,Poblacion!$C$8:$BW$92,A19)","v":1479},null,{"$f":"VLOOKUP(P$8,Poblacion!$C$8:$BW$92,A19)","v":1026},{"$f":"VLOOKUP(Q$8,Poblacion!$C$8:$BW$92,A19)","v":2394},{"$f":"VLOOKUP(R$8,Poblacion!$C$8:$BW$92,A19)","v":892},{"$f":"VLOOKUP(S$8,Poblacion!$C$8:$BW$92,A19)","v":613},{"$f":"VLOOKUP(T$8,Poblacion!$C$8:$BW$92,A19)","v":875},5800]
[null," TOTAL",{"$f":"C13+C15+C16+C17+C18","v":1234},{"$f":"D13+D15+D16+D17+D18","v":1101},1637,1291,15394,2255,3989,1669,{"$f":"K13+K15+K16+K17+K18","v":28570},{"$f":"IFERROR((K20/$K$20)*100,0)","v":100},null,{"$f":"N13+N15+N16+N17+N18","v":48677},null,37355,78674,29472,20046,28570,194117]
[null,{"$f":"Interfaz!$A$22","v":"Elaboración: Área de Estadística - RIS Huaura Oyón."}]
[]
[]
[]
[null,null,null,null,null,null,10,{"$f":"VLOOKUP($G$25,Poblacion!$C$8:$E$92,3,FALSE)","v":"C.S. CARQUIN"}]
[null,"POBLACION POR\nETAPAS DE VIDA","TOTAL",null,"PORC. (%)",null,null,{"$f":"+\"POBLACION POR ETAPAS DE VIDA DEL \"&$H$25","v":"POBLACION POR ETAPAS DE VIDA DEL C.S. CARQUIN"}]
[58,"Neonatal (0-28dias)",{"$f":"VLOOKUP($G$25,Poblacion!$C$8:$BW$92,$A27)","v":9},null,{"$f":"IFERROR(($C27/$C$37)*100,0)","v":0.13462976813762154},null,null,{"$f":"B30","v":"Niño (0-11años)"},{"$f":"C30","v":1385}]
[62,"Infantil (Men.1año)",{"$f":"VLOOKUP($G$25,Poblacion!$C$8:$BW$92,$A28)","v":115},null,{"$f":"IFERROR(($C28/$C$37)*100,0)","v":1.7202692595362752},null,null,{"$f":"B32","v":"Adolescente (12-17años)"},744]
[63,"Pre-escolar (01-04años)",{"$f":"VLOOKUP($G$25,Poblacion!$C$8:$BW$92,$A29)","v":464},null,6.9409124906507111,null,null,"Adulto Joven (18-29años)",1457]
[64,"Niño (0-11años)",{"$f":"VLOOKUP($G$25,Poblacion!$C$8:$BW$92,$A30)","v":1385},null,20.718025430067318,null,null,"Adulto    (30-59años)",2452]
[65,"Escolar  (05-17años)",{"$f":"VLOOKUP($G$25,Poblacion!$C$8:$BW$92,$A31)","v":1550},null,23.18623784592371,null,null,"Adu.Mayor (60 a MAS)",647]
[66,"Adolescente (12-17años)",{"$f":"VLOOKUP($G$25,Poblacion!$C$8:$BW$92,$A32)","v":744},null,11.129394166043381]
[67,"Adulto Joven (18-29años)",{"$f":"VLOOKUP($G$25,Poblacion!$C$8:$BW$92,$A33)","v":1457},null,21.795063575168285]
[68,"Adulto    (30-59años)",{"$f":"VLOOKUP($G$25,Poblacion!$C$8:$BW$92,$A34)","v":2452},null,36.679132385938665]
[69,"Adu.Mayor (60 a MAS)",{"$f":"VLOOKUP($G$25,Poblacion!$C$8:$BW$92,$A35)","v":647},null,9.6783844427823471]
[53,"Gestantes",{"$f":"VLOOKUP($G$25,Poblacion!$C$8:$BW$92,$A36)","v":201},null,3.0067314884068814]
[null," TOTAL",{"$f":"C30+C32+C33+C34+C35","v":6685},null,100]
[null,{"$f":"Interfaz!$A$22","v":"Elaboración: Área de Estadística - RIS Huaura Oyón."}]

{"sheet":"Pobla_EESS","index":3,"n_rows":60,"n_cols":16,"rows_kept":60,"cut":false,"hidden":false,"merged":[[39,4,45,4],[39,11,41,11],[42,11,46,11],[46,4,49,4],[9,4,13,4],[9,11,11,11],[12,11,16,11],[16,3,16,5],[19,10,19,12],[32,3,32,5],[37,3,37,8],[37,10,37,15],[1,3,4,10],[7,3,7,8],[7,10,7,15],[15,3,15,4],[25,4,29,4],[25,11,30,11],[30,4,31,4],[23,3,23,8],[23,10,23,15],[31,10,31,12],[50,4,52,4],[51,11,54,11],[54,3,54,5],[55,11,57,11],[58,10,58,12]]}
[]
[null,null,null,"POBLACIÓN SEGÚN DISTRITOS Y EE.SS - 2010"]
[]
[]
[]
[]
[]
[null,null,null,"SIN MICRORED",null,null,null,null,null,null,"MICRORED HUALMAY"]
[null,null,null,"DISTRITO","POBLACIÓN","EE.SS","POBLACIÓN","MASCULINO","FEMENINO",null,"DISTRITO","POBLACIÓN","EE.SS","POBLACIÓN","MASCULINO","FEMENINO"]
[null,null,null,"HUACHO",{"$f":"G10","v":48677},"HOSPITAL HUACHO",{"$f":"VLOOKUP($F10,Poblacion!$E$8:$I$92,2,FALSE)","v":48677},{"$f":"VLOOKUP($F10,Poblacion!$E$8:$I$92,4,FALSE)","v":24102.416549999994},{"$f":"VLOOKUP($F10,Poblacion!$E$8:$I$92,5,FALSE)","v":24574.583450000006},null,"HUALMAY",{"$f":"SUM(N10:N12)","v":29421},"C.S. HUALMAY",{"$f":"VLOOKUP($M10,Poblacion!$E$8:$I$92,2,FALSE)","v":15593},{"$f":"VLOOKUP($M10,Poblacion!$E$8:$I$92,4,FALSE)","v":7720.8739500000001},{"$f":"VLOOKUP($M10,Poblacion!$E$8:$I$92,5,FALSE)","v":7872.1260499999999}]
[null,null,null,"HUACHO",null,"CLINICA SAN PEDRO",0,null,null,null,"HUALMAY",null,"P.S.DGO. MANDAMIENTO",{"$f":"VLOOKUP($M11,Poblacion!$E$8:$I$92,2,FALSE)","v":9709},{"$f":"VLOOKUP($M11,Poblacion!$E$8:$I$92,4,FALSE)","v":4807.4113499999994},{"$f":"VLOOKUP($M11,Poblacion!$E$8:$I$92,5,FALSE)","v":4901.5886500000006}]
[null,null,null,"HUACHO",null,"ESSALUD GUSTAVO LA NATA",0,null,null,null,"HUALMAY",null,"P.S. CAMPO ALEGRE",{"$f":"VLOOKUP($M12,Poblacion!$E$8:$I$92,2,FALSE)","v":4119},{"$f":"VLOOKUP($M12,Poblacion!$E$8:$I$92,4,FALSE)","v":2039.5228499999996},{"$f":"VLOOKUP($M12,Poblacion!$E$8:$I$92,5,FALSE)","v":2079.4771500000006}]
[null,null,null,"HUACHO",null,"CLINICA SAN BARTOLOME",0,null,null,null,"S.MARIA",{"$f":"SUM(N13:N17)","v":30399},"C.S. SANTA MARIA",{"$f":"VLOOKUP($M13,Poblacion!$E$8:$I$92,2,FALSE)","v":8511},{"$f":"VLOOKUP($M13,Poblacion!$E$8:$I$92,4,FALSE)","v":4214.2216500000004},{"$f":"VLOOKUP($M13,Poblacion!$E$8:$I$92,5,FALSE)","v":4296.7783499999996}]
[null,null,null,"HUACHO",null,"GOLD ESTANDAR EIRL.",0,null,null,null,"S.MARIA",null,"P.S. CHONTA",{"$f":"VLOOKUP($M14,Poblacion!$E$8:$I$92,2,FALSE)","v":4560},{"$f":"VLOOKUP($M14,Poblacion!$E$8:$I$92,4,FALSE)","v":2257.884},{"$f":"VLOOKUP($M14,Poblacion!$E$8:$I$92,5,FALSE)","v":2302.116}]
[null,null,null,"CARQUIN",null,"INSITUTO NACIONAL PENITENCIARIO CARQUIN",0,null,null,null,"S.MARIA",null,"P.S. ZAPATA",{"$f":"VLOOKUP($M15,Poblacion!$E$8:$I$92,2,FALSE)","v":2432},{"$f":"VLOOKUP($M15,Poblacion!$E$8:$I$92,4,FALSE)","v":1204.2048000000002},{"$f":"VLOOKUP($M15,Poblacion!$E$8:$I$92,5,FALSE)","v":1227.7951999999998}]
[null,null,null,null,null,"OTROS ESTABLECIMIENTOS",0,null,null,null,"S.MARIA",null,"P.S. AMADO VELASQUEZ",{"$f":"VLOOKUP($M16,Poblacion!$E$8:$I$92,2,FALSE)","v":7904},{"$f":"VLOOKUP($M16,Poblacion!$E$8:$I$92,4,FALSE)","v":3913.6655999999998},{"$f":"VLOOKUP($M16,Poblacion!$E$8:$I$92,5,FALSE)","v":3990.3344000000006}]
[null,null,null,"TOTAL SIN MICRORED",null,null,{"$f":"SUM(G10:G16)","v":48677},{"$f":"SUM(H10:H16)","v":24102.416549999994},{"$f":"SUM(I10:I16)","v":24574.583450000006},null,"S.MARIA",null,"P.S. SAN BARTOLOME",{"$f":"VLOOKUP($M17,Poblacion!$E$8:$I$92,2,FALSE)","v":6992},{"$f":"VLOOKUP($M17,Poblacion!$E$8:$I$92,4,FALSE)","v":3462.0887999999995},{"$f":"VLOOKUP($M17,Poblacion!$E$8:$I$92,5,FALSE)","v":3529.9112000000005}]
[null,null,null,{"$f":"'etapas y mredes'!B38","v":"Elaboración: Área de Estadística - RIS Huaura Oyón."},null,null,null,null,null,null,"CARQUIN",{"$f":"N18","v":6685},"C.S. CARQUIN",{"$f":"VLOOKUP($M18,Poblacion!$E$8:$I$92,2,FALSE)","v":6685},{"$f":"VLOOKUP($M18,Poblacion!$E$8:$I$92,4,FALSE)","v":3310.0777499999999},{"$f":"VLOOKUP($M18,Poblacion!$E$8:$I$92,5,FALSE)","v":3374.9222500000001}]
[null,null,null,null,null,null,null,null,null,null,"HUACHO",{"$f":"N19","v":12169},"P.S. MANZANARES",{"$f":"VLOOKUP($M19,Poblacion!$E$8:$I$92,2,FALSE)","v":12169},{"$f":"VLOOKUP($M19,Poblacion!$E$8:$I$92,4,FALSE)","v":6025.4803500000007},{"$f":"VLOOKUP($M19,Poblacion!$E$8:$I$92,5,FALSE)","v":6143.5196499999993}]
[null,null,null,null,null,null,null,null,null,null,"TOTAL MCR HUALMAY",null,"TOTAL MICRORED HUALMAY",{"$f":"SUM(N10:N19)","v":78674},{"$f":"SUM(O10:O19)","v":38955.431099999994},39718.568900000006]
[null,null,null,null,null,null,null,null,null,null,{"$f":"D18","v":"Elaboración: Área de Estadística - RIS Huaura Oyón."}]
[]
[]
[null,null,null,"MICRORED HUAURA",null,null,null,null,null,null,"MICRORED VEGUETA"]
[null,null,null,"DISTRITO","POBLACIÓN","EE.SS","POBLACIÓN","MASCULINO","FEMENINO",null,"DISTRITO","POBLACIÓN","EE.SS","POBLACIÓN","MASCULINO","FEMENINO"]
[null,null,null,"HUAURA",{"$f":"SUM(G26:G30)","v":34254},"C.S HUAURA",{"$f":"VLOOKUP($F26,Poblacion!$E$8:$I$92,2,FALSE)","v":15413},{"$f":"VLOOKUP($F26,Poblacion!$E$8:$I$92,4,FALSE)","v":7631.7469500000007},{"$f":"VLOOKUP($F26,Poblacion!$E$8:$I$92,5,FALSE)","v":7781.2530499999984},null,"VEGUETA",{"$f":"SUM(N26:N31)","v":20046},"C.S. VEGUETA",{"$f":"VLOOKUP($M26,Poblacion!$E$8:$I$92,2,FALSE)","v":6014},{"$f":"VLOOKUP($M26,Poblacion!$E$8:$I$92,4,FALSE)","v":2977.8321000000005},{"$f":"VLOOKUP($M26,Poblacion!$E$8:$I$92,5,FALSE)","v":3036.1678999999995}]
[null,null,null,"HUAURA",null,"P.S. MAT. EL SOCORRO",{"$f":"VLOOKUP($F27,Poblacion!$E$8:$I$92,2,FALSE)","v":11990},{"$f":"VLOOKUP($F27,Poblacion!$E$8:$I$92,4,FALSE)","v":5936.8485000000001},{"$f":"VLOOKUP($F27,Poblacion!$E$8:$I$92,5,FALSE)","v":6053.1514999999999},null,"VEGUETA",null,"P.S. MAZO",{"$f":"VLOOKUP($M27,Poblacion!$E$8:$I$92,2,FALSE)","v":2005},{"$f":"VLOOKUP($M27,Poblacion!$E$8:$I$92,4,FALSE)","v":992.7757499999999},{"$f":"VLOOKUP($M27,Poblacion!$E$8:$I$92,5,FALSE)","v":1012.2242500000001}]
[null,null,null,"HUAURA",null,"P.S. HUMAYA",{"$f":"VLOOKUP($F28,Poblacion!$E$8:$I$92,2,FALSE)","v":4282},{"$f":"VLOOKUP($F28,Poblacion!$E$8:$I$92,4,FALSE)","v":2120.2322999999997},{"$f":"VLOOKUP($F28,Poblacion!$E$8:$I$92,5,FALSE)","v":2161.7677000000003},null,"VEGUETA",null,"P.S. PRIMAVERA",{"$f":"VLOOKUP($M28,Poblacion!$E$8:$I$92,2,FALSE)","v":2205},{"$f":"VLOOKUP($M28,Poblacion!$E$8:$I$92,4,FALSE)","v":1091.80575},{"$f":"VLOOKUP($M28,Poblacion!$E$8:$I$92,5,FALSE)","v":1113.19425}]
[null,null,null,"HUAURA",null,"P.S. VILCAHUAURA",{"$f":"VLOOKUP($F29,Poblacion!$E$8:$I$92,2,FALSE)","v":2056},{"$f":"VLOOKUP($F29,Poblacion!$E$8:$I$92,4,FALSE)","v":1018.0283999999999},{"$f":"VLOOKUP($F29,Poblacion!$E$8:$I$92,5,FALSE)","v":1037.9716000000001},null,"VEGUETA",null,"P.S. JOSE C. MARIATEGUI",{"$f":"VLOOKUP($M29,Poblacion!$E$8:$I$92,2,FALSE)","v":4810},{"$f":"VLOOKUP($M29,Poblacion!$E$8:$I$92,4,FALSE)","v":2381.6714999999999},{"$f":"VLOOKUP($M29,Poblacion!$E$8:$I$92,5,FALSE)","v":2428.3285000000001}]
[null,null,null,"HUAURA",null,"P.S. PEÑICO",{"$f":"VLOOKUP($F30,Poblacion!$E$8:$I$92,2,FALSE)","v":513},{"$f":"VLOOKUP($F30,Poblacion!$E$8:$I$92,4,FALSE)","v":254.01194999999996},{"$f":"VLOOKUP($F30,Poblacion!$E$8:$I$92,5,FALSE)","v":258.98805000000004},null,"VEGUETA",null,"P.S. MEDIO MUNDO",{"$f":"VLOOKUP($M30,Poblacion!$E$8:$I$92,2,FALSE)","v":4210},{"$f":"VLOOKUP($M30,Poblacion!$E$8:$I$92,4,FALSE)","v":2084.5814999999998},{"$f":"VLOOKUP($M30,Poblacion!$E$8:$I$92,5,FALSE)","v":2125.4185000000002}]
[null,null,null,"AMBAR",{"$f":"SUM(G31:G32)","v":3101},"C.S. AMBAR",{"$f":"VLOOKUP($F31,Poblacion!$E$8:$I$92,2,FALSE)","v":1861},{"$f":"VLOOKUP($F31,Poblacion!$E$8:$I$92,4,FALSE)","v":921.4741499999999},{"$f":"VLOOKUP($F31,Poblacion!$E$8:$I$92,5,FALSE)","v":939.5258500000001},null,"VEGUETA",null,"P.S. TIROLER",{"$f":"VLOOKUP($M31,Poblacion!$E$8:$I$92,2,FALSE)","v":802},{"$f":"VLOOKUP($M31,Poblacion!$E$8:$I$92,4,FALSE)","v":397.1103},{"$f":"VLOOKUP($M31,Poblacion!$E$8:$I$92,5,FALSE)","v":404.8897}]
[null,null,null,"AMBAR",null,"P.S. AYNACA",{"$f":"VLOOKUP($F32,Poblacion!$E$8:$I$92,2,FALSE)","v":1240},{"$f":"VLOOKUP($F32,Poblacion!$E$8:$I$92,4,FALSE)","v":613.98599999999999},{"$f":"VLOOKUP($F32,Poblacion!$E$8:$I$92,5,FALSE)","v":626.01400000000001},null,"TOTAL MCR VEGUETA",null,null,{"$f":"SUM(N26:N31)","v":20046},{"$f":"SUM(O26:O31)","v":9925.7769000000008},10120.223099999999]
[null,null,null,"TOTAL MCR HUAURA",null,"TOTAL MICRORED HUAURA ",{"$f":"SUM(G26:G32)","v":37355},{"$f":"SUM(H26:H32)","v":18496.328249999999},18858.671750000001,null,{"$f":"D34","v":"Elaboración: Área de Estadística - RIS Huaura Oyón."}]
[null,null,null,{"$f":"K21","v":"Elaboración: Área de Estadística - RIS Huaura Oyón."}]
[]
[]
[]
[null,null,null,"MICRORED SAYAN",null,null,null,null,null,null,"MICRORED CHURIN OYÓN"]
[null,null,null,"DISTRITO","POBLACIÓN","EE.SS","POBLACIÓN","MASCULINO","FEMENINO",null,"DISTRITO","POBLACIÓN","EE.SS","POBLACIÓN","MASCULINO","FEMENINO"]
[null,null,null,"SAYAN",{"$f":"SUM(G40:G46)","v":24103},"C.S. SAYAN",{"$f":"VLOOKUP($F40,Poblacion!$E$8:$I$92,2,FALSE)","v":9882},{"$f":"VLOOKUP($F40,Poblacion!$E$8:$I$92,4,FALSE)","v":4893.0722999999998},{"$f":"VLOOKUP($F40,Poblacion!$E$8:$I$92,5,FALSE)","v":4988.9277000000002},null,"PACHANGARA",{"$f":"SUM(N40:N42)","v":3989},"C.S. CHURIN",{"$f":"VLOOKUP($M40,Poblacion!$E$8:$I$92,2,FALSE)","v":3151},{"$f":"VLOOKUP($M40,Poblacion!$E$8:$I$92,4,FALSE)","v":1560.2176500000003},{"$f":"VLOOKUP($M40,Poblacion!$E$8:$I$92,5,FALSE)","v":1590.7823499999997}]
[null,null,null,"SAYAN",null,"P.S. 9 DE OCTUBRE",{"$f":"VLOOKUP($F41,Poblacion!$E$8:$I$92,2,FALSE)","v":5063},{"$f":"VLOOKUP($F41,Poblacion!$E$8:$I$92,4,FALSE)","v":2506.94445},{"$f":"VLOOKUP($F41,Poblacion!$E$8:$I$92,5,FALSE)","v":2556.05555},null,"PACHANGARA",null,"P.S. PACHANGARA",{"$f":"VLOOKUP($M41,Poblacion!$E$8:$I$92,2,FALSE)","v":399},{"$f":"VLOOKUP($M41,Poblacion!$E$8:$I$92,4,FALSE)","v":197.56484999999998},{"$f":"VLOOKUP($M41,Poblacion!$E$8:$I$92,5,FALSE)","v":201.43515000000002}]
[null,null,null,"SAYAN",null,"P.S. CHAMBARA",{"$f":"VLOOKUP($F42,Poblacion!$E$8:$I$92,2,FALSE)","v":1205},{"$f":"VLOOKUP($F42,Poblacion!$E$8:$I$92,4,FALSE)","v":596.6557499999999},{"$f":"VLOOKUP($F42,Poblacion!$E$8:$I$92,5,FALSE)","v":608.3442500000001},null,"PACHANGARA",null,"P.S. HUANCAHUASI",{"$f":"VLOOKUP($M42,Poblacion!$E$8:$I$92,2,FALSE)","v":439},{"$f":"VLOOKUP($M42,Poblacion!$E$8:$I$92,4,FALSE)","v":217.37084999999999},{"$f":"VLOOKUP($M42,Poblacion!$E$8:$I$92,5,FALSE)","v":221.62915000000001}]
[null,null,null,"SAYAN",null,"P.S. LA MERCED",{"$f":"VLOOKUP($F43,Poblacion!$E$8:$I$92,2,FALSE)","v":2410},{"$f":"VLOOKUP($F43,Poblacion!$E$8:$I$92,4,FALSE)","v":1193.3115},{"$f":"VLOOKUP($F43,Poblacion!$E$8:$I$92,5,FALSE)","v":1216.6885},null,"OYON",{"$f":"SUM(N43:N47)","v":15394},"C.S. OYON",{"$f":"VLOOKUP($M43,Poblacion!$E$8:$I$92,2,FALSE)","v":12777},{"$f":"VLOOKUP($M43,Poblacion!$E$8:$I$92,4,FALSE)","v":6326.5315499999997},{"$f":"VLOOKUP($M43,Poblacion!$E$8:$I$92,5,FALSE)","v":6450.4684500000003}]
[null,null,null,"SAYAN",null,"P.S. LA VILLA",{"$f":"VLOOKUP($F44,Poblacion!$E$8:$I$92,2,FALSE)","v":3856},{"$f":"VLOOKUP($F44,Poblacion!$E$8:$I$92,4,FALSE)","v":1909.2983999999997},{"$f":"VLOOKUP($F44,Poblacion!$E$8:$I$92,5,FALSE)","v":1946.7016000000003},null,"OYON",null,"P.S. MALLAY",{"$f":"VLOOKUP($M44,Poblacion!$E$8:$I$92,2,FALSE)","v":770},{"$f":"VLOOKUP($M44,Poblacion!$E$8:$I$92,4,FALSE)","v":381.26549999999986},{"$f":"VLOOKUP($M44,Poblacion!$E$8:$I$92,5,FALSE)","v":388.73450000000014}]
[null,null,null,"SAYAN",null,"P.S. EL AHORCADO",{"$f":"VLOOKUP($F45,Poblacion!$E$8:$I$92,2,FALSE)","v":964},{"$f":"VLOOKUP($F45,Poblacion!$E$8:$I$92,4,FALSE)","v":477.32459999999998},{"$f":"VLOOKUP($F45,Poblacion!$E$8:$I$92,5,FALSE)","v":486.67540000000002},null,"OYON",null,"P.S. NAVA",{"$f":"VLOOKUP($M45,Poblacion!$E$8:$I$92,2,FALSE)","v":154},{"$f":"VLOOKUP($M45,Poblacion!$E$8:$I$92,4,FALSE)","v":76.253099999999989},{"$f":"VLOOKUP($M45,Poblacion!$E$8:$I$92,5,FALSE)","v":77.746900000000011}]
[null,null,null,"SAYAN",null,"P.S. LA UNION",{"$f":"VLOOKUP($F46,Poblacion!$E$8:$I$92,2,FALSE)","v":723},{"$f":"VLOOKUP($F46,Poblacion!$E$8:$I$92,4,FALSE)","v":357.99344999999994},{"$f":"VLOOKUP($F46,Poblacion!$E$8:$I$92,5,FALSE)","v":365.00655000000006},null,"OYON",null,"P.S. TINTA",{"$f":"VLOOKUP($M46,Poblacion!$E$8:$I$92,2,FALSE)","v":462},{"$f":"VLOOKUP($M46,Poblacion!$E$8:$I$92,4,FALSE)","v":228.7593},{"$f":"VLOOKUP($M46,Poblacion!$E$8:$I$92,5,FALSE)","v":233.2407}]
[null,null,null,"L.PRADO",{"$f":"SUM(G47:G50)","v":2208},"P.S. AUQUIMARCA",{"$f":"VLOOKUP($F47,Poblacion!$E$8:$I$92,2,FALSE)","v":397},{"$f":"VLOOKUP($F47,Poblacion!$E$8:$I$92,4,FALSE)","v":196.57454999999999},{"$f":"VLOOKUP($F47,Poblacion!$E$8:$I$92,5,FALSE)","v":200.42545000000001},null,"OYON",null,"P.S. RAPAZ",{"$f":"VLOOKUP($M47,Poblacion!$E$8:$I$92,2,FALSE)","v":1231},{"$f":"VLOOKUP($M47,Poblacion!$E$8:$I$92,4,FALSE)","v":609.52964999999995},{"$f":"VLOOKUP($M47,Poblacion!$E$8:$I$92,5,FALSE)","v":621.47035000000005}]
[null,null,null,"L.PRADO",null,"P.S. PARAN",{"$f":"VLOOKUP($F48,Poblacion!$E$8:$I$92,2,FALSE)","v":883},{"$f":"VLOOKUP($F48,Poblacion!$E$8:$I$92,4,FALSE)","v":437.21745000000004},{"$f":"VLOOKUP($F48,Poblacion!$E$8:$I$92,5,FALSE)","v":445.78254999999996},null,"ANDAJES",{"$f":"N48","v":1234},"P.S. ANDAJES",{"$f":"VLOOKUP($M48,Poblacion!$E$8:$I$92,2,FALSE)","v":1234},{"$f":"VLOOKUP($M48,Poblacion!$E$8:$I$92,4,FALSE)","v":611.01510000000007},{"$f":"VLOOKUP($M48,Poblacion!$E$8:$I$92,5,FALSE)","v":622.98489999999993}]
[null,null,null,"L.PRADO",null,"P.S. SANTA CRUZ",{"$f":"VLOOKUP($F49,Poblacion!$E$8:$I$92,2,FALSE)","v":486},{"$f":"VLOOKUP($F49,Poblacion!$E$8:$I$92,4,FALSE)","v":240.6429},{"$f":"VLOOKUP($F49,Poblacion!$E$8:$I$92,5,FALSE)","v":245.3571},null,"CAUJUL",{"$f":"N49","v":1101},"P.S. CAUJUL",{"$f":"VLOOKUP($M49,Poblacion!$E$8:$I$92,2,FALSE)","v":1101},{"$f":"VLOOKUP($M49,Poblacion!$E$8:$I$92,4,FALSE)","v":545.16015000000004},{"$f":"VLOOKUP($M49,Poblacion!$E$8:$I$92,5,FALSE)","v":555.83984999999996}]
[null,null,null,"L.PRADO",null,"P.S. HUANANGUI",{"$f":"VLOOKUP($F50,Poblacion!$E$8:$I$92,2,FALSE)","v":442},{"$f":"VLOOKUP($F50,Poblacion!$E$8:$I$92,4,FALSE)","v":218.85629999999998},{"$f":"VLOOKUP($F50,Poblacion!$E$8:$I$92,5,FALSE)","v":223.14370000000002},null,"NAVAN",1291,"P.S. NAVAN",{"$f":"VLOOKUP($M50,Poblacion!$E$8:$I$92,2,FALSE)","v":1291},{"$f":"VLOOKUP($M50,Poblacion!$E$8:$I$92,4,FALSE)","v":639.23865000000001},{"$f":"VLOOKUP($M50,Poblacion!$E$8:$I$92,5,FALSE)","v":651.76134999999999}]
[null,null,null,"COCHAMARCA",{"$f":"SUM(G51:G53)","v":1791},"P.S. COCHAMARCA",{"$f":"VLOOKUP($F51,Poblacion!$E$8:$I$92,2,FALSE)","v":645},{"$f":"VLOOKUP($F51,Poblacion!$E$8:$I$92,4,FALSE)","v":319.37175000000008},{"$f":"VLOOKUP($F51,Poblacion!$E$8:$I$92,5,FALSE)","v":325.62824999999992},null,"CHECRAS",1637,"P.S. PUÑUN",{"$f":"VLOOKUP($M51,Poblacion!$E$8:$I$92,2,FALSE)","v":1637},{"$f":"VLOOKUP($M51,Poblacion!$E$8:$I$92,4,FALSE)","v":810.56054999999981},{"$f":"VLOOKUP($M51,Poblacion!$E$8:$I$92,5,FALSE)","v":826.43945000000019}]
[null,null,null,"COCHAMARCA",null,"COLCAPAMPA",{"$f":"VLOOKUP($F52,Poblacion!$E$8:$I$92,2,FALSE)","v":842},{"$f":"VLOOKUP($F52,Poblacion!$E$8:$I$92,4,FALSE)","v":416.91629999999998},{"$f":"VLOOKUP($F52,Poblacion!$E$8:$I$92,5,FALSE)","v":425.08370000000002},null,"PACCHO",{"$f":"SUM(N52:N55)","v":2255},"P.S. PACCHO",{"$f":"VLOOKUP($M52,Poblacion!$E$8:$I$92,2,FALSE)","v":834},{"$f":"VLOOKUP($M52,Poblacion!$E$8:$I$92,4,FALSE)","v":412.95510000000002},{"$f":"VLOOKUP($M52,Poblacion!$E$8:$I$92,5,FALSE)","v":421.04489999999998}]
[null,null,null,"COCHAMARCA",null,"YARUCAYA",{"$f":"VLOOKUP($F53,Poblacion!$E$8:$I$92,2,FALSE)","v":304},{"$f":"VLOOKUP($F53,Poblacion!$E$8:$I$92,4,FALSE)","v":150.5256},{"$f":"VLOOKUP($F53,Poblacion!$E$8:$I$92,5,FALSE)","v":153.4744},null,"PACCHO",null,"P.S. LACSANGA",{"$f":"VLOOKUP($M53,Poblacion!$E$8:$I$92,2,FALSE)","v":496},{"$f":"VLOOKUP($M53,Poblacion!$E$8:$I$92,4,FALSE)","v":245.59439999999998},{"$f":"VLOOKUP($M53,Poblacion!$E$8:$I$92,5,FALSE)","v":250.40560000000002}]
[null,null,null,null,null,null,null,null,null,null,"PACCHO",null,"P.S. AYARANGA",{"$f":"VLOOKUP($M54,Poblacion!$E$8:$I$92,2,FALSE)","v":429},{"$f":"VLOOKUP($M54,Poblacion!$E$8:$I$92,4,FALSE)","v":212.41934999999998},{"$f":"VLOOKUP($M54,Poblacion!$E$8:$I$92,5,FALSE)","v":216.58065000000002}]
[null,null,null,"TOTAL MICRORED SAYAN",null,null,{"$f":"SUM(G40:G54)","v":28102},{"$f":"SUM(H40:H54)","v":13914.705300000001},14187.294699999999,null,"PACCHO",null,"P.S. MUZGA",{"$f":"VLOOKUP($M55,Poblacion!$E$8:$I$92,2,FALSE)","v":496},{"$f":"VLOOKUP($M55,Poblacion!$E$8:$I$92,4,FALSE)","v":245.59439999999998},{"$f":"VLOOKUP($M55,Poblacion!$E$8:$I$92,5,FALSE)","v":250.40560000000002}]
[null,null,null,{"$f":"K33","v":"Elaboración: Área de Estadística - RIS Huaura Oyón."},null,null,null,null,null,null,"S.LEONOR",{"$f":"SUM(N56:N58)","v":1669},"P.S. CHIUCHIN",{"$f":"VLOOKUP($M56,Poblacion!$E$8:$I$92,2,FALSE)","v":1018},{"$f":"VLOOKUP($M56,Poblacion!$E$8:$I$92,4,FALSE)","v":504.06270000000001},{"$f":"VLOOKUP($M56,Poblacion!$E$8:$I$92,5,FALSE)","v":513.93730000000005}]
[null,null,null,null,null,null,null,null,null,null,"S.LEONOR",null,"P.S. PARQUIN",{"$f":"VLOOKUP($M57,Poblacion!$E$8:$I$92,2,FALSE)","v":467},{"$f":"VLOOKUP($M57,Poblacion!$E$8:$I$92,4,FALSE)","v":231.23504999999997},{"$f":"VLOOKUP($M57,Poblacion!$E$8:$I$92,5,FALSE)","v":235.76495000000003}]
[null,null,null,null,null,null,null,null,null,null,"S.LEONOR",null,"P.S. JUCUL",{"$f":"VLOOKUP($M58,Poblacion!$E$8:$I$92,2,FALSE)","v":184},{"$f":"VLOOKUP($M58,Poblacion!$E$8:$I$92,4,FALSE)","v":91.107599999999991},{"$f":"VLOOKUP($M58,Poblacion!$E$8:$I$92,5,FALSE)","v":92.892400000000009}]
[null,null,null,null,null,null,null,null,null,null,"TOTAL MICRORED CHURIN - OYON",null,null,{"$f":"SUM(N40:N58)","v":28570},{"$f":"SUM(O40:O58)","v":14146.435499999998},14423.564500000002]
[null,null,null,null,null,null,null,null,null,null,{"$f":"K33","v":"Elaboración: Área de Estadística - RIS Huaura Oyón."}]